{"text_format":"1","workbook":"xlsx","n_sheets":24,"sheets":["PRIMARY INFORMATION","BONAFIDE.","U-DISE","CLASSES=>","VITM","VIITM","VIIITM","IXTM","XTM","VIEM","VIIEM","VIIIEM","IXEM","XEM","STRENGTH-FORBOARD","MONTHLYRETURN","ABSTRACT","Sheet1","EXTRA CLASSES=>","EXTRA1","EXTRA2","EXTRA3","EXTRA4","EXTRA5"],"not_rendered":{"charts":0,"images":4,"macros":1,"external_links":1,"defined_names":71,"comments":0,"pivot_tables":0},"unopened":[],"bounds":{"document_bytes":16777216,"sheet_cells":100000,"rows_first":2000,"rows_last":500,"rows_between":2000,"halvings":0,"cell_chars":16384,"cell_head_chars":4096},"cells_cut":0,"cells_raw":0,"read":"whole","date_system":"1900"}

{"sheet":"PRIMARY INFORMATION","index":0,"n_rows":17,"n_cols":20,"rows_kept":17,"cut":false,"hidden":false,"merged":[[2,13,2,17],[13,3,13,11],[8,3,8,11],[12,13,22,17],[4,19,5,19],[6,19,9,19],[12,19,13,19],[16,19,23,19],[4,4,4,5],[5,4,5,11],[6,4,6,7],[6,9,6,11]]}
[]
[]
[null,null,null,"PRIMARY INFORMATION",null,null,null,null,null,null,null,null,null,"CHANGE LOGO HERE"]
[]
[null,null,null,"ACADEMIC YEAR","2019-20",null,null,null,null,null,null,null,null,null,null,null,null,null,null,"HOW TO USE"]
[null,null,null,"NAME OF THE SCHOOL","ZILLA PARISHAD HIGH SCHOOL XYZ"]
[null,null,null,"ADDRESS","ABC (MANDAL) XYZ DISTRICT",null,null,null,"ADD 2","TELANGANA - 123456",null,null,null,null,null,null,null,null,null,"Change \nSchool Name, Address"]
[]
[null,null,null,"ENTRY PART"]
[]
[]
[]
[null,null,null,null,null,null,null,null,null,null,null,null,null,"You can share this with your friends, also you can give credit to me \nif you like this.\nGopal Veeranala\ngopalvee@gmail.com",null,null,null,null,null,"Fill Students Data in all the Class Sheets by Clicking Edit/Update button in the Class Sheet,\nafter updating click again Edit/Update Button"]
[null,null,null,"BONAFIDE & OTHER REPORTS"]
[]
[]
[null,null,null,null,null,null,null,null,null,null,null,null,null,null,null,null,null,null,null,"if you want to change Section Name\nChange Class Sheet Name by \nRight Clicking the Sheet Tab and Rename"]

{"sheet":"BONAFIDE.","index":1,"n_rows":2268,"n_cols":31,"rows_kept":2268,"cut":false,"hidden":false,"merged":[[5,17,8,17],[9,17,12,17],[13,17,16,17],[16,4,16,5],[16,6,17,12],[16,14,18,14],[8,2,8,13],[11,4,11,9],[11,10,11,13],[12,4,12,6],[13,14,14,14],[0,3,0,4],[5,2,5,13],[6,2,6,13],[7,2,7,13],[0,5,0,11]]}
[null,null,null,"PURPOSE",null,"FOR BUS PASS ONLY",null,null,null,null,null,null,null,null,"TYPE ADMN NO'S HERE===>",9999]
[]
[]
[null,null,null,null,null,null,null,null,null,null,null,null,null,null,1,null,null,"HOW TO USE"]
[null,null,null,null,null,null,null,null,null,null,null,null,null,null,"SELECT THIS IF YOU WANT PREVIEW",null,null,null,null,null,null,null,null,"ADMN NO","NAME","FNAME","DOB",null,null,"CASTE","SEX"]
[null,null,{"$f":"SCHOOLNAME","v":"ZILLA PARISHAD HIGH SCHOOL XYZ"},null,null,null,null,null,null,null,null,null,null,null,true,null,null,"For Single Bonafide Type Admission No and press \"PRINT BONAFIDES\" Button",null,null,null,null,1,{"$f":"VITM!B4","v":0},{"$f":"VITM!C4","v":0},{"$f":"VITM!D4","v":0},{"$f":"VITM!F4","v":"00:00:00"},{"$f":"VITM!$A$2","v":"VITM"},null,{"$f":"VITM!E4","v":0},{"$f":"VITM!H4","v":0}]
[null,null,{"$f":"ADDRESS","v":"ABC (MANDAL) XYZ DISTRICT"},null,null,null,null,null,null,null,null,null,null,null,{"$f":"COUNTA(P:P)","v":1},null,null,null,null,null,null,null,2,{"$f":"VITM!B5","v":0},{"$f":"VITM!C5","v":0},{"$f":"VITM!D5","v":0},{"$f":"VITM!F5","v":"00:00:00"},{"$f":"VITM!$A$2","v":"VITM"},null,{"$f":"VITM!E5","v":0},{"$f":"VITM!H5","v":0}]
[null,null,{"$f":"'PRIMARY INFORMATION'!$J$7","v":"TELANGANA - 123456"},null,null,null,null,null,null,null,null,null,null,null,null,null,null,null,null,null,null,null,3,{"$f":"VITM!B6","v":0},{"$f":"VITM!C6","v":0},{"$f":"VITM!D6","v":0},{"$f":"VITM!F6","v":"00:00:00"},{"$f":"VITM!$A$2","v":"VITM"},null,{"$f":"VITM!E6","v":0},{"$f":"VITM!H6","v":0}]
[null,null,"BONAFIDE CERTIFICATE",null,null,null,null,null,null,null,null,null,null,null,null,null,null,null,null,null,null,null,4,{"$f":"VITM!B7","v":0},{"$f":"VITM!C7","v":0},{"$f":"VITM!D7","v":0},{"$f":"VITM!F7","v":"00:00:00"},{"$f":"VITM!$A$2","v":"VITM"},null,{"$f":"VITM!E7","v":0},{"$f":"VITM!H7","v":0}]
[null,null,null,null,null,null,null,null,null,null,null,null,null,null,null,null,null,"for multiple Bonafides type Admission numbers in P column then \"PRINT BONAFIDES\" Button",null,null,null,null,5,{"$f":"VITM!B8","v":0},{"$f":"VITM!C8","v":0},{"$f":"VITM!D8","v":0},{"$f":"VITM!F8","v":"00:00:00"},{"$f":"VITM!$A$2","v":"VITM"},null,{"$f":"VITM!E8","v":0},{"$f":"VITM!H8","v":0}]
[null,null,null,null,"Admission No: ",{"$f":"INDIRECT(\"P\" & RowIndex2)","v":9999},null,null,null,null,null,null,"Date:",{"$f":"TEXT(NOW(),\"DD-MM-YYYY\")","v":"11-02-2023"},null,null,null,null,null,null,null,null,6,{"$f":"VITM!B9","v":0},{"$f":"VITM!C9","v":0},{"$f":"VITM!D9","v":0},{"$f":"VITM!F9","v":"00:00:00"},{"$f":"VITM!$A$2","v":"VITM"},null,{"$f":"VITM!E9","v":0},{"$f":"VITM!H9","v":0}]
[null,null,null,null,"This is to certify that Master/Kumari",null,null,null,null,null,{"$f":"VLOOKUP(F11,ST_LIST,2,FALSE)","v":"gv"},null,null,null,null,null,null,null,null,null,null,null,7,{"$f":"VITM!B10","v":0},{"$f":"VITM!C10","v":0},{"$f":"VITM!D10","v":0},{"$f":"VITM!F10","v":"00:00:00"},{"$f":"VITM!$A$2","v":"VITM"},null,{"$f":"VITM!E10","v":0},{"$f":"VITM!H10","v":0}]
[null,null,null,"S/o, D/o ",{"$f":"VLOOKUP(F11,ST_LIST,3,FALSE)","v":"ggg"},null,null,"is as a bonafide student of this Institution.",null,null,null,null,null,null,null,null,null,null,null,null,null,null,8,{"$f":"VITM!B11","v":0},{"$f":"VITM!C11","v":0},{"$f":"VITM!D11","v":0},{"$f":"VITM!F11","v":"00:00:00"},{"$f":"VITM!$A$2","v":"VITM"},null,{"$f":"VITM!E11","v":0},{"$f":"VITM!H11","v":0}]
[null,null,null,null,{"$f":"\"He/She  is studying in  Class \" & VLOOKUP(F11,ST_LIST,5,FALSE) & \" in the academic year \" & ACADEMICYEAR","v":"He/She  is studying in  Class EXTRA5 in the academic year 2019-20"},null,null,null,null,null,null,null,null,null,null,null,null,"For Preview before print \nSELECT PRIVEW ONLY \nthen  \"PRINT BONAFIDES\" Button",null,null,null,null,9,{"$f":"VITM!B12","v":0},{"$f":"VITM!C12","v":0},{"$f":"VITM!D12","v":0},{"$f":"VITM!F12","v":"00:00:00"},{"$f":"VITM!$A$2","v":"VITM"},null,{"$f":"VITM!E12","v":0},{"$f":"VITM!H12","v":0}]
[null,null,null,"During his/her study period his/her character was found good. ",null,null,null,null,null,null,null,null,null,null,null,null,null,null,null,null,null,null,10,{"$f":"VITM!B13","v":0},{"$f":"VITM!C13","v":0},{"$f":"VITM!D13","v":0},{"$f":"VITM!F13","v":"00:00:00"},{"$f":"VITM!$A$2","v":"VITM"},null,{"$f":"VITM!E13","v":0},{"$f":"VITM!H13","v":0}]
[null,null,null,null,null,null,null,null,null,null,null,null,null,null,null,null,null,null,null,null,null,null,11,{"$f":"VITM!B14","v":0},{"$f":"VITM!C14","v":0},{"$f":"VITM!D14","v":0},{"$f":"VITM!F14","v":"00:00:00"},{"$f":"VITM!$A$2","v":"VITM"},null,{"$f":"VITM!E14","v":0},{"$f":"VITM!H14","v":0}]
[null,null,null,"Date of Birth :",{"$f":"VLOOKUP(F11,ST_LIST,4,FALSE)","v":"1976-03-07"},null,{"$f":"SUBSTITUTE(\"( \"&SpellCorrect(DAY(E17))&\"-\"&TEXT(E17,\"MMMM\")&\"-\"&SpellNumber(YEAR(E17))&\")\",\"One Thousand Nine Hundred\",\"Nineteen\")","v":"( Seventh-March-Nineteen Seventy Six)"},null,null,null,null,null,null,null,null,null,null,null,null,null,null,null,12,{"$f":"VITM!B15","v":0},{"$f":"VITM!C15","v":0},{"$f":"VITM!D15","v":0},{"$f":"VITM!F15","v":"00:00:00"},{"$f":"VITM!$A$2","v":"VITM"},null,{"$f":"VITM!E15","v":0},{"$f":"VITM!H15","v":0}]
[null,null,null,null,null,null,null,null,null,null,null,null,null,null,null,null,null,null,null,null,null,null,13,{"$f":"VITM!B16","v":0},{"$f":"VITM!C16","v":0},{"$f":"VITM!D16","v":0},{"$f":"VITM!F16","v":"00:00:00"},{"$f":"VITM!$A$2","v":"VITM"},null,{"$f":"VITM!E16","v":0},{"$f":"VITM!H16","v":0}]
[null,null,{"$f":"$F$1","v":"FOR BUS PASS ONLY"},null,null,null,null,null,null,null,null,null,"Head Master",null,null,null,null,null,null,null,null,null,14,{"$f":"VITM!B17","v":0},{"$f":"VITM!C17","v":0},{"$f":"VITM!D17","v":0},{"$f":"VITM!F17","v":"00:00:00"},{"$f":"VITM!$A$2","v":"VITM"},null,{"$f":"VITM!E17","v":0},{"$f":"VITM!H17","v":0}]
[null,null,null,null,null,null,null,null,null,null,null,null,null,null,null,null,null,null,null,null,null,null,15,{"$f":"VITM!B18","v":0},{"$f":"VITM!C18","v":0},{"$f":"VITM!D18","v":0},{"$f":"VITM!F18","v":"00:00:00"},{"$f":"VITM!$A$2","v":"VITM"},null,{"$f":"VITM!E18","v":0},{"$f":"VITM!H18","v":0}]
[null,null,null,null,null,null,null,null,null,null,null,null,null,null,null,null,null,null,null,null,null,null,16,{"$f":"VITM!B19","v":0},{"$f":"VITM!C19","v":0},{"$f":"VITM!D19","v":0},{"$f":"VITM!F19","v":"00:00:00"},{"$f":"VITM!$A$2","v":"VITM"},null,{"$f":"VITM!E19","v":0},{"$f":"VITM!H19","v":0}]
[null,null,null,null,null,null,null,null,null,null,null,null,null,null,null,null,null,null,null,null,null,null,17,{"$f":"VITM!B20","v":0},{"$f":"VITM!C20","v":0},{"$f":"VITM!D20","v":0},{"$f":"VITM!F20","v":"00:00:00"},{"$f":"VITM!$A$2","v":"VITM"},null,{"$f":"VITM!E20","v":0},{"$f":"VITM!H20","v":0}]
[null,null,null,null,null,null,null,null,null,null,null,null,null,null,null,null,null,null,null,null,null,null,18,{"$f":"VITM!B21","v":0},{"$f":"VITM!C21","v":0},{"$f":"VITM!D21","v":0},{"$f":"VITM!F21","v":"00:00:00"},{"$f":"VITM!$A$2","v":"VITM"},null,{"$f":"VITM!E21","v":0},{"$f":"VITM!H21","v":0}]
[null,null,null,null,null,null,null,null,null,null,null,null,null,null,null,null,null,null,null,null,null,null,19,{"$f":"VITM!B22","v":0},{"$f":"VITM!C22","v":0},{"$f":"VITM!D22","v":0},{"$f":"VITM!F22","v":"00:00:00"},{"$f":"VITM!$A$2","v":"VITM"},null,{"$f":"VITM!E22","v":0},{"$f":"VITM!H22","v":0}]
[null,null,null,null,null,null,null,null,null,null,null,null,null,null,null,null,null,null,null,null,null,null,20,{"$f":"VITM!B23","v":0},{"$f":"VITM!C23","v":0},{"$f":"VITM!D23","v":0},{"$f":"VITM!F23","v":"00:00:00"},{"$f":"VITM!$A$2","v":"VITM"},null,{"$f":"VITM!E23","v":0},{"$f":"VITM!H23","v":0}]
[null,null,null,null,null,null,null,null,null,null,null,null,null,null,null,null,null,null,null,null,null,null,21,{"$f":"VITM!B24","v":0},{"$f":"VITM!C24","v":0},{"$f":"VITM!D24","v":0},{"$f":"VITM!F24","v":"00:00:00"},{"$f":"VITM!$A$2","v":"VITM"},null,{"$f":"VITM!E24","v":0},{"$f":"VITM!H24","v":0}]
[null,null,null,null,null,null,null,null,null,null,null,null,null,null,null,null,null,null,null,null,null,null,22,{"$f":"VITM!B25","v":0},{"$f":"VITM!C25","v":0},{"$f":"VITM!D25","v":0},{"$f":"VITM!F25","v":"00:00:00"},{"$f":"VITM!$A$2","v":"VITM"},null,{"$f":"VITM!E25","v":0},{"$f":"VITM!H25","v":0}]
[null,null,null,null,null,null,null,null,null,null,null,null,null,null,null,null,null,null,null,null,null,null,23,{"$f":"VITM!B26","v":0},{"$f":"VITM!C26","v":0},{"$f":"VITM!D26","v":0},{"$f":"VITM!F26","v":"00:00:00"},{"$f":"VITM!$A$2","v":"VITM"},null,{"$f":"VITM!E26","v":0},{"$f":"VITM!H26","v":0}]
[null,null,null,null,null,null,null,null,null,null,null,null,null,null,null,null,null,null,null,null,null,null,24,{"$f":"VITM!B27","v":0},{"$f":"VITM!C27","v":0},{"$f":"VITM!D27","v":0},{"$f":"VITM!F27","v":"00:00:00"},{"$f":"VITM!$A$2","v":"VITM"},null,{"$f":"VITM!E27","v":0},{"$f":"VITM!H27","v":0}]
[null,null,null,null,null,null,null,null,null,null,null,null,null,null,null,null,null,null,null,null,null,null,25,{"$f":"VITM!B28","v":0},{"$f":"VITM!C28","v":0},{"$f":"VITM!D28","v":0},{"$f":"VITM!F28","v":"00:00:00"},{"$f":"VITM!$A$2","v":"VITM"},null,{"$f":"VITM!E28","v":0},{"$f":"VITM!H28","v":0}]
[null,null,null,null,null,null,null,null,null,null,null,null,null,null,null,null,null,null,null,null,null,null,26,{"$f":"VITM!B29","v":0},{"$f":"VITM!C29","v":0},{"$f":"VITM!D29","v":0},{"$f":"VITM!F29","v":"00:00:00"},{"$f":"VITM!$A$2","v":"VITM"},null,{"$f":"VITM!E29","v":0},{"$f":"VITM!H29","v":0}]
[null,null,null,null,null,null,null,null,null,null,null,null,null,null,null,null,null,null,null,null,null,null,27,{"$f":"VITM!B30","v":0},{"$f":"VITM!C30","v":0},{"$f":"VITM!D30","v":0},{"$f":"VITM!F30","v":"00:00:00"},{"$f":"VITM!$A$2","v":"VITM"},null,{"$f":"VITM!E30","v":0},{"$f":"VITM!H30","v":0}]
[null,null,null,null,null,null,null,null,null,null,null,null,null,null,null,null,null,null,null,null,null,null,28,{"$f":"VITM!B31","v":0},{"$f":"VITM!C31","v":0},{"$f":"VITM!D31","v":0},{"$f":"VITM!F31","v":"00:00:00"},{"$f":"VITM!$A$2","v":"VITM"},null,{"$f":"VITM!E31","v":0},{"$f":"VITM!H31","v":0}]
[null,null,null,null,null,null,null,null,null,null,null,null,null,null,null,null,null,null,null,null,null,null,29,{"$f":"VITM!B32","v":0},{"$f":"VITM!C32","v":0},{"$f":"VITM!D32","v":0},{"$f":"VITM!F32","v":"00:00:00"},{"$f":"VITM!$A$2","v":"VITM"},null,{"$f":"VITM!E32","v":0},{"$f":"VITM!H32","v":0}]
[null,null,null,null,null,null,null,null,null,null,null,null,null,null,null,null,null,null,null,null,null,null,30,{"$f":"VITM!B33","v":0},{"$f":"VITM!C33","v":0},{"$f":"VITM!D33","v":0},{"$f":"VITM!F33","v":"00:00:00"},{"$f":"VITM!$A$2","v":"VITM"},null,{"$f":"VITM!E33","v":0},{"$f":"VITM!H33","v":0}]
[null,null,null,null,null,null,null,null,null,null,null,null,null,null,null,null,null,null,null,null,null,null,31,{"$f":"VITM!B34","v":0},{"$f":"VITM!C34","v":0},{"$f":"VITM!D34","v":0},{"$f":"VITM!F34","v":"00:00:00"},{"$f":"VITM!$A$2","v":"VITM"},null,{"$f":"VITM!E34","v":0},{"$f":"VITM!H34","v":0}]
[null,null,null,null,null,null,null,null,null,null,null,null,null,null,null,null,null,null,null,null,null,null,32,{"$f":"VITM!B35","v":0},{"$f":"VITM!C35","v":0},{"$f":"VITM!D35","v":0},{"$f":"VITM!F35","v":"00:00:00"},{"$f":"VITM!$A$2","v":"VITM"},null,{"$f":"VITM!E35","v":0},{"$f":"VITM!H35","v":0}]
[null,null,null,null,null,null,null,null,null,null,null,null,null,null,null,null,null,null,null,null,null,null,33,{"$f":"VITM!B36","v":0},{"$f":"VITM!C36","v":0},{"$f":"VITM!D36","v":0},{"$f":"VITM!F36","v":"00:00:00"},{"$f":"VITM!$A$2","v":"VITM"},null,{"$f":"VITM!E36","v":0},{"$f":"VITM!H36","v":0}]
[null,null,null,null,null,null,null,null,null,null,null,null,null,null,null,null,null,null,null,null,null,null,34,{"$f":"VITM!B37","v":0},{"$f":"VITM!C37","v":0},{"$f":"VITM!D37","v":0},{"$f":"VITM!F37","v":"00:00:00"},{"$f":"VITM!$A$2","v":"VITM"},null,{"$f":"VITM!E37","v":0},{"$f":"VITM!H37","v":0}]
[null,null,null,null,null,null,null,null,null,null,null,null,null,null,null,null,null,null,null,null,null,null,35,{"$f":"VITM!B38","v":0},{"$f":"VITM!C38","v":0},{"$f":"VITM!D38","v":0},{"$f":"VITM!F38","v":"00:00:00"},{"$f":"VITM!$A$2","v":"VITM"},null,{"$f":"VITM!E38","v":0},{"$f":"VITM!H38","v":0}]
[null,null,null,null,null,null,null,null,null,null,null,null,null,null,null,null,null,null,null,null,null,null,36,{"$f":"VITM!B39","v":0},{"$f":"VITM!C39","v":0},{"$f":"VITM!D39","v":0},{"$f":"VITM!F39","v":"00:00:00"},{"$f":"VITM!$A$2","v":"VITM"},null,{"$f":"VITM!E39","v":0},{"$f":"VITM!H39","v":0}]
[null,null,null,null,null,null,null,null,null,null,null,null,null,null,null,null,null,null,null,null,null,null,37,{"$f":"VITM!B40","v":0},{"$f":"VITM!C40","v":0},{"$f":"VITM!D40","v":0},{"$f":"VITM!F40","v":"00:00:00"},{"$f":"VITM!$A$2","v":"VITM"},null,{"$f":"VITM!E40","v":0},{"$f":"VITM!H40","v":0}]
[null,null,null,null,null,null,null,null,null,null,null,null,null,null,null,null,null,null,null,null,null,null,38,{"$f":"VITM!B41","v":0},{"$f":"VITM!C41","v":0},{"$f":"VITM!D41","v":0},{"$f":"VITM!F41","v":"00:00:00"},{"$f":"VITM!$A$2","v":"VITM"},null,{"$f":"VITM!E41","v":0},{"$f":"VITM!H41","v":0}]
[null,null,null,null,null,null,null,null,null,null,null,null,null,null,null,null,null,null,null,null,null,null,39,{"$f":"VITM!B42","v":0},{"$f":"VITM!C42","v":0},{"$f":"VITM!D42","v":0},{"$f":"VITM!F42","v":"00:00:00"},{"$f":"VITM!$A$2","v":"VITM"},null,{"$f":"VITM!E42","v":0},{"$f":"VITM!H42","v":0}]
[null,null,null,null,null,null,null,null,null,null,null,null,null,null,null,null,null,null,null,null,null,null,40,{"$f":"VITM!B43","v":0},{"$f":"VITM!C43","v":0},{"$f":"VITM!D43","v":0},{"$f":"VITM!F43","v":"00:00:00"},{"$f":"VITM!$A$2","v":"VITM"},null,{"$f":"VITM!E43","v":0},{"$f":"VITM!H43","v":0}]
[null,null,null,null,null,null,null,null,null,null,null,null,null,null,null,null,null,null,null,null,null,null,41,{"$f":"VITM!B44","v":0},{"$f":"VITM!C44","v":0},{"$f":"VITM!D44","v":0},{"$f":"VITM!F44","v":"00:00:00"},{"$f":"VITM!$A$2","v":"VITM"},null,{"$f":"VITM!E44","v":0},{"$f":"VITM!H44","v":0}]
[null,null,null,null,null,null,null,null,null,null,null,null,null,null,null,null,null,null,null,null,null,null,42,{"$f":"VITM!B45","v":0},{"$f":"VITM!C45","v":0},{"$f":"VITM!D45","v":0},{"$f":"VITM!F45","v":"00:00:00"},{"$f":"VITM!$A$2","v":"VITM"},null,{"$f":"VITM!E45","v":0},{"$f":"VITM!H45","v":0}]
[null,null,null,null,null,null,null,null,null,null,null,null,null,null,null,null,null,null,null,null,null,null,43,{"$f":"VITM!B46","v":0},{"$f":"VITM!C46","v":0},{"$f":"VITM!D46","v":0},{"$f":"VITM!F46","v":"00:00:00"},{"$f":"VITM!$A$2","v":"VITM"},null,{"$f":"VITM!E46","v":0},{"$f":"VITM!H46","v":0}]
[null,null,null,null,null,null,null,null,null,null,null,null,null,null,null,null,null,null,null,null,null,null,44,{"$f":"VITM!B47","v":0},{"$f":"VITM!C47","v":0},{"$f":"VITM!D47","v":0},{"$f":"VITM!F47","v":"00:00:00"},{"$f":"VITM!$A$2","v":"VITM"},null,{"$f":"VITM!E47","v":0},{"$f":"VITM!H47","v":0}]
[null,null,null,null,null,null,null,null,null,null,null,null,null,null,null,null,null,null,null,null,null,null,45,{"$f":"VITM!B48","v":0},{"$f":"VITM!C48","v":0},{"$f":"VITM!D48","v":0},{"$f":"VITM!F48","v":"00:00:00"},{"$f":"VITM!$A$2","v":"VITM"},null,{"$f":"VITM!E48","v":0},{"$f":"VITM!H48","v":0}]
[null,null,null,null,null,null,null,null,null,null,null,null,null,null,null,null,null,null,null,null,null,null,46,{"$f":"VITM!B49","v":0},{"$f":"VITM!C49","v":0},{"$f":"VITM!D49","v":0},{"$f":"VITM!F49","v":"00:00:00"},{"$f":"VITM!$A$2","v":"VITM"},null,{"$f":"VITM!E49","v":0},{"$f":"VITM!H49","v":0}]
[null,null,null,null,null,null,null,null,null,null,null,null,null,null,null,null,null,null,null,null,null,null,47,{"$f":"VITM!B50","v":0},{"$f":"VITM!C50","v":0},{"$f":"VITM!D50","v":0},{"$f":"VITM!F50","v":"00:00:00"},{"$f":"VITM!$A$2","v":"VITM"},null,{"$f":"VITM!E50","v":0},{"$f":"VITM!H50","v":0}]
[null,null,null,null,null,null,null,null,null,null,null,null,null,null,null,null,null,null,null,null,null,null,48,{"$f":"VITM!B51","v":0},{"$f":"VITM!C51","v":0},{"$f":"VITM!D51","v":0},{"$f":"VITM!F51","v":"00:00:00"},{"$f":"VITM!$A$2","v":"VITM"},null,{"$f":"VITM!E51","v":0},{"$f":"VITM!H51","v":0}]
[null,null,null,null,null,null,null,null,null,null,null,null,null,null,null,null,null,null,null,null,null,null,49,{"$f":"VITM!B52","v":0},{"$f":"VITM!C52","v":0},{"$f":"VITM!D52","v":0},{"$f":"VITM!F52","v":"00:00:00"},{"$f":"VITM!$A$2","v":"VITM"},null,{"$f":"VITM!E52","v":0},{"$f":"VITM!H52","v":0}]
[null,null,null,null,null,null,null,null,null,null,null,null,null,null,null,null,null,null,null,null,null,null,50,{"$f":"VITM!B53","v":0},{"$f":"VITM!C53","v":0},{"$f":"VITM!D53","v":0},{"$f":"VITM!F53","v":"00:00:00"},{"$f":"VITM!$A$2","v":"VITM"},null,{"$f":"VITM!E53","v":0},{"$f":"VITM!H53","v":0}]
[null,null,null,null,null,null,null,null,null,null,null,null,null,null,null,null,null,null,null,null,null,null,51,{"$f":"VITM!B54","v":0},{"$f":"VITM!C54","v":0},{"$f":"VITM!D54","v":0},{"$f":"VITM!F54","v":"00:00:00"},{"$f":"VITM!$A$2","v":"VITM"},null,{"$f":"VITM!E54","v":0},{"$f":"VITM!H54","v":0}]
[null,null,null,null,null,null,null,null,null,null,null,null,null,null,null,null,null,null,null,null,null,null,52,{"$f":"VITM!B55","v":0},{"$f":"VITM!C55","v":0},{"$f":"VITM!D55","v":0},{"$f":"VITM!F55","v":"00:00:00"},{"$f":"VITM!$A$2","v":"VITM"},null,{"$f":"VITM!E55","v":0},{"$f":"VITM!H55","v":0}]
[null,null,null,null,null,null,null,null,null,null,null,null,null,null,null,null,null,null,null,null,null,null,53,{"$f":"VITM!B56","v":0},{"$f":"VITM!C56","v":0},{"$f":"VITM!D56","v":0},{"$f":"VITM!F56","v":"00:00:00"},{"$f":"VITM!$A$2","v":"VITM"},null,{"$f":"VITM!E56","v":0},{"$f":"VITM!H56","v":0}]
[null,null,null,null,null,null,null,null,null,null,null,null,null,null,null,null,null,null,null,null,null,null,54,{"$f":"VITM!B57","v":0},{"$f":"VITM!C57","v":0},{"$f":"VITM!D57","v":0},{"$f":"VITM!F57","v":"00:00:00"},{"$f":"VITM!$A$2","v":"VITM"},null,{"$f":"VITM!E57","v":0},{"$f":"VITM!H57","v":0}]
[null,null,null,null,null,null,null,null,null,null,null,null,null,null,null,null,null,null,null,null,null,null,55,{"$f":"VITM!B58","v":0},{"$f":"VITM!C58","v":0},{"$f":"VITM!D58","v":0},{"$f":"VITM!F58","v":"00:00:00"},{"$f":"VITM!$A$2","v":"VITM"},null,{"$f":"VITM!E58","v":0},{"$f":"VITM!H58","v":0}]
[null,null,null,null,null,null,null,null,null,null,null,null,null,null,null,null,null,null,null,null,null,null,56,{"$f":"VITM!B59","v":0},{"$f":"VITM!C59","v":0},{"$f":"VITM!D59","v":0},{"$f":"VITM!F59","v":"00:00:00"},{"$f":"VITM!$A$2","v":"VITM"},null,{"$f":"VITM!E59","v":0},{"$f":"VITM!H59","v":0}]
[null,null,null,null,null,null,null,null,null,null,null,null,null,null,null,null,null,null,null,null,null,null,57,{"$f":"VITM!B60","v":0},{"$f":"VITM!C60","v":0},{"$f":"VITM!D60","v":0},{"$f":"VITM!F60","v":"00:00:00"},{"$f":"VITM!$A$2","v":"VITM"},null,{"$f":"VITM!E60","v":0},{"$f":"VITM!H60","v":0}]
[null,null,null,null,null,null,null,null,null,null,null,null,null,null,null,null,null,null,null,null,null,null,58,{"$f":"VITM!B61","v":0},{"$f":"VITM!C61","v":0},{"$f":"VITM!D61","v":0},{"$f":"VITM!F61","v":"00:00:00"},{"$f":"VITM!$A$2","v":"VITM"},null,{"$f":"VITM!E61","v":0},{"$f":"VITM!H61","v":0}]
[null,null,null,null,null,null,null,null,null,null,null,null,null,null,null,null,null,null,null,null,null,null,59,{"$f":"VITM!B62","v":0},{"$f":"VITM!C62","v":0},{"$f":"VITM!D62","v":0},{"$f":"VITM!F62","v":"00:00:00"},{"$f":"VITM!$A$2","v":"VITM"},null,{"$f":"VITM!E62","v":0},{"$f":"VITM!H62","v":0}]
[null,null,null,null,null,null,null,null,null,null,null,null,null,null,null,null,null,null,null,null,null,null,60,{"$f":"VITM!B63","v":0},{"$f":"VITM!C63","v":0},{"$f":"VITM!D63","v":0},{"$f":"VITM!F63","v":"00:00:00"},{"$f":"VITM!$A$2","v":"VITM"},null,{"$f":"VITM!E63","v":0},{"$f":"VITM!H63","v":0}]
[null,null,null,null,null,null,null,null,null,null,null,null,null,null,null,null,null,null,null,null,null,null,61,{"$f":"VITM!B64","v":0},{"$f":"VITM!C64","v":0},{"$f":"VITM!D64","v":0},{"$f":"VITM!F64","v":"00:00:00"},{"$f":"VITM!$A$2","v":"VITM"},null,{"$f":"VITM!E64","v":0},{"$f":"VITM!H64","v":0}]
[null,null,null,null,null,null,null,null,null,null,null,null,null,null,null,null,null,null,null,null,null,null,62,{"$f":"VITM!B65","v":0},{"$f":"VITM!C65","v":0},{"$f":"VITM!D65","v":0},{"$f":"VITM!F65","v":"00:00:00"},{"$f":"VITM!$A$2","v":"VITM"},null,{"$f":"VITM!E65","v":0},{"$f":"VITM!H65","v":0}]
[null,null,null,null,null,null,null,null,null,null,null,null,null,null,null,null,null,null,null,null,null,null,63,{"$f":"VITM!B66","v":0},{"$f":"VITM!C66","v":0},{"$f":"VITM!D66","v":0},{"$f":"VITM!F66","v":"00:00:00"},{"$f":"VITM!$A$2","v":"VITM"},null,{"$f":"VITM!E66","v":0},{"$f":"VITM!H66","v":0}]
[null,null,null,null,null,null,null,null,null,null,null,null,null,null,null,null,null,null,null,null,null,null,64,{"$f":"VITM!B67","v":0},{"$f":"VITM!C67","v":0},{"$f":"VITM!D67","v":0},{"$f":"VITM!F67","v":"00:00:00"},{"$f":"VITM!$A$2","v":"VITM"},null,{"$f":"VITM!E67","v":0},{"$f":"VITM!H67","v":0}]
[null,null,null,null,null,null,null,null,null,null,null,null,null,null,null,null,null,null,null,null,null,null,65,{"$f":"VITM!B68","v":0},{"$f":"VITM!C68","v":0},{"$f":"VITM!D68","v":0},{"$f":"VITM!F68","v":"00:00:00"},{"$f":"VITM!$A$2","v":"VITM"},null,{"$f":"VITM!E68","v":0},{"$f":"VITM!H68","v":0}]
[null,null,null,null,null,null,null,null,null,null,null,null,null,null,null,null,null,null,null,null,null,null,66,{"$f":"VITM!B69","v":0},{"$f":"VITM!C69","v":0},{"$f":"VITM!D69","v":0},{"$f":"VITM!F69","v":"00:00:00"},{"$f":"VITM!$A$2","v":"VITM"},null,{"$f":"VITM!E69","v":0},{"$f":"VITM!H69","v":0}]
[null,null,null,null,null,null,null,null,null,null,null,null,null,null,null,null,null,null,null,null,null,null,67,{"$f":"VITM!B70","v":0},{"$f":"VITM!C70","v":0},{"$f":"VITM!D70","v":0},{"$f":"VITM!F70","v":"00:00:00"},{"$f":"VITM!$A$2","v":"VITM"},null,{"$f":"VITM!E70","v":0},{"$f":"VITM!H70","v":0}]
[null,null,null,null,null,null,null,null,null,null,null,null,null,null,null,null,null,null,null,null,null,null,68,{"$f":"VITM!B71","v":0},{"$f":"VITM!C71","v":0},{"$f":"VITM!D71","v":0},{"$f":"VITM!F71","v":"00:00:00"},{"$f":"VITM!$A$2","v":"VITM"},null,{"$f":"VITM!E71","v":0},{"$f":"VITM!H71","v":0}]
[null,null,null,null,null,null,null,null,null,null,null,null,null,null,null,null,null,null,null,null,null,null,69,{"$f":"VITM!B72","v":0},{"$f":"VITM!C72","v":0},{"$f":"VITM!D72","v":0},{"$f":"VITM!F72","v":"00:00:00"},{"$f":"VITM!$A$2","v":"VITM"},null,{"$f":"VITM!E72","v":0},{"$f":"VITM!H72","v":0}]
[null,null,null,null,null,null,null,null,null,null,null,null,null,null,null,null,null,null,null,null,null,null,70,{"$f":"VITM!B73","v":0},{"$f":"VITM!C73","v":0},{"$f":"VITM!D73","v":0},{"$f":"VITM!F73","v":"00:00:00"},{"$f":"VITM!$A$2","v":"VITM"},null,{"$f":"VITM!E73","v":0},{"$f":"VITM!H73","v":0}]
[null,null,null,null,null,null,null,null,null,null,null,null,null,null,null,null,null,null,null,null,null,null,71,{"$f":"VITM!B74","v":0},{"$f":"VITM!C74","v":0},{"$f":"VITM!D74","v":0},{"$f":"VITM!F74","v":"00:00:00"},{"$f":"VITM!$A$2","v":"VITM"},null,{"$f":"VITM!E74","v":0},{"$f":"VITM!H74","v":0}]
[null,null,null,null,null,null,null,null,null,null,null,null,null,null,null,null,null,null,null,null,null,null,72,{"$f":"VITM!B75","v":0},{"$f":"VITM!C75","v":0},{"$f":"VITM!D75","v":0},{"$f":"VITM!F75","v":"00:00:00"},{"$f":"VITM!$A$2","v":"VITM"},null,{"$f":"VITM!E75","v":0},{"$f":"VITM!H75","v":0}]
[null,null,null,null,null,null,null,null,null,null,null,null,null,null,null,null,null,null,null,null,null,null,73,{"$f":"VITM!B76","v":0},{"$f":"VITM!C76","v":0},{"$f":"VITM!D76","v":0},{"$f":"VITM!F76","v":"00:00:00"},{"$f":"VITM!$A$2","v":"VITM"},null,{"$f":"VITM!E76","v":0},{"$f":"VITM!H76","v":0}]
[null,null,null,null,null,null,null,null,null,null,null,null,null,null,null,null,null,null,null,null,null,null,74,{"$f":"VITM!B77","v":0},{"$f":"VITM!C77","v":0},{"$f":"VITM!D77","v":0},{"$f":"VITM!F77","v":"00:00:00"},{"$f":"VITM!$A$2","v":"VITM"},null,{"$f":"VITM!E77","v":0},{"$f":"VITM!H77","v":0}]
[null,null,null,null,null,null,null,null,null,null,null,null,null,null,null,null,null,null,null,null,null,null,75,{"$f":"VITM!B78","v":0},{"$f":"VITM!C78","v":0},{"$f":"VITM!D78","v":0},{"$f":"VITM!F78","v":"00:00:00"},{"$f":"VITM!$A$2","v":"VITM"},null,{"$f":"VITM!E78","v":0},{"$f":"VITM!H78","v":0}]
[null,null,null,null,null,null,null,null,null,null,null,null,null,null,null,null,null,null,null,null,null,null,76,{"$f":"VITM!B79","v":0},{"$f":"VITM!C79","v":0},{"$f":"VITM!D79","v":0},{"$f":"VITM!F79","v":"00:00:00"},{"$f":"VITM!$A$2","v":"VITM"},null,{"$f":"VITM!E79","v":0},{"$f":"VITM!H79","v":0}]
[null,null,null,null,null,null,null,null,null,null,null,null,null,null,null,null,null,null,null,null,null,null,77,{"$f":"VITM!B80","v":0},{"$f":"VITM!C80","v":0},{"$f":"VITM!D80","v":0},{"$f":"VITM!F80","v":"00:00:00"},{"$f":"VITM!$A$2","v":"VITM"},null,{"$f":"VITM!E80","v":0},{"$f":"VITM!H80","v":0}]
[null,null,null,null,null,null,null,null,null,null,null,null,null,null,null,null,null,null,null,null,null,null,78,{"$f":"VITM!B81","v":0},{"$f":"VITM!C81","v":0},{"$f":"VITM!D81","v":0},{"$f":"VITM!F81","v":"00:00:00"},{"$f":"VITM!$A$2","v":"VITM"},null,{"$f":"VITM!E81","v":0},{"$f":"VITM!H81","v":0}]
[null,null,null,null,null,null,null,null,null,null,null,null,null,null,null,null,null,null,null,null,null,null,79,{"$f":"VITM!B82","v":0},{"$f":"VITM!C82","v":0},{"$f":"VITM!D82","v":0},{"$f":"VITM!F82","v":"00:00:00"},{"$f":"VITM!$A$2","v":"VITM"},null,{"$f":"VITM!E82","v":0},{"$f":"VITM!H82","v":0}]
[null,null,null,null,null,null,null,null,null,null,null,null,null,null,null,null,null,null,null,null,null,null,80,{"$f":"VITM!B83","v":0},{"$f":"VITM!C83","v":0},{"$f":"VITM!D83","v":0},{"$f":"VITM!F83","v":"00:00:00"},{"$f":"VITM!$A$2","v":"VITM"},null,{"$f":"VITM!E83","v":0},{"$f":"VITM!H83","v":0}]
[null,null,null,null,null,null,null,null,null,null,null,null,null,null,null,null,null,null,null,null,null,null,81,{"$f":"VITM!B84","v":0},{"$f":"VITM!C84","v":0},{"$f":"VITM!D84","v":0},{"$f":"VITM!F84","v":"00:00:00"},{"$f":"VITM!$A$2","v":"VITM"},null,{"$f":"VITM!E84","v":0},{"$f":"VITM!H84","v":0}]
[null,null,null,null,null,null,null,null,null,null,null,null,null,null,null,null,null,null,null,null,null,null,82,{"$f":"VITM!B85","v":0},{"$f":"VITM!C85","v":0},{"$f":"VITM!D85","v":0},{"$f":"VITM!F85","v":"00:00:00"},{"$f":"VITM!$A$2","v":"VITM"},null,{"$f":"VITM!E85","v":0},{"$f":"VITM!H85","v":0}]
[null,null,null,null,null,null,null,null,null,null,null,null,null,null,null,null,null,null,null,null,null,null,83,{"$f":"VITM!B86","v":0},{"$f":"VITM!C86","v":0},{"$f":"VITM!D86","v":0},{"$f":"VITM!F86","v":"00:00:00"},{"$f":"VITM!$A$2","v":"VITM"},null,{"$f":"VITM!E86","v":0},{"$f":"VITM!H86","v":0}]
[null,null,null,null,null,null,null,null,null,null,null,null,null,null,null,null,null,null,null,null,null,null,84,{"$f":"VITM!B87","v":0},{"$f":"VITM!C87","v":0},{"$f":"VITM!D87","v":0},{"$f":"VITM!F87","v":"00:00:00"},{"$f":"VITM!$A$2","v":"VITM"},null,{"$f":"VITM!E87","v":0},{"$f":"VITM!H87","v":0}]
[null,null,null,null,null,null,null,null,null,null,null,null,null,null,null,null,null,null,null,null,null,null,85,{"$f":"VITM!B88","v":0},{"$f":"VITM!C88","v":0},{"$f":"VITM!D88","v":0},{"$f":"VITM!F88","v":"00:00:00"},{"$f":"VITM!$A$2","v":"VITM"},null,{"$f":"VITM!E88","v":0},{"$f":"VITM!H88","v":0}]
[null,null,null,null,null,null,null,null,null,null,null,null,null,null,null,null,null,null,null,null,null,null,86,{"$f":"VITM!B89","v":0},{"$f":"VITM!C89","v":0},{"$f":"VITM!D89","v":0},{"$f":"VITM!F89","v":"00:00:00"},{"$f":"VITM!$A$2","v":"VITM"},null,{"$f":"VITM!E89","v":0},{"$f":"VITM!H89","v":0}]
[null,null,null,null,null,null,null,null,null,null,null,null,null,null,null,null,null,null,null,null,null,null,87,{"$f":"VITM!B90","v":0},{"$f":"VITM!C90","v":0},{"$f":"VITM!D90","v":0},{"$f":"VITM!F90","v":"00:00:00"},{"$f":"VITM!$A$2","v":"VITM"},null,{"$f":"VITM!E90","v":0},{"$f":"VITM!H90","v":0}]
[null,null,null,null,null,null,null,null,null,null,null,null,null,null,null,null,null,null,null,null,null,null,88,{"$f":"VITM!B91","v":0},{"$f":"VITM!C91","v":0},{"$f":"VITM!D91","v":0},{"$f":"VITM!F91","v":"00:00:00"},{"$f":"VITM!$A$2","v":"VITM"},null,{"$f":"VITM!E91","v":0},{"$f":"VITM!H91","v":0}]
[null,null,null,null,null,null,null,null,null,null,null,null,null,null,null,null,null,null,null,null,null,null,89,{"$f":"VITM!B92","v":0},{"$f":"VITM!C92","v":0},{"$f":"VITM!D92","v":0},{"$f":"VITM!F92","v":"00:00:00"},{"$f":"VITM!$A$2","v":"VITM"},null,{"$f":"VITM!E92","v":0},{"$f":"VITM!H92","v":0}]
[null,null,null,null,null,null,null,null,null,null,null,null,null,null,null,null,null,null,null,null,null,null,90,{"$f":"VITM!B93","v":0},{"$f":"VITM!C93","v":0},{"$f":"VITM!D93","v":0},{"$f":"VITM!F93","v":"00:00:00"},{"$f":"VITM!$A$2","v":"VITM"},null,{"$f":"VITM!E93","v":0},{"$f":"VITM!H93","v":0}]
[null,null,null,null,null,null,null,null,null,null,null,null,null,null,null,null,null,null,null,null,null,null,91,{"$f":"VITM!B94","v":0},{"$f":"VITM!C94","v":0},{"$f":"VITM!D94","v":0},{"$f":"VITM!F94","v":"00:00:00"},{"$f":"VITM!$A$2","v":"VITM"},null,{"$f":"VITM!E94","v":0},{"$f":"VITM!H94","v":0}]
[null,null,null,null,null,null,null,null,null,null,null,null,null,null,null,null,null,null,null,null,null,null,92,{"$f":"VITM!B95","v":0},{"$f":"VITM!C95","v":0},{"$f":"VITM!D95","v":0},{"$f":"VITM!F95","v":"00:00:00"},{"$f":"VITM!$A$2","v":"VITM"},null,{"$f":"VITM!E95","v":0},{"$f":"VITM!H95","v":0}]
[null,null,null,null,null,null,null,null,null,null,null,null,null,null,null,null,null,null,null,null,null,null,93,{"$f":"VITM!B96","v":0},{"$f":"VITM!C96","v":0},{"$f":"VITM!D96","v":0},{"$f":"VITM!F96","v":"00:00:00"},{"$f":"VITM!$A$2","v":"VITM"},null,{"$f":"VITM!E96","v":0},{"$f":"VITM!H96","v":0}]
[null,null,null,null,null,null,null,null,null,null,null,null,null,null,null,null,null,null,null,null,null,null,94,{"$f":"VITM!B97","v":0},{"$f":"VITM!C97","v":0},{"$f":"VITM!D97","v":0},{"$f":"VITM!F97","v":"00:00:00"},{"$f":"VITM!$A$2","v":"VITM"},null,{"$f":"VITM!E97","v":0},{"$f":"VITM!H97","v":0}]
[null,null,null,null,null,null,null,null,null,null,null,null,null,null,null,null,null,null,null,null,null,null,95,{"$f":"VITM!B98","v":0},{"$f":"VITM!C98","v":0},{"$f":"VITM!D98","v":0},{"$f":"VITM!F98","v":"00:00:00"},{"$f":"VITM!$A$2","v":"VITM"},null,{"$f":"VITM!E98","v":0},{"$f":"VITM!H98","v":0}]
[null,null,null,null,null,null,null,null,null,null,null,null,null,null,null,null,null,null,null,null,null,null,96,{"$f":"VITM!B99","v":0},{"$f":"VITM!C99","v":0},{"$f":"VITM!D99","v":0},{"$f":"VITM!F99","v":"00:00:00"},{"$f":"VITM!$A$2","v":"VITM"},null,{"$f":"VITM!E99","v":0},{"$f":"VITM!H99","v":0}]
[null,null,null,null,null,null,null,null,null,null,null,null,null,null,null,null,null,null,null,null,null,null,97,{"$f":"VITM!B100","v":0},{"$f":"VITM!C100","v":0},{"$f":"VITM!D100","v":0},{"$f":"VITM!F100","v":"00:00:00"},{"$f":"VITM!$A$2","v":"VITM"},null,{"$f":"VITM!E100","v":0},{"$f":"VITM!H100","v":0}]
[null,null,null,null,null,null,null,null,null,null,null,null,null,null,null,null,null,null,null,null,null,null,98,{"$f":"VITM!B101","v":0},{"$f":"VITM!C101","v":0},{"$f":"VITM!D101","v":0},{"$f":"VITM!F101","v":"00:00:00"},{"$f":"VITM!$A$2","v":"VITM"},null,{"$f":"VITM!E101","v":0},{"$f":"VITM!H101","v":0}]
[null,null,null,null,null,null,null,null,null,null,null,null,null,null,null,null,null,null,null,null,null,null,99,{"$f":"VITM!B102","v":0},{"$f":"VITM!C102","v":0},{"$f":"VITM!D102","v":0},{"$f":"VITM!F102","v":"00:00:00"},{"$f":"VITM!$A$2","v":"VITM"},null,{"$f":"VITM!E102","v":0},{"$f":"VITM!H102","v":0}]
[null,null,null,null,null,null,null,null,null,null,null,null,null,null,null,null,null,null,null,null,null,null,100,{"$f":"VITM!B103","v":0},{"$f":"VITM!C103","v":0},{"$f":"VITM!D103","v":0},{"$f":"VITM!F103","v":"00:00:00"},{"$f":"VITM!$A$2","v":"VITM"},null,{"$f":"VITM!E103","v":0},{"$f":"VITM!H103","v":0}]
[null,null,null,null,null,null,null,null,null,null,null,null,null,null,null,null,null,null,null,null,null,null,101,{"$f":"VITM!B104","v":0},{"$f":"VITM!C104","v":0},{"$f":"VITM!D104","v":0},{"$f":"VITM!F104","v":"00:00:00"},{"$f":"VITM!$A$2","v":"VITM"},null,{"$f":"VITM!E104","v":0},{"$f":"VITM!H104","v":0}]
[null,null,null,null,null,null,null,null,null,null,null,null,null,null,null,null,null,null,null,null,null,null,102,{"$f":"VITM!B105","v":0},{"$f":"VITM!C105","v":0},{"$f":"VITM!D105","v":0},{"$f":"VITM!F105","v":"00:00:00"},{"$f":"VITM!$A$2","v":"VITM"},null,{"$f":"VITM!E105","v":0},{"$f":"VITM!H105","v":0}]
[null,null,null,null,null,null,null,null,null,null,null,null,null,null,null,null,null,null,null,null,null,null,103,{"$f":"VITM!B106","v":0},{"$f":"VITM!C106","v":0},{"$f":"VITM!D106","v":0},{"$f":"VITM!F106","v":"00:00:00"},{"$f":"VITM!$A$2","v":"VITM"},null,{"$f":"VITM!E106","v":0},{"$f":"VITM!H106","v":0}]
[null,null,null,null,null,null,null,null,null,null,null,null,null,null,null,null,null,null,null,null,null,null,104,{"$f":"VITM!B107","v":0},{"$f":"VITM!C107","v":0},{"$f":"VITM!D107","v":0},{"$f":"VITM!F107","v":"00:00:00"},{"$f":"VITM!$A$2","v":"VITM"},null,{"$f":"VITM!E107","v":0},{"$f":"VITM!H107","v":0}]
[null,null,null,null,null,null,null,null,null,null,null,null,null,null,null,null,null,null,null,null,null,null,105,{"$f":"VITM!B108","v":0},{"$f":"VITM!C108","v":0},{"$f":"VITM!D108","v":0},{"$f":"VITM!F108","v":"00:00:00"},{"$f":"VITM!$A$2","v":"VITM"},null,{"$f":"VITM!E108","v":0},{"$f":"VITM!H108","v":0}]
[null,null,null,null,null,null,null,null,null,null,null,null,null,null,null,null,null,null,null,null,null,null,106,{"$f":"VITM!B109","v":0},{"$f":"VITM!C109","v":0},{"$f":"VITM!D109","v":0},{"$f":"VITM!F109","v":"00:00:00"},{"$f":"VITM!$A$2","v":"VITM"},null,{"$f":"VITM!E109","v":0},{"$f":"VITM!H109","v":0}]
[null,null,null,null,null,null,null,null,null,null,null,null,null,null,null,null,null,null,null,null,null,null,107,{"$f":"VITM!B110","v":0},{"$f":"VITM!C110","v":0},{"$f":"VITM!D110","v":0},{"$f":"VITM!F110","v":"00:00:00"},{"$f":"VITM!$A$2","v":"VITM"},null,{"$f":"VITM!E110","v":0},{"$f":"VITM!H110","v":0}]
[null,null,null,null,null,null,null,null,null,null,null,null,null,null,null,null,null,null,null,null,null,null,108,{"$f":"VITM!B111","v":0},{"$f":"VITM!C111","v":0},{"$f":"VITM!D111","v":0},{"$f":"VITM!F111","v":"00:00:00"},{"$f":"VITM!$A$2","v":"VITM"},null,{"$f":"VITM!E111","v":0},{"$f":"VITM!H111","v":0}]
[null,null,null,null,null,null,null,null,null,null,null,null,null,null,null,null,null,null,null,null,null,null,109,{"$f":"VITM!B112","v":0},{"$f":"VITM!C112","v":0},{"$f":"VITM!D112","v":0},{"$f":"VITM!F112","v":"00:00:00"},{"$f":"VITM!$A$2","v":"VITM"},null,{"$f":"VITM!E112","v":0},{"$f":"VITM!H112","v":0}]
[null,null,null,null,null,null,null,null,null,null,null,null,null,null,null,null,null,null,null,null,null,null,110,{"$f":"VITM!B113","v":0},{"$f":"VITM!C113","v":0},{"$f":"VITM!D113","v":0},{"$f":"VITM!F113","v":"00:00:00"},{"$f":"VITM!$A$2","v":"VITM"},null,{"$f":"VITM!E113","v":0},{"$f":"VITM!H113","v":0}]
[null,null,null,null,null,null,null,null,null,null,null,null,null,null,null,null,null,null,null,null,null,null,111,{"$f":"VITM!B114","v":0},{"$f":"VITM!C114","v":0},{"$f":"VITM!D114","v":0},{"$f":"VITM!F114","v":"00:00:00"},{"$f":"VITM!$A$2","v":"VITM"},null,{"$f":"VITM!E114","v":0},{"$f":"VITM!H114","v":0}]
[null,null,null,null,null,null,null,null,null,null,null,null,null,null,null,null,null,null,null,null,null,null,112,{"$f":"VITM!B115","v":0},{"$f":"VITM!C115","v":0},{"$f":"VITM!D115","v":0},{"$f":"VITM!F115","v":"00:00:00"},{"$f":"VITM!$A$2","v":"VITM"},null,{"$f":"VITM!E115","v":0},{"$f":"VITM!H115","v":0}]
[null,null,null,null,null,null,null,null,null,null,null,null,null,null,null,null,null,null,null,null,null,null,113,{"$f":"VITM!B116","v":0},{"$f":"VITM!C116","v":0},{"$f":"VITM!D116","v":0},{"$f":"VITM!F116","v":"00:00:00"},{"$f":"VITM!$A$2","v":"VITM"},null,{"$f":"VITM!E116","v":0},{"$f":"VITM!H116","v":0}]
[null,null,null,null,null,null,null,null,null,null,null,null,null,null,null,null,null,null,null,null,null,null,114,{"$f":"VITM!B117","v":0},{"$f":"VITM!C117","v":0},{"$f":"VITM!D117","v":0},{"$f":"VITM!F117","v":"00:00:00"},{"$f":"VITM!$A$2","v":"VITM"},null,{"$f":"VITM!E117","v":0},{"$f":"VITM!H117","v":0}]
[null,null,null,null,null,null,null,null,null,null,null,null,null,null,null,null,null,null,null,null,null,null,115,{"$f":"VITM!B118","v":0},{"$f":"VITM!C118","v":0},{"$f":"VITM!D118","v":0},{"$f":"VITM!F118","v":"00:00:00"},{"$f":"VITM!$A$2","v":"VITM"},null,{"$f":"VITM!E118","v":0},{"$f":"VITM!H118","v":0}]
[null,null,null,null,null,null,null,null,null,null,null,null,null,null,null,null,null,null,null,null,null,null,116,{"$f":"VITM!B119","v":0},{"$f":"VITM!C119","v":0},{"$f":"VITM!D119","v":0},{"$f":"VITM!F119","v":"00:00:00"},{"$f":"VITM!$A$2","v":"VITM"},null,{"$f":"VITM!E119","v":0},{"$f":"VITM!H119","v":0}]
[null,null,null,null,null,null,null,null,null,null,null,null,null,null,null,null,null,null,null,null,null,null,117,{"$f":"VITM!B120","v":0},{"$f":"VITM!C120","v":0},{"$f":"VITM!D120","v":0},{"$f":"VITM!F120","v":"00:00:00"},{"$f":"VITM!$A$2","v":"VITM"},null,{"$f":"VITM!E120","v":0},{"$f":"VITM!H120","v":0}]
[null,null,null,null,null,null,null,null,null,null,null,null,null,null,null,null,null,null,null,null,null,null,118,{"$f":"VITM!B121","v":0},{"$f":"VITM!C121","v":0},{"$f":"VITM!D121","v":0},{"$f":"VITM!F121","v":"00:00:00"},{"$f":"VITM!$A$2","v":"VITM"},null,{"$f":"VITM!E121","v":0},{"$f":"VITM!H121","v":0}]
[null,null,null,null,null,null,null,null,null,null,null,null,null,null,null,null,null,null,null,null,null,null,119,{"$f":"VITM!B122","v":0},{"$f":"VITM!C122","v":0},{"$f":"VITM!D122","v":0},{"$f":"VITM!F122","v":"00:00:00"},{"$f":"VITM!$A$2","v":"VITM"},null,{"$f":"VITM!E122","v":0},{"$f":"VITM!H122","v":0}]
[null,null,null,null,null,null,null,null,null,null,null,null,null,null,null,null,null,null,null,null,null,null,120,{"$f":"VITM!B123","v":0},{"$f":"VITM!C123","v":0},{"$f":"VITM!D123","v":0},{"$f":"VITM!F123","v":"00:00:00"},{"$f":"VITM!$A$2","v":"VITM"},null,{"$f":"VITM!E123","v":0},{"$f":"VITM!H123","v":0}]
[null,null,null,null,null,null,null,null,null,null,null,null,null,null,null,null,null,null,null,null,null,null,121,{"$f":"VITM!B124","v":0},{"$f":"VITM!C124","v":0},{"$f":"VITM!D124","v":0},{"$f":"VITM!F124","v":"00:00:00"},{"$f":"VITM!$A$2","v":"VITM"},null,{"$f":"VITM!E124","v":0},{"$f":"VITM!H124","v":0}]
[null,null,null,null,null,null,null,null,null,null,null,null,null,null,null,null,null,null,null,null,null,null,122,{"$f":"VITM!B125","v":0},{"$f":"VITM!C125","v":0},{"$f":"VITM!D125","v":0},{"$f":"VITM!F125","v":"00:00:00"},{"$f":"VITM!$A$2","v":"VITM"},null,{"$f":"VITM!E125","v":0},{"$f":"VITM!H125","v":0}]
[null,null,null,null,null,null,null,null,null,null,null,null,null,null,null,null,null,null,null,null,null,null,123,{"$f":"VITM!B126","v":0},{"$f":"VITM!C126","v":0},{"$f":"VITM!D126","v":0},{"$f":"VITM!F126","v":"00:00:00"},{"$f":"VITM!$A$2","v":"VITM"},null,{"$f":"VITM!E126","v":0},{"$f":"VITM!H126","v":0}]
[null,null,null,null,null,null,null,null,null,null,null,null,null,null,null,null,null,null,null,null,null,null,124,{"$f":"VITM!B127","v":0},{"$f":"VITM!C127","v":0},{"$f":"VITM!D127","v":0},{"$f":"VITM!F127","v":"00:00:00"},{"$f":"VITM!$A$2","v":"VITM"},null,{"$f":"VITM!E127","v":0},{"$f":"VITM!H127","v":0}]
[null,null,null,null,null,null,null,null,null,null,null,null,null,null,null,null,null,null,null,null,null,null,125,{"$f":"VITM!B128","v":0},{"$f":"VITM!C128","v":0},{"$f":"VITM!D128","v":0},{"$f":"VITM!F128","v":"00:00:00"},{"$f":"VITM!$A$2","v":"VITM"},null,{"$f":"VITM!E128","v":0},{"$f":"VITM!H128","v":0}]
[null,null,null,null,null,null,null,null,null,null,null,null,null,null,null,null,null,null,null,null,null,null,126,{"$f":"VITM!B129","v":0},{"$f":"VITM!C129","v":0},{"$f":"VITM!D129","v":0},{"$f":"VITM!F129","v":"00:00:00"},{"$f":"VITM!$A$2","v":"VITM"},null,{"$f":"VITM!E129","v":0},{"$f":"VITM!H129","v":0}]
[null,null,null,null,null,null,null,null,null,null,null,null,null,null,null,null,null,null,null,null,null,null,127,{"$f":"VITM!B130","v":0},{"$f":"VITM!C130","v":0},{"$f":"VITM!D130","v":0},{"$f":"VITM!F130","v":"00:00:00"},{"$f":"VITM!$A$2","v":"VITM"},null,{"$f":"VITM!E130","v":0},{"$f":"VITM!H130","v":0}]
[null,null,null,null,null,null,null,null,null,null,null,null,null,null,null,null,null,null,null,null,null,null,128,{"$f":"VITM!B131","v":0},{"$f":"VITM!C131","v":0},{"$f":"VITM!D131","v":0},{"$f":"VITM!F131","v":"00:00:00"},{"$f":"VITM!$A$2","v":"VITM"},null,{"$f":"VITM!E131","v":0},{"$f":"VITM!H131","v":0}]
[null,null,null,null,null,null,null,null,null,null,null,null,null,null,null,null,null,null,null,null,null,null,129,{"$f":"VITM!B132","v":0},{"$f":"VITM!C132","v":0},{"$f":"VITM!D132","v":0},{"$f":"VITM!F132","v":"00:00:00"},{"$f":"VITM!$A$2","v":"VITM"},null,{"$f":"VITM!E132","v":0},{"$f":"VITM!H132","v":0}]
[null,null,null,null,null,null,null,null,null,null,null,null,null,null,null,null,null,null,null,null,null,null,130,{"$f":"VITM!B133","v":0},{"$f":"VITM!C133","v":0},{"$f":"VITM!D133","v":0},{"$f":"VITM!F133","v":"00:00:00"},{"$f":"VITM!$A$2","v":"VITM"},null,{"$f":"VITM!E133","v":0},{"$f":"VITM!H133","v":0}]
[null,null,null,null,null,null,null,null,null,null,null,null,null,null,null,null,null,null,null,null,null,null,131,{"$f":"VITM!B134","v":0},{"$f":"VITM!C134","v":0},{"$f":"VITM!D134","v":0},{"$f":"VITM!F134","v":"00:00:00"},{"$f":"VITM!$A$2","v":"VITM"},null,{"$f":"VITM!E134","v":0},{"$f":"VITM!H134","v":0}]
[null,null,null,null,null,null,null,null,null,null,null,null,null,null,null,null,null,null,null,null,null,null,132,{"$f":"VITM!B135","v":0},{"$f":"VITM!C135","v":0},{"$f":"VITM!D135","v":0},{"$f":"VITM!F135","v":"00:00:00"},{"$f":"VITM!$A$2","v":"VITM"},null,{"$f":"VITM!E135","v":0},{"$f":"VITM!H135","v":0}]
[null,null,null,null,null,null,null,null,null,null,null,null,null,null,null,null,null,null,null,null,null,null,133,{"$f":"VITM!B136","v":0},{"$f":"VITM!C136","v":0},{"$f":"VITM!D136","v":0},{"$f":"VITM!F136","v":"00:00:00"},{"$f":"VITM!$A$2","v":"VITM"},null,{"$f":"VITM!E136","v":0},{"$f":"VITM!H136","v":0}]
[null,null,null,null,null,null,null,null,null,null,null,null,null,null,null,null,null,null,null,null,null,null,134,{"$f":"VITM!B137","v":0},{"$f":"VITM!C137","v":0},{"$f":"VITM!D137","v":0},{"$f":"VITM!F137","v":"00:00:00"},{"$f":"VITM!$A$2","v":"VITM"},null,{"$f":"VITM!E137","v":0},{"$f":"VITM!H137","v":0}]
[null,null,null,null,null,null,null,null,null,null,null,null,null,null,null,null,null,null,null,null,null,null,135,{"$f":"VITM!B138","v":0},{"$f":"VITM!C138","v":0},{"$f":"VITM!D138","v":0},{"$f":"VITM!F138","v":"00:00:00"},{"$f":"VITM!$A$2","v":"VITM"},null,{"$f":"VITM!E138","v":0},{"$f":"VITM!H138","v":0}]
[null,null,null,null,null,null,null,null,null,null,null,null,null,null,null,null,null,null,null,null,null,null,136,{"$f":"VITM!B139","v":0},{"$f":"VITM!C139","v":0},{"$f":"VITM!D139","v":0},{"$f":"VITM!F139","v":"00:00:00"},{"$f":"VITM!$A$2","v":"VITM"},null,{"$f":"VITM!E139","v":0},{"$f":"VITM!H139","v":0}]
[null,null,null,null,null,null,null,null,null,null,null,null,null,null,null,null,null,null,null,null,null,null,137,{"$f":"VITM!B140","v":0},{"$f":"VITM!C140","v":0},{"$f":"VITM!D140","v":0},{"$f":"VITM!F140","v":"00:00:00"},{"$f":"VITM!$A$2","v":"VITM"},null,{"$f":"VITM!E140","v":0},{"$f":"VITM!H140","v":0}]
[null,null,null,null,null,null,null,null,null,null,null,null,null,null,null,null,null,null,null,null,null,null,138,{"$f":"VITM!B141","v":0},{"$f":"VITM!C141","v":0},{"$f":"VITM!D141","v":0},{"$f":"VITM!F141","v":"00:00:00"},{"$f":"VITM!$A$2","v":"VITM"},null,{"$f":"VITM!E141","v":0},{"$f":"VITM!H141","v":0}]
[null,null,null,null,null,null,null,null,null,null,null,null,null,null,null,null,null,null,null,null,null,null,139,{"$f":"VITM!B142","v":0},{"$f":"VITM!C142","v":0},{"$f":"VITM!D142","v":0},{"$f":"VITM!F142","v":"00:00:00"},{"$f":"VITM!$A$2","v":"VITM"},null,{"$f":"VITM!E142","v":0},{"$f":"VITM!H142","v":0}]
[null,null,null,null,null,null,null,null,null,null,null,null,null,null,null,null,null,null,null,null,null,null,140,{"$f":"VITM!B143","v":0},{"$f":"VITM!C143","v":0},{"$f":"VITM!D143","v":0},{"$f":"VITM!F143","v":"00:00:00"},{"$f":"VITM!$A$2","v":"VITM"},null,{"$f":"VITM!E143","v":0},{"$f":"VITM!H143","v":0}]
[null,null,null,null,null,null,null,null,null,null,null,null,null,null,null,null,null,null,null,null,null,null,141,{"$f":"VITM!B144","v":0},{"$f":"VITM!C144","v":0},{"$f":"VITM!D144","v":0},{"$f":"VITM!F144","v":"00:00:00"},{"$f":"VITM!$A$2","v":"VITM"},null,{"$f":"VITM!E144","v":0},{"$f":"VITM!H144","v":0}]
[null,null,null,null,null,null,null,null,null,null,null,null,null,null,null,null,null,null,null,null,null,null,142,{"$f":"VITM!B145","v":0},{"$f":"VITM!C145","v":0},{"$f":"VITM!D145","v":0},{"$f":"VITM!F145","v":"00:00:00"},{"$f":"VITM!$A$2","v":"VITM"},null,{"$f":"VITM!E145","v":0},{"$f":"VITM!H145","v":0}]
[null,null,null,null,null,null,null,null,null,null,null,null,null,null,null,null,null,null,null,null,null,null,143,{"$f":"VITM!B146","v":0},{"$f":"VITM!C146","v":0},{"$f":"VITM!D146","v":0},{"$f":"VITM!F146","v":"00:00:00"},{"$f":"VITM!$A$2","v":"VITM"},null,{"$f":"VITM!E146","v":0},{"$f":"VITM!H146","v":0}]
[null,null,null,null,null,null,null,null,null,null,null,null,null,null,null,null,null,null,null,null,null,null,144,{"$f":"VITM!B147","v":0},{"$f":"VITM!C147","v":0},{"$f":"VITM!D147","v":0},{"$f":"VITM!F147","v":"00:00:00"},{"$f":"VITM!$A$2","v":"VITM"},null,{"$f":"VITM!E147","v":0},{"$f":"VITM!H147","v":0}]
[null,null,null,null,null,null,null,null,null,null,null,null,null,null,null,null,null,null,null,null,null,null,145,{"$f":"VITM!B148","v":0},{"$f":"VITM!C148","v":0},{"$f":"VITM!D148","v":0},{"$f":"VITM!F148","v":"00:00:00"},{"$f":"VITM!$A$2","v":"VITM"},null,{"$f":"VITM!E148","v":0},{"$f":"VITM!H148","v":0}]
[null,null,null,null,null,null,null,null,null,null,null,null,null,null,null,null,null,null,null,null,null,null,146,{"$f":"VITM!B149","v":0},{"$f":"VITM!C149","v":0},{"$f":"VITM!D149","v":0},{"$f":"VITM!F149","v":"00:00:00"},{"$f":"VITM!$A$2","v":"VITM"},null,{"$f":"VITM!E149","v":0},{"$f":"VITM!H149","v":0}]
[null,null,null,null,null,null,null,null,null,null,null,null,null,null,null,null,null,null,null,null,null,null,147,{"$f":"VITM!B150","v":0},{"$f":"VITM!C150","v":0},{"$f":"VITM!D150","v":0},{"$f":"VITM!F150","v":"00:00:00"},{"$f":"VITM!$A$2","v":"VITM"},null,{"$f":"VITM!E150","v":0},{"$f":"VITM!H150","v":0}]
[null,null,null,null,null,null,null,null,null,null,null,null,null,null,null,null,null,null,null,null,null,null,148,{"$f":"VITM!B151","v":0},{"$f":"VITM!C151","v":0},{"$f":"VITM!D151","v":0},{"$f":"VITM!F151","v":"00:00:00"},{"$f":"VITM!$A$2","v":"VITM"},null,{"$f":"VITM!E151","v":0},{"$f":"VITM!H151","v":0}]
[null,null,null,null,null,null,null,null,null,null,null,null,null,null,null,null,null,null,null,null,null,null,149,{"$f":"VITM!B152","v":0},{"$f":"VITM!C152","v":0},{"$f":"VITM!D152","v":0},{"$f":"VITM!F152","v":"00:00:00"},{"$f":"VITM!$A$2","v":"VITM"},null,{"$f":"VITM!E152","v":0},{"$f":"VITM!H152","v":0}]
[null,null,null,null,null,null,null,null,null,null,null,null,null,null,null,null,null,null,null,null,null,null,150,{"$f":"VITM!B153","v":0},{"$f":"VITM!C153","v":0},{"$f":"VITM!D153","v":0},{"$f":"VITM!F153","v":"00:00:00"},{"$f":"VITM!$A$2","v":"VITM"},null,{"$f":"VITM!E153","v":0},{"$f":"VITM!H153","v":0}]
[]
[null,null,null,null,null,null,null,null,null,null,null,null,null,null,null,null,null,null,null,null,null,null,1,{"$f":"VIITM!B4","v":0},{"$f":"VIITM!C4","v":0},{"$f":"VIITM!D4","v":0},{"$f":"VIITM!F4","v":"00:00:00"},{"$f":"VIITM!$A$2","v":"VIITM"},null,{"$f":"VIITM!E4","v":0},{"$f":"VIITM!H4","v":0}]
[null,null,null,null,null,null,null,null,null,null,null,null,null,null,null,null,null,null,null,null,null,null,2,{"$f":"VIITM!B5","v":0},{"$f":"VIITM!C5","v":0},{"$f":"VIITM!D5","v":0},{"$f":"VIITM!F5","v":"00:00:00"},{"$f":"VIITM!$A$2","v":"VIITM"},null,{"$f":"VIITM!E5","v":0},{"$f":"VIITM!H5","v":0}]
[null,null,null,null,null,null,null,null,null,null,null,null,null,null,null,null,null,null,null,null,null,null,3,{"$f":"VIITM!B6","v":0},{"$f":"VIITM!C6","v":0},{"$f":"VIITM!D6","v":0},{"$f":"VIITM!F6","v":"00:00:00"},{"$f":"VIITM!$A$2","v":"VIITM"},null,{"$f":"VIITM!E6","v":0},{"$f":"VIITM!H6","v":0}]
[null,null,null,null,null,null,null,null,null,null,null,null,null,null,null,null,null,null,null,null,null,null,4,{"$f":"VIITM!B7","v":0},{"$f":"VIITM!C7","v":0},{"$f":"VIITM!D7","v":0},{"$f":"VIITM!F7","v":"00:00:00"},{"$f":"VIITM!$A$2","v":"VIITM"},null,{"$f":"VIITM!E7","v":0},{"$f":"VIITM!H7","v":0}]
[null,null,null,null,null,null,null,null,null,null,null,null,null,null,null,null,null,null,null,null,null,null,5,{"$f":"VIITM!B8","v":0},{"$f":"VIITM!C8","v":0},{"$f":"VIITM!D8","v":0},{"$f":"VIITM!F8","v":"00:00:00"},{"$f":"VIITM!$A$2","v":"VIITM"},null,{"$f":"VIITM!E8","v":0},{"$f":"VIITM!H8","v":0}]
[null,null,null,null,null,null,null,null,null,null,null,null,null,null,null,null,null,null,null,null,null,null,6,{"$f":"VIITM!B9","v":0},{"$f":"VIITM!C9","v":0},{"$f":"VIITM!D9","v":0},{"$f":"VIITM!F9","v":"00:00:00"},{"$f":"VIITM!$A$2","v":"VIITM"},null,{"$f":"VIITM!E9","v":0},{"$f":"VIITM!H9","v":0}]
[null,null,null,null,null,null,null,null,null,null,null,null,null,null,null,null,null,null,null,null,null,null,7,{"$f":"VIITM!B10","v":0},{"$f":"VIITM!C10","v":0},{"$f":"VIITM!D10","v":0},{"$f":"VIITM!F10","v":"00:00:00"},{"$f":"VIITM!$A$2","v":"VIITM"},null,{"$f":"VIITM!E10","v":0},{"$f":"VIITM!H10","v":0}]
[null,null,null,null,null,null,null,null,null,null,null,null,null,null,null,null,null,null,null,null,null,null,8,{"$f":"VIITM!B11","v":0},{"$f":"VIITM!C11","v":0},{"$f":"VIITM!D11","v":0},{"$f":"VIITM!F11","v":"00:00:00"},{"$f":"VIITM!$A$2","v":"VIITM"},null,{"$f":"VIITM!E11","v":0},{"$f":"VIITM!H11","v":0}]
[null,null,null,null,null,null,null,null,null,null,null,null,null,null,null,null,null,null,null,null,null,null,9,{"$f":"VIITM!B12","v":0},{"$f":"VIITM!C12","v":0},{"$f":"VIITM!D12","v":0},{"$f":"VIITM!F12","v":"00:00:00"},{"$f":"VIITM!$A$2","v":"VIITM"},null,{"$f":"VIITM!E12","v":0},{"$f":"VIITM!H12","v":0}]
[null,null,null,null,null,null,null,null,null,null,null,null,null,null,null,null,null,null,null,null,null,null,10,{"$f":"VIITM!B13","v":0},{"$f":"VIITM!C13","v":0},{"$f":"VIITM!D13","v":0},{"$f":"VIITM!F13","v":"00:00:00"},{"$f":"VIITM!$A$2","v":"VIITM"},null,{"$f":"VIITM!E13","v":0},{"$f":"VIITM!H13","v":0}]
[null,null,null,null,null,null,null,null,null,null,null,null,null,null,null,null,null,null,null,null,null,null,11,{"$f":"VIITM!B14","v":0},{"$f":"VIITM!C14","v":0},{"$f":"VIITM!D14","v":0},{"$f":"VIITM!F14","v":"00:00:00"},{"$f":"VIITM!$A$2","v":"VIITM"},null,{"$f":"VIITM!E14","v":0},{"$f":"VIITM!H14","v":0}]
[null,null,null,null,null,null,null,null,null,null,null,null,null,null,null,null,null,null,null,null,null,null,12,{"$f":"VIITM!B15","v":0},{"$f":"VIITM!C15","v":0},{"$f":"VIITM!D15","v":0},{"$f":"VIITM!F15","v":"00:00:00"},{"$f":"VIITM!$A$2","v":"VIITM"},null,{"$f":"VIITM!E15","v":0},{"$f":"VIITM!H15","v":0}]
[null,null,null,null,null,null,null,null,null,null,null,null,null,null,null,null,null,null,null,null,null,null,13,{"$f":"VIITM!B16","v":0},{"$f":"VIITM!C16","v":0},{"$f":"VIITM!D16","v":0},{"$f":"VIITM!F16","v":"00:00:00"},{"$f":"VIITM!$A$2","v":"VIITM"},null,{"$f":"VIITM!E16","v":0},{"$f":"VIITM!H16","v":0}]
[null,null,null,null,null,null,null,null,null,null,null,null,null,null,null,null,null,null,null,null,null,null,14,{"$f":"VIITM!B17","v":0},{"$f":"VIITM!C17","v":0},{"$f":"VIITM!D17","v":0},{"$f":"VIITM!F17","v":"00:00:00"},{"$f":"VIITM!$A$2","v":"VIITM"},null,{"$f":"VIITM!E17","v":0},{"$f":"VIITM!H17","v":0}]
[null,null,null,null,null,null,null,null,null,null,null,null,null,null,null,null,null,null,null,null,null,null,15,{"$f":"VIITM!B18","v":0},{"$f":"VIITM!C18","v":0},{"$f":"VIITM!D18","v":0},{"$f":"VIITM!F18","v":"00:00:00"},{"$f":"VIITM!$A$2","v":"VIITM"},null,{"$f":"VIITM!E18","v":0},{"$f":"VIITM!H18","v":0}]
[null,null,null,null,null,null,null,null,null,null,null,null,null,null,null,null,null,null,null,null,null,null,16,{"$f":"VIITM!B19","v":0},{"$f":"VIITM!C19","v":0},{"$f":"VIITM!D19","v":0},{"$f":"VIITM!F19","v":"00:00:00"},{"$f":"VIITM!$A$2","v":"VIITM"},null,{"$f":"VIITM!E19","v":0},{"$f":"VIITM!H19","v":0}]
[null,null,null,null,null,null,null,null,null,null,null,null,null,null,null,null,null,null,null,null,null,null,17,{"$f":"VIITM!B20","v":0},{"$f":"VIITM!C20","v":0},{"$f":"VIITM!D20","v":0},{"$f":"VIITM!F20","v":"00:00:00"},{"$f":"VIITM!$A$2","v":"VIITM"},null,{"$f":"VIITM!E20","v":0},{"$f":"VIITM!H20","v":0}]
[null,null,null,null,null,null,null,null,null,null,null,null,null,null,null,null,null,null,null,null,null,null,18,{"$f":"VIITM!B21","v":0},{"$f":"VIITM!C21","v":0},{"$f":"VIITM!D21","v":0},{"$f":"VIITM!F21","v":"00:00:00"},{"$f":"VIITM!$A$2","v":"VIITM"},null,{"$f":"VIITM!E21","v":0},{"$f":"VIITM!H21","v":0}]
[null,null,null,null,null,null,null,null,null,null,null,null,null,null,null,null,null,null,null,null,null,null,19,{"$f":"VIITM!B22","v":0},{"$f":"VIITM!C22","v":0},{"$f":"VIITM!D22","v":0},{"$f":"VIITM!F22","v":"00:00:00"},{"$f":"VIITM!$A$2","v":"VIITM"},null,{"$f":"VIITM!E22","v":0},{"$f":"VIITM!H22","v":0}]
[null,null,null,null,null,null,null,null,null,null,null,null,null,null,null,null,null,null,null,null,null,null,20,{"$f":"VIITM!B23","v":0},{"$f":"VIITM!C23","v":0},{"$f":"VIITM!D23","v":0},{"$f":"VIITM!F23","v":"00:00:00"},{"$f":"VIITM!$A$2","v":"VIITM"},null,{"$f":"VIITM!E23","v":0},{"$f":"VIITM!H23","v":0}]
[null,null,null,null,null,null,null,null,null,null,null,null,null,null,null,null,null,null,null,null,null,null,21,{"$f":"VIITM!B24","v":0},{"$f":"VIITM!C24","v":0},{"$f":"VIITM!D24","v":0},{"$f":"VIITM!F24","v":"00:00:00"},{"$f":"VIITM!$A$2","v":"VIITM"},null,{"$f":"VIITM!E24","v":0},{"$f":"VIITM!H24","v":0}]
[null,null,null,null,null,null,null,null,null,null,null,null,null,null,null,null,null,null,null,null,null,null,22,{"$f":"VIITM!B25","v":0},{"$f":"VIITM!C25","v":0},{"$f":"VIITM!D25","v":0},{"$f":"VIITM!F25","v":"00:00:00"},{"$f":"VIITM!$A$2","v":"VIITM"},null,{"$f":"VIITM!E25","v":0},{"$f":"VIITM!H25","v":0}]
[null,null,null,null,null,null,null,null,null,null,null,null,null,null,null,null,null,null,null,null,null,null,23,{"$f":"VIITM!B26","v":0},{"$f":"VIITM!C26","v":0},{"$f":"VIITM!D26","v":0},{"$f":"VIITM!F26","v":"00:00:00"},{"$f":"VIITM!$A$2","v":"VIITM"},null,{"$f":"VIITM!E26","v":0},{"$f":"VIITM!H26","v":0}]
[null,null,null,null,null,null,null,null,null,null,null,null,null,null,null,null,null,null,null,null,null,null,24,{"$f":"VIITM!B27","v":0},{"$f":"VIITM!C27","v":0},{"$f":"VIITM!D27","v":0},{"$f":"VIITM!F27","v":"00:00:00"},{"$f":"VIITM!$A$2","v":"VIITM"},null,{"$f":"VIITM!E27","v":0},{"$f":"VIITM!H27","v":0}]
[null,null,null,null,null,null,null,null,null,null,null,null,null,null,null,null,null,null,null,null,null,null,25,{"$f":"VIITM!B28","v":0},{"$f":"VIITM!C28","v":0},{"$f":"VIITM!D28","v":0},{"$f":"VIITM!F28","v":"00:00:00"},{"$f":"VIITM!$A$2","v":"VIITM"},null,{"$f":"VIITM!E28","v":0},{"$f":"VIITM!H28","v":0}]
[null,null,null,null,null,null,null,null,null,null,null,null,null,null,null,null,null,null,null,null,null,null,26,{"$f":"VIITM!B29","v":0},{"$f":"VIITM!C29","v":0},{"$f":"VIITM!D29","v":0},{"$f":"VIITM!F29","v":"00:00:00"},{"$f":"VIITM!$A$2","v":"VIITM"},null,{"$f":"VIITM!E29","v":0},{"$f":"VIITM!H29","v":0}]
[null,null,null,null,null,null,null,null,null,null,null,null,null,null,null,null,null,null,null,null,null,null,27,{"$f":"VIITM!B30","v":0},{"$f":"VIITM!C30","v":0},{"$f":"VIITM!D30","v":0},{"$f":"VIITM!F30","v":"00:00:00"},{"$f":"VIITM!$A$2","v":"VIITM"},null,{"$f":"VIITM!E30","v":0},{"$f":"VIITM!H30","v":0}]
[null,null,null,null,null,null,null,null,null,null,null,null,null,null,null,null,null,null,null,null,null,null,28,{"$f":"VIITM!B31","v":0},{"$f":"VIITM!C31","v":0},{"$f":"VIITM!D31","v":0},{"$f":"VIITM!F31","v":"00:00:00"},{"$f":"VIITM!$A$2","v":"VIITM"},null,{"$f":"VIITM!E31","v":0},{"$f":"VIITM!H31","v":0}]
[null,null,null,null,null,null,null,null,null,null,null,null,null,null,null,null,null,null,null,null,null,null,29,{"$f":"VIITM!B32","v":0},{"$f":"VIITM!C32","v":0},{"$f":"VIITM!D32","v":0},{"$f":"VIITM!F32","v":"00:00:00"},{"$f":"VIITM!$A$2","v":"VIITM"},null,{"$f":"VIITM!E32","v":0},{"$f":"VIITM!H32","v":0}]
[null,null,null,null,null,null,null,null,null,null,null,null,null,null,null,null,null,null,null,null,null,null,30,{"$f":"VIITM!B33","v":0},{"$f":"VIITM!C33","v":0},{"$f":"VIITM!D33","v":0},{"$f":"VIITM!F33","v":"00:00:00"},{"$f":"VIITM!$A$2","v":"VIITM"},null,{"$f":"VIITM!E33","v":0},{"$f":"VIITM!H33","v":0}]
[null,null,null,null,null,null,null,null,null,null,null,null,null,null,null,null,null,null,null,null,null,null,31,{"$f":"VIITM!B34","v":0},{"$f":"VIITM!C34","v":0},{"$f":"VIITM!D34","v":0},{"$f":"VIITM!F34","v":"00:00:00"},{"$f":"VIITM!$A$2","v":"VIITM"},null,{"$f":"VIITM!E34","v":0},{"$f":"VIITM!H34","v":0}]
[null,null,null,null,null,null,null,null,null,null,null,null,null,null,null,null,null,null,null,null,null,null,32,{"$f":"VIITM!B35","v":0},{"$f":"VIITM!C35","v":0},{"$f":"VIITM!D35","v":0},{"$f":"VIITM!F35","v":"00:00:00"},{"$f":"VIITM!$A$2","v":"VIITM"},null,{"$f":"VIITM!E35","v":0},{"$f":"VIITM!H35","v":0}]
[null,null,null,null,null,null,null,null,null,null,null,null,null,null,null,null,null,null,null,null,null,null,33,{"$f":"VIITM!B36","v":0},{"$f":"VIITM!C36","v":0},{"$f":"VIITM!D36","v":0},{"$f":"VIITM!F36","v":"00:00:00"},{"$f":"VIITM!$A$2","v":"VIITM"},null,{"$f":"VIITM!E36","v":0},{"$f":"VIITM!H36","v":0}]
[null,null,null,null,null,null,null,null,null,null,null,null,null,null,null,null,null,null,null,null,null,null,34,{"$f":"VIITM!B37","v":0},{"$f":"VIITM!C37","v":0},{"$f":"VIITM!D37","v":0},{"$f":"VIITM!F37","v":"00:00:00"},{"$f":"VIITM!$A$2","v":"VIITM"},null,{"$f":"VIITM!E37","v":0},{"$f":"VIITM!H37","v":0}]
[null,null,null,null,null,null,null,null,null,null,null,null,null,null,null,null,null,null,null,null,null,null,35,{"$f":"VIITM!B38","v":0},{"$f":"VIITM!C38","v":0},{"$f":"VIITM!D38","v":0},{"$f":"VIITM!F38","v":"00:00:00"},{"$f":"VIITM!$A$2","v":"VIITM"},null,{"$f":"VIITM!E38","v":0},{"$f":"VIITM!H38","v":0}]
[null,null,null,null,null,null,null,null,null,null,null,null,null,null,null,null,null,null,null,null,null,null,36,{"$f":"VIITM!B39","v":0},{"$f":"VIITM!C39","v":0},{"$f":"VIITM!D39","v":0},{"$f":"VIITM!F39","v":"00:00:00"},{"$f":"VIITM!$A$2","v":"VIITM"},null,{"$f":"VIITM!E39","v":0},{"$f":"VIITM!H39","v":0}]
[null,null,null,null,null,null,null,null,null,null,null,null,null,null,null,null,null,null,null,null,null,null,37,{"$f":"VIITM!B40","v":0},{"$f":"VIITM!C40","v":0},{"$f":"VIITM!D40","v":0},{"$f":"VIITM!F40","v":"00:00:00"},{"$f":"VIITM!$A$2","v":"VIITM"},null,{"$f":"VIITM!E40","v":0},{"$f":"VIITM!H40","v":0}]
[null,null,null,null,null,null,null,null,null,null,null,null,null,null,null,null,null,null,null,null,null,null,38,{"$f":"VIITM!B41","v":0},{"$f":"VIITM!C41","v":0},{"$f":"VIITM!D41","v":0},{"$f":"VIITM!F41","v":"00:00:00"},{"$f":"VIITM!$A$2","v":"VIITM"},null,{"$f":"VIITM!E41","v":0},{"$f":"VIITM!H41","v":0}]
[null,null,null,null,null,null,null,null,null,null,null,null,null,null,null,null,null,null,null,null,null,null,39,{"$f":"VIITM!B42","v":0},{"$f":"VIITM!C42","v":0},{"$f":"VIITM!D42","v":0},{"$f":"VIITM!F42","v":"00:00:00"},{"$f":"VIITM!$A$2","v":"VIITM"},null,{"$f":"VIITM!E42","v":0},{"$f":"VIITM!H42","v":0}]
[null,null,null,null,null,null,null,null,null,null,null,null,null,null,null,null,null,null,null,null,null,null,40,{"$f":"VIITM!B43","v":0},{"$f":"VIITM!C43","v":0},{"$f":"VIITM!D43","v":0},{"$f":"VIITM!F43","v":"00:00:00"},{"$f":"VIITM!$A$2","v":"VIITM"},null,{"$f":"VIITM!E43","v":0},{"$f":"VIITM!H43","v":0}]
[null,null,null,null,null,null,null,null,null,null,null,null,null,null,null,null,null,null,null,null,null,null,41,{"$f":"VIITM!B44","v":0},{"$f":"VIITM!C44","v":0},{"$f":"VIITM!D44","v":0},{"$f":"VIITM!F44","v":"00:00:00"},{"$f":"VIITM!$A$2","v":"VIITM"},null,{"$f":"VIITM!E44","v":0},{"$f":"VIITM!H44","v":0}]
[null,null,null,null,null,null,null,null,null,null,null,null,null,null,null,null,null,null,null,null,null,null,42,{"$f":"VIITM!B45","v":0},{"$f":"VIITM!C45","v":0},{"$f":"VIITM!D45","v":0},{"$f":"VIITM!F45","v":"00:00:00"},{"$f":"VIITM!$A$2","v":"VIITM"},null,{"$f":"VIITM!E45","v":0},{"$f":"VIITM!H45","v":0}]
[null,null,null,null,null,null,null,null,null,null,null,null,null,null,null,null,null,null,null,null,null,null,43,{"$f":"VIITM!B46","v":0},{"$f":"VIITM!C46","v":0},{"$f":"VIITM!D46","v":0},{"$f":"VIITM!F46","v":"00:00:00"},{"$f":"VIITM!$A$2","v":"VIITM"},null,{"$f":"VIITM!E46","v":0},{"$f":"VIITM!H46","v":0}]
[null,null,null,null,null,null,null,null,null,null,null,null,null,null,null,null,null,null,null,null,null,null,44,{"$f":"VIITM!B47","v":0},{"$f":"VIITM!C47","v":0},{"$f":"VIITM!D47","v":0},{"$f":"VIITM!F47","v":"00:00:00"},{"$f":"VIITM!$A$2","v":"VIITM"},null,{"$f":"VIITM!E47","v":0},{"$f":"VIITM!H47","v":0}]
[null,null,null,null,null,null,null,null,null,null,null,null,null,null,null,null,null,null,null,null,null,null,45,{"$f":"VIITM!B48","v":0},{"$f":"VIITM!C48","v":0},{"$f":"VIITM!D48","v":0},{"$f":"VIITM!F48","v":"00:00:00"},{"$f":"VIITM!$A$2","v":"VIITM"},null,{"$f":"VIITM!E48","v":0},{"$f":"VIITM!H48","v":0}]
[null,null,null,null,null,null,null,null,null,null,null,null,null,null,null,null,null,null,null,null,null,null,46,{"$f":"VIITM!B49","v":0},{"$f":"VIITM!C49","v":0},{"$f":"VIITM!D49","v":0},{"$f":"VIITM!F49","v":"00:00:00"},{"$f":"VIITM!$A$2","v":"VIITM"},null,{"$f":"VIITM!E49","v":0},{"$f":"VIITM!H49","v":0}]
[null,null,null,null,null,null,null,null,null,null,null,null,null,null,null,null,null,null,null,null,null,null,47,{"$f":"VIITM!B50","v":0},{"$f":"VIITM!C50","v":0},{"$f":"VIITM!D50","v":0},{"$f":"VIITM!F50","v":"00:00:00"},{"$f":"VIITM!$A$2","v":"VIITM"},null,{"$f":"VIITM!E50","v":0},{"$f":"VIITM!H50","v":0}]
[null,null,null,null,null,null,null,null,null,null,null,null,null,null,null,null,null,null,null,null,null,null,48,{"$f":"VIITM!B51","v":0},{"$f":"VIITM!C51","v":0},{"$f":"VIITM!D51","v":0},{"$f":"VIITM!F51","v":"00:00:00"},{"$f":"VIITM!$A$2","v":"VIITM"},null,{"$f":"VIITM!E51","v":0},{"$f":"VIITM!H51","v":0}]
[null,null,null,null,null,null,null,null,null,null,null,null,null,null,null,null,null,null,null,null,null,null,49,{"$f":"VIITM!B52","v":0},{"$f":"VIITM!C52","v":0},{"$f":"VIITM!D52","v":0},{"$f":"VIITM!F52","v":"00:00:00"},{"$f":"VIITM!$A$2","v":"VIITM"},null,{"$f":"VIITM!E52","v":0},{"$f":"VIITM!H52","v":0}]
[null,null,null,null,null,null,null,null,null,null,null,null,null,null,null,null,null,null,null,null,null,null,50,{"$f":"VIITM!B53","v":0},{"$f":"VIITM!C53","v":0},{"$f":"VIITM!D53","v":0},{"$f":"VIITM!F53","v":"00:00:00"},{"$f":"VIITM!$A$2","v":"VIITM"},null,{"$f":"VIITM!E53","v":0},{"$f":"VIITM!H53","v":0}]
[null,null,null,null,null,null,null,null,null,null,null,null,null,null,null,null,null,null,null,null,null,null,51,{"$f":"VIITM!B54","v":0},{"$f":"VIITM!C54","v":0},{"$f":"VIITM!D54","v":0},{"$f":"VIITM!F54","v":"00:00:00"},{"$f":"VIITM!$A$2","v":"VIITM"},null,{"$f":"VIITM!E54","v":0},{"$f":"VIITM!H54","v":0}]
[null,null,null,null,null,null,null,null,null,null,null,null,null,null,null,null,null,null,null,null,null,null,52,{"$f":"VIITM!B55","v":0},{"$f":"VIITM!C55","v":0},{"$f":"VIITM!D55","v":0},{"$f":"VIITM!F55","v":"00:00:00"},{"$f":"VIITM!$A$2","v":"VIITM"},null,{"$f":"VIITM!E55","v":0},{"$f":"VIITM!H55","v":0}]
[null,null,null,null,null,null,null,null,null,null,null,null,null,null,null,null,null,null,null,null,null,null,53,{"$f":"VIITM!B56","v":0},{"$f":"VIITM!C56","v":0},{"$f":"VIITM!D56","v":0},{"$f":"VIITM!F56","v":"00:00:00"},{"$f":"VIITM!$A$2","v":"VIITM"},null,{"$f":"VIITM!E56","v":0},{"$f":"VIITM!H56","v":0}]
[null,null,null,null,null,null,null,null,null,null,null,null,null,null,null,null,null,null,null,null,null,null,54,{"$f":"VIITM!B57","v":0},{"$f":"VIITM!C57","v":0},{"$f":"VIITM!D57","v":0},{"$f":"VIITM!F57","v":"00:00:00"},{"$f":"VIITM!$A$2","v":"VIITM"},null,{"$f":"VIITM!E57","v":0},{"$f":"VIITM!H57","v":0}]
[null,null,null,null,null,null,null,null,null,null,null,null,null,null,null,null,null,null,null,null,null,null,55,{"$f":"VIITM!B58","v":0},{"$f":"VIITM!C58","v":0},{"$f":"VIITM!D58","v":0},{"$f":"VIITM!F58","v":"00:00:00"},{"$f":"VIITM!$A$2","v":"VIITM"},null,{"$f":"VIITM!E58","v":0},{"$f":"VIITM!H58","v":0}]
[null,null,null,null,null,null,null,null,null,null,null,null,null,null,null,null,null,null,null,null,null,null,56,{"$f":"VIITM!B59","v":0},{"$f":"VIITM!C59","v":0},{"$f":"VIITM!D59","v":0},{"$f":"VIITM!F59","v":"00:00:00"},{"$f":"VIITM!$A$2","v":"VIITM"},null,{"$f":"VIITM!E59","v":0},{"$f":"VIITM!H59","v":0}]
[null,null,null,null,null,null,null,null,null,null,null,null,null,null,null,null,null,null,null,null,null,null,57,{"$f":"VIITM!B60","v":0},{"$f":"VIITM!C60","v":0},{"$f":"VIITM!D60","v":0},{"$f":"VIITM!F60","v":"00:00:00"},{"$f":"VIITM!$A$2","v":"VIITM"},null,{"$f":"VIITM!E60","v":0},{"$f":"VIITM!H60","v":0}]
[null,null,null,null,null,null,null,null,null,null,null,null,null,null,null,null,null,null,null,null,null,null,58,{"$f":"VIITM!B61","v":0},{"$f":"VIITM!C61","v":0},{"$f":"VIITM!D61","v":0},{"$f":"VIITM!F61","v":"00:00:00"},{"$f":"VIITM!$A$2","v":"VIITM"},null,{"$f":"VIITM!E61","v":0},{"$f":"VIITM!H61","v":0}]
[null,null,null,null,null,null,null,null,null,null,null,null,null,null,null,null,null,null,null,null,null,null,59,{"$f":"VIITM!B62","v":0},{"$f":"VIITM!C62","v":0},{"$f":"VIITM!D62","v":0},{"$f":"VIITM!F62","v":"00:00:00"},{"$f":"VIITM!$A$2","v":"VIITM"},null,{"$f":"VIITM!E62","v":0},{"$f":"VIITM!H62","v":0}]
[null,null,null,null,null,null,null,null,null,null,null,null,null,null,null,null,null,null,null,null,null,null,60,{"$f":"VIITM!B63","v":0},{"$f":"VIITM!C63","v":0},{"$f":"VIITM!D63","v":0},{"$f":"VIITM!F63","v":"00:00:00"},{"$f":"VIITM!$A$2","v":"VIITM"},null,{"$f":"VIITM!E63","v":0},{"$f":"VIITM!H63","v":0}]
[null,null,null,null,null,null,null,null,null,null,null,null,null,null,null,null,null,null,null,null,null,null,61,{"$f":"VIITM!B64","v":0},{"$f":"VIITM!C64","v":0},{"$f":"VIITM!D64","v":0},{"$f":"VIITM!F64","v":"00:00:00"},{"$f":"VIITM!$A$2","v":"VIITM"},null,{"$f":"VIITM!E64","v":0},{"$f":"VIITM!H64","v":0}]
[null,null,null,null,null,null,null,null,null,null,null,null,null,null,null,null,null,null,null,null,null,null,62,{"$f":"VIITM!B65","v":0},{"$f":"VIITM!C65","v":0},{"$f":"VIITM!D65","v":0},{"$f":"VIITM!F65","v":"00:00:00"},{"$f":"VIITM!$A$2","v":"VIITM"},null,{"$f":"VIITM!E65","v":0},{"$f":"VIITM!H65","v":0}]
[null,null,null,null,null,null,null,null,null,null,null,null,null,null,null,null,null,null,null,null,null,null,63,{"$f":"VIITM!B66","v":0},{"$f":"VIITM!C66","v":0},{"$f":"VIITM!D66","v":0},{"$f":"VIITM!F66","v":"00:00:00"},{"$f":"VIITM!$A$2","v":"VIITM"},null,{"$f":"VIITM!E66","v":0},{"$f":"VIITM!H66","v":0}]
[null,null,null,null,null,null,null,null,null,null,null,null,null,null,null,null,null,null,null,null,null,null,64,{"$f":"VIITM!B67","v":0},{"$f":"VIITM!C67","v":0},{"$f":"VIITM!D67","v":0},{"$f":"VIITM!F67","v":"00:00:00"},{"$f":"VIITM!$A$2","v":"VIITM"},null,{"$f":"VIITM!E67","v":0},{"$f":"VIITM!H67","v":0}]
[null,null,null,null,null,null,null,null,null,null,null,null,null,null,null,null,null,null,null,null,null,null,65,{"$f":"VIITM!B68","v":0},{"$f":"VIITM!C68","v":0},{"$f":"VIITM!D68","v":0},{"$f":"VIITM!F68","v":"00:00:00"},{"$f":"VIITM!$A$2","v":"VIITM"},null,{"$f":"VIITM!E68","v":0},{"$f":"VIITM!H68","v":0}]
[null,null,null,null,null,null,null,null,null,null,null,null,null,null,null,null,null,null,null,null,null,null,66,{"$f":"VIITM!B69","v":0},{"$f":"VIITM!C69","v":0},{"$f":"VIITM!D69","v":0},{"$f":"VIITM!F69","v":"00:00:00"},{"$f":"VIITM!$A$2","v":"VIITM"},null,{"$f":"VIITM!E69","v":0},{"$f":"VIITM!H69","v":0}]
[null,null,null,null,null,null,null,null,null,null,null,null,null,null,null,null,null,null,null,null,null,null,67,{"$f":"VIITM!B70","v":0},{"$f":"VIITM!C70","v":0},{"$f":"VIITM!D70","v":0},{"$f":"VIITM!F70","v":"00:00:00"},{"$f":"VIITM!$A$2","v":"VIITM"},null,{"$f":"VIITM!E70","v":0},{"$f":"VIITM!H70","v":0}]
[null,null,null,null,null,null,null,null,null,null,null,null,null,null,null,null,null,null,null,null,null,null,68,{"$f":"VIITM!B71","v":0},{"$f":"VIITM!C71","v":0},{"$f":"VIITM!D71","v":0},{"$f":"VIITM!F71","v":"00:00:00"},{"$f":"VIITM!$A$2","v":"VIITM"},null,{"$f":"VIITM!E71","v":0},{"$f":"VIITM!H71","v":0}]
[null,null,null,null,null,null,null,null,null,null,null,null,null,null,null,null,null,null,null,null,null,null,69,{"$f":"VIITM!B72","v":0},{"$f":"VIITM!C72","v":0},{"$f":"VIITM!D72","v":0},{"$f":"VIITM!F72","v":"00:00:00"},{"$f":"VIITM!$A$2","v":"VIITM"},null,{"$f":"VIITM!E72","v":0},{"$f":"VIITM!H72","v":0}]
[null,null,null,null,null,null,null,null,null,null,null,null,null,null,null,null,null,null,null,null,null,null,70,{"$f":"VIITM!B73","v":0},{"$f":"VIITM!C73","v":0},{"$f":"VIITM!D73","v":0},{"$f":"VIITM!F73","v":"00:00:00"},{"$f":"VIITM!$A$2","v":"VIITM"},null,{"$f":"VIITM!E73","v":0},{"$f":"VIITM!H73","v":0}]
[null,null,null,null,null,null,null,null,null,null,null,null,null,null,null,null,null,null,null,null,null,null,71,{"$f":"VIITM!B74","v":0},{"$f":"VIITM!C74","v":0},{"$f":"VIITM!D74","v":0},{"$f":"VIITM!F74","v":"00:00:00"},{"$f":"VIITM!$A$2","v":"VIITM"},null,{"$f":"VIITM!E74","v":0},{"$f":"VIITM!H74","v":0}]
[null,null,null,null,null,null,null,null,null,null,null,null,null,null,null,null,null,null,null,null,null,null,72,{"$f":"VIITM!B75","v":0},{"$f":"VIITM!C75","v":0},{"$f":"VIITM!D75","v":0},{"$f":"VIITM!F75","v":"00:00:00"},{"$f":"VIITM!$A$2","v":"VIITM"},null,{"$f":"VIITM!E75","v":0},{"$f":"VIITM!H75","v":0}]
[null,null,null,null,null,null,null,null,null,null,null,null,null,null,null,null,null,null,null,null,null,null,73,{"$f":"VIITM!B76","v":0},{"$f":"VIITM!C76","v":0},{"$f":"VIITM!D76","v":0},{"$f":"VIITM!F76","v":"00:00:00"},{"$f":"VIITM!$A$2","v":"VIITM"},null,{"$f":"VIITM!E76","v":0},{"$f":"VIITM!H76","v":0}]
[null,null,null,null,null,null,null,null,null,null,null,null,null,null,null,null,null,null,null,null,null,null,74,{"$f":"VIITM!B77","v":0},{"$f":"VIITM!C77","v":0},{"$f":"VIITM!D77","v":0},{"$f":"VIITM!F77","v":"00:00:00"},{"$f":"VIITM!$A$2","v":"VIITM"},null,{"$f":"VIITM!E77","v":0},{"$f":"VIITM!H77","v":0}]
[null,null,null,null,null,null,null,null,null,null,null,null,null,null,null,null,null,null,null,null,null,null,75,{"$f":"VIITM!B78","v":0},{"$f":"VIITM!C78","v":0},{"$f":"VIITM!D78","v":0},{"$f":"VIITM!F78","v":"00:00:00"},{"$f":"VIITM!$A$2","v":"VIITM"},null,{"$f":"VIITM!E78","v":0},{"$f":"VIITM!H78","v":0}]
[null,null,null,null,null,null,null,null,null,null,null,null,null,null,null,null,null,null,null,null,null,null,76,{"$f":"VIITM!B79","v":0},{"$f":"VIITM!C79","v":0},{"$f":"VIITM!D79","v":0},{"$f":"VIITM!F79","v":"00:00:00"},{"$f":"VIITM!$A$2","v":"VIITM"},null,{"$f":"VIITM!E79","v":0},{"$f":"VIITM!H79","v":0}]
[null,null,null,null,null,null,null,null,null,null,null,null,null,null,null,null,null,null,null,null,null,null,77,{"$f":"VIITM!B80","v":0},{"$f":"VIITM!C80","v":0},{"$f":"VIITM!D80","v":0},{"$f":"VIITM!F80","v":"00:00:00"},{"$f":"VIITM!$A$2","v":"VIITM"},null,{"$f":"VIITM!E80","v":0},{"$f":"VIITM!H80","v":0}]
[null,null,null,null,null,null,null,null,null,null,null,null,null,null,null,null,null,null,null,null,null,null,78,{"$f":"VIITM!B81","v":0},{"$f":"VIITM!C81","v":0},{"$f":"VIITM!D81","v":0},{"$f":"VIITM!F81","v":"00:00:00"},{"$f":"VIITM!$A$2","v":"VIITM"},null,{"$f":"VIITM!E81","v":0},{"$f":"VIITM!H81","v":0}]
[null,null,null,null,null,null,null,null,null,null,null,null,null,null,null,null,null,null,null,null,null,null,79,{"$f":"VIITM!B82","v":0},{"$f":"VIITM!C82","v":0},{"$f":"VIITM!D82","v":0},{"$f":"VIITM!F82","v":"00:00:00"},{"$f":"VIITM!$A$2","v":"VIITM"},null,{"$f":"VIITM!E82","v":0},{"$f":"VIITM!H82","v":0}]
[null,null,null,null,null,null,null,null,null,null,null,null,null,null,null,null,null,null,null,null,null,null,80,{"$f":"VIITM!B83","v":0},{"$f":"VIITM!C83","v":0},{"$f":"VIITM!D83","v":0},{"$f":"VIITM!F83","v":"00:00:00"},{"$f":"VIITM!$A$2","v":"VIITM"},null,{"$f":"VIITM!E83","v":0},{"$f":"VIITM!H83","v":0}]
[null,null,null,null,null,null,null,null,null,null,null,null,null,null,null,null,null,null,null,null,null,null,81,{"$f":"VIITM!B84","v":0},{"$f":"VIITM!C84","v":0},{"$f":"VIITM!D84","v":0},{"$f":"VIITM!F84","v":"00:00:00"},{"$f":"VIITM!$A$2","v":"VIITM"},null,{"$f":"VIITM!E84","v":0},{"$f":"VIITM!H84","v":0}]
[null,null,null,null,null,null,null,null,null,null,null,null,null,null,null,null,null,null,null,null,null,null,82,{"$f":"VIITM!B85","v":0},{"$f":"VIITM!C85","v":0},{"$f":"VIITM!D85","v":0},{"$f":"VIITM!F85","v":"00:00:00"},{"$f":"VIITM!$A$2","v":"VIITM"},null,{"$f":"VIITM!E85","v":0},{"$f":"VIITM!H85","v":0}]
[null,null,null,null,null,null,null,null,null,null,null,null,null,null,null,null,null,null,null,null,null,null,83,{"$f":"VIITM!B86","v":0},{"$f":"VIITM!C86","v":0},{"$f":"VIITM!D86","v":0},{"$f":"VIITM!F86","v":"00:00:00"},{"$f":"VIITM!$A$2","v":"VIITM"},null,{"$f":"VIITM!E86","v":0},{"$f":"VIITM!H86","v":0}]
[null,null,null,null,null,null,null,null,null,null,null,null,null,null,null,null,null,null,null,null,null,null,84,{"$f":"VIITM!B87","v":0},{"$f":"VIITM!C87","v":0},{"$f":"VIITM!D87","v":0},{"$f":"VIITM!F87","v":"00:00:00"},{"$f":"VIITM!$A$2","v":"VIITM"},null,{"$f":"VIITM!E87","v":0},{"$f":"VIITM!H87","v":0}]
[null,null,null,null,null,null,null,null,null,null,null,null,null,null,null,null,null,null,null,null,null,null,85,{"$f":"VIITM!B88","v":0},{"$f":"VIITM!C88","v":0},{"$f":"VIITM!D88","v":0},{"$f":"VIITM!F88","v":"00:00:00"},{"$f":"VIITM!$A$2","v":"VIITM"},null,{"$f":"VIITM!E88","v":0},{"$f":"VIITM!H88","v":0}]
[null,null,null,null,null,null,null,null,null,null,null,null,null,null,null,null,null,null,null,null,null,null,86,{"$f":"VIITM!B89","v":0},{"$f":"VIITM!C89","v":0},{"$f":"VIITM!D89","v":0},{"$f":"VIITM!F89","v":"00:00:00"},{"$f":"VIITM!$A$2","v":"VIITM"},null,{"$f":"VIITM!E89","v":0},{"$f":"VIITM!H89","v":0}]
[null,null,null,null,null,null,null,null,null,null,null,null,null,null,null,null,null,null,null,null,null,null,87,{"$f":"VIITM!B90","v":0},{"$f":"VIITM!C90","v":0},{"$f":"VIITM!D90","v":0},{"$f":"VIITM!F90","v":"00:00:00"},{"$f":"VIITM!$A$2","v":"VIITM"},null,{"$f":"VIITM!E90","v":0},{"$f":"VIITM!H90","v":0}]
[null,null,null,null,null,null,null,null,null,null,null,null,null,null,null,null,null,null,null,null,null,null,88,{"$f":"VIITM!B91","v":0},{"$f":"VIITM!C91","v":0},{"$f":"VIITM!D91","v":0},{"$f":"VIITM!F91","v":"00:00:00"},{"$f":"VIITM!$A$2","v":"VIITM"},null,{"$f":"VIITM!E91","v":0},{"$f":"VIITM!H91","v":0}]
[null,null,null,null,null,null,null,null,null,null,null,null,null,null,null,null,null,null,null,null,null,null,89,{"$f":"VIITM!B92","v":0},{"$f":"VIITM!C92","v":0},{"$f":"VIITM!D92","v":0},{"$f":"VIITM!F92","v":"00:00:00"},{"$f":"VIITM!$A$2","v":"VIITM"},null,{"$f":"VIITM!E92","v":0},{"$f":"VIITM!H92","v":0}]
[null,null,null,null,null,null,null,null,null,null,null,null,null,null,null,null,null,null,null,null,null,null,90,{"$f":"VIITM!B93","v":0},{"$f":"VIITM!C93","v":0},{"$f":"VIITM!D93","v":0},{"$f":"VIITM!F93","v":"00:00:00"},{"$f":"VIITM!$A$2","v":"VIITM"},null,{"$f":"VIITM!E93","v":0},{"$f":"VIITM!H93","v":0}]
[null,null,null,null,null,null,null,null,null,null,null,null,null,null,null,null,null,null,null,null,null,null,91,{"$f":"VIITM!B94","v":0},{"$f":"VIITM!C94","v":0},{"$f":"VIITM!D94","v":0},{"$f":"VIITM!F94","v":"00:00:00"},{"$f":"VIITM!$A$2","v":"VIITM"},null,{"$f":"VIITM!E94","v":0},{"$f":"VIITM!H94","v":0}]
[null,null,null,null,null,null,null,null,null,null,null,null,null,null,null,null,null,null,null,null,null,null,92,{"$f":"VIITM!B95","v":0},{"$f":"VIITM!C95","v":0},{"$f":"VIITM!D95","v":0},{"$f":"VIITM!F95","v":"00:00:00"},{"$f":"VIITM!$A$2","v":"VIITM"},null,{"$f":"VIITM!E95","v":0},{"$f":"VIITM!H95","v":0}]
[null,null,null,null,null,null,null,null,null,null,null,null,null,null,null,null,null,null,null,null,null,null,93,{"$f":"VIITM!B96","v":0},{"$f":"VIITM!C96","v":0},{"$f":"VIITM!D96","v":0},{"$f":"VIITM!F96","v":"00:00:00"},{"$f":"VIITM!$A$2","v":"VIITM"},null,{"$f":"VIITM!E96","v":0},{"$f":"VIITM!H96","v":0}]
[null,null,null,null,null,null,null,null,null,null,null,null,null,null,null,null,null,null,null,null,null,null,94,{"$f":"VIITM!B97","v":0},{"$f":"VIITM!C97","v":0},{"$f":"VIITM!D97","v":0},{"$f":"VIITM!F97","v":"00:00:00"},{"$f":"VIITM!$A$2","v":"VIITM"},null,{"$f":"VIITM!E97","v":0},{"$f":"VIITM!H97","v":0}]
[null,null,null,null,null,null,null,null,null,null,null,null,null,null,null,null,null,null,null,null,null,null,95,{"$f":"VIITM!B98","v":0},{"$f":"VIITM!C98","v":0},{"$f":"VIITM!D98","v":0},{"$f":"VIITM!F98","v":"00:00:00"},{"$f":"VIITM!$A$2","v":"VIITM"},null,{"$f":"VIITM!E98","v":0},{"$f":"VIITM!H98","v":0}]
[null,null,null,null,null,null,null,null,null,null,null,null,null,null,null,null,null,null,null,null,null,null,96,{"$f":"VIITM!B99","v":0},{"$f":"VIITM!C99","v":0},{"$f":"VIITM!D99","v":0},{"$f":"VIITM!F99","v":"00:00:00"},{"$f":"VIITM!$A$2","v":"VIITM"},null,{"$f":"VIITM!E99","v":0},{"$f":"VIITM!H99","v":0}]
[null,null,null,null,null,null,null,null,null,null,null,null,null,null,null,null,null,null,null,null,null,null,97,{"$f":"VIITM!B100","v":0},{"$f":"VIITM!C100","v":0},{"$f":"VIITM!D100","v":0},{"$f":"VIITM!F100","v":"00:00:00"},{"$f":"VIITM!$A$2","v":"VIITM"},null,{"$f":"VIITM!E100","v":0},{"$f":"VIITM!H100","v":0}]
[null,null,null,null,null,null,null,null,null,null,null,null,null,null,null,null,null,null,null,null,null,null,98,{"$f":"VIITM!B101","v":0},{"$f":"VIITM!C101","v":0},{"$f":"VIITM!D101","v":0},{"$f":"VIITM!F101","v":"00:00:00"},{"$f":"VIITM!$A$2","v":"VIITM"},null,{"$f":"VIITM!E101","v":0},{"$f":"VIITM!H101","v":0}]
[null,null,null,null,null,null,null,null,null,null,null,null,null,null,null,null,null,null,null,null,null,null,99,{"$f":"VIITM!B102","v":0},{"$f":"VIITM!C102","v":0},{"$f":"VIITM!D102","v":0},{"$f":"VIITM!F102","v":"00:00:00"},{"$f":"VIITM!$A$2","v":"VIITM"},null,{"$f":"VIITM!E102","v":0},{"$f":"VIITM!H102","v":0}]
[null,null,null,null,null,null,null,null,null,null,null,null,null,null,null,null,null,null,null,null,null,null,100,{"$f":"VIITM!B103","v":0},{"$f":"VIITM!C103","v":0},{"$f":"VIITM!D103","v":0},{"$f":"VIITM!F103","v":"00:00:00"},{"$f":"VIITM!$A$2","v":"VIITM"},null,{"$f":"VIITM!E103","v":0},{"$f":"VIITM!H103","v":0}]
[null,null,null,null,null,null,null,null,null,null,null,null,null,null,null,null,null,null,null,null,null,null,101,{"$f":"VIITM!B104","v":0},{"$f":"VIITM!C104","v":0},{"$f":"VIITM!D104","v":0},{"$f":"VIITM!F104","v":"00:00:00"},{"$f":"VIITM!$A$2","v":"VIITM"},null,{"$f":"VIITM!E104","v":0},{"$f":"VIITM!H104","v":0}]
[null,null,null,null,null,null,null,null,null,null,null,null,null,null,null,null,null,null,null,null,null,null,102,{"$f":"VIITM!B105","v":0},{"$f":"VIITM!C105","v":0},{"$f":"VIITM!D105","v":0},{"$f":"VIITM!F105","v":"00:00:00"},{"$f":"VIITM!$A$2","v":"VIITM"},null,{"$f":"VIITM!E105","v":0},{"$f":"VIITM!H105","v":0}]
[null,null,null,null,null,null,null,null,null,null,null,null,null,null,null,null,null,null,null,null,null,null,103,{"$f":"VIITM!B106","v":0},{"$f":"VIITM!C106","v":0},{"$f":"VIITM!D106","v":0},{"$f":"VIITM!F106","v":"00:00:00"},{"$f":"VIITM!$A$2","v":"VIITM"},null,{"$f":"VIITM!E106","v":0},{"$f":"VIITM!H106","v":0}]
[null,null,null,null,null,null,null,null,null,null,null,null,null,null,null,null,null,null,null,null,null,null,104,{"$f":"VIITM!B107","v":0},{"$f":"VIITM!C107","v":0},{"$f":"VIITM!D107","v":0},{"$f":"VIITM!F107","v":"00:00:00"},{"$f":"VIITM!$A$2","v":"VIITM"},null,{"$f":"VIITM!E107","v":0},{"$f":"VIITM!H107","v":0}]
[null,null,null,null,null,null,null,null,null,null,null,null,null,null,null,null,null,null,null,null,null,null,105,{"$f":"VIITM!B108","v":0},{"$f":"VIITM!C108","v":0},{"$f":"VIITM!D108","v":0},{"$f":"VIITM!F108","v":"00:00:00"},{"$f":"VIITM!$A$2","v":"VIITM"},null,{"$f":"VIITM!E108","v":0},{"$f":"VIITM!H108","v":0}]
[null,null,null,null,null,null,null,null,null,null,null,null,null,null,null,null,null,null,null,null,null,null,106,{"$f":"VIITM!B109","v":0},{"$f":"VIITM!C109","v":0},{"$f":"VIITM!D109","v":0},{"$f":"VIITM!F109","v":"00:00:00"},{"$f":"VIITM!$A$2","v":"VIITM"},null,{"$f":"VIITM!E109","v":0},{"$f":"VIITM!H109","v":0}]
[null,null,null,null,null,null,null,null,null,null,null,null,null,null,null,null,null,null,null,null,null,null,107,{"$f":"VIITM!B110","v":0},{"$f":"VIITM!C110","v":0},{"$f":"VIITM!D110","v":0},{"$f":"VIITM!F110","v":"00:00:00"},{"$f":"VIITM!$A$2","v":"VIITM"},null,{"$f":"VIITM!E110","v":0},{"$f":"VIITM!H110","v":0}]
[null,null,null,null,null,null,null,null,null,null,null,null,null,null,null,null,null,null,null,null,null,null,108,{"$f":"VIITM!B111","v":0},{"$f":"VIITM!C111","v":0},{"$f":"VIITM!D111","v":0},{"$f":"VIITM!F111","v":"00:00:00"},{"$f":"VIITM!$A$2","v":"VIITM"},null,{"$f":"VIITM!E111","v":0},{"$f":"VIITM!H111","v":0}]
[null,null,null,null,null,null,null,null,null,null,null,null,null,null,null,null,null,null,null,null,null,null,109,{"$f":"VIITM!B112","v":0},{"$f":"VIITM!C112","v":0},{"$f":"VIITM!D112","v":0},{"$f":"VIITM!F112","v":"00:00:00"},{"$f":"VIITM!$A$2","v":"VIITM"},null,{"$f":"VIITM!E112","v":0},{"$f":"VIITM!H112","v":0}]
[null,null,null,null,null,null,null,null,null,null,null,null,null,null,null,null,null,null,null,null,null,null,110,{"$f":"VIITM!B113","v":0},{"$f":"VIITM!C113","v":0},{"$f":"VIITM!D113","v":0},{"$f":"VIITM!F113","v":"00:00:00"},{"$f":"VIITM!$A$2","v":"VIITM"},null,{"$f":"VIITM!E113","v":0},{"$f":"VIITM!H113","v":0}]
[null,null,null,null,null,null,null,null,null,null,null,null,null,null,null,null,null,null,null,null,null,null,111,{"$f":"VIITM!B114","v":0},{"$f":"VIITM!C114","v":0},{"$f":"VIITM!D114","v":0},{"$f":"VIITM!F114","v":"00:00:00"},{"$f":"VIITM!$A$2","v":"VIITM"},null,{"$f":"VIITM!E114","v":0},{"$f":"VIITM!H114","v":0}]
[null,null,null,null,null,null,null,null,null,null,null,null,null,null,null,null,null,null,null,null,null,null,112,{"$f":"VIITM!B115","v":0},{"$f":"VIITM!C115","v":0},{"$f":"VIITM!D115","v":0},{"$f":"VIITM!F115","v":"00:00:00"},{"$f":"VIITM!$A$2","v":"VIITM"},null,{"$f":"VIITM!E115","v":0},{"$f":"VIITM!H115","v":0}]
[null,null,null,null,null,null,null,null,null,null,null,null,null,null,null,null,null,null,null,null,null,null,113,{"$f":"VIITM!B116","v":0},{"$f":"VIITM!C116","v":0},{"$f":"VIITM!D116","v":0},{"$f":"VIITM!F116","v":"00:00:00"},{"$f":"VIITM!$A$2","v":"VIITM"},null,{"$f":"VIITM!E116","v":0},{"$f":"VIITM!H116","v":0}]
[null,null,null,null,null,null,null,null,null,null,null,null,null,null,null,null,null,null,null,null,null,null,114,{"$f":"VIITM!B117","v":0},{"$f":"VIITM!C117","v":0},{"$f":"VIITM!D117","v":0},{"$f":"VIITM!F117","v":"00:00:00"},{"$f":"VIITM!$A$2","v":"VIITM"},null,{"$f":"VIITM!E117","v":0},{"$f":"VIITM!H117","v":0}]
[null,null,null,null,null,null,null,null,null,null,null,null,null,null,null,null,null,null,null,null,null,null,115,{"$f":"VIITM!B118","v":0},{"$f":"VIITM!C118","v":0},{"$f":"VIITM!D118","v":0},{"$f":"VIITM!F118","v":"00:00:00"},{"$f":"VIITM!$A$2","v":"VIITM"},null,{"$f":"VIITM!E118","v":0},{"$f":"VIITM!H118","v":0}]
[null,null,null,null,null,null,null,null,null,null,null,null,null,null,null,null,null,null,null,null,null,null,116,{"$f":"VIITM!B119","v":0},{"$f":"VIITM!C119","v":0},{"$f":"VIITM!D119","v":0},{"$f":"VIITM!F119","v":"00:00:00"},{"$f":"VIITM!$A$2","v":"VIITM"},null,{"$f":"VIITM!E119","v":0},{"$f":"VIITM!H119","v":0}]
[null,null,null,null,null,null,null,null,null,null,null,null,null,null,null,null,null,null,null,null,null,null,117,{"$f":"VIITM!B120","v":0},{"$f":"VIITM!C120","v":0},{"$f":"VIITM!D120","v":0},{"$f":"VIITM!F120","v":"00:00:00"},{"$f":"VIITM!$A$2","v":"VIITM"},null,{"$f":"VIITM!E120","v":0},{"$f":"VIITM!H120","v":0}]
[null,null,null,null,null,null,null,null,null,null,null,null,null,null,null,null,null,null,null,null,null,null,118,{"$f":"VIITM!B121","v":0},{"$f":"VIITM!C121","v":0},{"$f":"VIITM!D121","v":0},{"$f":"VIITM!F121","v":"00:00:00"},{"$f":"VIITM!$A$2","v":"VIITM"},null,{"$f":"VIITM!E121","v":0},{"$f":"VIITM!H121","v":0}]
[null,null,null,null,null,null,null,null,null,null,null,null,null,null,null,null,null,null,null,null,null,null,119,{"$f":"VIITM!B122","v":0},{"$f":"VIITM!C122","v":0},{"$f":"VIITM!D122","v":0},{"$f":"VIITM!F122","v":"00:00:00"},{"$f":"VIITM!$A$2","v":"VIITM"},null,{"$f":"VIITM!E122","v":0},{"$f":"VIITM!H122","v":0}]
[null,null,null,null,null,null,null,null,null,null,null,null,null,null,null,null,null,null,null,null,null,null,120,{"$f":"VIITM!B123","v":0},{"$f":"VIITM!C123","v":0},{"$f":"VIITM!D123","v":0},{"$f":"VIITM!F123","v":"00:00:00"},{"$f":"VIITM!$A$2","v":"VIITM"},null,{"$f":"VIITM!E123","v":0},{"$f":"VIITM!H123","v":0}]
[null,null,null,null,null,null,null,null,null,null,null,null,null,null,null,null,null,null,null,null,null,null,121,{"$f":"VIITM!B124","v":0},{"$f":"VIITM!C124","v":0},{"$f":"VIITM!D124","v":0},{"$f":"VIITM!F124","v":"00:00:00"},{"$f":"VIITM!$A$2","v":"VIITM"},null,{"$f":"VIITM!E124","v":0},{"$f":"VIITM!H124","v":0}]
[null,null,null,null,null,null,null,null,null,null,null,null,null,null,null,null,null,null,null,null,null,null,122,{"$f":"VIITM!B125","v":0},{"$f":"VIITM!C125","v":0},{"$f":"VIITM!D125","v":0},{"$f":"VIITM!F125","v":"00:00:00"},{"$f":"VIITM!$A$2","v":"VIITM"},null,{"$f":"VIITM!E125","v":0},{"$f":"VIITM!H125","v":0}]
[null,null,null,null,null,null,null,null,null,null,null,null,null,null,null,null,null,null,null,null,null,null,123,{"$f":"VIITM!B126","v":0},{"$f":"VIITM!C126","v":0},{"$f":"VIITM!D126","v":0},{"$f":"VIITM!F126","v":"00:00:00"},{"$f":"VIITM!$A$2","v":"VIITM"},null,{"$f":"VIITM!E126","v":0},{"$f":"VIITM!H126","v":0}]
[null,null,null,null,null,null,null,null,null,null,null,null,null,null,null,null,null,null,null,null,null,null,124,{"$f":"VIITM!B127","v":0},{"$f":"VIITM!C127","v":0},{"$f":"VIITM!D127","v":0},{"$f":"VIITM!F127","v":"00:00:00"},{"$f":"VIITM!$A$2","v":"VIITM"},null,{"$f":"VIITM!E127","v":0},{"$f":"VIITM!H127","v":0}]
[null,null,null,null,null,null,null,null,null,null,null,null,null,null,null,null,null,null,null,null,null,null,125,{"$f":"VIITM!B128","v":0},{"$f":"VIITM!C128","v":0},{"$f":"VIITM!D128","v":0},{"$f":"VIITM!F128","v":"00:00:00"},{"$f":"VIITM!$A$2","v":"VIITM"},null,{"$f":"VIITM!E128","v":0},{"$f":"VIITM!H128","v":0}]
[null,null,null,null,null,null,null,null,null,null,null,null,null,null,null,null,null,null,null,null,null,null,126,{"$f":"VIITM!B129","v":0},{"$f":"VIITM!C129","v":0},{"$f":"VIITM!D129","v":0},{"$f":"VIITM!F129","v":"00:00:00"},{"$f":"VIITM!$A$2","v":"VIITM"},null,{"$f":"VIITM!E129","v":0},{"$f":"VIITM!H129","v":0}]
[null,null,null,null,null,null,null,null,null,null,null,null,null,null,null,null,null,null,null,null,null,null,127,{"$f":"VIITM!B130","v":0},{"$f":"VIITM!C130","v":0},{"$f":"VIITM!D130","v":0},{"$f":"VIITM!F130","v":"00:00:00"},{"$f":"VIITM!$A$2","v":"VIITM"},null,{"$f":"VIITM!E130","v":0},{"$f":"VIITM!H130","v":0}]
[null,null,null,null,null,null,null,null,null,null,null,null,null,null,null,null,null,null,null,null,null,null,128,{"$f":"VIITM!B131","v":0},{"$f":"VIITM!C131","v":0},{"$f":"VIITM!D131","v":0},{"$f":"VIITM!F131","v":"00:00:00"},{"$f":"VIITM!$A$2","v":"VIITM"},null,{"$f":"VIITM!E131","v":0},{"$f":"VIITM!H131","v":0}]
[null,null,null,null,null,null,null,null,null,null,null,null,null,null,null,null,null,null,null,null,null,null,129,{"$f":"VIITM!B132","v":0},{"$f":"VIITM!C132","v":0},{"$f":"VIITM!D132","v":0},{"$f":"VIITM!F132","v":"00:00:00"},{"$f":"VIITM!$A$2","v":"VIITM"},null,{"$f":"VIITM!E132","v":0},{"$f":"VIITM!H132","v":0}]
[null,null,null,null,null,null,null,null,null,null,null,null,null,null,null,null,null,null,null,null,null,null,130,{"$f":"VIITM!B133","v":0},{"$f":"VIITM!C133","v":0},{"$f":"VIITM!D133","v":0},{"$f":"VIITM!F133","v":"00:00:00"},{"$f":"VIITM!$A$2","v":"VIITM"},null,{"$f":"VIITM!E133","v":0},{"$f":"VIITM!H133","v":0}]
[null,null,null,null,null,null,null,null,null,null,null,null,null,null,null,null,null,null,null,null,null,null,131,{"$f":"VIITM!B134","v":0},{"$f":"VIITM!C134","v":0},{"$f":"VIITM!D134","v":0},{"$f":"VIITM!F134","v":"00:00:00"},{"$f":"VIITM!$A$2","v":"VIITM"},null,{"$f":"VIITM!E134","v":0},{"$f":"VIITM!H134","v":0}]
[null,null,null,null,null,null,null,null,null,null,null,null,null,null,null,null,null,null,null,null,null,null,132,{"$f":"VIITM!B135","v":0},{"$f":"VIITM!C135","v":0},{"$f":"VIITM!D135","v":0},{"$f":"VIITM!F135","v":"00:00:00"},{"$f":"VIITM!$A$2","v":"VIITM"},null,{"$f":"VIITM!E135","v":0},{"$f":"VIITM!H135","v":0}]
[null,null,null,null,null,null,null,null,null,null,null,null,null,null,null,null,null,null,null,null,null,null,133,{"$f":"VIITM!B136","v":0},{"$f":"VIITM!C136","v":0},{"$f":"VIITM!D136","v":0},{"$f":"VIITM!F136","v":"00:00:00"},{"$f":"VIITM!$A$2","v":"VIITM"},null,{"$f":"VIITM!E136","v":0},{"$f":"VIITM!H136","v":0}]
[null,null,null,null,null,null,null,null,null,null,null,null,null,null,null,null,null,null,null,null,null,null,134,{"$f":"VIITM!B137","v":0},{"$f":"VIITM!C137","v":0},{"$f":"VIITM!D137","v":0},{"$f":"VIITM!F137","v":"00:00:00"},{"$f":"VIITM!$A$2","v":"VIITM"},null,{"$f":"VIITM!E137","v":0},{"$f":"VIITM!H137","v":0}]
[null,null,null,null,null,null,null,null,null,null,null,null,null,null,null,null,null,null,null,null,null,null,135,{"$f":"VIITM!B138","v":0},{"$f":"VIITM!C138","v":0},{"$f":"VIITM!D138","v":0},{"$f":"VIITM!F138","v":"00:00:00"},{"$f":"VIITM!$A$2","v":"VIITM"},null,{"$f":"VIITM!E138","v":0},{"$f":"VIITM!H138","v":0}]
[null,null,null,null,null,null,null,null,null,null,null,null,null,null,null,null,null,null,null,null,null,null,136,{"$f":"VIITM!B139","v":0},{"$f":"VIITM!C139","v":0},{"$f":"VIITM!D139","v":0},{"$f":"VIITM!F139","v":"00:00:00"},{"$f":"VIITM!$A$2","v":"VIITM"},null,{"$f":"VIITM!E139","v":0},{"$f":"VIITM!H139","v":0}]
[null,null,null,null,null,null,null,null,null,null,null,null,null,null,null,null,null,null,null,null,null,null,137,{"$f":"VIITM!B140","v":0},{"$f":"VIITM!C140","v":0},{"$f":"VIITM!D140","v":0},{"$f":"VIITM!F140","v":"00:00:00"},{"$f":"VIITM!$A$2","v":"VIITM"},null,{"$f":"VIITM!E140","v":0},{"$f":"VIITM!H140","v":0}]
[null,null,null,null,null,null,null,null,null,null,null,null,null,null,null,null,null,null,null,null,null,null,138,{"$f":"VIITM!B141","v":0},{"$f":"VIITM!C141","v":0},{"$f":"VIITM!D141","v":0},{"$f":"VIITM!F141","v":"00:00:00"},{"$f":"VIITM!$A$2","v":"VIITM"},null,{"$f":"VIITM!E141","v":0},{"$f":"VIITM!H141","v":0}]
[null,null,null,null,null,null,null,null,null,null,null,null,null,null,null,null,null,null,null,null,null,null,139,{"$f":"VIITM!B142","v":0},{"$f":"VIITM!C142","v":0},{"$f":"VIITM!D142","v":0},{"$f":"VIITM!F142","v":"00:00:00"},{"$f":"VIITM!$A$2","v":"VIITM"},null,{"$f":"VIITM!E142","v":0},{"$f":"VIITM!H142","v":0}]
[null,null,null,null,null,null,null,null,null,null,null,null,null,null,null,null,null,null,null,null,null,null,140,{"$f":"VIITM!B143","v":0},{"$f":"VIITM!C143","v":0},{"$f":"VIITM!D143","v":0},{"$f":"VIITM!F143","v":"00:00:00"},{"$f":"VIITM!$A$2","v":"VIITM"},null,{"$f":"VIITM!E143","v":0},{"$f":"VIITM!H143","v":0}]
[null,null,null,null,null,null,null,null,null,null,null,null,null,null,null,null,null,null,null,null,null,null,141,{"$f":"VIITM!B144","v":0},{"$f":"VIITM!C144","v":0},{"$f":"VIITM!D144","v":0},{"$f":"VIITM!F144","v":"00:00:00"},{"$f":"VIITM!$A$2","v":"VIITM"},null,{"$f":"VIITM!E144","v":0},{"$f":"VIITM!H144","v":0}]
[null,null,null,null,null,null,null,null,null,null,null,null,null,null,null,null,null,null,null,null,null,null,142,{"$f":"VIITM!B145","v":0},{"$f":"VIITM!C145","v":0},{"$f":"VIITM!D145","v":0},{"$f":"VIITM!F145","v":"00:00:00"},{"$f":"VIITM!$A$2","v":"VIITM"},null,{"$f":"VIITM!E145","v":0},{"$f":"VIITM!H145","v":0}]
[null,null,null,null,null,null,null,null,null,null,null,null,null,null,null,null,null,null,null,null,null,null,143,{"$f":"VIITM!B146","v":0},{"$f":"VIITM!C146","v":0},{"$f":"VIITM!D146","v":0},{"$f":"VIITM!F146","v":"00:00:00"},{"$f":"VIITM!$A$2","v":"VIITM"},null,{"$f":"VIITM!E146","v":0},{"$f":"VIITM!H146","v":0}]
[null,null,null,null,null,null,null,null,null,null,null,null,null,null,null,null,null,null,null,null,null,null,144,{"$f":"VIITM!B147","v":0},{"$f":"VIITM!C147","v":0},{"$f":"VIITM!D147","v":0},{"$f":"VIITM!F147","v":"00:00:00"},{"$f":"VIITM!$A$2","v":"VIITM"},null,{"$f":"VIITM!E147","v":0},{"$f":"VIITM!H147","v":0}]
[null,null,null,null,null,null,null,null,null,null,null,null,null,null,null,null,null,null,null,null,null,null,145,{"$f":"VIITM!B148","v":0},{"$f":"VIITM!C148","v":0},{"$f":"VIITM!D148","v":0},{"$f":"VIITM!F148","v":"00:00:00"},{"$f":"VIITM!$A$2","v":"VIITM"},null,{"$f":"VIITM!E148","v":0},{"$f":"VIITM!H148","v":0}]
[null,null,null,null,null,null,null,null,null,null,null,null,null,null,null,null,null,null,null,null,null,null,146,{"$f":"VIITM!B149","v":0},{"$f":"VIITM!C149","v":0},{"$f":"VIITM!D149","v":0},{"$f":"VIITM!F149","v":"00:00:00"},{"$f":"VIITM!$A$2","v":"VIITM"},null,{"$f":"VIITM!E149","v":0},{"$f":"VIITM!H149","v":0}]
[null,null,null,null,null,null,null,null,null,null,null,null,null,null,null,null,null,null,null,null,null,null,147,{"$f":"VIITM!B150","v":0},{"$f":"VIITM!C150","v":0},{"$f":"VIITM!D150","v":0},{"$f":"VIITM!F150","v":"00:00:00"},{"$f":"VIITM!$A$2","v":"VIITM"},null,{"$f":"VIITM!E150","v":0},{"$f":"VIITM!H150","v":0}]
[null,null,null,null,null,null,null,null,null,null,null,null,null,null,null,null,null,null,null,null,null,null,148,{"$f":"VIITM!B151","v":0},{"$f":"VIITM!C151","v":0},{"$f":"VIITM!D151","v":0},{"$f":"VIITM!F151","v":"00:00:00"},{"$f":"VIITM!$A$2","v":"VIITM"},null,{"$f":"VIITM!E151","v":0},{"$f":"VIITM!H151","v":0}]
[null,null,null,null,null,null,null,null,null,null,null,null,null,null,null,null,null,null,null,null,null,null,149,{"$f":"VIITM!B152","v":0},{"$f":"VIITM!C152","v":0},{"$f":"VIITM!D152","v":0},{"$f":"VIITM!F152","v":"00:00:00"},{"$f":"VIITM!$A$2","v":"VIITM"},null,{"$f":"VIITM!E152","v":0},{"$f":"VIITM!H152","v":0}]
[null,null,null,null,null,null,null,null,null,null,null,null,null,null,null,null,null,null,null,null,null,null,150,{"$f":"VIITM!B153","v":0},{"$f":"VIITM!C153","v":0},{"$f":"VIITM!D153","v":0},{"$f":"VIITM!F153","v":"00:00:00"},{"$f":"VIITM!$A$2","v":"VIITM"},null,{"$f":"VIITM!E153","v":0},{"$f":"VIITM!H153","v":0}]
[]
[null,null,null,null,null,null,null,null,null,null,null,null,null,null,null,null,null,null,null,null,null,null,1,{"$f":"VIIITM!B4","v":0},{"$f":"VIIITM!C4","v":0},{"$f":"VIIITM!D4","v":0},{"$f":"VIIITM!F4","v":"00:00:00"},{"$f":"VIIITM!$A$2","v":"VIIITM"},null,{"$f":"VIIITM!E4","v":0},{"$f":"VIIITM!H4","v":0}]
[null,null,null,null,null,null,null,null,null,null,null,null,null,null,null,null,null,null,null,null,null,null,2,{"$f":"VIIITM!B5","v":0},{"$f":"VIIITM!C5","v":0},{"$f":"VIIITM!D5","v":0},{"$f":"VIIITM!F5","v":"00:00:00"},{"$f":"VIIITM!$A$2","v":"VIIITM"},null,{"$f":"VIIITM!E5","v":0},{"$f":"VIIITM!H5","v":0}]
[null,null,null,null,null,null,null,null,null,null,null,null,null,null,null,null,null,null,null,null,null,null,3,{"$f":"VIIITM!B6","v":0},{"$f":"VIIITM!C6","v":0},{"$f":"VIIITM!D6","v":0},{"$f":"VIIITM!F6","v":"00:00:00"},{"$f":"VIIITM!$A$2","v":"VIIITM"},null,{"$f":"VIIITM!E6","v":0},{"$f":"VIIITM!H6","v":0}]
[null,null,null,null,null,null,null,null,null,null,null,null,null,null,null,null,null,null,null,null,null,null,4,{"$f":"VIIITM!B7","v":0},{"$f":"VIIITM!C7","v":0},{"$f":"VIIITM!D7","v":0},{"$f":"VIIITM!F7","v":"00:00:00"},{"$f":"VIIITM!$A$2","v":"VIIITM"},null,{"$f":"VIIITM!E7","v":0},{"$f":"VIIITM!H7","v":0}]
[null,null,null,null,null,null,null,null,null,null,null,null,null,null,null,null,null,null,null,null,null,null,5,{"$f":"VIIITM!B8","v":0},{"$f":"VIIITM!C8","v":0},{"$f":"VIIITM!D8","v":0},{"$f":"VIIITM!F8","v":"00:00:00"},{"$f":"VIIITM!$A$2","v":"VIIITM"},null,{"$f":"VIIITM!E8","v":0},{"$f":"VIIITM!H8","v":0}]
[null,null,null,null,null,null,null,null,null,null,null,null,null,null,null,null,null,null,null,null,null,null,6,{"$f":"VIIITM!B9","v":0},{"$f":"VIIITM!C9","v":0},{"$f":"VIIITM!D9","v":0},{"$f":"VIIITM!F9","v":"00:00:00"},{"$f":"VIIITM!$A$2","v":"VIIITM"},null,{"$f":"VIIITM!E9","v":0},{"$f":"VIIITM!H9","v":0}]
[null,null,null,null,null,null,null,null,null,null,null,null,null,null,null,null,null,null,null,null,null,null,7,{"$f":"VIIITM!B10","v":0},{"$f":"VIIITM!C10","v":0},{"$f":"VIIITM!D10","v":0},{"$f":"VIIITM!F10","v":"00:00:00"},{"$f":"VIIITM!$A$2","v":"VIIITM"},null,{"$f":"VIIITM!E10","v":0},{"$f":"VIIITM!H10","v":0}]
[null,null,null,null,null,null,null,null,null,null,null,null,null,null,null,null,null,null,null,null,null,null,8,{"$f":"VIIITM!B11","v":0},{"$f":"VIIITM!C11","v":0},{"$f":"VIIITM!D11","v":0},{"$f":"VIIITM!F11","v":"00:00:00"},{"$f":"VIIITM!$A$2","v":"VIIITM"},null,{"$f":"VIIITM!E11","v":0},{"$f":"VIIITM!H11","v":0}]
[null,null,null,null,null,null,null,null,null,null,null,null,null,null,null,null,null,null,null,null,null,null,9,{"$f":"VIIITM!B12","v":0},{"$f":"VIIITM!C12","v":0},{"$f":"VIIITM!D12","v":0},{"$f":"VIIITM!F12","v":"00:00:00"},{"$f":"VIIITM!$A$2","v":"VIIITM"},null,{"$f":"VIIITM!E12","v":0},{"$f":"VIIITM!H12","v":0}]
[null,null,null,null,null,null,null,null,null,null,null,null,null,null,null,null,null,null,null,null,null,null,10,{"$f":"VIIITM!B13","v":0},{"$f":"VIIITM!C13","v":0},{"$f":"VIIITM!D13","v":0},{"$f":"VIIITM!F13","v":"00:00:00"},{"$f":"VIIITM!$A$2","v":"VIIITM"},null,{"$f":"VIIITM!E13","v":0},{"$f":"VIIITM!H13","v":0}]
[null,null,null,null,null,null,null,null,null,null,null,null,null,null,null,null,null,null,null,null,null,null,11,{"$f":"VIIITM!B14","v":0},{"$f":"VIIITM!C14","v":0},{"$f":"VIIITM!D14","v":0},{"$f":"VIIITM!F14","v":"00:00:00"},{"$f":"VIIITM!$A$2","v":"VIIITM"},null,{"$f":"VIIITM!E14","v":0},{"$f":"VIIITM!H14","v":0}]
[null,null,null,null,null,null,null,null,null,null,null,null,null,null,null,null,null,null,null,null,null,null,12,{"$f":"VIIITM!B15","v":0},{"$f":"VIIITM!C15","v":0},{"$f":"VIIITM!D15","v":0},{"$f":"VIIITM!F15","v":"00:00:00"},{"$f":"VIIITM!$A$2","v":"VIIITM"},null,{"$f":"VIIITM!E15","v":0},{"$f":"VIIITM!H15","v":0}]
[null,null,null,null,null,null,null,null,null,null,null,null,null,null,null,null,null,null,null,null,null,null,13,{"$f":"VIIITM!B16","v":0},{"$f":"VIIITM!C16","v":0},{"$f":"VIIITM!D16","v":0},{"$f":"VIIITM!F16","v":"00:00:00"},{"$f":"VIIITM!$A$2","v":"VIIITM"},null,{"$f":"VIIITM!E16","v":0},{"$f":"VIIITM!H16","v":0}]
[null,null,null,null,null,null,null,null,null,null,null,null,null,null,null,null,null,null,null,null,null,null,14,{"$f":"VIIITM!B17","v":0},{"$f":"VIIITM!C17","v":0},{"$f":"VIIITM!D17","v":0},{"$f":"VIIITM!F17","v":"00:00:00"},{"$f":"VIIITM!$A$2","v":"VIIITM"},null,{"$f":"VIIITM!E17","v":0},{"$f":"VIIITM!H17","v":0}]
[null,null,null,null,null,null,null,null,null,null,null,null,null,null,null,null,null,null,null,null,null,null,15,{"$f":"VIIITM!B18","v":0},{"$f":"VIIITM!C18","v":0},{"$f":"VIIITM!D18","v":0},{"$f":"VIIITM!F18","v":"00:00:00"},{"$f":"VIIITM!$A$2","v":"VIIITM"},null,{"$f":"VIIITM!E18","v":0},{"$f":"VIIITM!H18","v":0}]
[null,null,null,null,null,null,null,null,null,null,null,null,null,null,null,null,null,null,null,null,null,null,16,{"$f":"VIIITM!B19","v":0},{"$f":"VIIITM!C19","v":0},{"$f":"VIIITM!D19","v":0},{"$f":"VIIITM!F19","v":"00:00:00"},{"$f":"VIIITM!$A$2","v":"VIIITM"},null,{"$f":"VIIITM!E19","v":0},{"$f":"VIIITM!H19","v":0}]
[null,null,null,null,null,null,null,null,null,null,null,null,null,null,null,null,null,null,null,null,null,null,17,{"$f":"VIIITM!B20","v":0},{"$f":"VIIITM!C20","v":0},{"$f":"VIIITM!D20","v":0},{"$f":"VIIITM!F20","v":"00:00:00"},{"$f":"VIIITM!$A$2","v":"VIIITM"},null,{"$f":"VIIITM!E20","v":0},{"$f":"VIIITM!H20","v":0}]
[null,null,null,null,null,null,null,null,null,null,null,null,null,null,null,null,null,null,null,null,null,null,18,{"$f":"VIIITM!B21","v":0},{"$f":"VIIITM!C21","v":0},{"$f":"VIIITM!D21","v":0},{"$f":"VIIITM!F21","v":"00:00:00"},{"$f":"VIIITM!$A$2","v":"VIIITM"},null,{"$f":"VIIITM!E21","v":0},{"$f":"VIIITM!H21","v":0}]
[null,null,null,null,null,null,null,null,null,null,null,null,null,null,null,null,null,null,null,null,null,null,19,{"$f":"VIIITM!B22","v":0},{"$f":"VIIITM!C22","v":0},{"$f":"VIIITM!D22","v":0},{"$f":"VIIITM!F22","v":"00:00:00"},{"$f":"VIIITM!$A$2","v":"VIIITM"},null,{"$f":"VIIITM!E22","v":0},{"$f":"VIIITM!H22","v":0}]
[null,null,null,null,null,null,null,null,null,null,null,null,null,null,null,null,null,null,null,null,null,null,20,{"$f":"VIIITM!B23","v":0},{"$f":"VIIITM!C23","v":0},{"$f":"VIIITM!D23","v":0},{"$f":"VIIITM!F23","v":"00:00:00"},{"$f":"VIIITM!$A$2","v":"VIIITM"},null,{"$f":"VIIITM!E23","v":0},{"$f":"VIIITM!H23","v":0}]
[null,null,null,null,null,null,null,null,null,null,null,null,null,null,null,null,null,null,null,null,null,null,21,{"$f":"VIIITM!B24","v":0},{"$f":"VIIITM!C24","v":0},{"$f":"VIIITM!D24","v":0},{"$f":"VIIITM!F24","v":"00:00:00"},{"$f":"VIIITM!$A$2","v":"VIIITM"},null,{"$f":"VIIITM!E24","v":0},{"$f":"VIIITM!H24","v":0}]
[null,null,null,null,null,null,null,null,null,null,null,null,null,null,null,null,null,null,null,null,null,null,22,{"$f":"VIIITM!B25","v":0},{"$f":"VIIITM!C25","v":0},{"$f":"VIIITM!D25","v":0},{"$f":"VIIITM!F25","v":"00:00:00"},{"$f":"VIIITM!$A$2","v":"VIIITM"},null,{"$f":"VIIITM!E25","v":0},{"$f":"VIIITM!H25","v":0}]
[null,null,null,null,null,null,null,null,null,null,null,null,null,null,null,null,null,null,null,null,null,null,23,{"$f":"VIIITM!B26","v":0},{"$f":"VIIITM!C26","v":0},{"$f":"VIIITM!D26","v":0},{"$f":"VIIITM!F26","v":"00:00:00"},{"$f":"VIIITM!$A$2","v":"VIIITM"},null,{"$f":"VIIITM!E26","v":0},{"$f":"VIIITM!H26","v":0}]
[null,null,null,null,null,null,null,null,null,null,null,null,null,null,null,null,null,null,null,null,null,null,24,{"$f":"VIIITM!B27","v":0},{"$f":"VIIITM!C27","v":0},{"$f":"VIIITM!D27","v":0},{"$f":"VIIITM!F27","v":"00:00:00"},{"$f":"VIIITM!$A$2","v":"VIIITM"},null,{"$f":"VIIITM!E27","v":0},{"$f":"VIIITM!H27","v":0}]
[null,null,null,null,null,null,null,null,null,null,null,null,null,null,null,null,null,null,null,null,null,null,25,{"$f":"VIIITM!B28","v":0},{"$f":"VIIITM!C28","v":0},{"$f":"VIIITM!D28","v":0},{"$f":"VIIITM!F28","v":"00:00:00"},{"$f":"VIIITM!$A$2","v":"VIIITM"},null,{"$f":"VIIITM!E28","v":0},{"$f":"VIIITM!H28","v":0}]
[null,null,null,null,null,null,null,null,null,null,null,null,null,null,null,null,null,null,null,null,null,null,26,{"$f":"VIIITM!B29","v":0},{"$f":"VIIITM!C29","v":0},{"$f":"VIIITM!D29","v":0},{"$f":"VIIITM!F29","v":"00:00:00"},{"$f":"VIIITM!$A$2","v":"VIIITM"},null,{"$f":"VIIITM!E29","v":0},{"$f":"VIIITM!H29","v":0}]
[null,null,null,null,null,null,null,null,null,null,null,null,null,null,null,null,null,null,null,null,null,null,27,{"$f":"VIIITM!B30","v":0},{"$f":"VIIITM!C30","v":0},{"$f":"VIIITM!D30","v":0},{"$f":"VIIITM!F30","v":"00:00:00"},{"$f":"VIIITM!$A$2","v":"VIIITM"},null,{"$f":"VIIITM!E30","v":0},{"$f":"VIIITM!H30","v":0}]
[null,null,null,null,null,null,null,null,null,null,null,null,null,null,null,null,null,null,null,null,null,null,28,{"$f":"VIIITM!B31","v":0},{"$f":"VIIITM!C31","v":0},{"$f":"VIIITM!D31","v":0},{"$f":"VIIITM!F31","v":"00:00:00"},{"$f":"VIIITM!$A$2","v":"VIIITM"},null,{"$f":"VIIITM!E31","v":0},{"$f":"VIIITM!H31","v":0}]
[null,null,null,null,null,null,null,null,null,null,null,null,null,null,null,null,null,null,null,null,null,null,29,{"$f":"VIIITM!B32","v":0},{"$f":"VIIITM!C32","v":0},{"$f":"VIIITM!D32","v":0},{"$f":"VIIITM!F32","v":"00:00:00"},{"$f":"VIIITM!$A$2","v":"VIIITM"},null,{"$f":"VIIITM!E32","v":0},{"$f":"VIIITM!H32","v":0}]
[null,null,null,null,null,null,null,null,null,null,null,null,null,null,null,null,null,null,null,null,null,null,30,{"$f":"VIIITM!B33","v":0},{"$f":"VIIITM!C33","v":0},{"$f":"VIIITM!D33","v":0},{"$f":"VIIITM!F33","v":"00:00:00"},{"$f":"VIIITM!$A$2","v":"VIIITM"},null,{"$f":"VIIITM!E33","v":0},{"$f":"VIIITM!H33","v":0}]
[null,null,null,null,null,null,null,null,null,null,null,null,null,null,null,null,null,null,null,null,null,null,31,{"$f":"VIIITM!B34","v":0},{"$f":"VIIITM!C34","v":0},{"$f":"VIIITM!D34","v":0},{"$f":"VIIITM!F34","v":"00:00:00"},{"$f":"VIIITM!$A$2","v":"VIIITM"},null,{"$f":"VIIITM!E34","v":0},{"$f":"VIIITM!H34","v":0}]
[null,null,null,null,null,null,null,null,null,null,null,null,null,null,null,null,null,null,null,null,null,null,32,{"$f":"VIIITM!B35","v":0},{"$f":"VIIITM!C35","v":0},{"$f":"VIIITM!D35","v":0},{"$f":"VIIITM!F35","v":"00:00:00"},{"$f":"VIIITM!$A$2","v":"VIIITM"},null,{"$f":"VIIITM!E35","v":0},{"$f":"VIIITM!H35","v":0}]
[null,null,null,null,null,null,null,null,null,null,null,null,null,null,null,null,null,null,null,null,null,null,33,{"$f":"VIIITM!B36","v":0},{"$f":"VIIITM!C36","v":0},{"$f":"VIIITM!D36","v":0},{"$f":"VIIITM!F36","v":"00:00:00"},{"$f":"VIIITM!$A$2","v":"VIIITM"},null,{"$f":"VIIITM!E36","v":0},{"$f":"VIIITM!H36","v":0}]
[null,null,null,null,null,null,null,null,null,null,null,null,null,null,null,null,null,null,null,null,null,null,34,{"$f":"VIIITM!B37","v":0},{"$f":"VIIITM!C37","v":0},{"$f":"VIIITM!D37","v":0},{"$f":"VIIITM!F37","v":"00:00:00"},{"$f":"VIIITM!$A$2","v":"VIIITM"},null,{"$f":"VIIITM!E37","v":0},{"$f":"VIIITM!H37","v":0}]
[null,null,null,null,null,null,null,null,null,null,null,null,null,null,null,null,null,null,null,null,null,null,35,{"$f":"VIIITM!B38","v":0},{"$f":"VIIITM!C38","v":0},{"$f":"VIIITM!D38","v":0},{"$f":"VIIITM!F38","v":"00:00:00"},{"$f":"VIIITM!$A$2","v":"VIIITM"},null,{"$f":"VIIITM!E38","v":0},{"$f":"VIIITM!H38","v":0}]
[null,null,null,null,null,null,null,null,null,null,null,null,null,null,null,null,null,null,null,null,null,null,36,{"$f":"VIIITM!B39","v":0},{"$f":"VIIITM!C39","v":0},{"$f":"VIIITM!D39","v":0},{"$f":"VIIITM!F39","v":"00:00:00"},{"$f":"VIIITM!$A$2","v":"VIIITM"},null,{"$f":"VIIITM!E39","v":0},{"$f":"VIIITM!H39","v":0}]
[null,null,null,null,null,null,null,null,null,null,null,null,null,null,null,null,null,null,null,null,null,null,37,{"$f":"VIIITM!B40","v":0},{"$f":"VIIITM!C40","v":0},{"$f":"VIIITM!D40","v":0},{"$f":"VIIITM!F40","v":"00:00:00"},{"$f":"VIIITM!$A$2","v":"VIIITM"},null,{"$f":"VIIITM!E40","v":0},{"$f":"VIIITM!H40","v":0}]
[null,null,null,null,null,null,null,null,null,null,null,null,null,null,null,null,null,null,null,null,null,null,38,{"$f":"VIIITM!B41","v":0},{"$f":"VIIITM!C41","v":0},{"$f":"VIIITM!D41","v":0},{"$f":"VIIITM!F41","v":"00:00:00"},{"$f":"VIIITM!$A$2","v":"VIIITM"},null,{"$f":"VIIITM!E41","v":0},{"$f":"VIIITM!H41","v":0}]
[null,null,null,null,null,null,null,null,null,null,null,null,null,null,null,null,null,null,null,null,null,null,39,{"$f":"VIIITM!B42","v":0},{"$f":"VIIITM!C42","v":0},{"$f":"VIIITM!D42","v":0},{"$f":"VIIITM!F42","v":"00:00:00"},{"$f":"VIIITM!$A$2","v":"VIIITM"},null,{"$f":"VIIITM!E42","v":0},{"$f":"VIIITM!H42","v":0}]
[null,null,null,null,null,null,null,null,null,null,null,null,null,null,null,null,null,null,null,null,null,null,40,{"$f":"VIIITM!B43","v":0},{"$f":"VIIITM!C43","v":0},{"$f":"VIIITM!D43","v":0},{"$f":"VIIITM!F43","v":"00:00:00"},{"$f":"VIIITM!$A$2","v":"VIIITM"},null,{"$f":"VIIITM!E43","v":0},{"$f":"VIIITM!H43","v":0}]
[null,null,null,null,null,null,null,null,null,null,null,null,null,null,null,null,null,null,null,null,null,null,41,{"$f":"VIIITM!B44","v":0},{"$f":"VIIITM!C44","v":0},{"$f":"VIIITM!D44","v":0},{"$f":"VIIITM!F44","v":"00:00:00"},{"$f":"VIIITM!$A$2","v":"VIIITM"},null,{"$f":"VIIITM!E44","v":0},{"$f":"VIIITM!H44","v":0}]
[null,null,null,null,null,null,null,null,null,null,null,null,null,null,null,null,null,null,null,null,null,null,42,{"$f":"VIIITM!B45","v":0},{"$f":"VIIITM!C45","v":0},{"$f":"VIIITM!D45","v":0},{"$f":"VIIITM!F45","v":"00:00:00"},{"$f":"VIIITM!$A$2","v":"VIIITM"},null,{"$f":"VIIITM!E45","v":0},{"$f":"VIIITM!H45","v":0}]
[null,null,null,null,null,null,null,null,null,null,null,null,null,null,null,null,null,null,null,null,null,null,43,{"$f":"VIIITM!B46","v":0},{"$f":"VIIITM!C46","v":0},{"$f":"VIIITM!D46","v":0},{"$f":"VIIITM!F46","v":"00:00:00"},{"$f":"VIIITM!$A$2","v":"VIIITM"},null,{"$f":"VIIITM!E46","v":0},{"$f":"VIIITM!H46","v":0}]
[null,null,null,null,null,null,null,null,null,null,null,null,null,null,null,null,null,null,null,null,null,null,44,{"$f":"VIIITM!B47","v":0},{"$f":"VIIITM!C47","v":0},{"$f":"VIIITM!D47","v":0},{"$f":"VIIITM!F47","v":"00:00:00"},{"$f":"VIIITM!$A$2","v":"VIIITM"},null,{"$f":"VIIITM!E47","v":0},{"$f":"VIIITM!H47","v":0}]
[null,null,null,null,null,null,null,null,null,null,null,null,null,null,null,null,null,null,null,null,null,null,45,{"$f":"VIIITM!B48","v":0},{"$f":"VIIITM!C48","v":0},{"$f":"VIIITM!D48","v":0},{"$f":"VIIITM!F48","v":"00:00:00"},{"$f":"VIIITM!$A$2","v":"VIIITM"},null,{"$f":"VIIITM!E48","v":0},{"$f":"VIIITM!H48","v":0}]
[null,null,null,null,null,null,null,null,null,null,null,null,null,null,null,null,null,null,null,null,null,null,46,{"$f":"VIIITM!B49","v":0},{"$f":"VIIITM!C49","v":0},{"$f":"VIIITM!D49","v":0},{"$f":"VIIITM!F49","v":"00:00:00"},{"$f":"VIIITM!$A$2","v":"VIIITM"},null,{"$f":"VIIITM!E49","v":0},{"$f":"VIIITM!H49","v":0}]
[null,null,null,null,null,null,null,null,null,null,null,null,null,null,null,null,null,null,null,null,null,null,47,{"$f":"VIIITM!B50","v":0},{"$f":"VIIITM!C50","v":0},{"$f":"VIIITM!D50","v":0},{"$f":"VIIITM!F50","v":"00:00:00"},{"$f":"VIIITM!$A$2","v":"VIIITM"},null,{"$f":"VIIITM!E50","v":0},{"$f":"VIIITM!H50","v":0}]
[null,null,null,null,null,null,null,null,null,null,null,null,null,null,null,null,null,null,null,null,null,null,48,{"$f":"VIIITM!B51","v":0},{"$f":"VIIITM!C51","v":0},{"$f":"VIIITM!D51","v":0},{"$f":"VIIITM!F51","v":"00:00:00"},{"$f":"VIIITM!$A$2","v":"VIIITM"},null,{"$f":"VIIITM!E51","v":0},{"$f":"VIIITM!H51","v":0}]
[null,null,null,null,null,null,null,null,null,null,null,null,null,null,null,null,null,null,null,null,null,null,49,{"$f":"VIIITM!B52","v":0},{"$f":"VIIITM!C52","v":0},{"$f":"VIIITM!D52","v":0},{"$f":"VIIITM!F52","v":"00:00:00"},{"$f":"VIIITM!$A$2","v":"VIIITM"},null,{"$f":"VIIITM!E52","v":0},{"$f":"VIIITM!H52","v":0}]
[null,null,null,null,null,null,null,null,null,null,null,null,null,null,null,null,null,null,null,null,null,null,50,{"$f":"VIIITM!B53","v":0},{"$f":"VIIITM!C53","v":0},{"$f":"VIIITM!D53","v":0},{"$f":"VIIITM!F53","v":"00:00:00"},{"$f":"VIIITM!$A$2","v":"VIIITM"},null,{"$f":"VIIITM!E53","v":0},{"$f":"VIIITM!H53","v":0}]
[null,null,null,null,null,null,null,null,null,null,null,null,null,null,null,null,null,null,null,null,null,null,51,{"$f":"VIIITM!B54","v":0},{"$f":"VIIITM!C54","v":0},{"$f":"VIIITM!D54","v":0},{"$f":"VIIITM!F54","v":"00:00:00"},{"$f":"VIIITM!$A$2","v":"VIIITM"},null,{"$f":"VIIITM!E54","v":0},{"$f":"VIIITM!H54","v":0}]
[null,null,null,null,null,null,null,null,null,null,null,null,null,null,null,null,null,null,null,null,null,null,52,{"$f":"VIIITM!B55","v":0},{"$f":"VIIITM!C55","v":0},{"$f":"VIIITM!D55","v":0},{"$f":"VIIITM!F55","v":"00:00:00"},{"$f":"VIIITM!$A$2","v":"VIIITM"},null,{"$f":"VIIITM!E55","v":0},{"$f":"VIIITM!H55","v":0}]
[null,null,null,null,null,null,null,null,null,null,null,null,null,null,null,null,null,null,null,null,null,null,53,{"$f":"VIIITM!B56","v":0},{"$f":"VIIITM!C56","v":0},{"$f":"VIIITM!D56","v":0},{"$f":"VIIITM!F56","v":"00:00:00"},{"$f":"VIIITM!$A$2","v":"VIIITM"},null,{"$f":"VIIITM!E56","v":0},{"$f":"VIIITM!H56","v":0}]
[null,null,null,null,null,null,null,null,null,null,null,null,null,null,null,null,null,null,null,null,null,null,54,{"$f":"VIIITM!B57","v":0},{"$f":"VIIITM!C57","v":0},{"$f":"VIIITM!D57","v":0},{"$f":"VIIITM!F57","v":"00:00:00"},{"$f":"VIIITM!$A$2","v":"VIIITM"},null,{"$f":"VIIITM!E57","v":0},{"$f":"VIIITM!H57","v":0}]
[null,null,null,null,null,null,null,null,null,null,null,null,null,null,null,null,null,null,null,null,null,null,55,{"$f":"VIIITM!B58","v":0},{"$f":"VIIITM!C58","v":0},{"$f":"VIIITM!D58","v":0},{"$f":"VIIITM!F58","v":"00:00:00"},{"$f":"VIIITM!$A$2","v":"VIIITM"},null,{"$f":"VIIITM!E58","v":0},{"$f":"VIIITM!H58","v":0}]
[null,null,null,null,null,null,null,null,null,null,null,null,null,null,null,null,null,null,null,null,null,null,56,{"$f":"VIIITM!B59","v":0},{"$f":"VIIITM!C59","v":0},{"$f":"VIIITM!D59","v":0},{"$f":"VIIITM!F59","v":"00:00:00"},{"$f":"VIIITM!$A$2","v":"VIIITM"},null,{"$f":"VIIITM!E59","v":0},{"$f":"VIIITM!H59","v":0}]
[null,null,null,null,null,null,null,null,null,null,null,null,null,null,null,null,null,null,null,null,null,null,57,{"$f":"VIIITM!B60","v":0},{"$f":"VIIITM!C60","v":0},{"$f":"VIIITM!D60","v":0},{"$f":"VIIITM!F60","v":"00:00:00"},{"$f":"VIIITM!$A$2","v":"VIIITM"},null,{"$f":"VIIITM!E60","v":0},{"$f":"VIIITM!H60","v":0}]
[null,null,null,null,null,null,null,null,null,null,null,null,null,null,null,null,null,null,null,null,null,null,58,{"$f":"VIIITM!B61","v":0},{"$f":"VIIITM!C61","v":0},{"$f":"VIIITM!D61","v":0},{"$f":"VIIITM!F61","v":"00:00:00"},{"$f":"VIIITM!$A$2","v":"VIIITM"},null,{"$f":"VIIITM!E61","v":0},{"$f":"VIIITM!H61","v":0}]
[null,null,null,null,null,null,null,null,null,null,null,null,null,null,null,null,null,null,null,null,null,null,59,{"$f":"VIIITM!B62","v":0},{"$f":"VIIITM!C62","v":0},{"$f":"VIIITM!D62","v":0},{"$f":"VIIITM!F62","v":"00:00:00"},{"$f":"VIIITM!$A$2","v":"VIIITM"},null,{"$f":"VIIITM!E62","v":0},{"$f":"VIIITM!H62","v":0}]
[null,null,null,null,null,null,null,null,null,null,null,null,null,null,null,null,null,null,null,null,null,null,60,{"$f":"VIIITM!B63","v":0},{"$f":"VIIITM!C63","v":0},{"$f":"VIIITM!D63","v":0},{"$f":"VIIITM!F63","v":"00:00:00"},{"$f":"VIIITM!$A$2","v":"VIIITM"},null,{"$f":"VIIITM!E63","v":0},{"$f":"VIIITM!H63","v":0}]
[null,null,null,null,null,null,null,null,null,null,null,null,null,null,null,null,null,null,null,null,null,null,61,{"$f":"VIIITM!B64","v":0},{"$f":"VIIITM!C64","v":0},{"$f":"VIIITM!D64","v":0},{"$f":"VIIITM!F64","v":"00:00:00"},{"$f":"VIIITM!$A$2","v":"VIIITM"},null,{"$f":"VIIITM!E64","v":0},{"$f":"VIIITM!H64","v":0}]
[null,null,null,null,null,null,null,null,null,null,null,null,null,null,null,null,null,null,null,null,null,null,62,{"$f":"VIIITM!B65","v":0},{"$f":"VIIITM!C65","v":0},{"$f":"VIIITM!D65","v":0},{"$f":"VIIITM!F65","v":"00:00:00"},{"$f":"VIIITM!$A$2","v":"VIIITM"},null,{"$f":"VIIITM!E65","v":0},{"$f":"VIIITM!H65","v":0}]
[null,null,null,null,null,null,null,null,null,null,null,null,null,null,null,null,null,null,null,null,null,null,63,{"$f":"VIIITM!B66","v":0},{"$f":"VIIITM!C66","v":0},{"$f":"VIIITM!D66","v":0},{"$f":"VIIITM!F66","v":"00:00:00"},{"$f":"VIIITM!$A$2","v":"VIIITM"},null,{"$f":"VIIITM!E66","v":0},{"$f":"VIIITM!H66","v":0}]
[null,null,null,null,null,null,null,null,null,null,null,null,null,null,null,null,null,null,null,null,null,null,64,{"$f":"VIIITM!B67","v":0},{"$f":"VIIITM!C67","v":0},{"$f":"VIIITM!D67","v":0},{"$f":"VIIITM!F67","v":"00:00:00"},{"$f":"VIIITM!$A$2","v":"VIIITM"},null,{"$f":"VIIITM!E67","v":0},{"$f":"VIIITM!H67","v":0}]
[null,null,null,null,null,null,null,null,null,null,null,null,null,null,null,null,null,null,null,null,null,null,65,{"$f":"VIIITM!B68","v":0},{"$f":"VIIITM!C68","v":0},{"$f":"VIIITM!D68","v":0},{"$f":"VIIITM!F68","v":"00:00:00"},{"$f":"VIIITM!$A$2","v":"VIIITM"},null,{"$f":"VIIITM!E68","v":0},{"$f":"VIIITM!H68","v":0}]
[null,null,null,null,null,null,null,null,null,null,null,null,null,null,null,null,null,null,null,null,null,null,66,{"$f":"VIIITM!B69","v":0},{"$f":"VIIITM!C69","v":0},{"$f":"VIIITM!D69","v":0},{"$f":"VIIITM!F69","v":"00:00:00"},{"$f":"VIIITM!$A$2","v":"VIIITM"},null,{"$f":"VIIITM!E69","v":0},{"$f":"VIIITM!H69","v":0}]
[null,null,null,null,null,null,null,null,null,null,null,null,null,null,null,null,null,null,null,null,null,null,67,{"$f":"VIIITM!B70","v":0},{"$f":"VIIITM!C70","v":0},{"$f":"VIIITM!D70","v":0},{"$f":"VIIITM!F70","v":"00:00:00"},{"$f":"VIIITM!$A$2","v":"VIIITM"},null,{"$f":"VIIITM!E70","v":0},{"$f":"VIIITM!H70","v":0}]
[null,null,null,null,null,null,null,null,null,null,null,null,null,null,null,null,null,null,null,null,null,null,68,{"$f":"VIIITM!B71","v":0},{"$f":"VIIITM!C71","v":0},{"$f":"VIIITM!D71","v":0},{"$f":"VIIITM!F71","v":"00:00:00"},{"$f":"VIIITM!$A$2","v":"VIIITM"},null,{"$f":"VIIITM!E71","v":0},{"$f":"VIIITM!H71","v":0}]
[null,null,null,null,null,null,null,null,null,null,null,null,null,null,null,null,null,null,null,null,null,null,69,{"$f":"VIIITM!B72","v":0},{"$f":"VIIITM!C72","v":0},{"$f":"VIIITM!D72","v":0},{"$f":"VIIITM!F72","v":"00:00:00"},{"$f":"VIIITM!$A$2","v":"VIIITM"},null,{"$f":"VIIITM!E72","v":0},{"$f":"VIIITM!H72","v":0}]
[null,null,null,null,null,null,null,null,null,null,null,null,null,null,null,null,null,null,null,null,null,null,70,{"$f":"VIIITM!B73","v":0},{"$f":"VIIITM!C73","v":0},{"$f":"VIIITM!D73","v":0},{"$f":"VIIITM!F73","v":"00:00:00"},{"$f":"VIIITM!$A$2","v":"VIIITM"},null,{"$f":"VIIITM!E73","v":0},{"$f":"VIIITM!H73","v":0}]
[null,null,null,null,null,null,null,null,null,null,null,null,null,null,null,null,null,null,null,null,null,null,71,{"$f":"VIIITM!B74","v":0},{"$f":"VIIITM!C74","v":0},{"$f":"VIIITM!D74","v":0},{"$f":"VIIITM!F74","v":"00:00:00"},{"$f":"VIIITM!$A$2","v":"VIIITM"},null,{"$f":"VIIITM!E74","v":0},{"$f":"VIIITM!H74","v":0}]
[null,null,null,null,null,null,null,null,null,null,null,null,null,null,null,null,null,null,null,null,null,null,72,{"$f":"VIIITM!B75","v":0},{"$f":"VIIITM!C75","v":0},{"$f":"VIIITM!D75","v":0},{"$f":"VIIITM!F75","v":"00:00:00"},{"$f":"VIIITM!$A$2","v":"VIIITM"},null,{"$f":"VIIITM!E75","v":0},{"$f":"VIIITM!H75","v":0}]
[null,null,null,null,null,null,null,null,null,null,null,null,null,null,null,null,null,null,null,null,null,null,73,{"$f":"VIIITM!B76","v":0},{"$f":"VIIITM!C76","v":0},{"$f":"VIIITM!D76","v":0},{"$f":"VIIITM!F76","v":"00:00:00"},{"$f":"VIIITM!$A$2","v":"VIIITM"},null,{"$f":"VIIITM!E76","v":0},{"$f":"VIIITM!H76","v":0}]
[null,null,null,null,null,null,null,null,null,null,null,null,null,null,null,null,null,null,null,null,null,null,74,{"$f":"VIIITM!B77","v":0},{"$f":"VIIITM!C77","v":0},{"$f":"VIIITM!D77","v":0},{"$f":"VIIITM!F77","v":"00:00:00"},{"$f":"VIIITM!$A$2","v":"VIIITM"},null,{"$f":"VIIITM!E77","v":0},{"$f":"VIIITM!H77","v":0}]
[null,null,null,null,null,null,null,null,null,null,null,null,null,null,null,null,null,null,null,null,null,null,75,{"$f":"VIIITM!B78","v":0},{"$f":"VIIITM!C78","v":0},{"$f":"VIIITM!D78","v":0},{"$f":"VIIITM!F78","v":"00:00:00"},{"$f":"VIIITM!$A$2","v":"VIIITM"},null,{"$f":"VIIITM!E78","v":0},{"$f":"VIIITM!H78","v":0}]
[null,null,null,null,null,null,null,null,null,null,null,null,null,null,null,null,null,null,null,null,null,null,76,{"$f":"VIIITM!B79","v":0},{"$f":"VIIITM!C79","v":0},{"$f":"VIIITM!D79","v":0},{"$f":"VIIITM!F79","v":"00:00:00"},{"$f":"VIIITM!$A$2","v":"VIIITM"},null,{"$f":"VIIITM!E79","v":0},{"$f":"VIIITM!H79","v":0}]
[null,null,null,null,null,null,null,null,null,null,null,null,null,null,null,null,null,null,null,null,null,null,77,{"$f":"VIIITM!B80","v":0},{"$f":"VIIITM!C80","v":0},{"$f":"VIIITM!D80","v":0},{"$f":"VIIITM!F80","v":"00:00:00"},{"$f":"VIIITM!$A$2","v":"VIIITM"},null,{"$f":"VIIITM!E80","v":0},{"$f":"VIIITM!H80","v":0}]
[null,null,null,null,null,null,null,null,null,null,null,null,null,null,null,null,null,null,null,null,null,null,78,{"$f":"VIIITM!B81","v":0},{"$f":"VIIITM!C81","v":0},{"$f":"VIIITM!D81","v":0},{"$f":"VIIITM!F81","v":"00:00:00"},{"$f":"VIIITM!$A$2","v":"VIIITM"},null,{"$f":"VIIITM!E81","v":0},{"$f":"VIIITM!H81","v":0}]
[null,null,null,null,null,null,null,null,null,null,null,null,null,null,null,null,null,null,null,null,null,null,79,{"$f":"VIIITM!B82","v":0},{"$f":"VIIITM!C82","v":0},{"$f":"VIIITM!D82","v":0},{"$f":"VIIITM!F82","v":"00:00:00"},{"$f":"VIIITM!$A$2","v":"VIIITM"},null,{"$f":"VIIITM!E82","v":0},{"$f":"VIIITM!H82","v":0}]
[null,null,null,null,null,null,null,null,null,null,null,null,null,null,null,null,null,null,null,null,null,null,80,{"$f":"VIIITM!B83","v":0},{"$f":"VIIITM!C83","v":0},{"$f":"VIIITM!D83","v":0},{"$f":"VIIITM!F83","v":"00:00:00"},{"$f":"VIIITM!$A$2","v":"VIIITM"},null,{"$f":"VIIITM!E83","v":0},{"$f":"VIIITM!H83","v":0}]
[null,null,null,null,null,null,null,null,null,null,null,null,null,null,null,null,null,null,null,null,null,null,81,{"$f":"VIIITM!B84","v":0},{"$f":"VIIITM!C84","v":0},{"$f":"VIIITM!D84","v":0},{"$f":"VIIITM!F84","v":"00:00:00"},{"$f":"VIIITM!$A$2","v":"VIIITM"},null,{"$f":"VIIITM!E84","v":0},{"$f":"VIIITM!H84","v":0}]
[null,null,null,null,null,null,null,null,null,null,null,null,null,null,null,null,null,null,null,null,null,null,82,{"$f":"VIIITM!B85","v":0},{"$f":"VIIITM!C85","v":0},{"$f":"VIIITM!D85","v":0},{"$f":"VIIITM!F85","v":"00:00:00"},{"$f":"VIIITM!$A$2","v":"VIIITM"},null,{"$f":"VIIITM!E85","v":0},{"$f":"VIIITM!H85","v":0}]
[null,null,null,null,null,null,null,null,null,null,null,null,null,null,null,null,null,null,null,null,null,null,83,{"$f":"VIIITM!B86","v":0},{"$f":"VIIITM!C86","v":0},{"$f":"VIIITM!D86","v":0},{"$f":"VIIITM!F86","v":"00:00:00"},{"$f":"VIIITM!$A$2","v":"VIIITM"},null,{"$f":"VIIITM!E86","v":0},{"$f":"VIIITM!H86","v":0}]
[null,null,null,null,null,null,null,null,null,null,null,null,null,null,null,null,null,null,null,null,null,null,84,{"$f":"VIIITM!B87","v":0},{"$f":"VIIITM!C87","v":0},{"$f":"VIIITM!D87","v":0},{"$f":"VIIITM!F87","v":"00:00:00"},{"$f":"VIIITM!$A$2","v":"VIIITM"},null,{"$f":"VIIITM!E87","v":0},{"$f":"VIIITM!H87","v":0}]
[null,null,null,null,null,null,null,null,null,null,null,null,null,null,null,null,null,null,null,null,null,null,85,{"$f":"VIIITM!B88","v":0},{"$f":"VIIITM!C88","v":0},{"$f":"VIIITM!D88","v":0},{"$f":"VIIITM!F88","v":"00:00:00"},{"$f":"VIIITM!$A$2","v":"VIIITM"},null,{"$f":"VIIITM!E88","v":0},{"$f":"VIIITM!H88","v":0}]
[null,null,null,null,null,null,null,null,null,null,null,null,null,null,null,null,null,null,null,null,null,null,86,{"$f":"VIIITM!B89","v":0},{"$f":"VIIITM!C89","v":0},{"$f":"VIIITM!D89","v":0},{"$f":"VIIITM!F89","v":"00:00:00"},{"$f":"VIIITM!$A$2","v":"VIIITM"},null,{"$f":"VIIITM!E89","v":0},{"$f":"VIIITM!H89","v":0}]
[null,null,null,null,null,null,null,null,null,null,null,null,null,null,null,null,null,null,null,null,null,null,87,{"$f":"VIIITM!B90","v":0},{"$f":"VIIITM!C90","v":0},{"$f":"VIIITM!D90","v":0},{"$f":"VIIITM!F90","v":"00:00:00"},{"$f":"VIIITM!$A$2","v":"VIIITM"},null,{"$f":"VIIITM!E90","v":0},{"$f":"VIIITM!H90","v":0}]
[null,null,null,null,null,null,null,null,null,null,null,null,null,null,null,null,null,null,null,null,null,null,88,{"$f":"VIIITM!B91","v":0},{"$f":"VIIITM!C91","v":0},{"$f":"VIIITM!D91","v":0},{"$f":"VIIITM!F91","v":"00:00:00"},{"$f":"VIIITM!$A$2","v":"VIIITM"},null,{"$f":"VIIITM!E91","v":0},{"$f":"VIIITM!H91","v":0}]
[null,null,null,null,null,null,null,null,null,null,null,null,null,null,null,null,null,null,null,null,null,null,89,{"$f":"VIIITM!B92","v":0},{"$f":"VIIITM!C92","v":0},{"$f":"VIIITM!D92","v":0},{"$f":"VIIITM!F92","v":"00:00:00"},{"$f":"VIIITM!$A$2","v":"VIIITM"},null,{"$f":"VIIITM!E92","v":0},{"$f":"VIIITM!H92","v":0}]
[null,null,null,null,null,null,null,null,null,null,null,null,null,null,null,null,null,null,null,null,null,null,90,{"$f":"VIIITM!B93","v":0},{"$f":"VIIITM!C93","v":0},{"$f":"VIIITM!D93","v":0},{"$f":"VIIITM!F93","v":"00:00:00"},{"$f":"VIIITM!$A$2","v":"VIIITM"},null,{"$f":"VIIITM!E93","v":0},{"$f":"VIIITM!H93","v":0}]
[null,null,null,null,null,null,null,null,null,null,null,null,null,null,null,null,null,null,null,null,null,null,91,{"$f":"VIIITM!B94","v":0},{"$f":"VIIITM!C94","v":0},{"$f":"VIIITM!D94","v":0},{"$f":"VIIITM!F94","v":"00:00:00"},{"$f":"VIIITM!$A$2","v":"VIIITM"},null,{"$f":"VIIITM!E94","v":0},{"$f":"VIIITM!H94","v":0}]
[null,null,null,null,null,null,null,null,null,null,null,null,null,null,null,null,null,null,null,null,null,null,92,{"$f":"VIIITM!B95","v":0},{"$f":"VIIITM!C95","v":0},{"$f":"VIIITM!D95","v":0},{"$f":"VIIITM!F95","v":"00:00:00"},{"$f":"VIIITM!$A$2","v":"VIIITM"},null,{"$f":"VIIITM!E95","v":0},{"$f":"VIIITM!H95","v":0}]
[null,null,null,null,null,null,null,null,null,null,null,null,null,null,null,null,null,null,null,null,null,null,93,{"$f":"VIIITM!B96","v":0},{"$f":"VIIITM!C96","v":0},{"$f":"VIIITM!D96","v":0},{"$f":"VIIITM!F96","v":"00:00:00"},{"$f":"VIIITM!$A$2","v":"VIIITM"},null,{"$f":"VIIITM!E96","v":0},{"$f":"VIIITM!H96","v":0}]
[null,null,null,null,null,null,null,null,null,null,null,null,null,null,null,null,null,null,null,null,null,null,94,{"$f":"VIIITM!B97","v":0},{"$f":"VIIITM!C97","v":0},{"$f":"VIIITM!D97","v":0},{"$f":"VIIITM!F97","v":"00:00:00"},{"$f":"VIIITM!$A$2","v":"VIIITM"},null,{"$f":"VIIITM!E97","v":0},{"$f":"VIIITM!H97","v":0}]
[null,null,null,null,null,null,null,null,null,null,null,null,null,null,null,null,null,null,null,null,null,null,95,{"$f":"VIIITM!B98","v":0},{"$f":"VIIITM!C98","v":0},{"$f":"VIIITM!D98","v":0},{"$f":"VIIITM!F98","v":"00:00:00"},{"$f":"VIIITM!$A$2","v":"VIIITM"},null,{"$f":"VIIITM!E98","v":0},{"$f":"VIIITM!H98","v":0}]
[null,null,null,null,null,null,null,null,null,null,null,null,null,null,null,null,null,null,null,null,null,null,96,{"$f":"VIIITM!B99","v":0},{"$f":"VIIITM!C99","v":0},{"$f":"VIIITM!D99","v":0},{"$f":"VIIITM!F99","v":"00:00:00"},{"$f":"VIIITM!$A$2","v":"VIIITM"},null,{"$f":"VIIITM!E99","v":0},{"$f":"VIIITM!H99","v":0}]
[null,null,null,null,null,null,null,null,null,null,null,null,null,null,null,null,null,null,null,null,null,null,97,{"$f":"VIIITM!B100","v":0},{"$f":"VIIITM!C100","v":0},{"$f":"VIIITM!D100","v":0},{"$f":"VIIITM!F100","v":"00:00:00"},{"$f":"VIIITM!$A$2","v":"VIIITM"},null,{"$f":"VIIITM!E100","v":0},{"$f":"VIIITM!H100","v":0}]
[null,null,null,null,null,null,null,null,null,null,null,null,null,null,null,null,null,null,null,null,null,null,98,{"$f":"VIIITM!B101","v":0},{"$f":"VIIITM!C101","v":0},{"$f":"VIIITM!D101","v":0},{"$f":"VIIITM!F101","v":"00:00:00"},{"$f":"VIIITM!$A$2","v":"VIIITM"},null,{"$f":"VIIITM!E101","v":0},{"$f":"VIIITM!H101","v":0}]
[null,null,null,null,null,null,null,null,null,null,null,null,null,null,null,null,null,null,null,null,null,null,99,{"$f":"VIIITM!B102","v":0},{"$f":"VIIITM!C102","v":0},{"$f":"VIIITM!D102","v":0},{"$f":"VIIITM!F102","v":"00:00:00"},{"$f":"VIIITM!$A$2","v":"VIIITM"},null,{"$f":"VIIITM!E102","v":0},{"$f":"VIIITM!H102","v":0}]
[null,null,null,null,null,null,null,null,null,null,null,null,null,null,null,null,null,null,null,null,null,null,100,{"$f":"VIIITM!B103","v":0},{"$f":"VIIITM!C103","v":0},{"$f":"VIIITM!D103","v":0},{"$f":"VIIITM!F103","v":"00:00:00"},{"$f":"VIIITM!$A$2","v":"VIIITM"},null,{"$f":"VIIITM!E103","v":0},{"$f":"VIIITM!H103","v":0}]
[null,null,null,null,null,null,null,null,null,null,null,null,null,null,null,null,null,null,null,null,null,null,101,{"$f":"VIIITM!B104","v":0},{"$f":"VIIITM!C104","v":0},{"$f":"VIIITM!D104","v":0},{"$f":"VIIITM!F104","v":"00:00:00"},{"$f":"VIIITM!$A$2","v":"VIIITM"},null,{"$f":"VIIITM!E104","v":0},{"$f":"VIIITM!H104","v":0}]
[null,null,null,null,null,null,null,null,null,null,null,null,null,null,null,null,null,null,null,null,null,null,102,{"$f":"VIIITM!B105","v":0},{"$f":"VIIITM!C105","v":0},{"$f":"VIIITM!D105","v":0},{"$f":"VIIITM!F105","v":"00:00:00"},{"$f":"VIIITM!$A$2","v":"VIIITM"},null,{"$f":"VIIITM!E105","v":0},{"$f":"VIIITM!H105","v":0}]
[null,null,null,null,null,null,null,null,null,null,null,null,null,null,null,null,null,null,null,null,null,null,103,{"$f":"VIIITM!B106","v":0},{"$f":"VIIITM!C106","v":0},{"$f":"VIIITM!D106","v":0},{"$f":"VIIITM!F106","v":"00:00:00"},{"$f":"VIIITM!$A$2","v":"VIIITM"},null,{"$f":"VIIITM!E106","v":0},{"$f":"VIIITM!H106","v":0}]
[null,null,null,null,null,null,null,null,null,null,null,null,null,null,null,null,null,null,null,null,null,null,104,{"$f":"VIIITM!B107","v":0},{"$f":"VIIITM!C107","v":0},{"$f":"VIIITM!D107","v":0},{"$f":"VIIITM!F107","v":"00:00:00"},{"$f":"VIIITM!$A$2","v":"VIIITM"},null,{"$f":"VIIITM!E107","v":0},{"$f":"VIIITM!H107","v":0}]
[null,null,null,null,null,null,null,null,null,null,null,null,null,null,null,null,null,null,null,null,null,null,105,{"$f":"VIIITM!B108","v":0},{"$f":"VIIITM!C108","v":0},{"$f":"VIIITM!D108","v":0},{"$f":"VIIITM!F108","v":"00:00:00"},{"$f":"VIIITM!$A$2","v":"VIIITM"},null,{"$f":"VIIITM!E108","v":0},{"$f":"VIIITM!H108","v":0}]
[null,null,null,null,null,null,null,null,null,null,null,null,null,null,null,null,null,null,null,null,null,null,106,{"$f":"VIIITM!B109","v":0},{"$f":"VIIITM!C109","v":0},{"$f":"VIIITM!D109","v":0},{"$f":"VIIITM!F109","v":"00:00:00"},{"$f":"VIIITM!$A$2","v":"VIIITM"},null,{"$f":"VIIITM!E109","v":0},{"$f":"VIIITM!H109","v":0}]
[null,null,null,null,null,null,null,null,null,null,null,null,null,null,null,null,null,null,null,null,null,null,107,{"$f":"VIIITM!B110","v":0},{"$f":"VIIITM!C110","v":0},{"$f":"VIIITM!D110","v":0},{"$f":"VIIITM!F110","v":"00:00:00"},{"$f":"VIIITM!$A$2","v":"VIIITM"},null,{"$f":"VIIITM!E110","v":0},{"$f":"VIIITM!H110","v":0}]
[null,null,null,null,null,null,null,null,null,null,null,null,null,null,null,null,null,null,null,null,null,null,108,{"$f":"VIIITM!B111","v":0},{"$f":"VIIITM!C111","v":0},{"$f":"VIIITM!D111","v":0},{"$f":"VIIITM!F111","v":"00:00:00"},{"$f":"VIIITM!$A$2","v":"VIIITM"},null,{"$f":"VIIITM!E111","v":0},{"$f":"VIIITM!H111","v":0}]
[null,null,null,null,null,null,null,null,null,null,null,null,null,null,null,null,null,null,null,null,null,null,109,{"$f":"VIIITM!B112","v":0},{"$f":"VIIITM!C112","v":0},{"$f":"VIIITM!D112","v":0},{"$f":"VIIITM!F112","v":"00:00:00"},{"$f":"VIIITM!$A$2","v":"VIIITM"},null,{"$f":"VIIITM!E112","v":0},{"$f":"VIIITM!H112","v":0}]
[null,null,null,null,null,null,null,null,null,null,null,null,null,null,null,null,null,null,null,null,null,null,110,{"$f":"VIIITM!B113","v":0},{"$f":"VIIITM!C113","v":0},{"$f":"VIIITM!D113","v":0},{"$f":"VIIITM!F113","v":"00:00:00"},{"$f":"VIIITM!$A$2","v":"VIIITM"},null,{"$f":"VIIITM!E113","v":0},{"$f":"VIIITM!H113","v":0}]
[null,null,null,null,null,null,null,null,null,null,null,null,null,null,null,null,null,null,null,null,null,null,111,{"$f":"VIIITM!B114","v":0},{"$f":"VIIITM!C114","v":0},{"$f":"VIIITM!D114","v":0},{"$f":"VIIITM!F114","v":"00:00:00"},{"$f":"VIIITM!$A$2","v":"VIIITM"},null,{"$f":"VIIITM!E114","v":0},{"$f":"VIIITM!H114","v":0}]
[null,null,null,null,null,null,null,null,null,null,null,null,null,null,null,null,null,null,null,null,null,null,112,{"$f":"VIIITM!B115","v":0},{"$f":"VIIITM!C115","v":0},{"$f":"VIIITM!D115","v":0},{"$f":"VIIITM!F115","v":"00:00:00"},{"$f":"VIIITM!$A$2","v":"VIIITM"},null,{"$f":"VIIITM!E115","v":0},{"$f":"VIIITM!H115","v":0}]
[null,null,null,null,null,null,null,null,null,null,null,null,null,null,null,null,null,null,null,null,null,null,113,{"$f":"VIIITM!B116","v":0},{"$f":"VIIITM!C116","v":0},{"$f":"VIIITM!D116","v":0},{"$f":"VIIITM!F116","v":"00:00:00"},{"$f":"VIIITM!$A$2","v":"VIIITM"},null,{"$f":"VIIITM!E116","v":0},{"$f":"VIIITM!H116","v":0}]
[null,null,null,null,null,null,null,null,null,null,null,null,null,null,null,null,null,null,null,null,null,null,114,{"$f":"VIIITM!B117","v":0},{"$f":"VIIITM!C117","v":0},{"$f":"VIIITM!D117","v":0},{"$f":"VIIITM!F117","v":"00:00:00"},{"$f":"VIIITM!$A$2","v":"VIIITM"},null,{"$f":"VIIITM!E117","v":0},{"$f":"VIIITM!H117","v":0}]
[null,null,null,null,null,null,null,null,null,null,null,null,null,null,null,null,null,null,null,null,null,null,115,{"$f":"VIIITM!B118","v":0},{"$f":"VIIITM!C118","v":0},{"$f":"VIIITM!D118","v":0},{"$f":"VIIITM!F118","v":"00:00:00"},{"$f":"VIIITM!$A$2","v":"VIIITM"},null,{"$f":"VIIITM!E118","v":0},{"$f":"VIIITM!H118","v":0}]
[null,null,null,null,null,null,null,null,null,null,null,null,null,null,null,null,null,null,null,null,null,null,116,{"$f":"VIIITM!B119","v":0},{"$f":"VIIITM!C119","v":0},{"$f":"VIIITM!D119","v":0},{"$f":"VIIITM!F119","v":"00:00:00"},{"$f":"VIIITM!$A$2","v":"VIIITM"},null,{"$f":"VIIITM!E119","v":0},{"$f":"VIIITM!H119","v":0}]
[null,null,null,null,null,null,null,null,null,null,null,null,null,null,null,null,null,null,null,null,null,null,117,{"$f":"VIIITM!B120","v":0},{"$f":"VIIITM!C120","v":0},{"$f":"VIIITM!D120","v":0},{"$f":"VIIITM!F120","v":"00:00:00"},{"$f":"VIIITM!$A$2","v":"VIIITM"},null,{"$f":"VIIITM!E120","v":0},{"$f":"VIIITM!H120","v":0}]
[null,null,null,null,null,null,null,null,null,null,null,null,null,null,null,null,null,null,null,null,null,null,118,{"$f":"VIIITM!B121","v":0},{"$f":"VIIITM!C121","v":0},{"$f":"VIIITM!D121","v":0},{"$f":"VIIITM!F121","v":"00:00:00"},{"$f":"VIIITM!$A$2","v":"VIIITM"},null,{"$f":"VIIITM!E121","v":0},{"$f":"VIIITM!H121","v":0}]
[null,null,null,null,null,null,null,null,null,null,null,null,null,null,null,null,null,null,null,null,null,null,119,{"$f":"VIIITM!B122","v":0},{"$f":"VIIITM!C122","v":0},{"$f":"VIIITM!D122","v":0},{"$f":"VIIITM!F122","v":"00:00:00"},{"$f":"VIIITM!$A$2","v":"VIIITM"},null,{"$f":"VIIITM!E122","v":0},{"$f":"VIIITM!H122","v":0}]
[null,null,null,null,null,null,null,null,null,null,null,null,null,null,null,null,null,null,null,null,null,null,120,{"$f":"VIIITM!B123","v":0},{"$f":"VIIITM!C123","v":0},{"$f":"VIIITM!D123","v":0},{"$f":"VIIITM!F123","v":"00:00:00"},{"$f":"VIIITM!$A$2","v":"VIIITM"},null,{"$f":"VIIITM!E123","v":0},{"$f":"VIIITM!H123","v":0}]
[null,null,null,null,null,null,null,null,null,null,null,null,null,null,null,null,null,null,null,null,null,null,121,{"$f":"VIIITM!B124","v":0},{"$f":"VIIITM!C124","v":0},{"$f":"VIIITM!D124","v":0},{"$f":"VIIITM!F124","v":"00:00:00"},{"$f":"VIIITM!$A$2","v":"VIIITM"},null,{"$f":"VIIITM!E124","v":0},{"$f":"VIIITM!H124","v":0}]
[null,null,null,null,null,null,null,null,null,null,null,null,null,null,null,null,null,null,null,null,null,null,122,{"$f":"VIIITM!B125","v":0},{"$f":"VIIITM!C125","v":0},{"$f":"VIIITM!D125","v":0},{"$f":"VIIITM!F125","v":"00:00:00"},{"$f":"VIIITM!$A$2","v":"VIIITM"},null,{"$f":"VIIITM!E125","v":0},{"$f":"VIIITM!H125","v":0}]
[null,null,null,null,null,null,null,null,null,null,null,null,null,null,null,null,null,null,null,null,null,null,123,{"$f":"VIIITM!B126","v":0},{"$f":"VIIITM!C126","v":0},{"$f":"VIIITM!D126","v":0},{"$f":"VIIITM!F126","v":"00:00:00"},{"$f":"VIIITM!$A$2","v":"VIIITM"},null,{"$f":"VIIITM!E126","v":0},{"$f":"VIIITM!H126","v":0}]
[null,null,null,null,null,null,null,null,null,null,null,null,null,null,null,null,null,null,null,null,null,null,124,{"$f":"VIIITM!B127","v":0},{"$f":"VIIITM!C127","v":0},{"$f":"VIIITM!D127","v":0},{"$f":"VIIITM!F127","v":"00:00:00"},{"$f":"VIIITM!$A$2","v":"VIIITM"},null,{"$f":"VIIITM!E127","v":0},{"$f":"VIIITM!H127","v":0}]
[null,null,null,null,null,null,null,null,null,null,null,null,null,null,null,null,null,null,null,null,null,null,125,{"$f":"VIIITM!B128","v":0},{"$f":"VIIITM!C128","v":0},{"$f":"VIIITM!D128","v":0},{"$f":"VIIITM!F128","v":"00:00:00"},{"$f":"VIIITM!$A$2","v":"VIIITM"},null,{"$f":"VIIITM!E128","v":0},{"$f":"VIIITM!H128","v":0}]
[null,null,null,null,null,null,null,null,null,null,null,null,null,null,null,null,null,null,null,null,null,null,126,{"$f":"VIIITM!B129","v":0},{"$f":"VIIITM!C129","v":0},{"$f":"VIIITM!D129","v":0},{"$f":"VIIITM!F129","v":"00:00:00"},{"$f":"VIIITM!$A$2","v":"VIIITM"},null,{"$f":"VIIITM!E129","v":0},{"$f":"VIIITM!H129","v":0}]
[null,null,null,null,null,null,null,null,null,null,null,null,null,null,null,null,null,null,null,null,null,null,127,{"$f":"VIIITM!B130","v":0},{"$f":"VIIITM!C130","v":0},{"$f":"VIIITM!D130","v":0},{"$f":"VIIITM!F130","v":"00:00:00"},{"$f":"VIIITM!$A$2","v":"VIIITM"},null,{"$f":"VIIITM!E130","v":0},{"$f":"VIIITM!H130","v":0}]
[null,null,null,null,null,null,null,null,null,null,null,null,null,null,null,null,null,null,null,null,null,null,128,{"$f":"VIIITM!B131","v":0},{"$f":"VIIITM!C131","v":0},{"$f":"VIIITM!D131","v":0},{"$f":"VIIITM!F131","v":"00:00:00"},{"$f":"VIIITM!$A$2","v":"VIIITM"},null,{"$f":"VIIITM!E131","v":0},{"$f":"VIIITM!H131","v":0}]
[null,null,null,null,null,null,null,null,null,null,null,null,null,null,null,null,null,null,null,null,null,null,129,{"$f":"VIIITM!B132","v":0},{"$f":"VIIITM!C132","v":0},{"$f":"VIIITM!D132","v":0},{"$f":"VIIITM!F132","v":"00:00:00"},{"$f":"VIIITM!$A$2","v":"VIIITM"},null,{"$f":"VIIITM!E132","v":0},{"$f":"VIIITM!H132","v":0}]
[null,null,null,null,null,null,null,null,null,null,null,null,null,null,null,null,null,null,null,null,null,null,130,{"$f":"VIIITM!B133","v":0},{"$f":"VIIITM!C133","v":0},{"$f":"VIIITM!D133","v":0},{"$f":"VIIITM!F133","v":"00:00:00"},{"$f":"VIIITM!$A$2","v":"VIIITM"},null,{"$f":"VIIITM!E133","v":0},{"$f":"VIIITM!H133","v":0}]
[null,null,null,null,null,null,null,null,null,null,null,null,null,null,null,null,null,null,null,null,null,null,131,{"$f":"VIIITM!B134","v":0},{"$f":"VIIITM!C134","v":0},{"$f":"VIIITM!D134","v":0},{"$f":"VIIITM!F134","v":"00:00:00"},{"$f":"VIIITM!$A$2","v":"VIIITM"},null,{"$f":"VIIITM!E134","v":0},{"$f":"VIIITM!H134","v":0}]
[null,null,null,null,null,null,null,null,null,null,null,null,null,null,null,null,null,null,null,null,null,null,132,{"$f":"VIIITM!B135","v":0},{"$f":"VIIITM!C135","v":0},{"$f":"VIIITM!D135","v":0},{"$f":"VIIITM!F135","v":"00:00:00"},{"$f":"VIIITM!$A$2","v":"VIIITM"},null,{"$f":"VIIITM!E135","v":0},{"$f":"VIIITM!H135","v":0}]
[null,null,null,null,null,null,null,null,null,null,null,null,null,null,null,null,null,null,null,null,null,null,133,{"$f":"VIIITM!B136","v":0},{"$f":"VIIITM!C136","v":0},{"$f":"VIIITM!D136","v":0},{"$f":"VIIITM!F136","v":"00:00:00"},{"$f":"VIIITM!$A$2","v":"VIIITM"},null,{"$f":"VIIITM!E136","v":0},{"$f":"VIIITM!H136","v":0}]
[null,null,null,null,null,null,null,null,null,null,null,null,null,null,null,null,null,null,null,null,null,null,134,{"$f":"VIIITM!B137","v":0},{"$f":"VIIITM!C137","v":0},{"$f":"VIIITM!D137","v":0},{"$f":"VIIITM!F137","v":"00:00:00"},{"$f":"VIIITM!$A$2","v":"VIIITM"},null,{"$f":"VIIITM!E137","v":0},{"$f":"VIIITM!H137","v":0}]
[null,null,null,null,null,null,null,null,null,null,null,null,null,null,null,null,null,null,null,null,null,null,135,{"$f":"VIIITM!B138","v":0},{"$f":"VIIITM!C138","v":0},{"$f":"VIIITM!D138","v":0},{"$f":"VIIITM!F138","v":"00:00:00"},{"$f":"VIIITM!$A$2","v":"VIIITM"},null,{"$f":"VIIITM!E138","v":0},{"$f":"VIIITM!H138","v":0}]
[null,null,null,null,null,null,null,null,null,null,null,null,null,null,null,null,null,null,null,null,null,null,136,{"$f":"VIIITM!B139","v":0},{"$f":"VIIITM!C139","v":0},{"$f":"VIIITM!D139","v":0},{"$f":"VIIITM!F139","v":"00:00:00"},{"$f":"VIIITM!$A$2","v":"VIIITM"},null,{"$f":"VIIITM!E139","v":0},{"$f":"VIIITM!H139","v":0}]
[null,null,null,null,null,null,null,null,null,null,null,null,null,null,null,null,null,null,null,null,null,null,137,{"$f":"VIIITM!B140","v":0},{"$f":"VIIITM!C140","v":0},{"$f":"VIIITM!D140","v":0},{"$f":"VIIITM!F140","v":"00:00:00"},{"$f":"VIIITM!$A$2","v":"VIIITM"},null,{"$f":"VIIITM!E140","v":0},{"$f":"VIIITM!H140","v":0}]
[null,null,null,null,null,null,null,null,null,null,null,null,null,null,null,null,null,null,null,null,null,null,138,{"$f":"VIIITM!B141","v":0},{"$f":"VIIITM!C141","v":0},{"$f":"VIIITM!D141","v":0},{"$f":"VIIITM!F141","v":"00:00:00"},{"$f":"VIIITM!$A$2","v":"VIIITM"},null,{"$f":"VIIITM!E141","v":0},{"$f":"VIIITM!H141","v":0}]
[null,null,null,null,null,null,null,null,null,null,null,null,null,null,null,null,null,null,null,null,null,null,139,{"$f":"VIIITM!B142","v":0},{"$f":"VIIITM!C142","v":0},{"$f":"VIIITM!D142","v":0},{"$f":"VIIITM!F142","v":"00:00:00"},{"$f":"VIIITM!$A$2","v":"VIIITM"},null,{"$f":"VIIITM!E142","v":0},{"$f":"VIIITM!H142","v":0}]
[null,null,null,null,null,null,null,null,null,null,null,null,null,null,null,null,null,null,null,null,null,null,140,{"$f":"VIIITM!B143","v":0},{"$f":"VIIITM!C143","v":0},{"$f":"VIIITM!D143","v":0},{"$f":"VIIITM!F143","v":"00:00:00"},{"$f":"VIIITM!$A$2","v":"VIIITM"},null,{"$f":"VIIITM!E143","v":0},{"$f":"VIIITM!H143","v":0}]
[null,null,null,null,null,null,null,null,null,null,null,null,null,null,null,null,null,null,null,null,null,null,141,{"$f":"VIIITM!B144","v":0},{"$f":"VIIITM!C144","v":0},{"$f":"VIIITM!D144","v":0},{"$f":"VIIITM!F144","v":"00:00:00"},{"$f":"VIIITM!$A$2","v":"VIIITM"},null,{"$f":"VIIITM!E144","v":0},{"$f":"VIIITM!H144","v":0}]
[null,null,null,null,null,null,null,null,null,null,null,null,null,null,null,null,null,null,null,null,null,null,142,{"$f":"VIIITM!B145","v":0},{"$f":"VIIITM!C145","v":0},{"$f":"VIIITM!D145","v":0},{"$f":"VIIITM!F145","v":"00:00:00"},{"$f":"VIIITM!$A$2","v":"VIIITM"},null,{"$f":"VIIITM!E145","v":0},{"$f":"VIIITM!H145","v":0}]
[null,null,null,null,null,null,null,null,null,null,null,null,null,null,null,null,null,null,null,null,null,null,143,{"$f":"VIIITM!B146","v":0},{"$f":"VIIITM!C146","v":0},{"$f":"VIIITM!D146","v":0},{"$f":"VIIITM!F146","v":"00:00:00"},{"$f":"VIIITM!$A$2","v":"VIIITM"},null,{"$f":"VIIITM!E146","v":0},{"$f":"VIIITM!H146","v":0}]
[null,null,null,null,null,null,null,null,null,null,null,null,null,null,null,null,null,null,null,null,null,null,144,{"$f":"VIIITM!B147","v":0},{"$f":"VIIITM!C147","v":0},{"$f":"VIIITM!D147","v":0},{"$f":"VIIITM!F147","v":"00:00:00"},{"$f":"VIIITM!$A$2","v":"VIIITM"},null,{"$f":"VIIITM!E147","v":0},{"$f":"VIIITM!H147","v":0}]
[null,null,null,null,null,null,null,null,null,null,null,null,null,null,null,null,null,null,null,null,null,null,145,{"$f":"VIIITM!B148","v":0},{"$f":"VIIITM!C148","v":0},{"$f":"VIIITM!D148","v":0},{"$f":"VIIITM!F148","v":"00:00:00"},{"$f":"VIIITM!$A$2","v":"VIIITM"},null,{"$f":"VIIITM!E148","v":0},{"$f":"VIIITM!H148","v":0}]
[null,null,null,null,null,null,null,null,null,null,null,null,null,null,null,null,null,null,null,null,null,null,146,{"$f":"VIIITM!B149","v":0},{"$f":"VIIITM!C149","v":0},{"$f":"VIIITM!D149","v":0},{"$f":"VIIITM!F149","v":"00:00:00"},{"$f":"VIIITM!$A$2","v":"VIIITM"},null,{"$f":"VIIITM!E149","v":0},{"$f":"VIIITM!H149","v":0}]
[null,null,null,null,null,null,null,null,null,null,null,null,null,null,null,null,null,null,null,null,null,null,147,{"$f":"VIIITM!B150","v":0},{"$f":"VIIITM!C150","v":0},{"$f":"VIIITM!D150","v":0},{"$f":"VIIITM!F150","v":"00:00:00"},{"$f":"VIIITM!$A$2","v":"VIIITM"},null,{"$f":"VIIITM!E150","v":0},{"$f":"VIIITM!H150","v":0}]
[null,null,null,null,null,null,null,null,null,null,null,null,null,null,null,null,null,null,null,null,null,null,148,{"$f":"VIIITM!B151","v":0},{"$f":"VIIITM!C151","v":0},{"$f":"VIIITM!D151","v":0},{"$f":"VIIITM!F151","v":"00:00:00"},{"$f":"VIIITM!$A$2","v":"VIIITM"},null,{"$f":"VIIITM!E151","v":0},{"$f":"VIIITM!H151","v":0}]
[null,null,null,null,null,null,null,null,null,null,null,null,null,null,null,null,null,null,null,null,null,null,149,{"$f":"VIIITM!B152","v":0},{"$f":"VIIITM!C152","v":0},{"$f":"VIIITM!D152","v":0},{"$f":"VIIITM!F152","v":"00:00:00"},{"$f":"VIIITM!$A$2","v":"VIIITM"},null,{"$f":"VIIITM!E152","v":0},{"$f":"VIIITM!H152","v":0}]
[null,null,null,null,null,null,null,null,null,null,null,null,null,null,null,null,null,null,null,null,null,null,150,{"$f":"VIIITM!B153","v":0},{"$f":"VIIITM!C153","v":0},{"$f":"VIIITM!D153","v":0},{"$f":"VIIITM!F153","v":"00:00:00"},{"$f":"VIIITM!$A$2","v":"VIIITM"},null,{"$f":"VIIITM!E153","v":0},{"$f":"VIIITM!H153","v":0}]
[]
[null,null,null,null,null,null,null,null,null,null,null,null,null,null,null,null,null,null,null,null,null,null,1,{"$f":"IXTM!B4","v":0},{"$f":"IXTM!C4","v":0},{"$f":"IXTM!D4","v":0},{"$f":"IXTM!F4","v":"00:00:00"},{"$f":"IXTM!$A$2","v":"IXTM"},null,{"$f":"IXTM!E4","v":0},{"$f":"IXTM!H4","v":0}]
[null,null,null,null,null,null,null,null,null,null,null,null,null,null,null,null,null,null,null,null,null,null,2,{"$f":"IXTM!B5","v":0},{"$f":"IXTM!C5","v":0},{"$f":"IXTM!D5","v":0},{"$f":"IXTM!F5","v":"00:00:00"},{"$f":"IXTM!$A$2","v":"IXTM"},null,{"$f":"IXTM!E5","v":0},{"$f":"IXTM!H5","v":0}]
[null,null,null,null,null,null,null,null,null,null,null,null,null,null,null,null,null,null,null,null,null,null,3,{"$f":"IXTM!B6","v":0},{"$f":"IXTM!C6","v":0},{"$f":"IXTM!D6","v":0},{"$f":"IXTM!F6","v":"00:00:00"},{"$f":"IXTM!$A$2","v":"IXTM"},null,{"$f":"IXTM!E6","v":0},{"$f":"IXTM!H6","v":0}]
[null,null,null,null,null,null,null,null,null,null,null,null,null,null,null,null,null,null,null,null,null,null,4,{"$f":"IXTM!B7","v":0},{"$f":"IXTM!C7","v":0},{"$f":"IXTM!D7","v":0},{"$f":"IXTM!F7","v":"00:00:00"},{"$f":"IXTM!$A$2","v":"IXTM"},null,{"$f":"IXTM!E7","v":0},{"$f":"IXTM!H7","v":0}]
[null,null,null,null,null,null,null,null,null,null,null,null,null,null,null,null,null,null,null,null,null,null,5,{"$f":"IXTM!B8","v":0},{"$f":"IXTM!C8","v":0},{"$f":"IXTM!D8","v":0},{"$f":"IXTM!F8","v":"00:00:00"},{"$f":"IXTM!$A$2","v":"IXTM"},null,{"$f":"IXTM!E8","v":0},{"$f":"IXTM!H8","v":0}]
[null,null,null,null,null,null,null,null,null,null,null,null,null,null,null,null,null,null,null,null,null,null,6,{"$f":"IXTM!B9","v":0},{"$f":"IXTM!C9","v":0},{"$f":"IXTM!D9","v":0},{"$f":"IXTM!F9","v":"00:00:00"},{"$f":"IXTM!$A$2","v":"IXTM"},null,{"$f":"IXTM!E9","v":0},{"$f":"IXTM!H9","v":0}]
[null,null,null,null,null,null,null,null,null,null,null,null,null,null,null,null,null,null,null,null,null,null,7,{"$f":"IXTM!B10","v":0},{"$f":"IXTM!C10","v":0},{"$f":"IXTM!D10","v":0},{"$f":"IXTM!F10","v":"00:00:00"},{"$f":"IXTM!$A$2","v":"IXTM"},null,{"$f":"IXTM!E10","v":0},{"$f":"IXTM!H10","v":0}]
[null,null,null,null,null,null,null,null,null,null,null,null,null,null,null,null,null,null,null,null,null,null,8,{"$f":"IXTM!B11","v":0},{"$f":"IXTM!C11","v":0},{"$f":"IXTM!D11","v":0},{"$f":"IXTM!F11","v":"00:00:00"},{"$f":"IXTM!$A$2","v":"IXTM"},null,{"$f":"IXTM!E11","v":0},{"$f":"IXTM!H11","v":0}]
[null,null,null,null,null,null,null,null,null,null,null,null,null,null,null,null,null,null,null,null,null,null,9,{"$f":"IXTM!B12","v":0},{"$f":"IXTM!C12","v":0},{"$f":"IXTM!D12","v":0},{"$f":"IXTM!F12","v":"00:00:00"},{"$f":"IXTM!$A$2","v":"IXTM"},null,{"$f":"IXTM!E12","v":0},{"$f":"IXTM!H12","v":0}]
[null,null,null,null,null,null,null,null,null,null,null,null,null,null,null,null,null,null,null,null,null,null,10,{"$f":"IXTM!B13","v":0},{"$f":"IXTM!C13","v":0},{"$f":"IXTM!D13","v":0},{"$f":"IXTM!F13","v":"00:00:00"},{"$f":"IXTM!$A$2","v":"IXTM"},null,{"$f":"IXTM!E13","v":0},{"$f":"IXTM!H13","v":0}]
[null,null,null,null,null,null,null,null,null,null,null,null,null,null,null,null,null,null,null,null,null,null,11,{"$f":"IXTM!B14","v":0},{"$f":"IXTM!C14","v":0},{"$f":"IXTM!D14","v":0},{"$f":"IXTM!F14","v":"00:00:00"},{"$f":"IXTM!$A$2","v":"IXTM"},null,{"$f":"IXTM!E14","v":0},{"$f":"IXTM!H14","v":0}]
[null,null,null,null,null,null,null,null,null,null,null,null,null,null,null,null,null,null,null,null,null,null,12,{"$f":"IXTM!B15","v":0},{"$f":"IXTM!C15","v":0},{"$f":"IXTM!D15","v":0},{"$f":"IXTM!F15","v":"00:00:00"},{"$f":"IXTM!$A$2","v":"IXTM"},null,{"$f":"IXTM!E15","v":0},{"$f":"IXTM!H15","v":0}]
[null,null,null,null,null,null,null,null,null,null,null,null,null,null,null,null,null,null,null,null,null,null,13,{"$f":"IXTM!B16","v":0},{"$f":"IXTM!C16","v":0},{"$f":"IXTM!D16","v":0},{"$f":"IXTM!F16","v":"00:00:00"},{"$f":"IXTM!$A$2","v":"IXTM"},null,{"$f":"IXTM!E16","v":0},{"$f":"IXTM!H16","v":0}]
[null,null,null,null,null,null,null,null,null,null,null,null,null,null,null,null,null,null,null,null,null,null,14,{"$f":"IXTM!B17","v":0},{"$f":"IXTM!C17","v":0},{"$f":"IXTM!D17","v":0},{"$f":"IXTM!F17","v":"00:00:00"},{"$f":"IXTM!$A$2","v":"IXTM"},null,{"$f":"IXTM!E17","v":0},{"$f":"IXTM!H17","v":0}]
[null,null,null,null,null,null,null,null,null,null,null,null,null,null,null,null,null,null,null,null,null,null,15,{"$f":"IXTM!B18","v":0},{"$f":"IXTM!C18","v":0},{"$f":"IXTM!D18","v":0},{"$f":"IXTM!F18","v":"00:00:00"},{"$f":"IXTM!$A$2","v":"IXTM"},null,{"$f":"IXTM!E18","v":0},{"$f":"IXTM!H18","v":0}]
[null,null,null,null,null,null,null,null,null,null,null,null,null,null,null,null,null,null,null,null,null,null,16,{"$f":"IXTM!B19","v":0},{"$f":"IXTM!C19","v":0},{"$f":"IXTM!D19","v":0},{"$f":"IXTM!F19","v":"00:00:00"},{"$f":"IXTM!$A$2","v":"IXTM"},null,{"$f":"IXTM!E19","v":0},{"$f":"IXTM!H19","v":0}]
[null,null,null,null,null,null,null,null,null,null,null,null,null,null,null,null,null,null,null,null,null,null,17,{"$f":"IXTM!B20","v":0},{"$f":"IXTM!C20","v":0},{"$f":"IXTM!D20","v":0},{"$f":"IXTM!F20","v":"00:00:00"},{"$f":"IXTM!$A$2","v":"IXTM"},null,{"$f":"IXTM!E20","v":0},{"$f":"IXTM!H20","v":0}]
[null,null,null,null,null,null,null,null,null,null,null,null,null,null,null,null,null,null,null,null,null,null,18,{"$f":"IXTM!B21","v":0},{"$f":"IXTM!C21","v":0},{"$f":"IXTM!D21","v":0},{"$f":"IXTM!F21","v":"00:00:00"},{"$f":"IXTM!$A$2","v":"IXTM"},null,{"$f":"IXTM!E21","v":0},{"$f":"IXTM!H21","v":0}]
[null,null,null,null,null,null,null,null,null,null,null,null,null,null,null,null,null,null,null,null,null,null,19,{"$f":"IXTM!B22","v":0},{"$f":"IXTM!C22","v":0},{"$f":"IXTM!D22","v":0},{"$f":"IXTM!F22","v":"00:00:00"},{"$f":"IXTM!$A$2","v":"IXTM"},null,{"$f":"IXTM!E22","v":0},{"$f":"IXTM!H22","v":0}]
[null,null,null,null,null,null,null,null,null,null,null,null,null,null,null,null,null,null,null,null,null,null,20,{"$f":"IXTM!B23","v":0},{"$f":"IXTM!C23","v":0},{"$f":"IXTM!D23","v":0},{"$f":"IXTM!F23","v":"00:00:00"},{"$f":"IXTM!$A$2","v":"IXTM"},null,{"$f":"IXTM!E23","v":0},{"$f":"IXTM!H23","v":0}]
[null,null,null,null,null,null,null,null,null,null,null,null,null,null,null,null,null,null,null,null,null,null,21,{"$f":"IXTM!B24","v":0},{"$f":"IXTM!C24","v":0},{"$f":"IXTM!D24","v":0},{"$f":"IXTM!F24","v":"00:00:00"},{"$f":"IXTM!$A$2","v":"IXTM"},null,{"$f":"IXTM!E24","v":0},{"$f":"IXTM!H24","v":0}]
[null,null,null,null,null,null,null,null,null,null,null,null,null,null,null,null,null,null,null,null,null,null,22,{"$f":"IXTM!B25","v":0},{"$f":"IXTM!C25","v":0},{"$f":"IXTM!D25","v":0},{"$f":"IXTM!F25","v":"00:00:00"},{"$f":"IXTM!$A$2","v":"IXTM"},null,{"$f":"IXTM!E25","v":0},{"$f":"IXTM!H25","v":0}]
[null,null,null,null,null,null,null,null,null,null,null,null,null,null,null,null,null,null,null,null,null,null,23,{"$f":"IXTM!B26","v":0},{"$f":"IXTM!C26","v":0},{"$f":"IXTM!D26","v":0},{"$f":"IXTM!F26","v":"00:00:00"},{"$f":"IXTM!$A$2","v":"IXTM"},null,{"$f":"IXTM!E26","v":0},{"$f":"IXTM!H26","v":0}]
[null,null,null,null,null,null,null,null,null,null,null,null,null,null,null,null,null,null,null,null,null,null,24,{"$f":"IXTM!B27","v":0},{"$f":"IXTM!C27","v":0},{"$f":"IXTM!D27","v":0},{"$f":"IXTM!F27","v":"00:00:00"},{"$f":"IXTM!$A$2","v":"IXTM"},null,{"$f":"IXTM!E27","v":0},{"$f":"IXTM!H27","v":0}]
[null,null,null,null,null,null,null,null,null,null,null,null,null,null,null,null,null,null,null,null,null,null,25,{"$f":"IXTM!B28","v":0},{"$f":"IXTM!C28","v":0},{"$f":"IXTM!D28","v":0},{"$f":"IXTM!F28","v":"00:00:00"},{"$f":"IXTM!$A$2","v":"IXTM"},null,{"$f":"IXTM!E28","v":0},{"$f":"IXTM!H28","v":0}]
[null,null,null,null,null,null,null,null,null,null,null,null,null,null,null,null,null,null,null,null,null,null,26,{"$f":"IXTM!B29","v":0},{"$f":"IXTM!C29","v":0},{"$f":"IXTM!D29","v":0},{"$f":"IXTM!F29","v":"00:00:00"},{"$f":"IXTM!$A$2","v":"IXTM"},null,{"$f":"IXTM!E29","v":0},{"$f":"IXTM!H29","v":0}]
[null,null,null,null,null,null,null,null,null,null,null,null,null,null,null,null,null,null,null,null,null,null,27,{"$f":"IXTM!B30","v":0},{"$f":"IXTM!C30","v":0},{"$f":"IXTM!D30","v":0},{"$f":"IXTM!F30","v":"00:00:00"},{"$f":"IXTM!$A$2","v":"IXTM"},null,{"$f":"IXTM!E30","v":0},{"$f":"IXTM!H30","v":0}]
[null,null,null,null,null,null,null,null,null,null,null,null,null,null,null,null,null,null,null,null,null,null,28,{"$f":"IXTM!B31","v":0},{"$f":"IXTM!C31","v":0},{"$f":"IXTM!D31","v":0},{"$f":"IXTM!F31","v":"00:00:00"},{"$f":"IXTM!$A$2","v":"IXTM"},null,{"$f":"IXTM!E31","v":0},{"$f":"IXTM!H31","v":0}]
[null,null,null,null,null,null,null,null,null,null,null,null,null,null,null,null,null,null,null,null,null,null,29,{"$f":"IXTM!B32","v":0},{"$f":"IXTM!C32","v":0},{"$f":"IXTM!D32","v":0},{"$f":"IXTM!F32","v":"00:00:00"},{"$f":"IXTM!$A$2","v":"IXTM"},null,{"$f":"IXTM!E32","v":0},{"$f":"IXTM!H32","v":0}]
[null,null,null,null,null,null,null,null,null,null,null,null,null,null,null,null,null,null,null,null,null,null,30,{"$f":"IXTM!B33","v":0},{"$f":"IXTM!C33","v":0},{"$f":"IXTM!D33","v":0},{"$f":"IXTM!F33","v":"00:00:00"},{"$f":"IXTM!$A$2","v":"IXTM"},null,{"$f":"IXTM!E33","v":0},{"$f":"IXTM!H33","v":0}]
[null,null,null,null,null,null,null,null,null,null,null,null,null,null,null,null,null,null,null,null,null,null,31,{"$f":"IXTM!B34","v":0},{"$f":"IXTM!C34","v":0},{"$f":"IXTM!D34","v":0},{"$f":"IXTM!F34","v":"00:00:00"},{"$f":"IXTM!$A$2","v":"IXTM"},null,{"$f":"IXTM!E34","v":0},{"$f":"IXTM!H34","v":0}]
[null,null,null,null,null,null,null,null,null,null,null,null,null,null,null,null,null,null,null,null,null,null,32,{"$f":"IXTM!B35","v":0},{"$f":"IXTM!C35","v":0},{"$f":"IXTM!D35","v":0},{"$f":"IXTM!F35","v":"00:00:00"},{"$f":"IXTM!$A$2","v":"IXTM"},null,{"$f":"IXTM!E35","v":0},{"$f":"IXTM!H35","v":0}]
[null,null,null,null,null,null,null,null,null,null,null,null,null,null,null,null,null,null,null,null,null,null,33,{"$f":"IXTM!B36","v":0},{"$f":"IXTM!C36","v":0},{"$f":"IXTM!D36","v":0},{"$f":"IXTM!F36","v":"00:00:00"},{"$f":"IXTM!$A$2","v":"IXTM"},null,{"$f":"IXTM!E36","v":0},{"$f":"IXTM!H36","v":0}]
[null,null,null,null,null,null,null,null,null,null,null,null,null,null,null,null,null,null,null,null,null,null,34,{"$f":"IXTM!B37","v":0},{"$f":"IXTM!C37","v":0},{"$f":"IXTM!D37","v":0},{"$f":"IXTM!F37","v":"00:00:00"},{"$f":"IXTM!$A$2","v":"IXTM"},null,{"$f":"IXTM!E37","v":0},{"$f":"IXTM!H37","v":0}]
[null,null,null,null,null,null,null,null,null,null,null,null,null,null,null,null,null,null,null,null,null,null,35,{"$f":"IXTM!B38","v":0},{"$f":"IXTM!C38","v":0},{"$f":"IXTM!D38","v":0},{"$f":"IXTM!F38","v":"00:00:00"},{"$f":"IXTM!$A$2","v":"IXTM"},null,{"$f":"IXTM!E38","v":0},{"$f":"IXTM!H38","v":0}]
[null,null,null,null,null,null,null,null,null,null,null,null,null,null,null,null,null,null,null,null,null,null,36,{"$f":"IXTM!B39","v":0},{"$f":"IXTM!C39","v":0},{"$f":"IXTM!D39","v":0},{"$f":"IXTM!F39","v":"00:00:00"},{"$f":"IXTM!$A$2","v":"IXTM"},null,{"$f":"IXTM!E39","v":0},{"$f":"IXTM!H39","v":0}]
[null,null,null,null,null,null,null,null,null,null,null,null,null,null,null,null,null,null,null,null,null,null,37,{"$f":"IXTM!B40","v":0},{"$f":"IXTM!C40","v":0},{"$f":"IXTM!D40","v":0},{"$f":"IXTM!F40","v":"00:00:00"},{"$f":"IXTM!$A$2","v":"IXTM"},null,{"$f":"IXTM!E40","v":0},{"$f":"IXTM!H40","v":0}]
[null,null,null,null,null,null,null,null,null,null,null,null,null,null,null,null,null,null,null,null,null,null,38,{"$f":"IXTM!B41","v":0},{"$f":"IXTM!C41","v":0},{"$f":"IXTM!D41","v":0},{"$f":"IXTM!F41","v":"00:00:00"},{"$f":"IXTM!$A$2","v":"IXTM"},null,{"$f":"IXTM!E41","v":0},{"$f":"IXTM!H41","v":0}]
[null,null,null,null,null,null,null,null,null,null,null,null,null,null,null,null,null,null,null,null,null,null,39,{"$f":"IXTM!B42","v":0},{"$f":"IXTM!C42","v":0},{"$f":"IXTM!D42","v":0},{"$f":"IXTM!F42","v":"00:00:00"},{"$f":"IXTM!$A$2","v":"IXTM"},null,{"$f":"IXTM!E42","v":0},{"$f":"IXTM!H42","v":0}]
[null,null,null,null,null,null,null,null,null,null,null,null,null,null,null,null,null,null,null,null,null,null,40,{"$f":"IXTM!B43","v":0},{"$f":"IXTM!C43","v":0},{"$f":"IXTM!D43","v":0},{"$f":"IXTM!F43","v":"00:00:00"},{"$f":"IXTM!$A$2","v":"IXTM"},null,{"$f":"IXTM!E43","v":0},{"$f":"IXTM!H43","v":0}]
[null,null,null,null,null,null,null,null,null,null,null,null,null,null,null,null,null,null,null,null,null,null,41,{"$f":"IXTM!B44","v":0},{"$f":"IXTM!C44","v":0},{"$f":"IXTM!D44","v":0},{"$f":"IXTM!F44","v":"00:00:00"},{"$f":"IXTM!$A$2","v":"IXTM"},null,{"$f":"IXTM!E44","v":0},{"$f":"IXTM!H44","v":0}]
[null,null,null,null,null,null,null,null,null,null,null,null,null,null,null,null,null,null,null,null,null,null,42,{"$f":"IXTM!B45","v":0},{"$f":"IXTM!C45","v":0},{"$f":"IXTM!D45","v":0},{"$f":"IXTM!F45","v":"00:00:00"},{"$f":"IXTM!$A$2","v":"IXTM"},null,{"$f":"IXTM!E45","v":0},{"$f":"IXTM!H45","v":0}]
[null,null,null,null,null,null,null,null,null,null,null,null,null,null,null,null,null,null,null,null,null,null,43,{"$f":"IXTM!B46","v":0},{"$f":"IXTM!C46","v":0},{"$f":"IXTM!D46","v":0},{"$f":"IXTM!F46","v":"00:00:00"},{"$f":"IXTM!$A$2","v":"IXTM"},null,{"$f":"IXTM!E46","v":0},{"$f":"IXTM!H46","v":0}]
[null,null,null,null,null,null,null,null,null,null,null,null,null,null,null,null,null,null,null,null,null,null,44,{"$f":"IXTM!B47","v":0},{"$f":"IXTM!C47","v":0},{"$f":"IXTM!D47","v":0},{"$f":"IXTM!F47","v":"00:00:00"},{"$f":"IXTM!$A$2","v":"IXTM"},null,{"$f":"IXTM!E47","v":0},{"$f":"IXTM!H47","v":0}]
[null,null,null,null,null,null,null,null,null,null,null,null,null,null,null,null,null,null,null,null,null,null,45,{"$f":"IXTM!B48","v":0},{"$f":"IXTM!C48","v":0},{"$f":"IXTM!D48","v":0},{"$f":"IXTM!F48","v":"00:00:00"},{"$f":"IXTM!$A$2","v":"IXTM"},null,{"$f":"IXTM!E48","v":0},{"$f":"IXTM!H48","v":0}]
[null,null,null,null,null,null,null,null,null,null,null,null,null,null,null,null,null,null,null,null,null,null,46,{"$f":"IXTM!B49","v":0},{"$f":"IXTM!C49","v":0},{"$f":"IXTM!D49","v":0},{"$f":"IXTM!F49","v":"00:00:00"},{"$f":"IXTM!$A$2","v":"IXTM"},null,{"$f":"IXTM!E49","v":0},{"$f":"IXTM!H49","v":0}]
[null,null,null,null,null,null,null,null,null,null,null,null,null,null,null,null,null,null,null,null,null,null,47,{"$f":"IXTM!B50","v":0},{"$f":"IXTM!C50","v":0},{"$f":"IXTM!D50","v":0},{"$f":"IXTM!F50","v":"00:00:00"},{"$f":"IXTM!$A$2","v":"IXTM"},null,{"$f":"IXTM!E50","v":0},{"$f":"IXTM!H50","v":0}]
[null,null,null,null,null,null,null,null,null,null,null,null,null,null,null,null,null,null,null,null,null,null,48,{"$f":"IXTM!B51","v":0},{"$f":"IXTM!C51","v":0},{"$f":"IXTM!D51","v":0},{"$f":"IXTM!F51","v":"00:00:00"},{"$f":"IXTM!$A$2","v":"IXTM"},null,{"$f":"IXTM!E51","v":0},{"$f":"IXTM!H51","v":0}]
[null,null,null,null,null,null,null,null,null,null,null,null,null,null,null,null,null,null,null,null,null,null,49,{"$f":"IXTM!B52","v":0},{"$f":"IXTM!C52","v":0},{"$f":"IXTM!D52","v":0},{"$f":"IXTM!F52","v":"00:00:00"},{"$f":"IXTM!$A$2","v":"IXTM"},null,{"$f":"IXTM!E52","v":0},{"$f":"IXTM!H52","v":0}]
[null,null,null,null,null,null,null,null,null,null,null,null,null,null,null,null,null,null,null,null,null,null,50,{"$f":"IXTM!B53","v":0},{"$f":"IXTM!C53","v":0},{"$f":"IXTM!D53","v":0},{"$f":"IXTM!F53","v":"00:00:00"},{"$f":"IXTM!$A$2","v":"IXTM"},null,{"$f":"IXTM!E53","v":0},{"$f":"IXTM!H53","v":0}]
[null,null,null,null,null,null,null,null,null,null,null,null,null,null,null,null,null,null,null,null,null,null,51,{"$f":"IXTM!B54","v":0},{"$f":"IXTM!C54","v":0},{"$f":"IXTM!D54","v":0},{"$f":"IXTM!F54","v":"00:00:00"},{"$f":"IXTM!$A$2","v":"IXTM"},null,{"$f":"IXTM!E54","v":0},{"$f":"IXTM!H54","v":0}]
[null,null,null,null,null,null,null,null,null,null,null,null,null,null,null,null,null,null,null,null,null,null,52,{"$f":"IXTM!B55","v":0},{"$f":"IXTM!C55","v":0},{"$f":"IXTM!D55","v":0},{"$f":"IXTM!F55","v":"00:00:00"},{"$f":"IXTM!$A$2","v":"IXTM"},null,{"$f":"IXTM!E55","v":0},{"$f":"IXTM!H55","v":0}]
[null,null,null,null,null,null,null,null,null,null,null,null,null,null,null,null,null,null,null,null,null,null,53,{"$f":"IXTM!B56","v":0},{"$f":"IXTM!C56","v":0},{"$f":"IXTM!D56","v":0},{"$f":"IXTM!F56","v":"00:00:00"},{"$f":"IXTM!$A$2","v":"IXTM"},null,{"$f":"IXTM!E56","v":0},{"$f":"IXTM!H56","v":0}]
[null,null,null,null,null,null,null,null,null,null,null,null,null,null,null,null,null,null,null,null,null,null,54,{"$f":"IXTM!B57","v":0},{"$f":"IXTM!C57","v":0},{"$f":"IXTM!D57","v":0},{"$f":"IXTM!F57","v":"00:00:00"},{"$f":"IXTM!$A$2","v":"IXTM"},null,{"$f":"IXTM!E57","v":0},{"$f":"IXTM!H57","v":0}]
[null,null,null,null,null,null,null,null,null,null,null,null,null,null,null,null,null,null,null,null,null,null,55,{"$f":"IXTM!B58","v":0},{"$f":"IXTM!C58","v":0},{"$f":"IXTM!D58","v":0},{"$f":"IXTM!F58","v":"00:00:00"},{"$f":"IXTM!$A$2","v":"IXTM"},null,{"$f":"IXTM!E58","v":0},{"$f":"IXTM!H58","v":0}]
[null,null,null,null,null,null,null,null,null,null,null,null,null,null,null,null,null,null,null,null,null,null,56,{"$f":"IXTM!B59","v":0},{"$f":"IXTM!C59","v":0},{"$f":"IXTM!D59","v":0},{"$f":"IXTM!F59","v":"00:00:00"},{"$f":"IXTM!$A$2","v":"IXTM"},null,{"$f":"IXTM!E59","v":0},{"$f":"IXTM!H59","v":0}]
[null,null,null,null,null,null,null,null,null,null,null,null,null,null,null,null,null,null,null,null,null,null,57,{"$f":"IXTM!B60","v":0},{"$f":"IXTM!C60","v":0},{"$f":"IXTM!D60","v":0},{"$f":"IXTM!F60","v":"00:00:00"},{"$f":"IXTM!$A$2","v":"IXTM"},null,{"$f":"IXTM!E60","v":0},{"$f":"IXTM!H60","v":0}]
[null,null,null,null,null,null,null,null,null,null,null,null,null,null,null,null,null,null,null,null,null,null,58,{"$f":"IXTM!B61","v":0},{"$f":"IXTM!C61","v":0},{"$f":"IXTM!D61","v":0},{"$f":"IXTM!F61","v":"00:00:00"},{"$f":"IXTM!$A$2","v":"IXTM"},null,{"$f":"IXTM!E61","v":0},{"$f":"IXTM!H61","v":0}]
[null,null,null,null,null,null,null,null,null,null,null,null,null,null,null,null,null,null,null,null,null,null,59,{"$f":"IXTM!B62","v":0},{"$f":"IXTM!C62","v":0},{"$f":"IXTM!D62","v":0},{"$f":"IXTM!F62","v":"00:00:00"},{"$f":"IXTM!$A$2","v":"IXTM"},null,{"$f":"IXTM!E62","v":0},{"$f":"IXTM!H62","v":0}]
[null,null,null,null,null,null,null,null,null,null,null,null,null,null,null,null,null,null,null,null,null,null,60,{"$f":"IXTM!B63","v":0},{"$f":"IXTM!C63","v":0},{"$f":"IXTM!D63","v":0},{"$f":"IXTM!F63","v":"00:00:00"},{"$f":"IXTM!$A$2","v":"IXTM"},null,{"$f":"IXTM!E63","v":0},{"$f":"IXTM!H63","v":0}]
[null,null,null,null,null,null,null,null,null,null,null,null,null,null,null,null,null,null,null,null,null,null,61,{"$f":"IXTM!B64","v":0},{"$f":"IXTM!C64","v":0},{"$f":"IXTM!D64","v":0},{"$f":"IXTM!F64","v":"00:00:00"},{"$f":"IXTM!$A$2","v":"IXTM"},null,{"$f":"IXTM!E64","v":0},{"$f":"IXTM!H64","v":0}]
[null,null,null,null,null,null,null,null,null,null,null,null,null,null,null,null,null,null,null,null,null,null,62,{"$f":"IXTM!B65","v":0},{"$f":"IXTM!C65","v":0},{"$f":"IXTM!D65","v":0},{"$f":"IXTM!F65","v":"00:00:00"},{"$f":"IXTM!$A$2","v":"IXTM"},null,{"$f":"IXTM!E65","v":0},{"$f":"IXTM!H65","v":0}]
[null,null,null,null,null,null,null,null,null,null,null,null,null,null,null,null,null,null,null,null,null,null,63,{"$f":"IXTM!B66","v":0},{"$f":"IXTM!C66","v":0},{"$f":"IXTM!D66","v":0},{"$f":"IXTM!F66","v":"00:00:00"},{"$f":"IXTM!$A$2","v":"IXTM"},null,{"$f":"IXTM!E66","v":0},{"$f":"IXTM!H66","v":0}]
[null,null,null,null,null,null,null,null,null,null,null,null,null,null,null,null,null,null,null,null,null,null,64,{"$f":"IXTM!B67","v":0},{"$f":"IXTM!C67","v":0},{"$f":"IXTM!D67","v":0},{"$f":"IXTM!F67","v":"00:00:00"},{"$f":"IXTM!$A$2","v":"IXTM"},null,{"$f":"IXTM!E67","v":0},{"$f":"IXTM!H67","v":0}]
[null,null,null,null,null,null,null,null,null,null,null,null,null,null,null,null,null,null,null,null,null,null,65,{"$f":"IXTM!B68","v":0},{"$f":"IXTM!C68","v":0},{"$f":"IXTM!D68","v":0},{"$f":"IXTM!F68","v":"00:00:00"},{"$f":"IXTM!$A$2","v":"IXTM"},null,{"$f":"IXTM!E68","v":0},{"$f":"IXTM!H68","v":0}]
[null,null,null,null,null,null,null,null,null,null,null,null,null,null,null,null,null,null,null,null,null,null,66,{"$f":"IXTM!B69","v":0},{"$f":"IXTM!C69","v":0},{"$f":"IXTM!D69","v":0},{"$f":"IXTM!F69","v":"00:00:00"},{"$f":"IXTM!$A$2","v":"IXTM"},null,{"$f":"IXTM!E69","v":0},{"$f":"IXTM!H69","v":0}]
[null,null,null,null,null,null,null,null,null,null,null,null,null,null,null,null,null,null,null,null,null,null,67,{"$f":"IXTM!B70","v":0},{"$f":"IXTM!C70","v":0},{"$f":"IXTM!D70","v":0},{"$f":"IXTM!F70","v":"00:00:00"},{"$f":"IXTM!$A$2","v":"IXTM"},null,{"$f":"IXTM!E70","v":0},{"$f":"IXTM!H70","v":0}]
[null,null,null,null,null,null,null,null,null,null,null,null,null,null,null,null,null,null,null,null,null,null,68,{"$f":"IXTM!B71","v":0},{"$f":"IXTM!C71","v":0},{"$f":"IXTM!D71","v":0},{"$f":"IXTM!F71","v":"00:00:00"},{"$f":"IXTM!$A$2","v":"IXTM"},null,{"$f":"IXTM!E71","v":0},{"$f":"IXTM!H71","v":0}]
[null,null,null,null,null,null,null,null,null,null,null,null,null,null,null,null,null,null,null,null,null,null,69,{"$f":"IXTM!B72","v":0},{"$f":"IXTM!C72","v":0},{"$f":"IXTM!D72","v":0},{"$f":"IXTM!F72","v":"00:00:00"},{"$f":"IXTM!$A$2","v":"IXTM"},null,{"$f":"IXTM!E72","v":0},{"$f":"IXTM!H72","v":0}]
[null,null,null,null,null,null,null,null,null,null,null,null,null,null,null,null,null,null,null,null,null,null,70,{"$f":"IXTM!B73","v":0},{"$f":"IXTM!C73","v":0},{"$f":"IXTM!D73","v":0},{"$f":"IXTM!F73","v":"00:00:00"},{"$f":"IXTM!$A$2","v":"IXTM"},null,{"$f":"IXTM!E73","v":0},{"$f":"IXTM!H73","v":0}]
[null,null,null,null,null,null,null,null,null,null,null,null,null,null,null,null,null,null,null,null,null,null,71,{"$f":"IXTM!B74","v":0},{"$f":"IXTM!C74","v":0},{"$f":"IXTM!D74","v":0},{"$f":"IXTM!F74","v":"00:00:00"},{"$f":"IXTM!$A$2","v":"IXTM"},null,{"$f":"IXTM!E74","v":0},{"$f":"IXTM!H74","v":0}]
[null,null,null,null,null,null,null,null,null,null,null,null,null,null,null,null,null,null,null,null,null,null,72,{"$f":"IXTM!B75","v":0},{"$f":"IXTM!C75","v":0},{"$f":"IXTM!D75","v":0},{"$f":"IXTM!F75","v":"00:00:00"},{"$f":"IXTM!$A$2","v":"IXTM"},null,{"$f":"IXTM!E75","v":0},{"$f":"IXTM!H75","v":0}]
[null,null,null,null,null,null,null,null,null,null,null,null,null,null,null,null,null,null,null,null,null,null,73,{"$f":"IXTM!B76","v":0},{"$f":"IXTM!C76","v":0},{"$f":"IXTM!D76","v":0},{"$f":"IXTM!F76","v":"00:00:00"},{"$f":"IXTM!$A$2","v":"IXTM"},null,{"$f":"IXTM!E76","v":0},{"$f":"IXTM!H76","v":0}]
[null,null,null,null,null,null,null,null,null,null,null,null,null,null,null,null,null,null,null,null,null,null,74,{"$f":"IXTM!B77","v":0},{"$f":"IXTM!C77","v":0},{"$f":"IXTM!D77","v":0},{"$f":"IXTM!F77","v":"00:00:00"},{"$f":"IXTM!$A$2","v":"IXTM"},null,{"$f":"IXTM!E77","v":0},{"$f":"IXTM!H77","v":0}]
[null,null,null,null,null,null,null,null,null,null,null,null,null,null,null,null,null,null,null,null,null,null,75,{"$f":"IXTM!B78","v":0},{"$f":"IXTM!C78","v":0},{"$f":"IXTM!D78","v":0},{"$f":"IXTM!F78","v":"00:00:00"},{"$f":"IXTM!$A$2","v":"IXTM"},null,{"$f":"IXTM!E78","v":0},{"$f":"IXTM!H78","v":0}]
[null,null,null,null,null,null,null,null,null,null,null,null,null,null,null,null,null,null,null,null,null,null,76,{"$f":"IXTM!B79","v":0},{"$f":"IXTM!C79","v":0},{"$f":"IXTM!D79","v":0},{"$f":"IXTM!F79","v":"00:00:00"},{"$f":"IXTM!$A$2","v":"IXTM"},null,{"$f":"IXTM!E79","v":0},{"$f":"IXTM!H79","v":0}]
[null,null,null,null,null,null,null,null,null,null,null,null,null,null,null,null,null,null,null,null,null,null,77,{"$f":"IXTM!B80","v":0},{"$f":"IXTM!C80","v":0},{"$f":"IXTM!D80","v":0},{"$f":"IXTM!F80","v":"00:00:00"},{"$f":"IXTM!$A$2","v":"IXTM"},null,{"$f":"IXTM!E80","v":0},{"$f":"IXTM!H80","v":0}]
[null,null,null,null,null,null,null,null,null,null,null,null,null,null,null,null,null,null,null,null,null,null,78,{"$f":"IXTM!B81","v":0},{"$f":"IXTM!C81","v":0},{"$f":"IXTM!D81","v":0},{"$f":"IXTM!F81","v":"00:00:00"},{"$f":"IXTM!$A$2","v":"IXTM"},null,{"$f":"IXTM!E81","v":0},{"$f":"IXTM!H81","v":0}]
[null,null,null,null,null,null,null,null,null,null,null,null,null,null,null,null,null,null,null,null,null,null,79,{"$f":"IXTM!B82","v":0},{"$f":"IXTM!C82","v":0},{"$f":"IXTM!D82","v":0},{"$f":"IXTM!F82","v":"00:00:00"},{"$f":"IXTM!$A$2","v":"IXTM"},null,{"$f":"IXTM!E82","v":0},{"$f":"IXTM!H82","v":0}]
[null,null,null,null,null,null,null,null,null,null,null,null,null,null,null,null,null,null,null,null,null,null,80,{"$f":"IXTM!B83","v":0},{"$f":"IXTM!C83","v":0},{"$f":"IXTM!D83","v":0},{"$f":"IXTM!F83","v":"00:00:00"},{"$f":"IXTM!$A$2","v":"IXTM"},null,{"$f":"IXTM!E83","v":0},{"$f":"IXTM!H83","v":0}]
[null,null,null,null,null,null,null,null,null,null,null,null,null,null,null,null,null,null,null,null,null,null,81,{"$f":"IXTM!B84","v":0},{"$f":"IXTM!C84","v":0},{"$f":"IXTM!D84","v":0},{"$f":"IXTM!F84","v":"00:00:00"},{"$f":"IXTM!$A$2","v":"IXTM"},null,{"$f":"IXTM!E84","v":0},{"$f":"IXTM!H84","v":0}]
[null,null,null,null,null,null,null,null,null,null,null,null,null,null,null,null,null,null,null,null,null,null,82,{"$f":"IXTM!B85","v":0},{"$f":"IXTM!C85","v":0},{"$f":"IXTM!D85","v":0},{"$f":"IXTM!F85","v":"00:00:00"},{"$f":"IXTM!$A$2","v":"IXTM"},null,{"$f":"IXTM!E85","v":0},{"$f":"IXTM!H85","v":0}]
[null,null,null,null,null,null,null,null,null,null,null,null,null,null,null,null,null,null,null,null,null,null,83,{"$f":"IXTM!B86","v":0},{"$f":"IXTM!C86","v":0},{"$f":"IXTM!D86","v":0},{"$f":"IXTM!F86","v":"00:00:00"},{"$f":"IXTM!$A$2","v":"IXTM"},null,{"$f":"IXTM!E86","v":0},{"$f":"IXTM!H86","v":0}]
[null,null,null,null,null,null,null,null,null,null,null,null,null,null,null,null,null,null,null,null,null,null,84,{"$f":"IXTM!B87","v":0},{"$f":"IXTM!C87","v":0},{"$f":"IXTM!D87","v":0},{"$f":"IXTM!F87","v":"00:00:00"},{"$f":"IXTM!$A$2","v":"IXTM"},null,{"$f":"IXTM!E87","v":0},{"$f":"IXTM!H87","v":0}]
[null,null,null,null,null,null,null,null,null,null,null,null,null,null,null,null,null,null,null,null,null,null,85,{"$f":"IXTM!B88","v":0},{"$f":"IXTM!C88","v":0},{"$f":"IXTM!D88","v":0},{"$f":"IXTM!F88","v":"00:00:00"},{"$f":"IXTM!$A$2","v":"IXTM"},null,{"$f":"IXTM!E88","v":0},{"$f":"IXTM!H88","v":0}]
[null,null,null,null,null,null,null,null,null,null,null,null,null,null,null,null,null,null,null,null,null,null,86,{"$f":"IXTM!B89","v":0},{"$f":"IXTM!C89","v":0},{"$f":"IXTM!D89","v":0},{"$f":"IXTM!F89","v":"00:00:00"},{"$f":"IXTM!$A$2","v":"IXTM"},null,{"$f":"IXTM!E89","v":0},{"$f":"IXTM!H89","v":0}]
[null,null,null,null,null,null,null,null,null,null,null,null,null,null,null,null,null,null,null,null,null,null,87,{"$f":"IXTM!B90","v":0},{"$f":"IXTM!C90","v":0},{"$f":"IXTM!D90","v":0},{"$f":"IXTM!F90","v":"00:00:00"},{"$f":"IXTM!$A$2","v":"IXTM"},null,{"$f":"IXTM!E90","v":0},{"$f":"IXTM!H90","v":0}]
[null,null,null,null,null,null,null,null,null,null,null,null,null,null,null,null,null,null,null,null,null,null,88,{"$f":"IXTM!B91","v":0},{"$f":"IXTM!C91","v":0},{"$f":"IXTM!D91","v":0},{"$f":"IXTM!F91","v":"00:00:00"},{"$f":"IXTM!$A$2","v":"IXTM"},null,{"$f":"IXTM!E91","v":0},{"$f":"IXTM!H91","v":0}]
[null,null,null,null,null,null,null,null,null,null,null,null,null,null,null,null,null,null,null,null,null,null,89,{"$f":"IXTM!B92","v":0},{"$f":"IXTM!C92","v":0},{"$f":"IXTM!D92","v":0},{"$f":"IXTM!F92","v":"00:00:00"},{"$f":"IXTM!$A$2","v":"IXTM"},null,{"$f":"IXTM!E92","v":0},{"$f":"IXTM!H92","v":0}]
[null,null,null,null,null,null,null,null,null,null,null,null,null,null,null,null,null,null,null,null,null,null,90,{"$f":"IXTM!B93","v":0},{"$f":"IXTM!C93","v":0},{"$f":"IXTM!D93","v":0},{"$f":"IXTM!F93","v":"00:00:00"},{"$f":"IXTM!$A$2","v":"IXTM"},null,{"$f":"IXTM!E93","v":0},{"$f":"IXTM!H93","v":0}]
[null,null,null,null,null,null,null,null,null,null,null,null,null,null,null,null,null,null,null,null,null,null,91,{"$f":"IXTM!B94","v":0},{"$f":"IXTM!C94","v":0},{"$f":"IXTM!D94","v":0},{"$f":"IXTM!F94","v":"00:00:00"},{"$f":"IXTM!$A$2","v":"IXTM"},null,{"$f":"IXTM!E94","v":0},{"$f":"IXTM!H94","v":0}]
[null,null,null,null,null,null,null,null,null,null,null,null,null,null,null,null,null,null,null,null,null,null,92,{"$f":"IXTM!B95","v":0},{"$f":"IXTM!C95","v":0},{"$f":"IXTM!D95","v":0},{"$f":"IXTM!F95","v":"00:00:00"},{"$f":"IXTM!$A$2","v":"IXTM"},null,{"$f":"IXTM!E95","v":0},{"$f":"IXTM!H95","v":0}]
[null,null,null,null,null,null,null,null,null,null,null,null,null,null,null,null,null,null,null,null,null,null,93,{"$f":"IXTM!B96","v":0},{"$f":"IXTM!C96","v":0},{"$f":"IXTM!D96","v":0},{"$f":"IXTM!F96","v":"00:00:00"},{"$f":"IXTM!$A$2","v":"IXTM"},null,{"$f":"IXTM!E96","v":0},{"$f":"IXTM!H96","v":0}]
[null,null,null,null,null,null,null,null,null,null,null,null,null,null,null,null,null,null,null,null,null,null,94,{"$f":"IXTM!B97","v":0},{"$f":"IXTM!C97","v":0},{"$f":"IXTM!D97","v":0},{"$f":"IXTM!F97","v":"00:00:00"},{"$f":"IXTM!$A$2","v":"IXTM"},null,{"$f":"IXTM!E97","v":0},{"$f":"IXTM!H97","v":0}]
[null,null,null,null,null,null,null,null,null,null,null,null,null,null,null,null,null,null,null,null,null,null,95,{"$f":"IXTM!B98","v":0},{"$f":"IXTM!C98","v":0},{"$f":"IXTM!D98","v":0},{"$f":"IXTM!F98","v":"00:00:00"},{"$f":"IXTM!$A$2","v":"IXTM"},null,{"$f":"IXTM!E98","v":0},{"$f":"IXTM!H98","v":0}]
[null,null,null,null,null,null,null,null,null,null,null,null,null,null,null,null,null,null,null,null,null,null,96,{"$f":"IXTM!B99","v":0},{"$f":"IXTM!C99","v":0},{"$f":"IXTM!D99","v":0},{"$f":"IXTM!F99","v":"00:00:00"},{"$f":"IXTM!$A$2","v":"IXTM"},null,{"$f":"IXTM!E99","v":0},{"$f":"IXTM!H99","v":0}]
[null,null,null,null,null,null,null,null,null,null,null,null,null,null,null,null,null,null,null,null,null,null,97,{"$f":"IXTM!B100","v":0},{"$f":"IXTM!C100","v":0},{"$f":"IXTM!D100","v":0},{"$f":"IXTM!F100","v":"00:00:00"},{"$f":"IXTM!$A$2","v":"IXTM"},null,{"$f":"IXTM!E100","v":0},{"$f":"IXTM!H100","v":0}]
[null,null,null,null,null,null,null,null,null,null,null,null,null,null,null,null,null,null,null,null,null,null,98,{"$f":"IXTM!B101","v":0},{"$f":"IXTM!C101","v":0},{"$f":"IXTM!D101","v":0},{"$f":"IXTM!F101","v":"00:00:00"},{"$f":"IXTM!$A$2","v":"IXTM"},null,{"$f":"IXTM!E101","v":0},{"$f":"IXTM!H101","v":0}]
[null,null,null,null,null,null,null,null,null,null,null,null,null,null,null,null,null,null,null,null,null,null,99,{"$f":"IXTM!B102","v":0},{"$f":"IXTM!C102","v":0},{"$f":"IXTM!D102","v":0},{"$f":"IXTM!F102","v":"00:00:00"},{"$f":"IXTM!$A$2","v":"IXTM"},null,{"$f":"IXTM!E102","v":0},{"$f":"IXTM!H102","v":0}]
[null,null,null,null,null,null,null,null,null,null,null,null,null,null,null,null,null,null,null,null,null,null,100,{"$f":"IXTM!B103","v":0},{"$f":"IXTM!C103","v":0},{"$f":"IXTM!D103","v":0},{"$f":"IXTM!F103","v":"00:00:00"},{"$f":"IXTM!$A$2","v":"IXTM"},null,{"$f":"IXTM!E103","v":0},{"$f":"IXTM!H103","v":0}]
[null,null,null,null,null,null,null,null,null,null,null,null,null,null,null,null,null,null,null,null,null,null,101,{"$f":"IXTM!B104","v":0},{"$f":"IXTM!C104","v":0},{"$f":"IXTM!D104","v":0},{"$f":"IXTM!F104","v":"00:00:00"},{"$f":"IXTM!$A$2","v":"IXTM"},null,{"$f":"IXTM!E104","v":0},{"$f":"IXTM!H104","v":0}]
[null,null,null,null,null,null,null,null,null,null,null,null,null,null,null,null,null,null,null,null,null,null,102,{"$f":"IXTM!B105","v":0},{"$f":"IXTM!C105","v":0},{"$f":"IXTM!D105","v":0},{"$f":"IXTM!F105","v":"00:00:00"},{"$f":"IXTM!$A$2","v":"IXTM"},null,{"$f":"IXTM!E105","v":0},{"$f":"IXTM!H105","v":0}]
[null,null,null,null,null,null,null,null,null,null,null,null,null,null,null,null,null,null,null,null,null,null,103,{"$f":"IXTM!B106","v":0},{"$f":"IXTM!C106","v":0},{"$f":"IXTM!D106","v":0},{"$f":"IXTM!F106","v":"00:00:00"},{"$f":"IXTM!$A$2","v":"IXTM"},null,{"$f":"IXTM!E106","v":0},{"$f":"IXTM!H106","v":0}]
[null,null,null,null,null,null,null,null,null,null,null,null,null,null,null,null,null,null,null,null,null,null,104,{"$f":"IXTM!B107","v":0},{"$f":"IXTM!C107","v":0},{"$f":"IXTM!D107","v":0},{"$f":"IXTM!F107","v":"00:00:00"},{"$f":"IXTM!$A$2","v":"IXTM"},null,{"$f":"IXTM!E107","v":0},{"$f":"IXTM!H107","v":0}]
[null,null,null,null,null,null,null,null,null,null,null,null,null,null,null,null,null,null,null,null,null,null,105,{"$f":"IXTM!B108","v":0},{"$f":"IXTM!C108","v":0},{"$f":"IXTM!D108","v":0},{"$f":"IXTM!F108","v":"00:00:00"},{"$f":"IXTM!$A$2","v":"IXTM"},null,{"$f":"IXTM!E108","v":0},{"$f":"IXTM!H108","v":0}]
[null,null,null,null,null,null,null,null,null,null,null,null,null,null,null,null,null,null,null,null,null,null,106,{"$f":"IXTM!B109","v":0},{"$f":"IXTM!C109","v":0},{"$f":"IXTM!D109","v":0},{"$f":"IXTM!F109","v":"00:00:00"},{"$f":"IXTM!$A$2","v":"IXTM"},null,{"$f":"IXTM!E109","v":0},{"$f":"IXTM!H109","v":0}]
[null,null,null,null,null,null,null,null,null,null,null,null,null,null,null,null,null,null,null,null,null,null,107,{"$f":"IXTM!B110","v":0},{"$f":"IXTM!C110","v":0},{"$f":"IXTM!D110","v":0},{"$f":"IXTM!F110","v":"00:00:00"},{"$f":"IXTM!$A$2","v":"IXTM"},null,{"$f":"IXTM!E110","v":0},{"$f":"IXTM!H110","v":0}]
[null,null,null,null,null,null,null,null,null,null,null,null,null,null,null,null,null,null,null,null,null,null,108,{"$f":"IXTM!B111","v":0},{"$f":"IXTM!C111","v":0},{"$f":"IXTM!D111","v":0},{"$f":"IXTM!F111","v":"00:00:00"},{"$f":"IXTM!$A$2","v":"IXTM"},null,{"$f":"IXTM!E111","v":0},{"$f":"IXTM!H111","v":0}]
[null,null,null,null,null,null,null,null,null,null,null,null,null,null,null,null,null,null,null,null,null,null,109,{"$f":"IXTM!B112","v":0},{"$f":"IXTM!C112","v":0},{"$f":"IXTM!D112","v":0},{"$f":"IXTM!F112","v":"00:00:00"},{"$f":"IXTM!$A$2","v":"IXTM"},null,{"$f":"IXTM!E112","v":0},{"$f":"IXTM!H112","v":0}]
[null,null,null,null,null,null,null,null,null,null,null,null,null,null,null,null,null,null,null,null,null,null,110,{"$f":"IXTM!B113","v":0},{"$f":"IXTM!C113","v":0},{"$f":"IXTM!D113","v":0},{"$f":"IXTM!F113","v":"00:00:00"},{"$f":"IXTM!$A$2","v":"IXTM"},null,{"$f":"IXTM!E113","v":0},{"$f":"IXTM!H113","v":0}]
[null,null,null,null,null,null,null,null,null,null,null,null,null,null,null,null,null,null,null,null,null,null,111,{"$f":"IXTM!B114","v":0},{"$f":"IXTM!C114","v":0},{"$f":"IXTM!D114","v":0},{"$f":"IXTM!F114","v":"00:00:00"},{"$f":"IXTM!$A$2","v":"IXTM"},null,{"$f":"IXTM!E114","v":0},{"$f":"IXTM!H114","v":0}]
[null,null,null,null,null,null,null,null,null,null,null,null,null,null,null,null,null,null,null,null,null,null,112,{"$f":"IXTM!B115","v":0},{"$f":"IXTM!C115","v":0},{"$f":"IXTM!D115","v":0},{"$f":"IXTM!F115","v":"00:00:00"},{"$f":"IXTM!$A$2","v":"IXTM"},null,{"$f":"IXTM!E115","v":0},{"$f":"IXTM!H115","v":0}]
[null,null,null,null,null,null,null,null,null,null,null,null,null,null,null,null,null,null,null,null,null,null,113,{"$f":"IXTM!B116","v":0},{"$f":"IXTM!C116","v":0},{"$f":"IXTM!D116","v":0},{"$f":"IXTM!F116","v":"00:00:00"},{"$f":"IXTM!$A$2","v":"IXTM"},null,{"$f":"IXTM!E116","v":0},{"$f":"IXTM!H116","v":0}]
[null,null,null,null,null,null,null,null,null,null,null,null,null,null,null,null,null,null,null,null,null,null,114,{"$f":"IXTM!B117","v":0},{"$f":"IXTM!C117","v":0},{"$f":"IXTM!D117","v":0},{"$f":"IXTM!F117","v":"00:00:00"},{"$f":"IXTM!$A$2","v":"IXTM"},null,{"$f":"IXTM!E117","v":0},{"$f":"IXTM!H117","v":0}]
[null,null,null,null,null,null,null,null,null,null,null,null,null,null,null,null,null,null,null,null,null,null,115,{"$f":"IXTM!B118","v":0},{"$f":"IXTM!C118","v":0},{"$f":"IXTM!D118","v":0},{"$f":"IXTM!F118","v":"00:00:00"},{"$f":"IXTM!$A$2","v":"IXTM"},null,{"$f":"IXTM!E118","v":0},{"$f":"IXTM!H118","v":0}]
[null,null,null,null,null,null,null,null,null,null,null,null,null,null,null,null,null,null,null,null,null,null,116,{"$f":"IXTM!B119","v":0},{"$f":"IXTM!C119","v":0},{"$f":"IXTM!D119","v":0},{"$f":"IXTM!F119","v":"00:00:00"},{"$f":"IXTM!$A$2","v":"IXTM"},null,{"$f":"IXTM!E119","v":0},{"$f":"IXTM!H119","v":0}]
[null,null,null,null,null,null,null,null,null,null,null,null,null,null,null,null,null,null,null,null,null,null,117,{"$f":"IXTM!B120","v":0},{"$f":"IXTM!C120","v":0},{"$f":"IXTM!D120","v":0},{"$f":"IXTM!F120","v":"00:00:00"},{"$f":"IXTM!$A$2","v":"IXTM"},null,{"$f":"IXTM!E120","v":0},{"$f":"IXTM!H120","v":0}]
[null,null,null,null,null,null,null,null,null,null,null,null,null,null,null,null,null,null,null,null,null,null,118,{"$f":"IXTM!B121","v":0},{"$f":"IXTM!C121","v":0},{"$f":"IXTM!D121","v":0},{"$f":"IXTM!F121","v":"00:00:00"},{"$f":"IXTM!$A$2","v":"IXTM"},null,{"$f":"IXTM!E121","v":0},{"$f":"IXTM!H121","v":0}]
[null,null,null,null,null,null,null,null,null,null,null,null,null,null,null,null,null,null,null,null,null,null,119,{"$f":"IXTM!B122","v":0},{"$f":"IXTM!C122","v":0},{"$f":"IXTM!D122","v":0},{"$f":"IXTM!F122","v":"00:00:00"},{"$f":"IXTM!$A$2","v":"IXTM"},null,{"$f":"IXTM!E122","v":0},{"$f":"IXTM!H122","v":0}]
[null,null,null,null,null,null,null,null,null,null,null,null,null,null,null,null,null,null,null,null,null,null,120,{"$f":"IXTM!B123","v":0},{"$f":"IXTM!C123","v":0},{"$f":"IXTM!D123","v":0},{"$f":"IXTM!F123","v":"00:00:00"},{"$f":"IXTM!$A$2","v":"IXTM"},null,{"$f":"IXTM!E123","v":0},{"$f":"IXTM!H123","v":0}]
[null,null,null,null,null,null,null,null,null,null,null,null,null,null,null,null,null,null,null,null,null,null,121,{"$f":"IXTM!B124","v":0},{"$f":"IXTM!C124","v":0},{"$f":"IXTM!D124","v":0},{"$f":"IXTM!F124","v":"00:00:00"},{"$f":"IXTM!$A$2","v":"IXTM"},null,{"$f":"IXTM!E124","v":0},{"$f":"IXTM!H124","v":0}]
[null,null,null,null,null,null,null,null,null,null,null,null,null,null,null,null,null,null,null,null,null,null,122,{"$f":"IXTM!B125","v":0},{"$f":"IXTM!C125","v":0},{"$f":"IXTM!D125","v":0},{"$f":"IXTM!F125","v":"00:00:00"},{"$f":"IXTM!$A$2","v":"IXTM"},null,{"$f":"IXTM!E125","v":0},{"$f":"IXTM!H125","v":0}]
[null,null,null,null,null,null,null,null,null,null,null,null,null,null,null,null,null,null,null,null,null,null,123,{"$f":"IXTM!B126","v":0},{"$f":"IXTM!C126","v":0},{"$f":"IXTM!D126","v":0},{"$f":"IXTM!F126","v":"00:00:00"},{"$f":"IXTM!$A$2","v":"IXTM"},null,{"$f":"IXTM!E126","v":0},{"$f":"IXTM!H126","v":0}]
[null,null,null,null,null,null,null,null,null,null,null,null,null,null,null,null,null,null,null,null,null,null,124,{"$f":"IXTM!B127","v":0},{"$f":"IXTM!C127","v":0},{"$f":"IXTM!D127","v":0},{"$f":"IXTM!F127","v":"00:00:00"},{"$f":"IXTM!$A$2","v":"IXTM"},null,{"$f":"IXTM!E127","v":0},{"$f":"IXTM!H127","v":0}]
[null,null,null,null,null,null,null,null,null,null,null,null,null,null,null,null,null,null,null,null,null,null,125,{"$f":"IXTM!B128","v":0},{"$f":"IXTM!C128","v":0},{"$f":"IXTM!D128","v":0},{"$f":"IXTM!F128","v":"00:00:00"},{"$f":"IXTM!$A$2","v":"IXTM"},null,{"$f":"IXTM!E128","v":0},{"$f":"IXTM!H128","v":0}]
[null,null,null,null,null,null,null,null,null,null,null,null,null,null,null,null,null,null,null,null,null,null,126,{"$f":"IXTM!B129","v":0},{"$f":"IXTM!C129","v":0},{"$f":"IXTM!D129","v":0},{"$f":"IXTM!F129","v":"00:00:00"},{"$f":"IXTM!$A$2","v":"IXTM"},null,{"$f":"IXTM!E129","v":0},{"$f":"IXTM!H129","v":0}]
[null,null,null,null,null,null,null,null,null,null,null,null,null,null,null,null,null,null,null,null,null,null,127,{"$f":"IXTM!B130","v":0},{"$f":"IXTM!C130","v":0},{"$f":"IXTM!D130","v":0},{"$f":"IXTM!F130","v":"00:00:00"},{"$f":"IXTM!$A$2","v":"IXTM"},null,{"$f":"IXTM!E130","v":0},{"$f":"IXTM!H130","v":0}]
[null,null,null,null,null,null,null,null,null,null,null,null,null,null,null,null,null,null,null,null,null,null,128,{"$f":"IXTM!B131","v":0},{"$f":"IXTM!C131","v":0},{"$f":"IXTM!D131","v":0},{"$f":"IXTM!F131","v":"00:00:00"},{"$f":"IXTM!$A$2","v":"IXTM"},null,{"$f":"IXTM!E131","v":0},{"$f":"IXTM!H131","v":0}]
[null,null,null,null,null,null,null,null,null,null,null,null,null,null,null,null,null,null,null,null,null,null,129,{"$f":"IXTM!B132","v":0},{"$f":"IXTM!C132","v":0},{"$f":"IXTM!D132","v":0},{"$f":"IXTM!F132","v":"00:00:00"},{"$f":"IXTM!$A$2","v":"IXTM"},null,{"$f":"IXTM!E132","v":0},{"$f":"IXTM!H132","v":0}]
[null,null,null,null,null,null,null,null,null,null,null,null,null,null,null,null,null,null,null,null,null,null,130,{"$f":"IXTM!B133","v":0},{"$f":"IXTM!C133","v":0},{"$f":"IXTM!D133","v":0},{"$f":"IXTM!F133","v":"00:00:00"},{"$f":"IXTM!$A$2","v":"IXTM"},null,{"$f":"IXTM!E133","v":0},{"$f":"IXTM!H133","v":0}]
[null,null,null,null,null,null,null,null,null,null,null,null,null,null,null,null,null,null,null,null,null,null,131,{"$f":"IXTM!B134","v":0},{"$f":"IXTM!C134","v":0},{"$f":"IXTM!D134","v":0},{"$f":"IXTM!F134","v":"00:00:00"},{"$f":"IXTM!$A$2","v":"IXTM"},null,{"$f":"IXTM!E134","v":0},{"$f":"IXTM!H134","v":0}]
[null,null,null,null,null,null,null,null,null,null,null,null,null,null,null,null,null,null,null,null,null,null,132,{"$f":"IXTM!B135","v":0},{"$f":"IXTM!C135","v":0},{"$f":"IXTM!D135","v":0},{"$f":"IXTM!F135","v":"00:00:00"},{"$f":"IXTM!$A$2","v":"IXTM"},null,{"$f":"IXTM!E135","v":0},{"$f":"IXTM!H135","v":0}]
[null,null,null,null,null,null,null,null,null,null,null,null,null,null,null,null,null,null,null,null,null,null,133,{"$f":"IXTM!B136","v":0},{"$f":"IXTM!C136","v":0},{"$f":"IXTM!D136","v":0},{"$f":"IXTM!F136","v":"00:00:00"},{"$f":"IXTM!$A$2","v":"IXTM"},null,{"$f":"IXTM!E136","v":0},{"$f":"IXTM!H136","v":0}]
[null,null,null,null,null,null,null,null,null,null,null,null,null,null,null,null,null,null,null,null,null,null,134,{"$f":"IXTM!B137","v":0},{"$f":"IXTM!C137","v":0},{"$f":"IXTM!D137","v":0},{"$f":"IXTM!F137","v":"00:00:00"},{"$f":"IXTM!$A$2","v":"IXTM"},null,{"$f":"IXTM!E137","v":0},{"$f":"IXTM!H137","v":0}]
[null,null,null,null,null,null,null,null,null,null,null,null,null,null,null,null,null,null,null,null,null,null,135,{"$f":"IXTM!B138","v":0},{"$f":"IXTM!C138","v":0},{"$f":"IXTM!D138","v":0},{"$f":"IXTM!F138","v":"00:00:00"},{"$f":"IXTM!$A$2","v":"IXTM"},null,{"$f":"IXTM!E138","v":0},{"$f":"IXTM!H138","v":0}]
[null,null,null,null,null,null,null,null,null,null,null,null,null,null,null,null,null,null,null,null,null,null,136,{"$f":"IXTM!B139","v":0},{"$f":"IXTM!C139","v":0},{"$f":"IXTM!D139","v":0},{"$f":"IXTM!F139","v":"00:00:00"},{"$f":"IXTM!$A$2","v":"IXTM"},null,{"$f":"IXTM!E139","v":0},{"$f":"IXTM!H139","v":0}]
[null,null,null,null,null,null,null,null,null,null,null,null,null,null,null,null,null,null,null,null,null,null,137,{"$f":"IXTM!B140","v":0},{"$f":"IXTM!C140","v":0},{"$f":"IXTM!D140","v":0},{"$f":"IXTM!F140","v":"00:00:00"},{"$f":"IXTM!$A$2","v":"IXTM"},null,{"$f":"IXTM!E140","v":0},{"$f":"IXTM!H140","v":0}]
[null,null,null,null,null,null,null,null,null,null,null,null,null,null,null,null,null,null,null,null,null,null,138,{"$f":"IXTM!B141","v":0},{"$f":"IXTM!C141","v":0},{"$f":"IXTM!D141","v":0},{"$f":"IXTM!F141","v":"00:00:00"},{"$f":"IXTM!$A$2","v":"IXTM"},null,{"$f":"IXTM!E141","v":0},{"$f":"IXTM!H141","v":0}]
[null,null,null,null,null,null,null,null,null,null,null,null,null,null,null,null,null,null,null,null,null,null,139,{"$f":"IXTM!B142","v":0},{"$f":"IXTM!C142","v":0},{"$f":"IXTM!D142","v":0},{"$f":"IXTM!F142","v":"00:00:00"},{"$f":"IXTM!$A$2","v":"IXTM"},null,{"$f":"IXTM!E142","v":0},{"$f":"IXTM!H142","v":0}]
[null,null,null,null,null,null,null,null,null,null,null,null,null,null,null,null,null,null,null,null,null,null,140,{"$f":"IXTM!B143","v":0},{"$f":"IXTM!C143","v":0},{"$f":"IXTM!D143","v":0},{"$f":"IXTM!F143","v":"00:00:00"},{"$f":"IXTM!$A$2","v":"IXTM"},null,{"$f":"IXTM!E143","v":0},{"$f":"IXTM!H143","v":0}]
[null,null,null,null,null,null,null,null,null,null,null,null,null,null,null,null,null,null,null,null,null,null,141,{"$f":"IXTM!B144","v":0},{"$f":"IXTM!C144","v":0},{"$f":"IXTM!D144","v":0},{"$f":"IXTM!F144","v":"00:00:00"},{"$f":"IXTM!$A$2","v":"IXTM"},null,{"$f":"IXTM!E144","v":0},{"$f":"IXTM!H144","v":0}]
[null,null,null,null,null,null,null,null,null,null,null,null,null,null,null,null,null,null,null,null,null,null,142,{"$f":"IXTM!B145","v":0},{"$f":"IXTM!C145","v":0},{"$f":"IXTM!D145","v":0},{"$f":"IXTM!F145","v":"00:00:00"},{"$f":"IXTM!$A$2","v":"IXTM"},null,{"$f":"IXTM!E145","v":0},{"$f":"IXTM!H145","v":0}]
[null,null,null,null,null,null,null,null,null,null,null,null,null,null,null,null,null,null,null,null,null,null,143,{"$f":"IXTM!B146","v":0},{"$f":"IXTM!C146","v":0},{"$f":"IXTM!D146","v":0},{"$f":"IXTM!F146","v":"00:00:00"},{"$f":"IXTM!$A$2","v":"IXTM"},null,{"$f":"IXTM!E146","v":0},{"$f":"IXTM!H146","v":0}]
[null,null,null,null,null,null,null,null,null,null,null,null,null,null,null,null,null,null,null,null,null,null,144,{"$f":"IXTM!B147","v":0},{"$f":"IXTM!C147","v":0},{"$f":"IXTM!D147","v":0},{"$f":"IXTM!F147","v":"00:00:00"},{"$f":"IXTM!$A$2","v":"IXTM"},null,{"$f":"IXTM!E147","v":0},{"$f":"IXTM!H147","v":0}]
[null,null,null,null,null,null,null,null,null,null,null,null,null,null,null,null,null,null,null,null,null,null,145,{"$f":"IXTM!B148","v":0},{"$f":"IXTM!C148","v":0},{"$f":"IXTM!D148","v":0},{"$f":"IXTM!F148","v":"00:00:00"},{"$f":"IXTM!$A$2","v":"IXTM"},null,{"$f":"IXTM!E148","v":0},{"$f":"IXTM!H148","v":0}]
[null,null,null,null,null,null,null,null,null,null,null,null,null,null,null,null,null,null,null,null,null,null,146,{"$f":"IXTM!B149","v":0},{"$f":"IXTM!C149","v":0},{"$f":"IXTM!D149","v":0},{"$f":"IXTM!F149","v":"00:00:00"},{"$f":"IXTM!$A$2","v":"IXTM"},null,{"$f":"IXTM!E149","v":0},{"$f":"IXTM!H149","v":0}]
[null,null,null,null,null,null,null,null,null,null,null,null,null,null,null,null,null,null,null,null,null,null,147,{"$f":"IXTM!B150","v":0},{"$f":"IXTM!C150","v":0},{"$f":"IXTM!D150","v":0},{"$f":"IXTM!F150","v":"00:00:00"},{"$f":"IXTM!$A$2","v":"IXTM"},null,{"$f":"IXTM!E150","v":0},{"$f":"IXTM!H150","v":0}]
[null,null,null,null,null,null,null,null,null,null,null,null,null,null,null,null,null,null,null,null,null,null,148,{"$f":"IXTM!B151","v":0},{"$f":"IXTM!C151","v":0},{"$f":"IXTM!D151","v":0},{"$f":"IXTM!F151","v":"00:00:00"},{"$f":"IXTM!$A$2","v":"IXTM"},null,{"$f":"IXTM!E151","v":0},{"$f":"IXTM!H151","v":0}]
[null,null,null,null,null,null,null,null,null,null,null,null,null,null,null,null,null,null,null,null,null,null,149,{"$f":"IXTM!B152","v":0},{"$f":"IXTM!C152","v":0},{"$f":"IXTM!D152","v":0},{"$f":"IXTM!F152","v":"00:00:00"},{"$f":"IXTM!$A$2","v":"IXTM"},null,{"$f":"IXTM!E152","v":0},{"$f":"IXTM!H152","v":0}]
[null,null,null,null,null,null,null,null,null,null,null,null,null,null,null,null,null,null,null,null,null,null,150,{"$f":"IXTM!B153","v":0},{"$f":"IXTM!C153","v":0},{"$f":"IXTM!D153","v":0},{"$f":"IXTM!F153","v":"00:00:00"},{"$f":"IXTM!$A$2","v":"IXTM"},null,{"$f":"IXTM!E153","v":0},{"$f":"IXTM!H153","v":0}]
[]
[null,null,null,null,null,null,null,null,null,null,null,null,null,null,null,null,null,null,null,null,null,null,1,{"$f":"XTM!B4","v":0},{"$f":"XTM!C4","v":0},{"$f":"XTM!D4","v":0},{"$f":"XTM!F4","v":"00:00:00"},{"$f":"XTM!$A$2","v":"XTM"},null,{"$f":"XTM!E4","v":0},{"$f":"XTM!H4","v":0}]
[null,null,null,null,null,null,null,null,null,null,null,null,null,null,null,null,null,null,null,null,null,null,2,{"$f":"XTM!B5","v":0},{"$f":"XTM!C5","v":0},{"$f":"XTM!D5","v":0},{"$f":"XTM!F5","v":"00:00:00"},{"$f":"XTM!$A$2","v":"XTM"},null,{"$f":"XTM!E5","v":0},{"$f":"XTM!H5","v":0}]
[null,null,null,null,null,null,null,null,null,null,null,null,null,null,null,null,null,null,null,null,null,null,3,{"$f":"XTM!B6","v":0},{"$f":"XTM!C6","v":0},{"$f":"XTM!D6","v":0},{"$f":"XTM!F6","v":"00:00:00"},{"$f":"XTM!$A$2","v":"XTM"},null,{"$f":"XTM!E6","v":0},{"$f":"XTM!H6","v":0}]
[null,null,null,null,null,null,null,null,null,null,null,null,null,null,null,null,null,null,null,null,null,null,4,{"$f":"XTM!B7","v":0},{"$f":"XTM!C7","v":0},{"$f":"XTM!D7","v":0},{"$f":"XTM!F7","v":"00:00:00"},{"$f":"XTM!$A$2","v":"XTM"},null,{"$f":"XTM!E7","v":0},{"$f":"XTM!H7","v":0}]
[null,null,null,null,null,null,null,null,null,null,null,null,null,null,null,null,null,null,null,null,null,null,5,{"$f":"XTM!B8","v":0},{"$f":"XTM!C8","v":0},{"$f":"XTM!D8","v":0},{"$f":"XTM!F8","v":"00:00:00"},{"$f":"XTM!$A$2","v":"XTM"},null,{"$f":"XTM!E8","v":0},{"$f":"XTM!H8","v":0}]
[null,null,null,null,null,null,null,null,null,null,null,null,null,null,null,null,null,null,null,null,null,null,6,{"$f":"XTM!B9","v":0},{"$f":"XTM!C9","v":0},{"$f":"XTM!D9","v":0},{"$f":"XTM!F9","v":"00:00:00"},{"$f":"XTM!$A$2","v":"XTM"},null,{"$f":"XTM!E9","v":0},{"$f":"XTM!H9","v":0}]
[null,null,null,null,null,null,null,null,null,null,null,null,null,null,null,null,null,null,null,null,null,null,7,{"$f":"XTM!B10","v":0},{"$f":"XTM!C10","v":0},{"$f":"XTM!D10","v":0},{"$f":"XTM!F10","v":"00:00:00"},{"$f":"XTM!$A$2","v":"XTM"},null,{"$f":"XTM!E10","v":0},{"$f":"XTM!H10","v":0}]
[null,null,null,null,null,null,null,null,null,null,null,null,null,null,null,null,null,null,null,null,null,null,8,{"$f":"XTM!B11","v":0},{"$f":"XTM!C11","v":0},{"$f":"XTM!D11","v":0},{"$f":"XTM!F11","v":"00:00:00"},{"$f":"XTM!$A$2","v":"XTM"},null,{"$f":"XTM!E11","v":0},{"$f":"XTM!H11","v":0}]
[null,null,null,null,null,null,null,null,null,null,null,null,null,null,null,null,null,null,null,null,null,null,9,{"$f":"XTM!B12","v":0},{"$f":"XTM!C12","v":0},{"$f":"XTM!D12","v":0},{"$f":"XTM!F12","v":"00:00:00"},{"$f":"XTM!$A$2","v":"XTM"},null,{"$f":"XTM!E12","v":0},{"$f":"XTM!H12","v":0}]
[null,null,null,null,null,null,null,null,null,null,null,null,null,null,null,null,null,null,null,null,null,null,10,{"$f":"XTM!B13","v":0},{"$f":"XTM!C13","v":0},{"$f":"XTM!D13","v":0},{"$f":"XTM!F13","v":"00:00:00"},{"$f":"XTM!$A$2","v":"XTM"},null,{"$f":"XTM!E13","v":0},{"$f":"XTM!H13","v":0}]
[null,null,null,null,null,null,null,null,null,null,null,null,null,null,null,null,null,null,null,null,null,null,11,{"$f":"XTM!B14","v":0},{"$f":"XTM!C14","v":0},{"$f":"XTM!D14","v":0},{"$f":"XTM!F14","v":"00:00:00"},{"$f":"XTM!$A$2","v":"XTM"},null,{"$f":"XTM!E14","v":0},{"$f":"XTM!H14","v":0}]
[null,null,null,null,null,null,null,null,null,null,null,null,null,null,null,null,null,null,null,null,null,null,12,{"$f":"XTM!B15","v":0},{"$f":"XTM!C15","v":0},{"$f":"XTM!D15","v":0},{"$f":"XTM!F15","v":"00:00:00"},{"$f":"XTM!$A$2","v":"XTM"},null,{"$f":"XTM!E15","v":0},{"$f":"XTM!H15","v":0}]
[null,null,null,null,null,null,null,null,null,null,null,null,null,null,null,null,null,null,null,null,null,null,13,{"$f":"XTM!B16","v":0},{"$f":"XTM!C16","v":0},{"$f":"XTM!D16","v":0},{"$f":"XTM!F16","v":"00:00:00"},{"$f":"XTM!$A$2","v":"XTM"},null,{"$f":"XTM!E16","v":0},{"$f":"XTM!H16","v":0}]
[null,null,null,null,null,null,null,null,null,null,null,null,null,null,null,null,null,null,null,null,null,null,14,{"$f":"XTM!B17","v":0},{"$f":"XTM!C17","v":0},{"$f":"XTM!D17","v":0},{"$f":"XTM!F17","v":"00:00:00"},{"$f":"XTM!$A$2","v":"XTM"},null,{"$f":"XTM!E17","v":0},{"$f":"XTM!H17","v":0}]
[null,null,null,null,null,null,null,null,null,null,null,null,null,null,null,null,null,null,null,null,null,null,15,{"$f":"XTM!B18","v":0},{"$f":"XTM!C18","v":0},{"$f":"XTM!D18","v":0},{"$f":"XTM!F18","v":"00:00:00"},{"$f":"XTM!$A$2","v":"XTM"},null,{"$f":"XTM!E18","v":0},{"$f":"XTM!H18","v":0}]
[null,null,null,null,null,null,null,null,null,null,null,null,null,null,null,null,null,null,null,null,null,null,16,{"$f":"XTM!B19","v":0},{"$f":"XTM!C19","v":0},{"$f":"XTM!D19","v":0},{"$f":"XTM!F19","v":"00:00:00"},{"$f":"XTM!$A$2","v":"XTM"},null,{"$f":"XTM!E19","v":0},{"$f":"XTM!H19","v":0}]
[null,null,null,null,null,null,null,null,null,null,null,null,null,null,null,null,null,null,null,null,null,null,17,{"$f":"XTM!B20","v":0},{"$f":"XTM!C20","v":0},{"$f":"XTM!D20","v":0},{"$f":"XTM!F20","v":"00:00:00"},{"$f":"XTM!$A$2","v":"XTM"},null,{"$f":"XTM!E20","v":0},{"$f":"XTM!H20","v":0}]
[null,null,null,null,null,null,null,null,null,null,null,null,null,null,null,null,null,null,null,null,null,null,18,{"$f":"XTM!B21","v":0},{"$f":"XTM!C21","v":0},{"$f":"XTM!D21","v":0},{"$f":"XTM!F21","v":"00:00:00"},{"$f":"XTM!$A$2","v":"XTM"},null,{"$f":"XTM!E21","v":0},{"$f":"XTM!H21","v":0}]
[null,null,null,null,null,null,null,null,null,null,null,null,null,null,null,null,null,null,null,null,null,null,19,{"$f":"XTM!B22","v":0},{"$f":"XTM!C22","v":0},{"$f":"XTM!D22","v":0},{"$f":"XTM!F22","v":"00:00:00"},{"$f":"XTM!$A$2","v":"XTM"},null,{"$f":"XTM!E22","v":0},{"$f":"XTM!H22","v":0}]
[null,null,null,null,null,null,null,null,null,null,null,null,null,null,null,null,null,null,null,null,null,null,20,{"$f":"XTM!B23","v":0},{"$f":"XTM!C23","v":0},{"$f":"XTM!D23","v":0},{"$f":"XTM!F23","v":"00:00:00"},{"$f":"XTM!$A$2","v":"XTM"},null,{"$f":"XTM!E23","v":0},{"$f":"XTM!H23","v":0}]
[null,null,null,null,null,null,null,null,null,null,null,null,null,null,null,null,null,null,null,null,null,null,21,{"$f":"XTM!B24","v":0},{"$f":"XTM!C24","v":0},{"$f":"XTM!D24","v":0},{"$f":"XTM!F24","v":"00:00:00"},{"$f":"XTM!$A$2","v":"XTM"},null,{"$f":"XTM!E24","v":0},{"$f":"XTM!H24","v":0}]
[null,null,null,null,null,null,null,null,null,null,null,null,null,null,null,null,null,null,null,null,null,null,22,{"$f":"XTM!B25","v":0},{"$f":"XTM!C25","v":0},{"$f":"XTM!D25","v":0},{"$f":"XTM!F25","v":"00:00:00"},{"$f":"XTM!$A$2","v":"XTM"},null,{"$f":"XTM!E25","v":0},{"$f":"XTM!H25","v":0}]
[null,null,null,null,null,null,null,null,null,null,null,null,null,null,null,null,null,null,null,null,null,null,23,{"$f":"XTM!B26","v":0},{"$f":"XTM!C26","v":0},{"$f":"XTM!D26","v":0},{"$f":"XTM!F26","v":"00:00:00"},{"$f":"XTM!$A$2","v":"XTM"},null,{"$f":"XTM!E26","v":0},{"$f":"XTM!H26","v":0}]
[null,null,null,null,null,null,null,null,null,null,null,null,null,null,null,null,null,null,null,null,null,null,24,{"$f":"XTM!B27","v":0},{"$f":"XTM!C27","v":0},{"$f":"XTM!D27","v":0},{"$f":"XTM!F27","v":"00:00:00"},{"$f":"XTM!$A$2","v":"XTM"},null,{"$f":"XTM!E27","v":0},{"$f":"XTM!H27","v":0}]
[null,null,null,null,null,null,null,null,null,null,null,null,null,null,null,null,null,null,null,null,null,null,25,{"$f":"XTM!B28","v":0},{"$f":"XTM!C28","v":0},{"$f":"XTM!D28","v":0},{"$f":"XTM!F28","v":"00:00:00"},{"$f":"XTM!$A$2","v":"XTM"},null,{"$f":"XTM!E28","v":0},{"$f":"XTM!H28","v":0}]
[null,null,null,null,null,null,null,null,null,null,null,null,null,null,null,null,null,null,null,null,null,null,26,{"$f":"XTM!B29","v":0},{"$f":"XTM!C29","v":0},{"$f":"XTM!D29","v":0},{"$f":"XTM!F29","v":"00:00:00"},{"$f":"XTM!$A$2","v":"XTM"},null,{"$f":"XTM!E29","v":0},{"$f":"XTM!H29","v":0}]
[null,null,null,null,null,null,null,null,null,null,null,null,null,null,null,null,null,null,null,null,null,null,27,{"$f":"XTM!B30","v":0},{"$f":"XTM!C30","v":0},{"$f":"XTM!D30","v":0},{"$f":"XTM!F30","v":"00:00:00"},{"$f":"XTM!$A$2","v":"XTM"},null,{"$f":"XTM!E30","v":0},{"$f":"XTM!H30","v":0}]
[null,null,null,null,null,null,null,null,null,null,null,null,null,null,null,null,null,null,null,null,null,null,28,{"$f":"XTM!B31","v":0},{"$f":"XTM!C31","v":0},{"$f":"XTM!D31","v":0},{"$f":"XTM!F31","v":"00:00:00"},{"$f":"XTM!$A$2","v":"XTM"},null,{"$f":"XTM!E31","v":0},{"$f":"XTM!H31","v":0}]
[null,null,null,null,null,null,null,null,null,null,null,null,null,null,null,null,null,null,null,null,null,null,29,{"$f":"XTM!B32","v":0},{"$f":"XTM!C32","v":0},{"$f":"XTM!D32","v":0},{"$f":"XTM!F32","v":"00:00:00"},{"$f":"XTM!$A$2","v":"XTM"},null,{"$f":"XTM!E32","v":0},{"$f":"XTM!H32","v":0}]
[null,null,null,null,null,null,null,null,null,null,null,null,null,null,null,null,null,null,null,null,null,null,30,{"$f":"XTM!B33","v":0},{"$f":"XTM!C33","v":0},{"$f":"XTM!D33","v":0},{"$f":"XTM!F33","v":"00:00:00"},{"$f":"XTM!$A$2","v":"XTM"},null,{"$f":"XTM!E33","v":0},{"$f":"XTM!H33","v":0}]
[null,null,null,null,null,null,null,null,null,null,null,null,null,null,null,null,null,null,null,null,null,null,31,{"$f":"XTM!B34","v":0},{"$f":"XTM!C34","v":0},{"$f":"XTM!D34","v":0},{"$f":"XTM!F34","v":"00:00:00"},{"$f":"XTM!$A$2","v":"XTM"},null,{"$f":"XTM!E34","v":0},{"$f":"XTM!H34","v":0}]
[null,null,null,null,null,null,null,null,null,null,null,null,null,null,null,null,null,null,null,null,null,null,32,{"$f":"XTM!B35","v":0},{"$f":"XTM!C35","v":0},{"$f":"XTM!D35","v":0},{"$f":"XTM!F35","v":"00:00:00"},{"$f":"XTM!$A$2","v":"XTM"},null,{"$f":"XTM!E35","v":0},{"$f":"XTM!H35","v":0}]
[null,null,null,null,null,null,null,null,null,null,null,null,null,null,null,null,null,null,null,null,null,null,33,{"$f":"XTM!B36","v":0},{"$f":"XTM!C36","v":0},{"$f":"XTM!D36","v":0},{"$f":"XTM!F36","v":"00:00:00"},{"$f":"XTM!$A$2","v":"XTM"},null,{"$f":"XTM!E36","v":0},{"$f":"XTM!H36","v":0}]
[null,null,null,null,null,null,null,null,null,null,null,null,null,null,null,null,null,null,null,null,null,null,34,{"$f":"XTM!B37","v":0},{"$f":"XTM!C37","v":0},{"$f":"XTM!D37","v":0},{"$f":"XTM!F37","v":"00:00:00"},{"$f":"XTM!$A$2","v":"XTM"},null,{"$f":"XTM!E37","v":0},{"$f":"XTM!H37","v":0}]
[null,null,null,null,null,null,null,null,null,null,null,null,null,null,null,null,null,null,null,null,null,null,35,{"$f":"XTM!B38","v":0},{"$f":"XTM!C38","v":0},{"$f":"XTM!D38","v":0},{"$f":"XTM!F38","v":"00:00:00"},{"$f":"XTM!$A$2","v":"XTM"},null,{"$f":"XTM!E38","v":0},{"$f":"XTM!H38","v":0}]
[null,null,null,null,null,null,null,null,null,null,null,null,null,null,null,null,null,null,null,null,null,null,36,{"$f":"XTM!B39","v":0},{"$f":"XTM!C39","v":0},{"$f":"XTM!D39","v":0},{"$f":"XTM!F39","v":"00:00:00"},{"$f":"XTM!$A$2","v":"XTM"},null,{"$f":"XTM!E39","v":0},{"$f":"XTM!H39","v":0}]
[null,null,null,null,null,null,null,null,null,null,null,null,null,null,null,null,null,null,null,null,null,null,37,{"$f":"XTM!B40","v":0},{"$f":"XTM!C40","v":0},{"$f":"XTM!D40","v":0},{"$f":"XTM!F40","v":"00:00:00"},{"$f":"XTM!$A$2","v":"XTM"},null,{"$f":"XTM!E40","v":0},{"$f":"XTM!H40","v":0}]
[null,null,null,null,null,null,null,null,null,null,null,null,null,null,null,null,null,null,null,null,null,null,38,{"$f":"XTM!B41","v":0},{"$f":"XTM!C41","v":0},{"$f":"XTM!D41","v":0},{"$f":"XTM!F41","v":"00:00:00"},{"$f":"XTM!$A$2","v":"XTM"},null,{"$f":"XTM!E41","v":0},{"$f":"XTM!H41","v":0}]
[null,null,null,null,null,null,null,null,null,null,null,null,null,null,null,null,null,null,null,null,null,null,39,{"$f":"XTM!B42","v":0},{"$f":"XTM!C42","v":0},{"$f":"XTM!D42","v":0},{"$f":"XTM!F42","v":"00:00:00"},{"$f":"XTM!$A$2","v":"XTM"},null,{"$f":"XTM!E42","v":0},{"$f":"XTM!H42","v":0}]
[null,null,null,null,null,null,null,null,null,null,null,null,null,null,null,null,null,null,null,null,null,null,40,{"$f":"XTM!B43","v":0},{"$f":"XTM!C43","v":0},{"$f":"XTM!D43","v":0},{"$f":"XTM!F43","v":"00:00:00"},{"$f":"XTM!$A$2","v":"XTM"},null,{"$f":"XTM!E43","v":0},{"$f":"XTM!H43","v":0}]
[null,null,null,null,null,null,null,null,null,null,null,null,null,null,null,null,null,null,null,null,null,null,41,{"$f":"XTM!B44","v":0},{"$f":"XTM!C44","v":0},{"$f":"XTM!D44","v":0},{"$f":"XTM!F44","v":"00:00:00"},{"$f":"XTM!$A$2","v":"XTM"},null,{"$f":"XTM!E44","v":0},{"$f":"XTM!H44","v":0}]
[null,null,null,null,null,null,null,null,null,null,null,null,null,null,null,null,null,null,null,null,null,null,42,{"$f":"XTM!B45","v":0},{"$f":"XTM!C45","v":0},{"$f":"XTM!D45","v":0},{"$f":"XTM!F45","v":"00:00:00"},{"$f":"XTM!$A$2","v":"XTM"},null,{"$f":"XTM!E45","v":0},{"$f":"XTM!H45","v":0}]
[null,null,null,null,null,null,null,null,null,null,null,null,null,null,null,null,null,null,null,null,null,null,43,{"$f":"XTM!B46","v":0},{"$f":"XTM!C46","v":0},{"$f":"XTM!D46","v":0},{"$f":"XTM!F46","v":"00:00:00"},{"$f":"XTM!$A$2","v":"XTM"},null,{"$f":"XTM!E46","v":0},{"$f":"XTM!H46","v":0}]
[null,null,null,null,null,null,null,null,null,null,null,null,null,null,null,null,null,null,null,null,null,null,44,{"$f":"XTM!B47","v":0},{"$f":"XTM!C47","v":0},{"$f":"XTM!D47","v":0},{"$f":"XTM!F47","v":"00:00:00"},{"$f":"XTM!$A$2","v":"XTM"},null,{"$f":"XTM!E47","v":0},{"$f":"XTM!H47","v":0}]
[null,null,null,null,null,null,null,null,null,null,null,null,null,null,null,null,null,null,null,null,null,null,45,{"$f":"XTM!B48","v":0},{"$f":"XTM!C48","v":0},{"$f":"XTM!D48","v":0},{"$f":"XTM!F48","v":"00:00:00"},{"$f":"XTM!$A$2","v":"XTM"},null,{"$f":"XTM!E48","v":0},{"$f":"XTM!H48","v":0}]
[null,null,null,null,null,null,null,null,null,null,null,null,null,null,null,null,null,null,null,null,null,null,46,{"$f":"XTM!B49","v":0},{"$f":"XTM!C49","v":0},{"$f":"XTM!D49","v":0},{"$f":"XTM!F49","v":"00:00:00"},{"$f":"XTM!$A$2","v":"XTM"},null,{"$f":"XTM!E49","v":0},{"$f":"XTM!H49","v":0}]
[null,null,null,null,null,null,null,null,null,null,null,null,null,null,null,null,null,null,null,null,null,null,47,{"$f":"XTM!B50","v":0},{"$f":"XTM!C50","v":0},{"$f":"XTM!D50","v":0},{"$f":"XTM!F50","v":"00:00:00"},{"$f":"XTM!$A$2","v":"XTM"},null,{"$f":"XTM!E50","v":0},{"$f":"XTM!H50","v":0}]
[null,null,null,null,null,null,null,null,null,null,null,null,null,null,null,null,null,null,null,null,null,null,48,{"$f":"XTM!B51","v":0},{"$f":"XTM!C51","v":0},{"$f":"XTM!D51","v":0},{"$f":"XTM!F51","v":"00:00:00"},{"$f":"XTM!$A$2","v":"XTM"},null,{"$f":"XTM!E51","v":0},{"$f":"XTM!H51","v":0}]
[null,null,null,null,null,null,null,null,null,null,null,null,null,null,null,null,null,null,null,null,null,null,49,{"$f":"XTM!B52","v":0},{"$f":"XTM!C52","v":0},{"$f":"XTM!D52","v":0},{"$f":"XTM!F52","v":"00:00:00"},{"$f":"XTM!$A$2","v":"XTM"},null,{"$f":"XTM!E52","v":0},{"$f":"XTM!H52","v":0}]
[null,null,null,null,null,null,null,null,null,null,null,null,null,null,null,null,null,null,null,null,null,null,50,{"$f":"XTM!B53","v":0},{"$f":"XTM!C53","v":0},{"$f":"XTM!D53","v":0},{"$f":"XTM!F53","v":"00:00:00"},{"$f":"XTM!$A$2","v":"XTM"},null,{"$f":"XTM!E53","v":0},{"$f":"XTM!H53","v":0}]
[null,null,null,null,null,null,null,null,null,null,null,null,null,null,null,null,null,null,null,null,null,null,51,{"$f":"XTM!B54","v":0},{"$f":"XTM!C54","v":0},{"$f":"XTM!D54","v":0},{"$f":"XTM!F54","v":"00:00:00"},{"$f":"XTM!$A$2","v":"XTM"},null,{"$f":"XTM!E54","v":0},{"$f":"XTM!H54","v":0}]
[null,null,null,null,null,null,null,null,null,null,null,null,null,null,null,null,null,null,null,null,null,null,52,{"$f":"XTM!B55","v":0},{"$f":"XTM!C55","v":0},{"$f":"XTM!D55","v":0},{"$f":"XTM!F55","v":"00:00:00"},{"$f":"XTM!$A$2","v":"XTM"},null,{"$f":"XTM!E55","v":0},{"$f":"XTM!H55","v":0}]
[null,null,null,null,null,null,null,null,null,null,null,null,null,null,null,null,null,null,null,null,null,null,53,{"$f":"XTM!B56","v":0},{"$f":"XTM!C56","v":0},{"$f":"XTM!D56","v":0},{"$f":"XTM!F56","v":"00:00:00"},{"$f":"XTM!$A$2","v":"XTM"},null,{"$f":"XTM!E56","v":0},{"$f":"XTM!H56","v":0}]
[null,null,null,null,null,null,null,null,null,null,null,null,null,null,null,null,null,null,null,null,null,null,54,{"$f":"XTM!B57","v":0},{"$f":"XTM!C57","v":0},{"$f":"XTM!D57","v":0},{"$f":"XTM!F57","v":"00:00:00"},{"$f":"XTM!$A$2","v":"XTM"},null,{"$f":"XTM!E57","v":0},{"$f":"XTM!H57","v":0}]
[null,null,null,null,null,null,null,null,null,null,null,null,null,null,null,null,null,null,null,null,null,null,55,{"$f":"XTM!B58","v":0},{"$f":"XTM!C58","v":0},{"$f":"XTM!D58","v":0},{"$f":"XTM!F58","v":"00:00:00"},{"$f":"XTM!$A$2","v":"XTM"},null,{"$f":"XTM!E58","v":0},{"$f":"XTM!H58","v":0}]
[null,null,null,null,null,null,null,null,null,null,null,null,null,null,null,null,null,null,null,null,null,null,56,{"$f":"XTM!B59","v":0},{"$f":"XTM!C59","v":0},{"$f":"XTM!D59","v":0},{"$f":"XTM!F59","v":"00:00:00"},{"$f":"XTM!$A$2","v":"XTM"},null,{"$f":"XTM!E59","v":0},{"$f":"XTM!H59","v":0}]
[null,null,null,null,null,null,null,null,null,null,null,null,null,null,null,null,null,null,null,null,null,null,57,{"$f":"XTM!B60","v":0},{"$f":"XTM!C60","v":0},{"$f":"XTM!D60","v":0},{"$f":"XTM!F60","v":"00:00:00"},{"$f":"XTM!$A$2","v":"XTM"},null,{"$f":"XTM!E60","v":0},{"$f":"XTM!H60","v":0}]
[null,null,null,null,null,null,null,null,null,null,null,null,null,null,null,null,null,null,null,null,null,null,58,{"$f":"XTM!B61","v":0},{"$f":"XTM!C61","v":0},{"$f":"XTM!D61","v":0},{"$f":"XTM!F61","v":"00:00:00"},{"$f":"XTM!$A$2","v":"XTM"},null,{"$f":"XTM!E61","v":0},{"$f":"XTM!H61","v":0}]
[null,null,null,null,null,null,null,null,null,null,null,null,null,null,null,null,null,null,null,null,null,null,59,{"$f":"XTM!B62","v":0},{"$f":"XTM!C62","v":0},{"$f":"XTM!D62","v":0},{"$f":"XTM!F62","v":"00:00:00"},{"$f":"XTM!$A$2","v":"XTM"},null,{"$f":"XTM!E62","v":0},{"$f":"XTM!H62","v":0}]
[null,null,null,null,null,null,null,null,null,null,null,null,null,null,null,null,null,null,null,null,null,null,60,{"$f":"XTM!B63","v":0},{"$f":"XTM!C63","v":0},{"$f":"XTM!D63","v":0},{"$f":"XTM!F63","v":"00:00:00"},{"$f":"XTM!$A$2","v":"XTM"},null,{"$f":"XTM!E63","v":0},{"$f":"XTM!H63","v":0}]
[null,null,null,null,null,null,null,null,null,null,null,null,null,null,null,null,null,null,null,null,null,null,61,{"$f":"XTM!B64","v":0},{"$f":"XTM!C64","v":0},{"$f":"XTM!D64","v":0},{"$f":"XTM!F64","v":"00:00:00"},{"$f":"XTM!$A$2","v":"XTM"},null,{"$f":"XTM!E64","v":0},{"$f":"XTM!H64","v":0}]
[null,null,null,null,null,null,null,null,null,null,null,null,null,null,null,null,null,null,null,null,null,null,62,{"$f":"XTM!B65","v":0},{"$f":"XTM!C65","v":0},{"$f":"XTM!D65","v":0},{"$f":"XTM!F65","v":"00:00:00"},{"$f":"XTM!$A$2","v":"XTM"},null,{"$f":"XTM!E65","v":0},{"$f":"XTM!H65","v":0}]
[null,null,null,null,null,null,null,null,null,null,null,null,null,null,null,null,null,null,null,null,null,null,63,{"$f":"XTM!B66","v":0},{"$f":"XTM!C66","v":0},{"$f":"XTM!D66","v":0},{"$f":"XTM!F66","v":"00:00:00"},{"$f":"XTM!$A$2","v":"XTM"},null,{"$f":"XTM!E66","v":0},{"$f":"XTM!H66","v":0}]
[null,null,null,null,null,null,null,null,null,null,null,null,null,null,null,null,null,null,null,null,null,null,64,{"$f":"XTM!B67","v":0},{"$f":"XTM!C67","v":0},{"$f":"XTM!D67","v":0},{"$f":"XTM!F67","v":"00:00:00"},{"$f":"XTM!$A$2","v":"XTM"},null,{"$f":"XTM!E67","v":0},{"$f":"XTM!H67","v":0}]
[null,null,null,null,null,null,null,null,null,null,null,null,null,null,null,null,null,null,null,null,null,null,65,{"$f":"XTM!B68","v":0},{"$f":"XTM!C68","v":0},{"$f":"XTM!D68","v":0},{"$f":"XTM!F68","v":"00:00:00"},{"$f":"XTM!$A$2","v":"XTM"},null,{"$f":"XTM!E68","v":0},{"$f":"XTM!H68","v":0}]
[null,null,null,null,null,null,null,null,null,null,null,null,null,null,null,null,null,null,null,null,null,null,66,{"$f":"XTM!B69","v":0},{"$f":"XTM!C69","v":0},{"$f":"XTM!D69","v":0},{"$f":"XTM!F69","v":"00:00:00"},{"$f":"XTM!$A$2","v":"XTM"},null,{"$f":"XTM!E69","v":0},{"$f":"XTM!H69","v":0}]
[null,null,null,null,null,null,null,null,null,null,null,null,null,null,null,null,null,null,null,null,null,null,67,{"$f":"XTM!B70","v":0},{"$f":"XTM!C70","v":0},{"$f":"XTM!D70","v":0},{"$f":"XTM!F70","v":"00:00:00"},{"$f":"XTM!$A$2","v":"XTM"},null,{"$f":"XTM!E70","v":0},{"$f":"XTM!H70","v":0}]
[null,null,null,null,null,null,null,null,null,null,null,null,null,null,null,null,null,null,null,null,null,null,68,{"$f":"XTM!B71","v":0},{"$f":"XTM!C71","v":0},{"$f":"XTM!D71","v":0},{"$f":"XTM!F71","v":"00:00:00"},{"$f":"XTM!$A$2","v":"XTM"},null,{"$f":"XTM!E71","v":0},{"$f":"XTM!H71","v":0}]
[null,null,null,null,null,null,null,null,null,null,null,null,null,null,null,null,null,null,null,null,null,null,69,{"$f":"XTM!B72","v":0},{"$f":"XTM!C72","v":0},{"$f":"XTM!D72","v":0},{"$f":"XTM!F72","v":"00:00:00"},{"$f":"XTM!$A$2","v":"XTM"},null,{"$f":"XTM!E72","v":0},{"$f":"XTM!H72","v":0}]
[null,null,null,null,null,null,null,null,null,null,null,null,null,null,null,null,null,null,null,null,null,null,70,{"$f":"XTM!B73","v":0},{"$f":"XTM!C73","v":0},{"$f":"XTM!D73","v":0},{"$f":"XTM!F73","v":"00:00:00"},{"$f":"XTM!$A$2","v":"XTM"},null,{"$f":"XTM!E73","v":0},{"$f":"XTM!H73","v":0}]
[null,null,null,null,null,null,null,null,null,null,null,null,null,null,null,null,null,null,null,null,null,null,71,{"$f":"XTM!B74","v":0},{"$f":"XTM!C74","v":0},{"$f":"XTM!D74","v":0},{"$f":"XTM!F74","v":"00:00:00"},{"$f":"XTM!$A$2","v":"XTM"},null,{"$f":"XTM!E74","v":0},{"$f":"XTM!H74","v":0}]
[null,null,null,null,null,null,null,null,null,null,null,null,null,null,null,null,null,null,null,null,null,null,72,{"$f":"XTM!B75","v":0},{"$f":"XTM!C75","v":0},{"$f":"XTM!D75","v":0},{"$f":"XTM!F75","v":"00:00:00"},{"$f":"XTM!$A$2","v":"XTM"},null,{"$f":"XTM!E75","v":0},{"$f":"XTM!H75","v":0}]
[null,null,null,null,null,null,null,null,null,null,null,null,null,null,null,null,null,null,null,null,null,null,73,{"$f":"XTM!B76","v":0},{"$f":"XTM!C76","v":0},{"$f":"XTM!D76","v":0},{"$f":"XTM!F76","v":"00:00:00"},{"$f":"XTM!$A$2","v":"XTM"},null,{"$f":"XTM!E76","v":0},{"$f":"XTM!H76","v":0}]
[null,null,null,null,null,null,null,null,null,null,null,null,null,null,null,null,null,null,null,null,null,null,74,{"$f":"XTM!B77","v":0},{"$f":"XTM!C77","v":0},{"$f":"XTM!D77","v":0},{"$f":"XTM!F77","v":"00:00:00"},{"$f":"XTM!$A$2","v":"XTM"},null,{"$f":"XTM!E77","v":0},{"$f":"XTM!H77","v":0}]
[null,null,null,null,null,null,null,null,null,null,null,null,null,null,null,null,null,null,null,null,null,null,75,{"$f":"XTM!B78","v":0},{"$f":"XTM!C78","v":0},{"$f":"XTM!D78","v":0},{"$f":"XTM!F78","v":"00:00:00"},{"$f":"XTM!$A$2","v":"XTM"},null,{"$f":"XTM!E78","v":0},{"$f":"XTM!H78","v":0}]
[null,null,null,null,null,null,null,null,null,null,null,null,null,null,null,null,null,null,null,null,null,null,76,{"$f":"XTM!B79","v":0},{"$f":"XTM!C79","v":0},{"$f":"XTM!D79","v":0},{"$f":"XTM!F79","v":"00:00:00"},{"$f":"XTM!$A$2","v":"XTM"},null,{"$f":"XTM!E79","v":0},{"$f":"XTM!H79","v":0}]
[null,null,null,null,null,null,null,null,null,null,null,null,null,null,null,null,null,null,null,null,null,null,77,{"$f":"XTM!B80","v":0},{"$f":"XTM!C80","v":0},{"$f":"XTM!D80","v":0},{"$f":"XTM!F80","v":"00:00:00"},{"$f":"XTM!$A$2","v":"XTM"},null,{"$f":"XTM!E80","v":0},{"$f":"XTM!H80","v":0}]
[null,null,null,null,null,null,null,null,null,null,null,null,null,null,null,null,null,null,null,null,null,null,78,{"$f":"XTM!B81","v":0},{"$f":"XTM!C81","v":0},{"$f":"XTM!D81","v":0},{"$f":"XTM!F81","v":"00:00:00"},{"$f":"XTM!$A$2","v":"XTM"},null,{"$f":"XTM!E81","v":0},{"$f":"XTM!H81","v":0}]
[null,null,null,null,null,null,null,null,null,null,null,null,null,null,null,null,null,null,null,null,null,null,79,{"$f":"XTM!B82","v":0},{"$f":"XTM!C82","v":0},{"$f":"XTM!D82","v":0},{"$f":"XTM!F82","v":"00:00:00"},{"$f":"XTM!$A$2","v":"XTM"},null,{"$f":"XTM!E82","v":0},{"$f":"XTM!H82","v":0}]
[null,null,null,null,null,null,null,null,null,null,null,null,null,null,null,null,null,null,null,null,null,null,80,{"$f":"XTM!B83","v":0},{"$f":"XTM!C83","v":0},{"$f":"XTM!D83","v":0},{"$f":"XTM!F83","v":"00:00:00"},{"$f":"XTM!$A$2","v":"XTM"},null,{"$f":"XTM!E83","v":0},{"$f":"XTM!H83","v":0}]
[null,null,null,null,null,null,null,null,null,null,null,null,null,null,null,null,null,null,null,null,null,null,81,{"$f":"XTM!B84","v":0},{"$f":"XTM!C84","v":0},{"$f":"XTM!D84","v":0},{"$f":"XTM!F84","v":"00:00:00"},{"$f":"XTM!$A$2","v":"XTM"},null,{"$f":"XTM!E84","v":0},{"$f":"XTM!H84","v":0}]
[null,null,null,null,null,null,null,null,null,null,null,null,null,null,null,null,null,null,null,null,null,null,82,{"$f":"XTM!B85","v":0},{"$f":"XTM!C85","v":0},{"$f":"XTM!D85","v":0},{"$f":"XTM!F85","v":"00:00:00"},{"$f":"XTM!$A$2","v":"XTM"},null,{"$f":"XTM!E85","v":0},{"$f":"XTM!H85","v":0}]
[null,null,null,null,null,null,null,null,null,null,null,null,null,null,null,null,null,null,null,null,null,null,83,{"$f":"XTM!B86","v":0},{"$f":"XTM!C86","v":0},{"$f":"XTM!D86","v":0},{"$f":"XTM!F86","v":"00:00:00"},{"$f":"XTM!$A$2","v":"XTM"},null,{"$f":"XTM!E86","v":0},{"$f":"XTM!H86","v":0}]
[null,null,null,null,null,null,null,null,null,null,null,null,null,null,null,null,null,null,null,null,null,null,84,{"$f":"XTM!B87","v":0},{"$f":"XTM!C87","v":0},{"$f":"XTM!D87","v":0},{"$f":"XTM!F87","v":"00:00:00"},{"$f":"XTM!$A$2","v":"XTM"},null,{"$f":"XTM!E87","v":0},{"$f":"XTM!H87","v":0}]
[null,null,null,null,null,null,null,null,null,null,null,null,null,null,null,null,null,null,null,null,null,null,85,{"$f":"XTM!B88","v":0},{"$f":"XTM!C88","v":0},{"$f":"XTM!D88","v":0},{"$f":"XTM!F88","v":"00:00:00"},{"$f":"XTM!$A$2","v":"XTM"},null,{"$f":"XTM!E88","v":0},{"$f":"XTM!H88","v":0}]
[null,null,null,null,null,null,null,null,null,null,null,null,null,null,null,null,null,null,null,null,null,null,86,{"$f":"XTM!B89","v":0},{"$f":"XTM!C89","v":0},{"$f":"XTM!D89","v":0},{"$f":"XTM!F89","v":"00:00:00"},{"$f":"XTM!$A$2","v":"XTM"},null,{"$f":"XTM!E89","v":0},{"$f":"XTM!H89","v":0}]
[null,null,null,null,null,null,null,null,null,null,null,null,null,null,null,null,null,null,null,null,null,null,87,{"$f":"XTM!B90","v":0},{"$f":"XTM!C90","v":0},{"$f":"XTM!D90","v":0},{"$f":"XTM!F90","v":"00:00:00"},{"$f":"XTM!$A$2","v":"XTM"},null,{"$f":"XTM!E90","v":0},{"$f":"XTM!H90","v":0}]
[null,null,null,null,null,null,null,null,null,null,null,null,null,null,null,null,null,null,null,null,null,null,88,{"$f":"XTM!B91","v":0},{"$f":"XTM!C91","v":0},{"$f":"XTM!D91","v":0},{"$f":"XTM!F91","v":"00:00:00"},{"$f":"XTM!$A$2","v":"XTM"},null,{"$f":"XTM!E91","v":0},{"$f":"XTM!H91","v":0}]
[null,null,null,null,null,null,null,null,null,null,null,null,null,null,null,null,null,null,null,null,null,null,89,{"$f":"XTM!B92","v":0},{"$f":"XTM!C92","v":0},{"$f":"XTM!D92","v":0},{"$f":"XTM!F92","v":"00:00:00"},{"$f":"XTM!$A$2","v":"XTM"},null,{"$f":"XTM!E92","v":0},{"$f":"XTM!H92","v":0}]
[null,null,null,null,null,null,null,null,null,null,null,null,null,null,null,null,null,null,null,null,null,null,90,{"$f":"XTM!B93","v":0},{"$f":"XTM!C93","v":0},{"$f":"XTM!D93","v":0},{"$f":"XTM!F93","v":"00:00:00"},{"$f":"XTM!$A$2","v":"XTM"},null,{"$f":"XTM!E93","v":0},{"$f":"XTM!H93","v":0}]
[null,null,null,null,null,null,null,null,null,null,null,null,null,null,null,null,null,null,null,null,null,null,91,{"$f":"XTM!B94","v":0},{"$f":"XTM!C94","v":0},{"$f":"XTM!D94","v":0},{"$f":"XTM!F94","v":"00:00:00"},{"$f":"XTM!$A$2","v":"XTM"},null,{"$f":"XTM!E94","v":0},{"$f":"XTM!H94","v":0}]
[null,null,null,null,null,null,null,null,null,null,null,null,null,null,null,null,null,null,null,null,null,null,92,{"$f":"XTM!B95","v":0},{"$f":"XTM!C95","v":0},{"$f":"XTM!D95","v":0},{"$f":"XTM!F95","v":"00:00:00"},{"$f":"XTM!$A$2","v":"XTM"},null,{"$f":"XTM!E95","v":0},{"$f":"XTM!H95","v":0}]
[null,null,null,null,null,null,null,null,null,null,null,null,null,null,null,null,null,null,null,null,null,null,93,{"$f":"XTM!B96","v":0},{"$f":"XTM!C96","v":0},{"$f":"XTM!D96","v":0},{"$f":"XTM!F96","v":"00:00:00"},{"$f":"XTM!$A$2","v":"XTM"},null,{"$f":"XTM!E96","v":0},{"$f":"XTM!H96","v":0}]
[null,null,null,null,null,null,null,null,null,null,null,null,null,null,null,null,null,null,null,null,null,null,94,{"$f":"XTM!B97","v":0},{"$f":"XTM!C97","v":0},{"$f":"XTM!D97","v":0},{"$f":"XTM!F97","v":"00:00:00"},{"$f":"XTM!$A$2","v":"XTM"},null,{"$f":"XTM!E97","v":0},{"$f":"XTM!H97","v":0}]
[null,null,null,null,null,null,null,null,null,null,null,null,null,null,null,null,null,null,null,null,null,null,95,{"$f":"XTM!B98","v":0},{"$f":"XTM!C98","v":0},{"$f":"XTM!D98","v":0},{"$f":"XTM!F98","v":"00:00:00"},{"$f":"XTM!$A$2","v":"XTM"},null,{"$f":"XTM!E98","v":0},{"$f":"XTM!H98","v":0}]
[null,null,null,null,null,null,null,null,null,null,null,null,null,null,null,null,null,null,null,null,null,null,96,{"$f":"XTM!B99","v":0},{"$f":"XTM!C99","v":0},{"$f":"XTM!D99","v":0},{"$f":"XTM!F99","v":"00:00:00"},{"$f":"XTM!$A$2","v":"XTM"},null,{"$f":"XTM!E99","v":0},{"$f":"XTM!H99","v":0}]
[null,null,null,null,null,null,null,null,null,null,null,null,null,null,null,null,null,null,null,null,null,null,97,{"$f":"XTM!B100","v":0},{"$f":"XTM!C100","v":0},{"$f":"XTM!D100","v":0},{"$f":"XTM!F100","v":"00:00:00"},{"$f":"XTM!$A$2","v":"XTM"},null,{"$f":"XTM!E100","v":0},{"$f":"XTM!H100","v":0}]
[null,null,null,null,null,null,null,null,null,null,null,null,null,null,null,null,null,null,null,null,null,null,98,{"$f":"XTM!B101","v":0},{"$f":"XTM!C101","v":0},{"$f":"XTM!D101","v":0},{"$f":"XTM!F101","v":"00:00:00"},{"$f":"XTM!$A$2","v":"XTM"},null,{"$f":"XTM!E101","v":0},{"$f":"XTM!H101","v":0}]
[null,null,null,null,null,null,null,null,null,null,null,null,null,null,null,null,null,null,null,null,null,null,99,{"$f":"XTM!B102","v":0},{"$f":"XTM!C102","v":0},{"$f":"XTM!D102","v":0},{"$f":"XTM!F102","v":"00:00:00"},{"$f":"XTM!$A$2","v":"XTM"},null,{"$f":"XTM!E102","v":0},{"$f":"XTM!H102","v":0}]
[null,null,null,null,null,null,null,null,null,null,null,null,null,null,null,null,null,null,null,null,null,null,100,{"$f":"XTM!B103","v":0},{"$f":"XTM!C103","v":0},{"$f":"XTM!D103","v":0},{"$f":"XTM!F103","v":"00:00:00"},{"$f":"XTM!$A$2","v":"XTM"},null,{"$f":"XTM!E103","v":0},{"$f":"XTM!H103","v":0}]
[null,null,null,null,null,null,null,null,null,null,null,null,null,null,null,null,null,null,null,null,null,null,101,{"$f":"XTM!B104","v":0},{"$f":"XTM!C104","v":0},{"$f":"XTM!D104","v":0},{"$f":"XTM!F104","v":"00:00:00"},{"$f":"XTM!$A$2","v":"XTM"},null,{"$f":"XTM!E104","v":0},{"$f":"XTM!H104","v":0}]
[null,null,null,null,null,null,null,null,null,null,null,null,null,null,null,null,null,null,null,null,null,null,102,{"$f":"XTM!B105","v":0},{"$f":"XTM!C105","v":0},{"$f":"XTM!D105","v":0},{"$f":"XTM!F105","v":"00:00:00"},{"$f":"XTM!$A$2","v":"XTM"},null,{"$f":"XTM!E105","v":0},{"$f":"XTM!H105","v":0}]
[null,null,null,null,null,null,null,null,null,null,null,null,null,null,null,null,null,null,null,null,null,null,103,{"$f":"XTM!B106","v":0},{"$f":"XTM!C106","v":0},{"$f":"XTM!D106","v":0},{"$f":"XTM!F106","v":"00:00:00"},{"$f":"XTM!$A$2","v":"XTM"},null,{"$f":"XTM!E106","v":0},{"$f":"XTM!H106","v":0}]
[null,null,null,null,null,null,null,null,null,null,null,null,null,null,null,null,null,null,null,null,null,null,104,{"$f":"XTM!B107","v":0},{"$f":"XTM!C107","v":0},{"$f":"XTM!D107","v":0},{"$f":"XTM!F107","v":"00:00:00"},{"$f":"XTM!$A$2","v":"XTM"},null,{"$f":"XTM!E107","v":0},{"$f":"XTM!H107","v":0}]
[null,null,null,null,null,null,null,null,null,null,null,null,null,null,null,null,null,null,null,null,null,null,105,{"$f":"XTM!B108","v":0},{"$f":"XTM!C108","v":0},{"$f":"XTM!D108","v":0},{"$f":"XTM!F108","v":"00:00:00"},{"$f":"XTM!$A$2","v":"XTM"},null,{"$f":"XTM!E108","v":0},{"$f":"XTM!H108","v":0}]
[null,null,null,null,null,null,null,null,null,null,null,null,null,null,null,null,null,null,null,null,null,null,106,{"$f":"XTM!B109","v":0},{"$f":"XTM!C109","v":0},{"$f":"XTM!D109","v":0},{"$f":"XTM!F109","v":"00:00:00"},{"$f":"XTM!$A$2","v":"XTM"},null,{"$f":"XTM!E109","v":0},{"$f":"XTM!H109","v":0}]
[null,null,null,null,null,null,null,null,null,null,null,null,null,null,null,null,null,null,null,null,null,null,107,{"$f":"XTM!B110","v":0},{"$f":"XTM!C110","v":0},{"$f":"XTM!D110","v":0},{"$f":"XTM!F110","v":"00:00:00"},{"$f":"XTM!$A$2","v":"XTM"},null,{"$f":"XTM!E110","v":0},{"$f":"XTM!H110","v":0}]
[null,null,null,null,null,null,null,null,null,null,null,null,null,null,null,null,null,null,null,null,null,null,108,{"$f":"XTM!B111","v":0},{"$f":"XTM!C111","v":0},{"$f":"XTM!D111","v":0},{"$f":"XTM!F111","v":"00:00:00"},{"$f":"XTM!$A$2","v":"XTM"},null,{"$f":"XTM!E111","v":0},{"$f":"XTM!H111","v":0}]
[null,null,null,null,null,null,null,null,null,null,null,null,null,null,null,null,null,null,null,null,null,null,109,{"$f":"XTM!B112","v":0},{"$f":"XTM!C112","v":0},{"$f":"XTM!D112","v":0},{"$f":"XTM!F112","v":"00:00:00"},{"$f":"XTM!$A$2","v":"XTM"},null,{"$f":"XTM!E112","v":0},{"$f":"XTM!H112","v":0}]
[null,null,null,null,null,null,null,null,null,null,null,null,null,null,null,null,null,null,null,null,null,null,110,{"$f":"XTM!B113","v":0},{"$f":"XTM!C113","v":0},{"$f":"XTM!D113","v":0},{"$f":"XTM!F113","v":"00:00:00"},{"$f":"XTM!$A$2","v":"XTM"},null,{"$f":"XTM!E113","v":0},{"$f":"XTM!H113","v":0}]
[null,null,null,null,null,null,null,null,null,null,null,null,null,null,null,null,null,null,null,null,null,null,111,{"$f":"XTM!B114","v":0},{"$f":"XTM!C114","v":0},{"$f":"XTM!D114","v":0},{"$f":"XTM!F114","v":"00:00:00"},{"$f":"XTM!$A$2","v":"XTM"},null,{"$f":"XTM!E114","v":0},{"$f":"XTM!H114","v":0}]
[null,null,null,null,null,null,null,null,null,null,null,null,null,null,null,null,null,null,null,null,null,null,112,{"$f":"XTM!B115","v":0},{"$f":"XTM!C115","v":0},{"$f":"XTM!D115","v":0},{"$f":"XTM!F115","v":"00:00:00"},{"$f":"XTM!$A$2","v":"XTM"},null,{"$f":"XTM!E115","v":0},{"$f":"XTM!H115","v":0}]
[null,null,null,null,null,null,null,null,null,null,null,null,null,null,null,null,null,null,null,null,null,null,113,{"$f":"XTM!B116","v":0},{"$f":"XTM!C116","v":0},{"$f":"XTM!D116","v":0},{"$f":"XTM!F116","v":"00:00:00"},{"$f":"XTM!$A$2","v":"XTM"},null,{"$f":"XTM!E116","v":0},{"$f":"XTM!H116","v":0}]
[null,null,null,null,null,null,null,null,null,null,null,null,null,null,null,null,null,null,null,null,null,null,114,{"$f":"XTM!B117","v":0},{"$f":"XTM!C117","v":0},{"$f":"XTM!D117","v":0},{"$f":"XTM!F117","v":"00:00:00"},{"$f":"XTM!$A$2","v":"XTM"},null,{"$f":"XTM!E117","v":0},{"$f":"XTM!H117","v":0}]
[null,null,null,null,null,null,null,null,null,null,null,null,null,null,null,null,null,null,null,null,null,null,115,{"$f":"XTM!B118","v":0},{"$f":"XTM!C118","v":0},{"$f":"XTM!D118","v":0},{"$f":"XTM!F118","v":"00:00:00"},{"$f":"XTM!$A$2","v":"XTM"},null,{"$f":"XTM!E118","v":0},{"$f":"XTM!H118","v":0}]
[null,null,null,null,null,null,null,null,null,null,null,null,null,null,null,null,null,null,null,null,null,null,116,{"$f":"XTM!B119","v":0},{"$f":"XTM!C119","v":0},{"$f":"XTM!D119","v":0},{"$f":"XTM!F119","v":"00:00:00"},{"$f":"XTM!$A$2","v":"XTM"},null,{"$f":"XTM!E119","v":0},{"$f":"XTM!H119","v":0}]
[null,null,null,null,null,null,null,null,null,null,null,null,null,null,null,null,null,null,null,null,null,null,117,{"$f":"XTM!B120","v":0},{"$f":"XTM!C120","v":0},{"$f":"XTM!D120","v":0},{"$f":"XTM!F120","v":"00:00:00"},{"$f":"XTM!$A$2","v":"XTM"},null,{"$f":"XTM!E120","v":0},{"$f":"XTM!H120","v":0}]
[null,null,null,null,null,null,null,null,null,null,null,null,null,null,null,null,null,null,null,null,null,null,118,{"$f":"XTM!B121","v":0},{"$f":"XTM!C121","v":0},{"$f":"XTM!D121","v":0},{"$f":"XTM!F121","v":"00:00:00"},{"$f":"XTM!$A$2","v":"XTM"},null,{"$f":"XTM!E121","v":0},{"$f":"XTM!H121","v":0}]
[null,null,null,null,null,null,null,null,null,null,null,null,null,null,null,null,null,null,null,null,null,null,119,{"$f":"XTM!B122","v":0},{"$f":"XTM!C122","v":0},{"$f":"XTM!D122","v":0},{"$f":"XTM!F122","v":"00:00:00"},{"$f":"XTM!$A$2","v":"XTM"},null,{"$f":"XTM!E122","v":0},{"$f":"XTM!H122","v":0}]
[null,null,null,null,null,null,null,null,null,null,null,null,null,null,null,null,null,null,null,null,null,null,120,{"$f":"XTM!B123","v":0},{"$f":"XTM!C123","v":0},{"$f":"XTM!D123","v":0},{"$f":"XTM!F123","v":"00:00:00"},{"$f":"XTM!$A$2","v":"XTM"},null,{"$f":"XTM!E123","v":0},{"$f":"XTM!H123","v":0}]
[null,null,null,null,null,null,null,null,null,null,null,null,null,null,null,null,null,null,null,null,null,null,121,{"$f":"XTM!B124","v":0},{"$f":"XTM!C124","v":0},{"$f":"XTM!D124","v":0},{"$f":"XTM!F124","v":"00:00:00"},{"$f":"XTM!$A$2","v":"XTM"},null,{"$f":"XTM!E124","v":0},{"$f":"XTM!H124","v":0}]
[null,null,null,null,null,null,null,null,null,null,null,null,null,null,null,null,null,null,null,null,null,null,122,{"$f":"XTM!B125","v":0},{"$f":"XTM!C125","v":0},{"$f":"XTM!D125","v":0},{"$f":"XTM!F125","v":"00:00:00"},{"$f":"XTM!$A$2","v":"XTM"},null,{"$f":"XTM!E125","v":0},{"$f":"XTM!H125","v":0}]
[null,null,null,null,null,null,null,null,null,null,null,null,null,null,null,null,null,null,null,null,null,null,123,{"$f":"XTM!B126","v":0},{"$f":"XTM!C126","v":0},{"$f":"XTM!D126","v":0},{"$f":"XTM!F126","v":"00:00:00"},{"$f":"XTM!$A$2","v":"XTM"},null,{"$f":"XTM!E126","v":0},{"$f":"XTM!H126","v":0}]
[null,null,null,null,null,null,null,null,null,null,null,null,null,null,null,null,null,null,null,null,null,null,124,{"$f":"XTM!B127","v":0},{"$f":"XTM!C127","v":0},{"$f":"XTM!D127","v":0},{"$f":"XTM!F127","v":"00:00:00"},{"$f":"XTM!$A$2","v":"XTM"},null,{"$f":"XTM!E127","v":0},{"$f":"XTM!H127","v":0}]
[null,null,null,null,null,null,null,null,null,null,null,null,null,null,null,null,null,null,null,null,null,null,125,{"$f":"XTM!B128","v":0},{"$f":"XTM!C128","v":0},{"$f":"XTM!D128","v":0},{"$f":"XTM!F128","v":"00:00:00"},{"$f":"XTM!$A$2","v":"XTM"},null,{"$f":"XTM!E128","v":0},{"$f":"XTM!H128","v":0}]
[null,null,null,null,null,null,null,null,null,null,null,null,null,null,null,null,null,null,null,null,null,null,126,{"$f":"XTM!B129","v":0},{"$f":"XTM!C129","v":0},{"$f":"XTM!D129","v":0},{"$f":"XTM!F129","v":"00:00:00"},{"$f":"XTM!$A$2","v":"XTM"},null,{"$f":"XTM!E129","v":0},{"$f":"XTM!H129","v":0}]
[null,null,null,null,null,null,null,null,null,null,null,null,null,null,null,null,null,null,null,null,null,null,127,{"$f":"XTM!B130","v":0},{"$f":"XTM!C130","v":0},{"$f":"XTM!D130","v":0},{"$f":"XTM!F130","v":"00:00:00"},{"$f":"XTM!$A$2","v":"XTM"},null,{"$f":"XTM!E130","v":0},{"$f":"XTM!H130","v":0}]
[null,null,null,null,null,null,null,null,null,null,null,null,null,null,null,null,null,null,null,null,null,null,128,{"$f":"XTM!B131","v":0},{"$f":"XTM!C131","v":0},{"$f":"XTM!D131","v":0},{"$f":"XTM!F131","v":"00:00:00"},{"$f":"XTM!$A$2","v":"XTM"},null,{"$f":"XTM!E131","v":0},{"$f":"XTM!H131","v":0}]
[null,null,null,null,null,null,null,null,null,null,null,null,null,null,null,null,null,null,null,null,null,null,129,{"$f":"XTM!B132","v":0},{"$f":"XTM!C132","v":0},{"$f":"XTM!D132","v":0},{"$f":"XTM!F132","v":"00:00:00"},{"$f":"XTM!$A$2","v":"XTM"},null,{"$f":"XTM!E132","v":0},{"$f":"XTM!H132","v":0}]
[null,null,null,null,null,null,null,null,null,null,null,null,null,null,null,null,null,null,null,null,null,null,130,{"$f":"XTM!B133","v":0},{"$f":"XTM!C133","v":0},{"$f":"XTM!D133","v":0},{"$f":"XTM!F133","v":"00:00:00"},{"$f":"XTM!$A$2","v":"XTM"},null,{"$f":"XTM!E133","v":0},{"$f":"XTM!H133","v":0}]
[null,null,null,null,null,null,null,null,null,null,null,null,null,null,null,null,null,null,null,null,null,null,131,{"$f":"XTM!B134","v":0},{"$f":"XTM!C134","v":0},{"$f":"XTM!D134","v":0},{"$f":"XTM!F134","v":"00:00:00"},{"$f":"XTM!$A$2","v":"XTM"},null,{"$f":"XTM!E134","v":0},{"$f":"XTM!H134","v":0}]
[null,null,null,null,null,null,null,null,null,null,null,null,null,null,null,null,null,null,null,null,null,null,132,{"$f":"XTM!B135","v":0},{"$f":"XTM!C135","v":0},{"$f":"XTM!D135","v":0},{"$f":"XTM!F135","v":"00:00:00"},{"$f":"XTM!$A$2","v":"XTM"},null,{"$f":"XTM!E135","v":0},{"$f":"XTM!H135","v":0}]
[null,null,null,null,null,null,null,null,null,null,null,null,null,null,null,null,null,null,null,null,null,null,133,{"$f":"XTM!B136","v":0},{"$f":"XTM!C136","v":0},{"$f":"XTM!D136","v":0},{"$f":"XTM!F136","v":"00:00:00"},{"$f":"XTM!$A$2","v":"XTM"},null,{"$f":"XTM!E136","v":0},{"$f":"XTM!H136","v":0}]
[null,null,null,null,null,null,null,null,null,null,null,null,null,null,null,null,null,null,null,null,null,null,134,{"$f":"XTM!B137","v":0},{"$f":"XTM!C137","v":0},{"$f":"XTM!D137","v":0},{"$f":"XTM!F137","v":"00:00:00"},{"$f":"XTM!$A$2","v":"XTM"},null,{"$f":"XTM!E137","v":0},{"$f":"XTM!H137","v":0}]
[null,null,null,null,null,null,null,null,null,null,null,null,null,null,null,null,null,null,null,null,null,null,135,{"$f":"XTM!B138","v":0},{"$f":"XTM!C138","v":0},{"$f":"XTM!D138","v":0},{"$f":"XTM!F138","v":"00:00:00"},{"$f":"XTM!$A$2","v":"XTM"},null,{"$f":"XTM!E138","v":0},{"$f":"XTM!H138","v":0}]
[null,null,null,null,null,null,null,null,null,null,null,null,null,null,null,null,null,null,null,null,null,null,136,{"$f":"XTM!B139","v":0},{"$f":"XTM!C139","v":0},{"$f":"XTM!D139","v":0},{"$f":"XTM!F139","v":"00:00:00"},{"$f":"XTM!$A$2","v":"XTM"},null,{"$f":"XTM!E139","v":0},{"$f":"XTM!H139","v":0}]
[null,null,null,null,null,null,null,null,null,null,null,null,null,null,null,null,null,null,null,null,null,null,137,{"$f":"XTM!B140","v":0},{"$f":"XTM!C140","v":0},{"$f":"XTM!D140","v":0},{"$f":"XTM!F140","v":"00:00:00"},{"$f":"XTM!$A$2","v":"XTM"},null,{"$f":"XTM!E140","v":0},{"$f":"XTM!H140","v":0}]
[null,null,null,null,null,null,null,null,null,null,null,null,null,null,null,null,null,null,null,null,null,null,138,{"$f":"XTM!B141","v":0},{"$f":"XTM!C141","v":0},{"$f":"XTM!D141","v":0},{"$f":"XTM!F141","v":"00:00:00"},{"$f":"XTM!$A$2","v":"XTM"},null,{"$f":"XTM!E141","v":0},{"$f":"XTM!H141","v":0}]
[null,null,null,null,null,null,null,null,null,null,null,null,null,null,null,null,null,null,null,null,null,null,139,{"$f":"XTM!B142","v":0},{"$f":"XTM!C142","v":0},{"$f":"XTM!D142","v":0},{"$f":"XTM!F142","v":"00:00:00"},{"$f":"XTM!$A$2","v":"XTM"},null,{"$f":"XTM!E142","v":0},{"$f":"XTM!H142","v":0}]
[null,null,null,null,null,null,null,null,null,null,null,null,null,null,null,null,null,null,null,null,null,null,140,{"$f":"XTM!B143","v":0},{"$f":"XTM!C143","v":0},{"$f":"XTM!D143","v":0},{"$f":"XTM!F143","v":"00:00:00"},{"$f":"XTM!$A$2","v":"XTM"},null,{"$f":"XTM!E143","v":0},{"$f":"XTM!H143","v":0}]
[null,null,null,null,null,null,null,null,null,null,null,null,null,null,null,null,null,null,null,null,null,null,141,{"$f":"XTM!B144","v":0},{"$f":"XTM!C144","v":0},{"$f":"XTM!D144","v":0},{"$f":"XTM!F144","v":"00:00:00"},{"$f":"XTM!$A$2","v":"XTM"},null,{"$f":"XTM!E144","v":0},{"$f":"XTM!H144","v":0}]
[null,null,null,null,null,null,null,null,null,null,null,null,null,null,null,null,null,null,null,null,null,null,142,{"$f":"XTM!B145","v":0},{"$f":"XTM!C145","v":0},{"$f":"XTM!D145","v":0},{"$f":"XTM!F145","v":"00:00:00"},{"$f":"XTM!$A$2","v":"XTM"},null,{"$f":"XTM!E145","v":0},{"$f":"XTM!H145","v":0}]
[null,null,null,null,null,null,null,null,null,null,null,null,null,null,null,null,null,null,null,null,null,null,143,{"$f":"XTM!B146","v":0},{"$f":"XTM!C146","v":0},{"$f":"XTM!D146","v":0},{"$f":"XTM!F146","v":"00:00:00"},{"$f":"XTM!$A$2","v":"XTM"},null,{"$f":"XTM!E146","v":0},{"$f":"XTM!H146","v":0}]
[null,null,null,null,null,null,null,null,null,null,null,null,null,null,null,null,null,null,null,null,null,null,144,{"$f":"XTM!B147","v":0},{"$f":"XTM!C147","v":0},{"$f":"XTM!D147","v":0},{"$f":"XTM!F147","v":"00:00:00"},{"$f":"XTM!$A$2","v":"XTM"},null,{"$f":"XTM!E147","v":0},{"$f":"XTM!H147","v":0}]
[null,null,null,null,null,null,null,null,null,null,null,null,null,null,null,null,null,null,null,null,null,null,145,{"$f":"XTM!B148","v":0},{"$f":"XTM!C148","v":0},{"$f":"XTM!D148","v":0},{"$f":"XTM!F148","v":"00:00:00"},{"$f":"XTM!$A$2","v":"XTM"},null,{"$f":"XTM!E148","v":0},{"$f":"XTM!H148","v":0}]
[null,null,null,null,null,null,null,null,null,null,null,null,null,null,null,null,null,null,null,null,null,null,146,{"$f":"XTM!B149","v":0},{"$f":"XTM!C149","v":0},{"$f":"XTM!D149","v":0},{"$f":"XTM!F149","v":"00:00:00"},{"$f":"XTM!$A$2","v":"XTM"},null,{"$f":"XTM!E149","v":0},{"$f":"XTM!H149","v":0}]
[null,null,null,null,null,null,null,null,null,null,null,null,null,null,null,null,null,null,null,null,null,null,147,{"$f":"XTM!B150","v":0},{"$f":"XTM!C150","v":0},{"$f":"XTM!D150","v":0},{"$f":"XTM!F150","v":"00:00:00"},{"$f":"XTM!$A$2","v":"XTM"},null,{"$f":"XTM!E150","v":0},{"$f":"XTM!H150","v":0}]
[null,null,null,null,null,null,null,null,null,null,null,null,null,null,null,null,null,null,null,null,null,null,148,{"$f":"XTM!B151","v":0},{"$f":"XTM!C151","v":0},{"$f":"XTM!D151","v":0},{"$f":"XTM!F151","v":"00:00:00"},{"$f":"XTM!$A$2","v":"XTM"},null,{"$f":"XTM!E151","v":0},{"$f":"XTM!H151","v":0}]
[null,null,null,null,null,null,null,null,null,null,null,null,null,null,null,null,null,null,null,null,null,null,149,{"$f":"XTM!B152","v":0},{"$f":"XTM!C152","v":0},{"$f":"XTM!D152","v":0},{"$f":"XTM!F152","v":"00:00:00"},{"$f":"XTM!$A$2","v":"XTM"},null,{"$f":"XTM!E152","v":0},{"$f":"XTM!H152","v":0}]
[null,null,null,null,null,null,null,null,null,null,null,null,null,null,null,null,null,null,null,null,null,null,150,{"$f":"XTM!B153","v":0},{"$f":"XTM!C153","v":0},{"$f":"XTM!D153","v":0},{"$f":"XTM!F153","v":"00:00:00"},{"$f":"XTM!$A$2","v":"XTM"},null,{"$f":"XTM!E153","v":0},{"$f":"XTM!H153","v":0}]
[]
[null,null,null,null,null,null,null,null,null,null,null,null,null,null,null,null,null,null,null,null,null,null,1,{"$f":"VIEM!B4","v":0},{"$f":"VIEM!C4","v":0},{"$f":"VIEM!D4","v":0},{"$f":"VIEM!F4","v":"00:00:00"},{"$f":"VIEM!$A$2","v":"VIEM"},null,{"$f":"VIEM!E4","v":0},{"$f":"VIEM!H4","v":0}]
[null,null,null,null,null,null,null,null,null,null,null,null,null,null,null,null,null,null,null,null,null,null,2,{"$f":"VIEM!B5","v":0},{"$f":"VIEM!C5","v":0},{"$f":"VIEM!D5","v":0},{"$f":"VIEM!F5","v":"00:00:00"},{"$f":"VIEM!$A$2","v":"VIEM"},null,{"$f":"VIEM!E5","v":0},{"$f":"VIEM!H5","v":0}]
[null,null,null,null,null,null,null,null,null,null,null,null,null,null,null,null,null,null,null,null,null,null,3,{"$f":"VIEM!B6","v":0},{"$f":"VIEM!C6","v":0},{"$f":"VIEM!D6","v":0},{"$f":"VIEM!F6","v":"00:00:00"},{"$f":"VIEM!$A$2","v":"VIEM"},null,{"$f":"VIEM!E6","v":0},{"$f":"VIEM!H6","v":0}]
[null,null,null,null,null,null,null,null,null,null,null,null,null,null,null,null,null,null,null,null,null,null,4,{"$f":"VIEM!B7","v":0},{"$f":"VIEM!C7","v":0},{"$f":"VIEM!D7","v":0},{"$f":"VIEM!F7","v":"00:00:00"},{"$f":"VIEM!$A$2","v":"VIEM"},null,{"$f":"VIEM!E7","v":0},{"$f":"VIEM!H7","v":0}]
[null,null,null,null,null,null,null,null,null,null,null,null,null,null,null,null,null,null,null,null,null,null,5,{"$f":"VIEM!B8","v":0},{"$f":"VIEM!C8","v":0},{"$f":"VIEM!D8","v":0},{"$f":"VIEM!F8","v":"00:00:00"},{"$f":"VIEM!$A$2","v":"VIEM"},null,{"$f":"VIEM!E8","v":0},{"$f":"VIEM!H8","v":0}]
[null,null,null,null,null,null,null,null,null,null,null,null,null,null,null,null,null,null,null,null,null,null,6,{"$f":"VIEM!B9","v":0},{"$f":"VIEM!C9","v":0},{"$f":"VIEM!D9","v":0},{"$f":"VIEM!F9","v":"00:00:00"},{"$f":"VIEM!$A$2","v":"VIEM"},null,{"$f":"VIEM!E9","v":0},{"$f":"VIEM!H9","v":0}]
[null,null,null,null,null,null,null,null,null,null,null,null,null,null,null,null,null,null,null,null,null,null,7,{"$f":"VIEM!B10","v":0},{"$f":"VIEM!C10","v":0},{"$f":"VIEM!D10","v":0},{"$f":"VIEM!F10","v":"00:00:00"},{"$f":"VIEM!$A$2","v":"VIEM"},null,{"$f":"VIEM!E10","v":0},{"$f":"VIEM!H10","v":0}]
[null,null,null,null,null,null,null,null,null,null,null,null,null,null,null,null,null,null,null,null,null,null,8,{"$f":"VIEM!B11","v":0},{"$f":"VIEM!C11","v":0},{"$f":"VIEM!D11","v":0},{"$f":"VIEM!F11","v":"00:00:00"},{"$f":"VIEM!$A$2","v":"VIEM"},null,{"$f":"VIEM!E11","v":0},{"$f":"VIEM!H11","v":0}]
[null,null,null,null,null,null,null,null,null,null,null,null,null,null,null,null,null,null,null,null,null,null,9,{"$f":"VIEM!B12","v":0},{"$f":"VIEM!C12","v":0},{"$f":"VIEM!D12","v":0},{"$f":"VIEM!F12","v":"00:00:00"},{"$f":"VIEM!$A$2","v":"VIEM"},null,{"$f":"VIEM!E12","v":0},{"$f":"VIEM!H12","v":0}]
[null,null,null,null,null,null,null,null,null,null,null,null,null,null,null,null,null,null,null,null,null,null,10,{"$f":"VIEM!B13","v":0},{"$f":"VIEM!C13","v":0},{"$f":"VIEM!D13","v":0},{"$f":"VIEM!F13","v":"00:00:00"},{"$f":"VIEM!$A$2","v":"VIEM"},null,{"$f":"VIEM!E13","v":0},{"$f":"VIEM!H13","v":0}]
[null,null,null,null,null,null,null,null,null,null,null,null,null,null,null,null,null,null,null,null,null,null,11,{"$f":"VIEM!B14","v":0},{"$f":"VIEM!C14","v":0},{"$f":"VIEM!D14","v":0},{"$f":"VIEM!F14","v":"00:00:00"},{"$f":"VIEM!$A$2","v":"VIEM"},null,{"$f":"VIEM!E14","v":0},{"$f":"VIEM!H14","v":0}]
[null,null,null,null,null,null,null,null,null,null,null,null,null,null,null,null,null,null,null,null,null,null,12,{"$f":"VIEM!B15","v":0},{"$f":"VIEM!C15","v":0},{"$f":"VIEM!D15","v":0},{"$f":"VIEM!F15","v":"00:00:00"},{"$f":"VIEM!$A$2","v":"VIEM"},null,{"$f":"VIEM!E15","v":0},{"$f":"VIEM!H15","v":0}]
[null,null,null,null,null,null,null,null,null,null,null,null,null,null,null,null,null,null,null,null,null,null,13,{"$f":"VIEM!B16","v":0},{"$f":"VIEM!C16","v":0},{"$f":"VIEM!D16","v":0},{"$f":"VIEM!F16","v":"00:00:00"},{"$f":"VIEM!$A$2","v":"VIEM"},null,{"$f":"VIEM!E16","v":0},{"$f":"VIEM!H16","v":0}]
[null,null,null,null,null,null,null,null,null,null,null,null,null,null,null,null,null,null,null,null,null,null,14,{"$f":"VIEM!B17","v":0},{"$f":"VIEM!C17","v":0},{"$f":"VIEM!D17","v":0},{"$f":"VIEM!F17","v":"00:00:00"},{"$f":"VIEM!$A$2","v":"VIEM"},null,{"$f":"VIEM!E17","v":0},{"$f":"VIEM!H17","v":0}]
[null,null,null,null,null,null,null,null,null,null,null,null,null,null,null,null,null,null,null,null,null,null,15,{"$f":"VIEM!B18","v":0},{"$f":"VIEM!C18","v":0},{"$f":"VIEM!D18","v":0},{"$f":"VIEM!F18","v":"00:00:00"},{"$f":"VIEM!$A$2","v":"VIEM"},null,{"$f":"VIEM!E18","v":0},{"$f":"VIEM!H18","v":0}]
[null,null,null,null,null,null,null,null,null,null,null,null,null,null,null,null,null,null,null,null,null,null,16,{"$f":"VIEM!B19","v":0},{"$f":"VIEM!C19","v":0},{"$f":"VIEM!D19","v":0},{"$f":"VIEM!F19","v":"00:00:00"},{"$f":"VIEM!$A$2","v":"VIEM"},null,{"$f":"VIEM!E19","v":0},{"$f":"VIEM!H19","v":0}]
[null,null,null,null,null,null,null,null,null,null,null,null,null,null,null,null,null,null,null,null,null,null,17,{"$f":"VIEM!B20","v":0},{"$f":"VIEM!C20","v":0},{"$f":"VIEM!D20","v":0},{"$f":"VIEM!F20","v":"00:00:00"},{"$f":"VIEM!$A$2","v":"VIEM"},null,{"$f":"VIEM!E20","v":0},{"$f":"VIEM!H20","v":0}]
[null,null,null,null,null,null,null,null,null,null,null,null,null,null,null,null,null,null,null,null,null,null,18,{"$f":"VIEM!B21","v":0},{"$f":"VIEM!C21","v":0},{"$f":"VIEM!D21","v":0},{"$f":"VIEM!F21","v":"00:00:00"},{"$f":"VIEM!$A$2","v":"VIEM"},null,{"$f":"VIEM!E21","v":0},{"$f":"VIEM!H21","v":0}]
[null,null,null,null,null,null,null,null,null,null,null,null,null,null,null,null,null,null,null,null,null,null,19,{"$f":"VIEM!B22","v":0},{"$f":"VIEM!C22","v":0},{"$f":"VIEM!D22","v":0},{"$f":"VIEM!F22","v":"00:00:00"},{"$f":"VIEM!$A$2","v":"VIEM"},null,{"$f":"VIEM!E22","v":0},{"$f":"VIEM!H22","v":0}]
[null,null,null,null,null,null,null,null,null,null,null,null,null,null,null,null,null,null,null,null,null,null,20,{"$f":"VIEM!B23","v":0},{"$f":"VIEM!C23","v":0},{"$f":"VIEM!D23","v":0},{"$f":"VIEM!F23","v":"00:00:00"},{"$f":"VIEM!$A$2","v":"VIEM"},null,{"$f":"VIEM!E23","v":0},{"$f":"VIEM!H23","v":0}]
[null,null,null,null,null,null,null,null,null,null,null,null,null,null,null,null,null,null,null,null,null,null,21,{"$f":"VIEM!B24","v":0},{"$f":"VIEM!C24","v":0},{"$f":"VIEM!D24","v":0},{"$f":"VIEM!F24","v":"00:00:00"},{"$f":"VIEM!$A$2","v":"VIEM"},null,{"$f":"VIEM!E24","v":0},{"$f":"VIEM!H24","v":0}]
[null,null,null,null,null,null,null,null,null,null,null,null,null,null,null,null,null,null,null,null,null,null,22,{"$f":"VIEM!B25","v":0},{"$f":"VIEM!C25","v":0},{"$f":"VIEM!D25","v":0},{"$f":"VIEM!F25","v":"00:00:00"},{"$f":"VIEM!$A$2","v":"VIEM"},null,{"$f":"VIEM!E25","v":0},{"$f":"VIEM!H25","v":0}]
[null,null,null,null,null,null,null,null,null,null,null,null,null,null,null,null,null,null,null,null,null,null,23,{"$f":"VIEM!B26","v":0},{"$f":"VIEM!C26","v":0},{"$f":"VIEM!D26","v":0},{"$f":"VIEM!F26","v":"00:00:00"},{"$f":"VIEM!$A$2","v":"VIEM"},null,{"$f":"VIEM!E26","v":0},{"$f":"VIEM!H26","v":0}]
[null,null,null,null,null,null,null,null,null,null,null,null,null,null,null,null,null,null,null,null,null,null,24,{"$f":"VIEM!B27","v":0},{"$f":"VIEM!C27","v":0},{"$f":"VIEM!D27","v":0},{"$f":"VIEM!F27","v":"00:00:00"},{"$f":"VIEM!$A$2","v":"VIEM"},null,{"$f":"VIEM!E27","v":0},{"$f":"VIEM!H27","v":0}]
[null,null,null,null,null,null,null,null,null,null,null,null,null,null,null,null,null,null,null,null,null,null,25,{"$f":"VIEM!B28","v":0},{"$f":"VIEM!C28","v":0},{"$f":"VIEM!D28","v":0},{"$f":"VIEM!F28","v":"00:00:00"},{"$f":"VIEM!$A$2","v":"VIEM"},null,{"$f":"VIEM!E28","v":0},{"$f":"VIEM!H28","v":0}]
[null,null,null,null,null,null,null,null,null,null,null,null,null,null,null,null,null,null,null,null,null,null,26,{"$f":"VIEM!B29","v":0},{"$f":"VIEM!C29","v":0},{"$f":"VIEM!D29","v":0},{"$f":"VIEM!F29","v":"00:00:00"},{"$f":"VIEM!$A$2","v":"VIEM"},null,{"$f":"VIEM!E29","v":0},{"$f":"VIEM!H29","v":0}]
[null,null,null,null,null,null,null,null,null,null,null,null,null,null,null,null,null,null,null,null,null,null,27,{"$f":"VIEM!B30","v":0},{"$f":"VIEM!C30","v":0},{"$f":"VIEM!D30","v":0},{"$f":"VIEM!F30","v":"00:00:00"},{"$f":"VIEM!$A$2","v":"VIEM"},null,{"$f":"VIEM!E30","v":0},{"$f":"VIEM!H30","v":0}]
[null,null,null,null,null,null,null,null,null,null,null,null,null,null,null,null,null,null,null,null,null,null,28,{"$f":"VIEM!B31","v":0},{"$f":"VIEM!C31","v":0},{"$f":"VIEM!D31","v":0},{"$f":"VIEM!F31","v":"00:00:00"},{"$f":"VIEM!$A$2","v":"VIEM"},null,{"$f":"VIEM!E31","v":0},{"$f":"VIEM!H31","v":0}]
[null,null,null,null,null,null,null,null,null,null,null,null,null,null,null,null,null,null,null,null,null,null,29,{"$f":"VIEM!B32","v":0},{"$f":"VIEM!C32","v":0},{"$f":"VIEM!D32","v":0},{"$f":"VIEM!F32","v":"00:00:00"},{"$f":"VIEM!$A$2","v":"VIEM"},null,{"$f":"VIEM!E32","v":0},{"$f":"VIEM!H32","v":0}]
[null,null,null,null,null,null,null,null,null,null,null,null,null,null,null,null,null,null,null,null,null,null,30,{"$f":"VIEM!B33","v":0},{"$f":"VIEM!C33","v":0},{"$f":"VIEM!D33","v":0},{"$f":"VIEM!F33","v":"00:00:00"},{"$f":"VIEM!$A$2","v":"VIEM"},null,{"$f":"VIEM!E33","v":0},{"$f":"VIEM!H33","v":0}]
[null,null,null,null,null,null,null,null,null,null,null,null,null,null,null,null,null,null,null,null,null,null,31,{"$f":"VIEM!B34","v":0},{"$f":"VIEM!C34","v":0},{"$f":"VIEM!D34","v":0},{"$f":"VIEM!F34","v":"00:00:00"},{"$f":"VIEM!$A$2","v":"VIEM"},null,{"$f":"VIEM!E34","v":0},{"$f":"VIEM!H34","v":0}]
[null,null,null,null,null,null,null,null,null,null,null,null,null,null,null,null,null,null,null,null,null,null,32,{"$f":"VIEM!B35","v":0},{"$f":"VIEM!C35","v":0},{"$f":"VIEM!D35","v":0},{"$f":"VIEM!F35","v":"00:00:00"},{"$f":"VIEM!$A$2","v":"VIEM"},null,{"$f":"VIEM!E35","v":0},{"$f":"VIEM!H35","v":0}]
[null,null,null,null,null,null,null,null,null,null,null,null,null,null,null,null,null,null,null,null,null,null,33,{"$f":"VIEM!B36","v":0},{"$f":"VIEM!C36","v":0},{"$f":"VIEM!D36","v":0},{"$f":"VIEM!F36","v":"00:00:00"},{"$f":"VIEM!$A$2","v":"VIEM"},null,{"$f":"VIEM!E36","v":0},{"$f":"VIEM!H36","v":0}]
[null,null,null,null,null,null,null,null,null,null,null,null,null,null,null,null,null,null,null,null,null,null,34,{"$f":"VIEM!B37","v":0},{"$f":"VIEM!C37","v":0},{"$f":"VIEM!D37","v":0},{"$f":"VIEM!F37","v":"00:00:00"},{"$f":"VIEM!$A$2","v":"VIEM"},null,{"$f":"VIEM!E37","v":0},{"$f":"VIEM!H37","v":0}]
[null,null,null,null,null,null,null,null,null,null,null,null,null,null,null,null,null,null,null,null,null,null,35,{"$f":"VIEM!B38","v":0},{"$f":"VIEM!C38","v":0},{"$f":"VIEM!D38","v":0},{"$f":"VIEM!F38","v":"00:00:00"},{"$f":"VIEM!$A$2","v":"VIEM"},null,{"$f":"VIEM!E38","v":0},{"$f":"VIEM!H38","v":0}]
[null,null,null,null,null,null,null,null,null,null,null,null,null,null,null,null,null,null,null,null,null,null,36,{"$f":"VIEM!B39","v":0},{"$f":"VIEM!C39","v":0},{"$f":"VIEM!D39","v":0},{"$f":"VIEM!F39","v":"00:00:00"},{"$f":"VIEM!$A$2","v":"VIEM"},null,{"$f":"VIEM!E39","v":0},{"$f":"VIEM!H39","v":0}]
[null,null,null,null,null,null,null,null,null,null,null,null,null,null,null,null,null,null,null,null,null,null,37,{"$f":"VIEM!B40","v":0},{"$f":"VIEM!C40","v":0},{"$f":"VIEM!D40","v":0},{"$f":"VIEM!F40","v":"00:00:00"},{"$f":"VIEM!$A$2","v":"VIEM"},null,{"$f":"VIEM!E40","v":0},{"$f":"VIEM!H40","v":0}]
[null,null,null,null,null,null,null,null,null,null,null,null,null,null,null,null,null,null,null,null,null,null,38,{"$f":"VIEM!B41","v":0},{"$f":"VIEM!C41","v":0},{"$f":"VIEM!D41","v":0},{"$f":"VIEM!F41","v":"00:00:00"},{"$f":"VIEM!$A$2","v":"VIEM"},null,{"$f":"VIEM!E41","v":0},{"$f":"VIEM!H41","v":0}]
[null,null,null,null,null,null,null,null,null,null,null,null,null,null,null,null,null,null,null,null,null,null,39,{"$f":"VIEM!B42","v":0},{"$f":"VIEM!C42","v":0},{"$f":"VIEM!D42","v":0},{"$f":"VIEM!F42","v":"00:00:00"},{"$f":"VIEM!$A$2","v":"VIEM"},null,{"$f":"VIEM!E42","v":0},{"$f":"VIEM!H42","v":0}]
[null,null,null,null,null,null,null,null,null,null,null,null,null,null,null,null,null,null,null,null,null,null,40,{"$f":"VIEM!B43","v":0},{"$f":"VIEM!C43","v":0},{"$f":"VIEM!D43","v":0},{"$f":"VIEM!F43","v":"00:00:00"},{"$f":"VIEM!$A$2","v":"VIEM"},null,{"$f":"VIEM!E43","v":0},{"$f":"VIEM!H43","v":0}]
[null,null,null,null,null,null,null,null,null,null,null,null,null,null,null,null,null,null,null,null,null,null,41,{"$f":"VIEM!B44","v":0},{"$f":"VIEM!C44","v":0},{"$f":"VIEM!D44","v":0},{"$f":"VIEM!F44","v":"00:00:00"},{"$f":"VIEM!$A$2","v":"VIEM"},null,{"$f":"VIEM!E44","v":0},{"$f":"VIEM!H44","v":0}]
[null,null,null,null,null,null,null,null,null,null,null,null,null,null,null,null,null,null,null,null,null,null,42,{"$f":"VIEM!B45","v":0},{"$f":"VIEM!C45","v":0},{"$f":"VIEM!D45","v":0},{"$f":"VIEM!F45","v":"00:00:00"},{"$f":"VIEM!$A$2","v":"VIEM"},null,{"$f":"VIEM!E45","v":0},{"$f":"VIEM!H45","v":0}]
[null,null,null,null,null,null,null,null,null,null,null,null,null,null,null,null,null,null,null,null,null,null,43,{"$f":"VIEM!B46","v":0},{"$f":"VIEM!C46","v":0},{"$f":"VIEM!D46","v":0},{"$f":"VIEM!F46","v":"00:00:00"},{"$f":"VIEM!$A$2","v":"VIEM"},null,{"$f":"VIEM!E46","v":0},{"$f":"VIEM!H46","v":0}]
[null,null,null,null,null,null,null,null,null,null,null,null,null,null,null,null,null,null,null,null,null,null,44,{"$f":"VIEM!B47","v":0},{"$f":"VIEM!C47","v":0},{"$f":"VIEM!D47","v":0},{"$f":"VIEM!F47","v":"00:00:00"},{"$f":"VIEM!$A$2","v":"VIEM"},null,{"$f":"VIEM!E47","v":0},{"$f":"VIEM!H47","v":0}]
[null,null,null,null,null,null,null,null,null,null,null,null,null,null,null,null,null,null,null,null,null,null,45,{"$f":"VIEM!B48","v":0},{"$f":"VIEM!C48","v":0},{"$f":"VIEM!D48","v":0},{"$f":"VIEM!F48","v":"00:00:00"},{"$f":"VIEM!$A$2","v":"VIEM"},null,{"$f":"VIEM!E48","v":0},{"$f":"VIEM!H48","v":0}]
[null,null,null,null,null,null,null,null,null,null,null,null,null,null,null,null,null,null,null,null,null,null,46,{"$f":"VIEM!B49","v":0},{"$f":"VIEM!C49","v":0},{"$f":"VIEM!D49","v":0},{"$f":"VIEM!F49","v":"00:00:00"},{"$f":"VIEM!$A$2","v":"VIEM"},null,{"$f":"VIEM!E49","v":0},{"$f":"VIEM!H49","v":0}]
[null,null,null,null,null,null,null,null,null,null,null,null,null,null,null,null,null,null,null,null,null,null,47,{"$f":"VIEM!B50","v":0},{"$f":"VIEM!C50","v":0},{"$f":"VIEM!D50","v":0},{"$f":"VIEM!F50","v":"00:00:00"},{"$f":"VIEM!$A$2","v":"VIEM"},null,{"$f":"VIEM!E50","v":0},{"$f":"VIEM!H50","v":0}]
[null,null,null,null,null,null,null,null,null,null,null,null,null,null,null,null,null,null,null,null,null,null,48,{"$f":"VIEM!B51","v":0},{"$f":"VIEM!C51","v":0},{"$f":"VIEM!D51","v":0},{"$f":"VIEM!F51","v":"00:00:00"},{"$f":"VIEM!$A$2","v":"VIEM"},null,{"$f":"VIEM!E51","v":0},{"$f":"VIEM!H51","v":0}]
[null,null,null,null,null,null,null,null,null,null,null,null,null,null,null,null,null,null,null,null,null,null,49,{"$f":"VIEM!B52","v":0},{"$f":"VIEM!C52","v":0},{"$f":"VIEM!D52","v":0},{"$f":"VIEM!F52","v":"00:00:00"},{"$f":"VIEM!$A$2","v":"VIEM"},null,{"$f":"VIEM!E52","v":0},{"$f":"VIEM!H52","v":0}]
[null,null,null,null,null,null,null,null,null,null,null,null,null,null,null,null,null,null,null,null,null,null,50,{"$f":"VIEM!B53","v":0},{"$f":"VIEM!C53","v":0},{"$f":"VIEM!D53","v":0},{"$f":"VIEM!F53","v":"00:00:00"},{"$f":"VIEM!$A$2","v":"VIEM"},null,{"$f":"VIEM!E53","v":0},{"$f":"VIEM!H53","v":0}]
[null,null,null,null,null,null,null,null,null,null,null,null,null,null,null,null,null,null,null,null,null,null,51,{"$f":"VIEM!B54","v":0},{"$f":"VIEM!C54","v":0},{"$f":"VIEM!D54","v":0},{"$f":"VIEM!F54","v":"00:00:00"},{"$f":"VIEM!$A$2","v":"VIEM"},null,{"$f":"VIEM!E54","v":0},{"$f":"VIEM!H54","v":0}]
[null,null,null,null,null,null,null,null,null,null,null,null,null,null,null,null,null,null,null,null,null,null,52,{"$f":"VIEM!B55","v":0},{"$f":"VIEM!C55","v":0},{"$f":"VIEM!D55","v":0},{"$f":"VIEM!F55","v":"00:00:00"},{"$f":"VIEM!$A$2","v":"VIEM"},null,{"$f":"VIEM!E55","v":0},{"$f":"VIEM!H55","v":0}]
[null,null,null,null,null,null,null,null,null,null,null,null,null,null,null,null,null,null,null,null,null,null,53,{"$f":"VIEM!B56","v":0},{"$f":"VIEM!C56","v":0},{"$f":"VIEM!D56","v":0},{"$f":"VIEM!F56","v":"00:00:00"},{"$f":"VIEM!$A$2","v":"VIEM"},null,{"$f":"VIEM!E56","v":0},{"$f":"VIEM!H56","v":0}]
[null,null,null,null,null,null,null,null,null,null,null,null,null,null,null,null,null,null,null,null,null,null,54,{"$f":"VIEM!B57","v":0},{"$f":"VIEM!C57","v":0},{"$f":"VIEM!D57","v":0},{"$f":"VIEM!F57","v":"00:00:00"},{"$f":"VIEM!$A$2","v":"VIEM"},null,{"$f":"VIEM!E57","v":0},{"$f":"VIEM!H57","v":0}]
[null,null,null,null,null,null,null,null,null,null,null,null,null,null,null,null,null,null,null,null,null,null,55,{"$f":"VIEM!B58","v":0},{"$f":"VIEM!C58","v":0},{"$f":"VIEM!D58","v":0},{"$f":"VIEM!F58","v":"00:00:00"},{"$f":"VIEM!$A$2","v":"VIEM"},null,{"$f":"VIEM!E58","v":0},{"$f":"VIEM!H58","v":0}]
[null,null,null,null,null,null,null,null,null,null,null,null,null,null,null,null,null,null,null,null,null,null,56,{"$f":"VIEM!B59","v":0},{"$f":"VIEM!C59","v":0},{"$f":"VIEM!D59","v":0},{"$f":"VIEM!F59","v":"00:00:00"},{"$f":"VIEM!$A$2","v":"VIEM"},null,{"$f":"VIEM!E59","v":0},{"$f":"VIEM!H59","v":0}]
[null,null,null,null,null,null,null,null,null,null,null,null,null,null,null,null,null,null,null,null,null,null,57,{"$f":"VIEM!B60","v":0},{"$f":"VIEM!C60","v":0},{"$f":"VIEM!D60","v":0},{"$f":"VIEM!F60","v":"00:00:00"},{"$f":"VIEM!$A$2","v":"VIEM"},null,{"$f":"VIEM!E60","v":0},{"$f":"VIEM!H60","v":0}]
[null,null,null,null,null,null,null,null,null,null,null,null,null,null,null,null,null,null,null,null,null,null,58,{"$f":"VIEM!B61","v":0},{"$f":"VIEM!C61","v":0},{"$f":"VIEM!D61","v":0},{"$f":"VIEM!F61","v":"00:00:00"},{"$f":"VIEM!$A$2","v":"VIEM"},null,{"$f":"VIEM!E61","v":0},{"$f":"VIEM!H61","v":0}]
[null,null,null,null,null,null,null,null,null,null,null,null,null,null,null,null,null,null,null,null,null,null,59,{"$f":"VIEM!B62","v":0},{"$f":"VIEM!C62","v":0},{"$f":"VIEM!D62","v":0},{"$f":"VIEM!F62","v":"00:00:00"},{"$f":"VIEM!$A$2","v":"VIEM"},null,{"$f":"VIEM!E62","v":0},{"$f":"VIEM!H62","v":0}]
[null,null,null,null,null,null,null,null,null,null,null,null,null,null,null,null,null,null,null,null,null,null,60,{"$f":"VIEM!B63","v":0},{"$f":"VIEM!C63","v":0},{"$f":"VIEM!D63","v":0},{"$f":"VIEM!F63","v":"00:00:00"},{"$f":"VIEM!$A$2","v":"VIEM"},null,{"$f":"VIEM!E63","v":0},{"$f":"VIEM!H63","v":0}]
[null,null,null,null,null,null,null,null,null,null,null,null,null,null,null,null,null,null,null,null,null,null,61,{"$f":"VIEM!B64","v":0},{"$f":"VIEM!C64","v":0},{"$f":"VIEM!D64","v":0},{"$f":"VIEM!F64","v":"00:00:00"},{"$f":"VIEM!$A$2","v":"VIEM"},null,{"$f":"VIEM!E64","v":0},{"$f":"VIEM!H64","v":0}]
[null,null,null,null,null,null,null,null,null,null,null,null,null,null,null,null,null,null,null,null,null,null,62,{"$f":"VIEM!B65","v":0},{"$f":"VIEM!C65","v":0},{"$f":"VIEM!D65","v":0},{"$f":"VIEM!F65","v":"00:00:00"},{"$f":"VIEM!$A$2","v":"VIEM"},null,{"$f":"VIEM!E65","v":0},{"$f":"VIEM!H65","v":0}]
[null,null,null,null,null,null,null,null,null,null,null,null,null,null,null,null,null,null,null,null,null,null,63,{"$f":"VIEM!B66","v":0},{"$f":"VIEM!C66","v":0},{"$f":"VIEM!D66","v":0},{"$f":"VIEM!F66","v":"00:00:00"},{"$f":"VIEM!$A$2","v":"VIEM"},null,{"$f":"VIEM!E66","v":0},{"$f":"VIEM!H66","v":0}]
[null,null,null,null,null,null,null,null,null,null,null,null,null,null,null,null,null,null,null,null,null,null,64,{"$f":"VIEM!B67","v":0},{"$f":"VIEM!C67","v":0},{"$f":"VIEM!D67","v":0},{"$f":"VIEM!F67","v":"00:00:00"},{"$f":"VIEM!$A$2","v":"VIEM"},null,{"$f":"VIEM!E67","v":0},{"$f":"VIEM!H67","v":0}]
[null,null,null,null,null,null,null,null,null,null,null,null,null,null,null,null,null,null,null,null,null,null,65,{"$f":"VIEM!B68","v":0},{"$f":"VIEM!C68","v":0},{"$f":"VIEM!D68","v":0},{"$f":"VIEM!F68","v":"00:00:00"},{"$f":"VIEM!$A$2","v":"VIEM"},null,{"$f":"VIEM!E68","v":0},{"$f":"VIEM!H68","v":0}]
[null,null,null,null,null,null,null,null,null,null,null,null,null,null,null,null,null,null,null,null,null,null,66,{"$f":"VIEM!B69","v":0},{"$f":"VIEM!C69","v":0},{"$f":"VIEM!D69","v":0},{"$f":"VIEM!F69","v":"00:00:00"},{"$f":"VIEM!$A$2","v":"VIEM"},null,{"$f":"VIEM!E69","v":0},{"$f":"VIEM!H69","v":0}]
[null,null,null,null,null,null,null,null,null,null,null,null,null,null,null,null,null,null,null,null,null,null,67,{"$f":"VIEM!B70","v":0},{"$f":"VIEM!C70","v":0},{"$f":"VIEM!D70","v":0},{"$f":"VIEM!F70","v":"00:00:00"},{"$f":"VIEM!$A$2","v":"VIEM"},null,{"$f":"VIEM!E70","v":0},{"$f":"VIEM!H70","v":0}]
[null,null,null,null,null,null,null,null,null,null,null,null,null,null,null,null,null,null,null,null,null,null,68,{"$f":"VIEM!B71","v":0},{"$f":"VIEM!C71","v":0},{"$f":"VIEM!D71","v":0},{"$f":"VIEM!F71","v":"00:00:00"},{"$f":"VIEM!$A$2","v":"VIEM"},null,{"$f":"VIEM!E71","v":0},{"$f":"VIEM!H71","v":0}]
[null,null,null,null,null,null,null,null,null,null,null,null,null,null,null,null,null,null,null,null,null,null,69,{"$f":"VIEM!B72","v":0},{"$f":"VIEM!C72","v":0},{"$f":"VIEM!D72","v":0},{"$f":"VIEM!F72","v":"00:00:00"},{"$f":"VIEM!$A$2","v":"VIEM"},null,{"$f":"VIEM!E72","v":0},{"$f":"VIEM!H72","v":0}]
[null,null,null,null,null,null,null,null,null,null,null,null,null,null,null,null,null,null,null,null,null,null,70,{"$f":"VIEM!B73","v":0},{"$f":"VIEM!C73","v":0},{"$f":"VIEM!D73","v":0},{"$f":"VIEM!F73","v":"00:00:00"},{"$f":"VIEM!$A$2","v":"VIEM"},null,{"$f":"VIEM!E73","v":0},{"$f":"VIEM!H73","v":0}]
[null,null,null,null,null,null,null,null,null,null,null,null,null,null,null,null,null,null,null,null,null,null,71,{"$f":"VIEM!B74","v":0},{"$f":"VIEM!C74","v":0},{"$f":"VIEM!D74","v":0},{"$f":"VIEM!F74","v":"00:00:00"},{"$f":"VIEM!$A$2","v":"VIEM"},null,{"$f":"VIEM!E74","v":0},{"$f":"VIEM!H74","v":0}]
[null,null,null,null,null,null,null,null,null,null,null,null,null,null,null,null,null,null,null,null,null,null,72,{"$f":"VIEM!B75","v":0},{"$f":"VIEM!C75","v":0},{"$f":"VIEM!D75","v":0},{"$f":"VIEM!F75","v":"00:00:00"},{"$f":"VIEM!$A$2","v":"VIEM"},null,{"$f":"VIEM!E75","v":0},{"$f":"VIEM!H75","v":0}]
[null,null,null,null,null,null,null,null,null,null,null,null,null,null,null,null,null,null,null,null,null,null,73,{"$f":"VIEM!B76","v":0},{"$f":"VIEM!C76","v":0},{"$f":"VIEM!D76","v":0},{"$f":"VIEM!F76","v":"00:00:00"},{"$f":"VIEM!$A$2","v":"VIEM"},null,{"$f":"VIEM!E76","v":0},{"$f":"VIEM!H76","v":0}]
[null,null,null,null,null,null,null,null,null,null,null,null,null,null,null,null,null,null,null,null,null,null,74,{"$f":"VIEM!B77","v":0},{"$f":"VIEM!C77","v":0},{"$f":"VIEM!D77","v":0},{"$f":"VIEM!F77","v":"00:00:00"},{"$f":"VIEM!$A$2","v":"VIEM"},null,{"$f":"VIEM!E77","v":0},{"$f":"VIEM!H77","v":0}]
[null,null,null,null,null,null,null,null,null,null,null,null,null,null,null,null,null,null,null,null,null,null,75,{"$f":"VIEM!B78","v":0},{"$f":"VIEM!C78","v":0},{"$f":"VIEM!D78","v":0},{"$f":"VIEM!F78","v":"00:00:00"},{"$f":"VIEM!$A$2","v":"VIEM"},null,{"$f":"VIEM!E78","v":0},{"$f":"VIEM!H78","v":0}]
[null,null,null,null,null,null,null,null,null,null,null,null,null,null,null,null,null,null,null,null,null,null,76,{"$f":"VIEM!B79","v":0},{"$f":"VIEM!C79","v":0},{"$f":"VIEM!D79","v":0},{"$f":"VIEM!F79","v":"00:00:00"},{"$f":"VIEM!$A$2","v":"VIEM"},null,{"$f":"VIEM!E79","v":0},{"$f":"VIEM!H79","v":0}]
[null,null,null,null,null,null,null,null,null,null,null,null,null,null,null,null,null,null,null,null,null,null,77,{"$f":"VIEM!B80","v":0},{"$f":"VIEM!C80","v":0},{"$f":"VIEM!D80","v":0},{"$f":"VIEM!F80","v":"00:00:00"},{"$f":"VIEM!$A$2","v":"VIEM"},null,{"$f":"VIEM!E80","v":0},{"$f":"VIEM!H80","v":0}]
[null,null,null,null,null,null,null,null,null,null,null,null,null,null,null,null,null,null,null,null,null,null,78,{"$f":"VIEM!B81","v":0},{"$f":"VIEM!C81","v":0},{"$f":"VIEM!D81","v":0},{"$f":"VIEM!F81","v":"00:00:00"},{"$f":"VIEM!$A$2","v":"VIEM"},null,{"$f":"VIEM!E81","v":0},{"$f":"VIEM!H81","v":0}]
[null,null,null,null,null,null,null,null,null,null,null,null,null,null,null,null,null,null,null,null,null,null,79,{"$f":"VIEM!B82","v":0},{"$f":"VIEM!C82","v":0},{"$f":"VIEM!D82","v":0},{"$f":"VIEM!F82","v":"00:00:00"},{"$f":"VIEM!$A$2","v":"VIEM"},null,{"$f":"VIEM!E82","v":0},{"$f":"VIEM!H82","v":0}]
[null,null,null,null,null,null,null,null,null,null,null,null,null,null,null,null,null,null,null,null,null,null,80,{"$f":"VIEM!B83","v":0},{"$f":"VIEM!C83","v":0},{"$f":"VIEM!D83","v":0},{"$f":"VIEM!F83","v":"00:00:00"},{"$f":"VIEM!$A$2","v":"VIEM"},null,{"$f":"VIEM!E83","v":0},{"$f":"VIEM!H83","v":0}]
[null,null,null,null,null,null,null,null,null,null,null,null,null,null,null,null,null,null,null,null,null,null,81,{"$f":"VIEM!B84","v":0},{"$f":"VIEM!C84","v":0},{"$f":"VIEM!D84","v":0},{"$f":"VIEM!F84","v":"00:00:00"},{"$f":"VIEM!$A$2","v":"VIEM"},null,{"$f":"VIEM!E84","v":0},{"$f":"VIEM!H84","v":0}]
[null,null,null,null,null,null,null,null,null,null,null,null,null,null,null,null,null,null,null,null,null,null,82,{"$f":"VIEM!B85","v":0},{"$f":"VIEM!C85","v":0},{"$f":"VIEM!D85","v":0},{"$f":"VIEM!F85","v":"00:00:00"},{"$f":"VIEM!$A$2","v":"VIEM"},null,{"$f":"VIEM!E85","v":0},{"$f":"VIEM!H85","v":0}]
[null,null,null,null,null,null,null,null,null,null,null,null,null,null,null,null,null,null,null,null,null,null,83,{"$f":"VIEM!B86","v":0},{"$f":"VIEM!C86","v":0},{"$f":"VIEM!D86","v":0},{"$f":"VIEM!F86","v":"00:00:00"},{"$f":"VIEM!$A$2","v":"VIEM"},null,{"$f":"VIEM!E86","v":0},{"$f":"VIEM!H86","v":0}]
[null,null,null,null,null,null,null,null,null,null,null,null,null,null,null,null,null,null,null,null,null,null,84,{"$f":"VIEM!B87","v":0},{"$f":"VIEM!C87","v":0},{"$f":"VIEM!D87","v":0},{"$f":"VIEM!F87","v":"00:00:00"},{"$f":"VIEM!$A$2","v":"VIEM"},null,{"$f":"VIEM!E87","v":0},{"$f":"VIEM!H87","v":0}]
[null,null,null,null,null,null,null,null,null,null,null,null,null,null,null,null,null,null,null,null,null,null,85,{"$f":"VIEM!B88","v":0},{"$f":"VIEM!C88","v":0},{"$f":"VIEM!D88","v":0},{"$f":"VIEM!F88","v":"00:00:00"},{"$f":"VIEM!$A$2","v":"VIEM"},null,{"$f":"VIEM!E88","v":0},{"$f":"VIEM!H88","v":0}]
[null,null,null,null,null,null,null,null,null,null,null,null,null,null,null,null,null,null,null,null,null,null,86,{"$f":"VIEM!B89","v":0},{"$f":"VIEM!C89","v":0},{"$f":"VIEM!D89","v":0},{"$f":"VIEM!F89","v":"00:00:00"},{"$f":"VIEM!$A$2","v":"VIEM"},null,{"$f":"VIEM!E89","v":0},{"$f":"VIEM!H89","v":0}]
[null,null,null,null,null,null,null,null,null,null,null,null,null,null,null,null,null,null,null,null,null,null,87,{"$f":"VIEM!B90","v":0},{"$f":"VIEM!C90","v":0},{"$f":"VIEM!D90","v":0},{"$f":"VIEM!F90","v":"00:00:00"},{"$f":"VIEM!$A$2","v":"VIEM"},null,{"$f":"VIEM!E90","v":0},{"$f":"VIEM!H90","v":0}]
[null,null,null,null,null,null,null,null,null,null,null,null,null,null,null,null,null,null,null,null,null,null,88,{"$f":"VIEM!B91","v":0},{"$f":"VIEM!C91","v":0},{"$f":"VIEM!D91","v":0},{"$f":"VIEM!F91","v":"00:00:00"},{"$f":"VIEM!$A$2","v":"VIEM"},null,{"$f":"VIEM!E91","v":0},{"$f":"VIEM!H91","v":0}]
[null,null,null,null,null,null,null,null,null,null,null,null,null,null,null,null,null,null,null,null,null,null,89,{"$f":"VIEM!B92","v":0},{"$f":"VIEM!C92","v":0},{"$f":"VIEM!D92","v":0},{"$f":"VIEM!F92","v":"00:00:00"},{"$f":"VIEM!$A$2","v":"VIEM"},null,{"$f":"VIEM!E92","v":0},{"$f":"VIEM!H92","v":0}]
[null,null,null,null,null,null,null,null,null,null,null,null,null,null,null,null,null,null,null,null,null,null,90,{"$f":"VIEM!B93","v":0},{"$f":"VIEM!C93","v":0},{"$f":"VIEM!D93","v":0},{"$f":"VIEM!F93","v":"00:00:00"},{"$f":"VIEM!$A$2","v":"VIEM"},null,{"$f":"VIEM!E93","v":0},{"$f":"VIEM!H93","v":0}]
[null,null,null,null,null,null,null,null,null,null,null,null,null,null,null,null,null,null,null,null,null,null,91,{"$f":"VIEM!B94","v":0},{"$f":"VIEM!C94","v":0},{"$f":"VIEM!D94","v":0},{"$f":"VIEM!F94","v":"00:00:00"},{"$f":"VIEM!$A$2","v":"VIEM"},null,{"$f":"VIEM!E94","v":0},{"$f":"VIEM!H94","v":0}]
[null,null,null,null,null,null,null,null,null,null,null,null,null,null,null,null,null,null,null,null,null,null,92,{"$f":"VIEM!B95","v":0},{"$f":"VIEM!C95","v":0},{"$f":"VIEM!D95","v":0},{"$f":"VIEM!F95","v":"00:00:00"},{"$f":"VIEM!$A$2","v":"VIEM"},null,{"$f":"VIEM!E95","v":0},{"$f":"VIEM!H95","v":0}]
[null,null,null,null,null,null,null,null,null,null,null,null,null,null,null,null,null,null,null,null,null,null,93,{"$f":"VIEM!B96","v":0},{"$f":"VIEM!C96","v":0},{"$f":"VIEM!D96","v":0},{"$f":"VIEM!F96","v":"00:00:00"},{"$f":"VIEM!$A$2","v":"VIEM"},null,{"$f":"VIEM!E96","v":0},{"$f":"VIEM!H96","v":0}]
[null,null,null,null,null,null,null,null,null,null,null,null,null,null,null,null,null,null,null,null,null,null,94,{"$f":"VIEM!B97","v":0},{"$f":"VIEM!C97","v":0},{"$f":"VIEM!D97","v":0},{"$f":"VIEM!F97","v":"00:00:00"},{"$f":"VIEM!$A$2","v":"VIEM"},null,{"$f":"VIEM!E97","v":0},{"$f":"VIEM!H97","v":0}]
[null,null,null,null,null,null,null,null,null,null,null,null,null,null,null,null,null,null,null,null,null,null,95,{"$f":"VIEM!B98","v":0},{"$f":"VIEM!C98","v":0},{"$f":"VIEM!D98","v":0},{"$f":"VIEM!F98","v":"00:00:00"},{"$f":"VIEM!$A$2","v":"VIEM"},null,{"$f":"VIEM!E98","v":0},{"$f":"VIEM!H98","v":0}]
[null,null,null,null,null,null,null,null,null,null,null,null,null,null,null,null,null,null,null,null,null,null,96,{"$f":"VIEM!B99","v":0},{"$f":"VIEM!C99","v":0},{"$f":"VIEM!D99","v":0},{"$f":"VIEM!F99","v":"00:00:00"},{"$f":"VIEM!$A$2","v":"VIEM"},null,{"$f":"VIEM!E99","v":0},{"$f":"VIEM!H99","v":0}]
[null,null,null,null,null,null,null,null,null,null,null,null,null,null,null,null,null,null,null,null,null,null,97,{"$f":"VIEM!B100","v":0},{"$f":"VIEM!C100","v":0},{"$f":"VIEM!D100","v":0},{"$f":"VIEM!F100","v":"00:00:00"},{"$f":"VIEM!$A$2","v":"VIEM"},null,{"$f":"VIEM!E100","v":0},{"$f":"VIEM!H100","v":0}]
[null,null,null,null,null,null,null,null,null,null,null,null,null,null,null,null,null,null,null,null,null,null,98,{"$f":"VIEM!B101","v":0},{"$f":"VIEM!C101","v":0},{"$f":"VIEM!D101","v":0},{"$f":"VIEM!F101","v":"00:00:00"},{"$f":"VIEM!$A$2","v":"VIEM"},null,{"$f":"VIEM!E101","v":0},{"$f":"VIEM!H101","v":0}]
[null,null,null,null,null,null,null,null,null,null,null,null,null,null,null,null,null,null,null,null,null,null,99,{"$f":"VIEM!B102","v":0},{"$f":"VIEM!C102","v":0},{"$f":"VIEM!D102","v":0},{"$f":"VIEM!F102","v":"00:00:00"},{"$f":"VIEM!$A$2","v":"VIEM"},null,{"$f":"VIEM!E102","v":0},{"$f":"VIEM!H102","v":0}]
[null,null,null,null,null,null,null,null,null,null,null,null,null,null,null,null,null,null,null,null,null,null,100,{"$f":"VIEM!B103","v":0},{"$f":"VIEM!C103","v":0},{"$f":"VIEM!D103","v":0},{"$f":"VIEM!F103","v":"00:00:00"},{"$f":"VIEM!$A$2","v":"VIEM"},null,{"$f":"VIEM!E103","v":0},{"$f":"VIEM!H103","v":0}]
[null,null,null,null,null,null,null,null,null,null,null,null,null,null,null,null,null,null,null,null,null,null,101,{"$f":"VIEM!B104","v":0},{"$f":"VIEM!C104","v":0},{"$f":"VIEM!D104","v":0},{"$f":"VIEM!F104","v":"00:00:00"},{"$f":"VIEM!$A$2","v":"VIEM"},null,{"$f":"VIEM!E104","v":0},{"$f":"VIEM!H104","v":0}]
[null,null,null,null,null,null,null,null,null,null,null,null,null,null,null,null,null,null,null,null,null,null,102,{"$f":"VIEM!B105","v":0},{"$f":"VIEM!C105","v":0},{"$f":"VIEM!D105","v":0},{"$f":"VIEM!F105","v":"00:00:00"},{"$f":"VIEM!$A$2","v":"VIEM"},null,{"$f":"VIEM!E105","v":0},{"$f":"VIEM!H105","v":0}]
[null,null,null,null,null,null,null,null,null,null,null,null,null,null,null,null,null,null,null,null,null,null,103,{"$f":"VIEM!B106","v":0},{"$f":"VIEM!C106","v":0},{"$f":"VIEM!D106","v":0},{"$f":"VIEM!F106","v":"00:00:00"},{"$f":"VIEM!$A$2","v":"VIEM"},null,{"$f":"VIEM!E106","v":0},{"$f":"VIEM!H106","v":0}]
[null,null,null,null,null,null,null,null,null,null,null,null,null,null,null,null,null,null,null,null,null,null,104,{"$f":"VIEM!B107","v":0},{"$f":"VIEM!C107","v":0},{"$f":"VIEM!D107","v":0},{"$f":"VIEM!F107","v":"00:00:00"},{"$f":"VIEM!$A$2","v":"VIEM"},null,{"$f":"VIEM!E107","v":0},{"$f":"VIEM!H107","v":0}]
[null,null,null,null,null,null,null,null,null,null,null,null,null,null,null,null,null,null,null,null,null,null,105,{"$f":"VIEM!B108","v":0},{"$f":"VIEM!C108","v":0},{"$f":"VIEM!D108","v":0},{"$f":"VIEM!F108","v":"00:00:00"},{"$f":"VIEM!$A$2","v":"VIEM"},null,{"$f":"VIEM!E108","v":0},{"$f":"VIEM!H108","v":0}]
[null,null,null,null,null,null,null,null,null,null,null,null,null,null,null,null,null,null,null,null,null,null,106,{"$f":"VIEM!B109","v":0},{"$f":"VIEM!C109","v":0},{"$f":"VIEM!D109","v":0},{"$f":"VIEM!F109","v":"00:00:00"},{"$f":"VIEM!$A$2","v":"VIEM"},null,{"$f":"VIEM!E109","v":0},{"$f":"VIEM!H109","v":0}]
[null,null,null,null,null,null,null,null,null,null,null,null,null,null,null,null,null,null,null,null,null,null,107,{"$f":"VIEM!B110","v":0},{"$f":"VIEM!C110","v":0},{"$f":"VIEM!D110","v":0},{"$f":"VIEM!F110","v":"00:00:00"},{"$f":"VIEM!$A$2","v":"VIEM"},null,{"$f":"VIEM!E110","v":0},{"$f":"VIEM!H110","v":0}]
[null,null,null,null,null,null,null,null,null,null,null,null,null,null,null,null,null,null,null,null,null,null,108,{"$f":"VIEM!B111","v":0},{"$f":"VIEM!C111","v":0},{"$f":"VIEM!D111","v":0},{"$f":"VIEM!F111","v":"00:00:00"},{"$f":"VIEM!$A$2","v":"VIEM"},null,{"$f":"VIEM!E111","v":0},{"$f":"VIEM!H111","v":0}]
[null,null,null,null,null,null,null,null,null,null,null,null,null,null,null,null,null,null,null,null,null,null,109,{"$f":"VIEM!B112","v":0},{"$f":"VIEM!C112","v":0},{"$f":"VIEM!D112","v":0},{"$f":"VIEM!F112","v":"00:00:00"},{"$f":"VIEM!$A$2","v":"VIEM"},null,{"$f":"VIEM!E112","v":0},{"$f":"VIEM!H112","v":0}]
[null,null,null,null,null,null,null,null,null,null,null,null,null,null,null,null,null,null,null,null,null,null,110,{"$f":"VIEM!B113","v":0},{"$f":"VIEM!C113","v":0},{"$f":"VIEM!D113","v":0},{"$f":"VIEM!F113","v":"00:00:00"},{"$f":"VIEM!$A$2","v":"VIEM"},null,{"$f":"VIEM!E113","v":0},{"$f":"VIEM!H113","v":0}]
[null,null,null,null,null,null,null,null,null,null,null,null,null,null,null,null,null,null,null,null,null,null,111,{"$f":"VIEM!B114","v":0},{"$f":"VIEM!C114","v":0},{"$f":"VIEM!D114","v":0},{"$f":"VIEM!F114","v":"00:00:00"},{"$f":"VIEM!$A$2","v":"VIEM"},null,{"$f":"VIEM!E114","v":0},{"$f":"VIEM!H114","v":0}]
[null,null,null,null,null,null,null,null,null,null,null,null,null,null,null,null,null,null,null,null,null,null,112,{"$f":"VIEM!B115","v":0},{"$f":"VIEM!C115","v":0},{"$f":"VIEM!D115","v":0},{"$f":"VIEM!F115","v":"00:00:00"},{"$f":"VIEM!$A$2","v":"VIEM"},null,{"$f":"VIEM!E115","v":0},{"$f":"VIEM!H115","v":0}]
[null,null,null,null,null,null,null,null,null,null,null,null,null,null,null,null,null,null,null,null,null,null,113,{"$f":"VIEM!B116","v":0},{"$f":"VIEM!C116","v":0},{"$f":"VIEM!D116","v":0},{"$f":"VIEM!F116","v":"00:00:00"},{"$f":"VIEM!$A$2","v":"VIEM"},null,{"$f":"VIEM!E116","v":0},{"$f":"VIEM!H116","v":0}]
[null,null,null,null,null,null,null,null,null,null,null,null,null,null,null,null,null,null,null,null,null,null,114,{"$f":"VIEM!B117","v":0},{"$f":"VIEM!C117","v":0},{"$f":"VIEM!D117","v":0},{"$f":"VIEM!F117","v":"00:00:00"},{"$f":"VIEM!$A$2","v":"VIEM"},null,{"$f":"VIEM!E117","v":0},{"$f":"VIEM!H117","v":0}]
[null,null,null,null,null,null,null,null,null,null,null,null,null,null,null,null,null,null,null,null,null,null,115,{"$f":"VIEM!B118","v":0},{"$f":"VIEM!C118","v":0},{"$f":"VIEM!D118","v":0},{"$f":"VIEM!F118","v":"00:00:00"},{"$f":"VIEM!$A$2","v":"VIEM"},null,{"$f":"VIEM!E118","v":0},{"$f":"VIEM!H118","v":0}]
[null,null,null,null,null,null,null,null,null,null,null,null,null,null,null,null,null,null,null,null,null,null,116,{"$f":"VIEM!B119","v":0},{"$f":"VIEM!C119","v":0},{"$f":"VIEM!D119","v":0},{"$f":"VIEM!F119","v":"00:00:00"},{"$f":"VIEM!$A$2","v":"VIEM"},null,{"$f":"VIEM!E119","v":0},{"$f":"VIEM!H119","v":0}]
[null,null,null,null,null,null,null,null,null,null,null,null,null,null,null,null,null,null,null,null,null,null,117,{"$f":"VIEM!B120","v":0},{"$f":"VIEM!C120","v":0},{"$f":"VIEM!D120","v":0},{"$f":"VIEM!F120","v":"00:00:00"},{"$f":"VIEM!$A$2","v":"VIEM"},null,{"$f":"VIEM!E120","v":0},{"$f":"VIEM!H120","v":0}]
[null,null,null,null,null,null,null,null,null,null,null,null,null,null,null,null,null,null,null,null,null,null,118,{"$f":"VIEM!B121","v":0},{"$f":"VIEM!C121","v":0},{"$f":"VIEM!D121","v":0},{"$f":"VIEM!F121","v":"00:00:00"},{"$f":"VIEM!$A$2","v":"VIEM"},null,{"$f":"VIEM!E121","v":0},{"$f":"VIEM!H121","v":0}]
[null,null,null,null,null,null,null,null,null,null,null,null,null,null,null,null,null,null,null,null,null,null,119,{"$f":"VIEM!B122","v":0},{"$f":"VIEM!C122","v":0},{"$f":"VIEM!D122","v":0},{"$f":"VIEM!F122","v":"00:00:00"},{"$f":"VIEM!$A$2","v":"VIEM"},null,{"$f":"VIEM!E122","v":0},{"$f":"VIEM!H122","v":0}]
[null,null,null,null,null,null,null,null,null,null,null,null,null,null,null,null,null,null,null,null,null,null,120,{"$f":"VIEM!B123","v":0},{"$f":"VIEM!C123","v":0},{"$f":"VIEM!D123","v":0},{"$f":"VIEM!F123","v":"00:00:00"},{"$f":"VIEM!$A$2","v":"VIEM"},null,{"$f":"VIEM!E123","v":0},{"$f":"VIEM!H123","v":0}]
[null,null,null,null,null,null,null,null,null,null,null,null,null,null,null,null,null,null,null,null,null,null,121,{"$f":"VIEM!B124","v":0},{"$f":"VIEM!C124","v":0},{"$f":"VIEM!D124","v":0},{"$f":"VIEM!F124","v":"00:00:00"},{"$f":"VIEM!$A$2","v":"VIEM"},null,{"$f":"VIEM!E124","v":0},{"$f":"VIEM!H124","v":0}]
[null,null,null,null,null,null,null,null,null,null,null,null,null,null,null,null,null,null,null,null,null,null,122,{"$f":"VIEM!B125","v":0},{"$f":"VIEM!C125","v":0},{"$f":"VIEM!D125","v":0},{"$f":"VIEM!F125","v":"00:00:00"},{"$f":"VIEM!$A$2","v":"VIEM"},null,{"$f":"VIEM!E125","v":0},{"$f":"VIEM!H125","v":0}]
[null,null,null,null,null,null,null,null,null,null,null,null,null,null,null,null,null,null,null,null,null,null,123,{"$f":"VIEM!B126","v":0},{"$f":"VIEM!C126","v":0},{"$f":"VIEM!D126","v":0},{"$f":"VIEM!F126","v":"00:00:00"},{"$f":"VIEM!$A$2","v":"VIEM"},null,{"$f":"VIEM!E126","v":0},{"$f":"VIEM!H126","v":0}]
[null,null,null,null,null,null,null,null,null,null,null,null,null,null,null,null,null,null,null,null,null,null,124,{"$f":"VIEM!B127","v":0},{"$f":"VIEM!C127","v":0},{"$f":"VIEM!D127","v":0},{"$f":"VIEM!F127","v":"00:00:00"},{"$f":"VIEM!$A$2","v":"VIEM"},null,{"$f":"VIEM!E127","v":0},{"$f":"VIEM!H127","v":0}]
[null,null,null,null,null,null,null,null,null,null,null,null,null,null,null,null,null,null,null,null,null,null,125,{"$f":"VIEM!B128","v":0},{"$f":"VIEM!C128","v":0},{"$f":"VIEM!D128","v":0},{"$f":"VIEM!F128","v":"00:00:00"},{"$f":"VIEM!$A$2","v":"VIEM"},null,{"$f":"VIEM!E128","v":0},{"$f":"VIEM!H128","v":0}]
[null,null,null,null,null,null,null,null,null,null,null,null,null,null,null,null,null,null,null,null,null,null,126,{"$f":"VIEM!B129","v":0},{"$f":"VIEM!C129","v":0},{"$f":"VIEM!D129","v":0},{"$f":"VIEM!F129","v":"00:00:00"},{"$f":"VIEM!$A$2","v":"VIEM"},null,{"$f":"VIEM!E129","v":0},{"$f":"VIEM!H129","v":0}]
[null,null,null,null,null,null,null,null,null,null,null,null,null,null,null,null,null,null,null,null,null,null,127,{"$f":"VIEM!B130","v":0},{"$f":"VIEM!C130","v":0},{"$f":"VIEM!D130","v":0},{"$f":"VIEM!F130","v":"00:00:00"},{"$f":"VIEM!$A$2","v":"VIEM"},null,{"$f":"VIEM!E130","v":0},{"$f":"VIEM!H130","v":0}]
[null,null,null,null,null,null,null,null,null,null,null,null,null,null,null,null,null,null,null,null,null,null,128,{"$f":"VIEM!B131","v":0},{"$f":"VIEM!C131","v":0},{"$f":"VIEM!D131","v":0},{"$f":"VIEM!F131","v":"00:00:00"},{"$f":"VIEM!$A$2","v":"VIEM"},null,{"$f":"VIEM!E131","v":0},{"$f":"VIEM!H131","v":0}]
[null,null,null,null,null,null,null,null,null,null,null,null,null,null,null,null,null,null,null,null,null,null,129,{"$f":"VIEM!B132","v":0},{"$f":"VIEM!C132","v":0},{"$f":"VIEM!D132","v":0},{"$f":"VIEM!F132","v":"00:00:00"},{"$f":"VIEM!$A$2","v":"VIEM"},null,{"$f":"VIEM!E132","v":0},{"$f":"VIEM!H132","v":0}]
[null,null,null,null,null,null,null,null,null,null,null,null,null,null,null,null,null,null,null,null,null,null,130,{"$f":"VIEM!B133","v":0},{"$f":"VIEM!C133","v":0},{"$f":"VIEM!D133","v":0},{"$f":"VIEM!F133","v":"00:00:00"},{"$f":"VIEM!$A$2","v":"VIEM"},null,{"$f":"VIEM!E133","v":0},{"$f":"VIEM!H133","v":0}]
[null,null,null,null,null,null,null,null,null,null,null,null,null,null,null,null,null,null,null,null,null,null,131,{"$f":"VIEM!B134","v":0},{"$f":"VIEM!C134","v":0},{"$f":"VIEM!D134","v":0},{"$f":"VIEM!F134","v":"00:00:00"},{"$f":"VIEM!$A$2","v":"VIEM"},null,{"$f":"VIEM!E134","v":0},{"$f":"VIEM!H134","v":0}]
[null,null,null,null,null,null,null,null,null,null,null,null,null,null,null,null,null,null,null,null,null,null,132,{"$f":"VIEM!B135","v":0},{"$f":"VIEM!C135","v":0},{"$f":"VIEM!D135","v":0},{"$f":"VIEM!F135","v":"00:00:00"},{"$f":"VIEM!$A$2","v":"VIEM"},null,{"$f":"VIEM!E135","v":0},{"$f":"VIEM!H135","v":0}]
[null,null,null,null,null,null,null,null,null,null,null,null,null,null,null,null,null,null,null,null,null,null,133,{"$f":"VIEM!B136","v":0},{"$f":"VIEM!C136","v":0},{"$f":"VIEM!D136","v":0},{"$f":"VIEM!F136","v":"00:00:00"},{"$f":"VIEM!$A$2","v":"VIEM"},null,{"$f":"VIEM!E136","v":0},{"$f":"VIEM!H136","v":0}]
[null,null,null,null,null,null,null,null,null,null,null,null,null,null,null,null,null,null,null,null,null,null,134,{"$f":"VIEM!B137","v":0},{"$f":"VIEM!C137","v":0},{"$f":"VIEM!D137","v":0},{"$f":"VIEM!F137","v":"00:00:00"},{"$f":"VIEM!$A$2","v":"VIEM"},null,{"$f":"VIEM!E137","v":0},{"$f":"VIEM!H137","v":0}]
[null,null,null,null,null,null,null,null,null,null,null,null,null,null,null,null,null,null,null,null,null,null,135,{"$f":"VIEM!B138","v":0},{"$f":"VIEM!C138","v":0},{"$f":"VIEM!D138","v":0},{"$f":"VIEM!F138","v":"00:00:00"},{"$f":"VIEM!$A$2","v":"VIEM"},null,{"$f":"VIEM!E138","v":0},{"$f":"VIEM!H138","v":0}]
[null,null,null,null,null,null,null,null,null,null,null,null,null,null,null,null,null,null,null,null,null,null,136,{"$f":"VIEM!B139","v":0},{"$f":"VIEM!C139","v":0},{"$f":"VIEM!D139","v":0},{"$f":"VIEM!F139","v":"00:00:00"},{"$f":"VIEM!$A$2","v":"VIEM"},null,{"$f":"VIEM!E139","v":0},{"$f":"VIEM!H139","v":0}]
[null,null,null,null,null,null,null,null,null,null,null,null,null,null,null,null,null,null,null,null,null,null,137,{"$f":"VIEM!B140","v":0},{"$f":"VIEM!C140","v":0},{"$f":"VIEM!D140","v":0},{"$f":"VIEM!F140","v":"00:00:00"},{"$f":"VIEM!$A$2","v":"VIEM"},null,{"$f":"VIEM!E140","v":0},{"$f":"VIEM!H140","v":0}]
[null,null,null,null,null,null,null,null,null,null,null,null,null,null,null,null,null,null,null,null,null,null,138,{"$f":"VIEM!B141","v":0},{"$f":"VIEM!C141","v":0},{"$f":"VIEM!D141","v":0},{"$f":"VIEM!F141","v":"00:00:00"},{"$f":"VIEM!$A$2","v":"VIEM"},null,{"$f":"VIEM!E141","v":0},{"$f":"VIEM!H141","v":0}]
[null,null,null,null,null,null,null,null,null,null,null,null,null,null,null,null,null,null,null,null,null,null,139,{"$f":"VIEM!B142","v":0},{"$f":"VIEM!C142","v":0},{"$f":"VIEM!D142","v":0},{"$f":"VIEM!F142","v":"00:00:00"},{"$f":"VIEM!$A$2","v":"VIEM"},null,{"$f":"VIEM!E142","v":0},{"$f":"VIEM!H142","v":0}]
[null,null,null,null,null,null,null,null,null,null,null,null,null,null,null,null,null,null,null,null,null,null,140,{"$f":"VIEM!B143","v":0},{"$f":"VIEM!C143","v":0},{"$f":"VIEM!D143","v":0},{"$f":"VIEM!F143","v":"00:00:00"},{"$f":"VIEM!$A$2","v":"VIEM"},null,{"$f":"VIEM!E143","v":0},{"$f":"VIEM!H143","v":0}]
[null,null,null,null,null,null,null,null,null,null,null,null,null,null,null,null,null,null,null,null,null,null,141,{"$f":"VIEM!B144","v":0},{"$f":"VIEM!C144","v":0},{"$f":"VIEM!D144","v":0},{"$f":"VIEM!F144","v":"00:00:00"},{"$f":"VIEM!$A$2","v":"VIEM"},null,{"$f":"VIEM!E144","v":0},{"$f":"VIEM!H144","v":0}]
[null,null,null,null,null,null,null,null,null,null,null,null,null,null,null,null,null,null,null,null,null,null,142,{"$f":"VIEM!B145","v":0},{"$f":"VIEM!C145","v":0},{"$f":"VIEM!D145","v":0},{"$f":"VIEM!F145","v":"00:00:00"},{"$f":"VIEM!$A$2","v":"VIEM"},null,{"$f":"VIEM!E145","v":0},{"$f":"VIEM!H145","v":0}]
[null,null,null,null,null,null,null,null,null,null,null,null,null,null,null,null,null,null,null,null,null,null,143,{"$f":"VIEM!B146","v":0},{"$f":"VIEM!C146","v":0},{"$f":"VIEM!D146","v":0},{"$f":"VIEM!F146","v":"00:00:00"},{"$f":"VIEM!$A$2","v":"VIEM"},null,{"$f":"VIEM!E146","v":0},{"$f":"VIEM!H146","v":0}]
[null,null,null,null,null,null,null,null,null,null,null,null,null,null,null,null,null,null,null,null,null,null,144,{"$f":"VIEM!B147","v":0},{"$f":"VIEM!C147","v":0},{"$f":"VIEM!D147","v":0},{"$f":"VIEM!F147","v":"00:00:00"},{"$f":"VIEM!$A$2","v":"VIEM"},null,{"$f":"VIEM!E147","v":0},{"$f":"VIEM!H147","v":0}]
[null,null,null,null,null,null,null,null,null,null,null,null,null,null,null,null,null,null,null,null,null,null,145,{"$f":"VIEM!B148","v":0},{"$f":"VIEM!C148","v":0},{"$f":"VIEM!D148","v":0},{"$f":"VIEM!F148","v":"00:00:00"},{"$f":"VIEM!$A$2","v":"VIEM"},null,{"$f":"VIEM!E148","v":0},{"$f":"VIEM!H148","v":0}]
[null,null,null,null,null,null,null,null,null,null,null,null,null,null,null,null,null,null,null,null,null,null,146,{"$f":"VIEM!B149","v":0},{"$f":"VIEM!C149","v":0},{"$f":"VIEM!D149","v":0},{"$f":"VIEM!F149","v":"00:00:00"},{"$f":"VIEM!$A$2","v":"VIEM"},null,{"$f":"VIEM!E149","v":0},{"$f":"VIEM!H149","v":0}]
[null,null,null,null,null,null,null,null,null,null,null,null,null,null,null,null,null,null,null,null,null,null,147,{"$f":"VIEM!B150","v":0},{"$f":"VIEM!C150","v":0},{"$f":"VIEM!D150","v":0},{"$f":"VIEM!F150","v":"00:00:00"},{"$f":"VIEM!$A$2","v":"VIEM"},null,{"$f":"VIEM!E150","v":0},{"$f":"VIEM!H150","v":0}]
[null,null,null,null,null,null,null,null,null,null,null,null,null,null,null,null,null,null,null,null,null,null,148,{"$f":"VIEM!B151","v":0},{"$f":"VIEM!C151","v":0},{"$f":"VIEM!D151","v":0},{"$f":"VIEM!F151","v":"00:00:00"},{"$f":"VIEM!$A$2","v":"VIEM"},null,{"$f":"VIEM!E151","v":0},{"$f":"VIEM!H151","v":0}]
[null,null,null,null,null,null,null,null,null,null,null,null,null,null,null,null,null,null,null,null,null,null,149,{"$f":"VIEM!B152","v":0},{"$f":"VIEM!C152","v":0},{"$f":"VIEM!D152","v":0},{"$f":"VIEM!F152","v":"00:00:00"},{"$f":"VIEM!$A$2","v":"VIEM"},null,{"$f":"VIEM!E152","v":0},{"$f":"VIEM!H152","v":0}]
[null,null,null,null,null,null,null,null,null,null,null,null,null,null,null,null,null,null,null,null,null,null,150,{"$f":"VIEM!B153","v":0},{"$f":"VIEM!C153","v":0},{"$f":"VIEM!D153","v":0},{"$f":"VIEM!F153","v":"00:00:00"},{"$f":"VIEM!$A$2","v":"VIEM"},null,{"$f":"VIEM!E153","v":0},{"$f":"VIEM!H153","v":0}]
[]
[null,null,null,null,null,null,null,null,null,null,null,null,null,null,null,null,null,null,null,null,null,null,1,{"$f":"VIIEM!B4","v":0},{"$f":"VIIEM!C4","v":0},{"$f":"VIIEM!D4","v":0},{"$f":"VIIEM!$F$4","v":"00:00:00"},{"$f":"VIIEM!$A$2","v":"VIIEM"},null,{"$f":"VIIEM!E4","v":0},{"$f":"VIIEM!H4","v":0}]
[null,null,null,null,null,null,null,null,null,null,null,null,null,null,null,null,null,null,null,null,null,null,2,{"$f":"VIIEM!B5","v":0},{"$f":"VIIEM!C5","v":0},{"$f":"VIIEM!D5","v":0},{"$f":"VIIEM!$F$4","v":"00:00:00"},{"$f":"VIIEM!$A$2","v":"VIIEM"},null,{"$f":"VIIEM!E5","v":0},{"$f":"VIIEM!H5","v":0}]
[null,null,null,null,null,null,null,null,null,null,null,null,null,null,null,null,null,null,null,null,null,null,3,{"$f":"VIIEM!B6","v":0},{"$f":"VIIEM!C6","v":0},{"$f":"VIIEM!D6","v":0},{"$f":"VIIEM!$F$4","v":"00:00:00"},{"$f":"VIIEM!$A$2","v":"VIIEM"},null,{"$f":"VIIEM!E6","v":0},{"$f":"VIIEM!H6","v":0}]
[null,null,null,null,null,null,null,null,null,null,null,null,null,null,null,null,null,null,null,null,null,null,4,{"$f":"VIIEM!B7","v":0},{"$f":"VIIEM!C7","v":0},{"$f":"VIIEM!D7","v":0},{"$f":"VIIEM!$F$4","v":"00:00:00"},{"$f":"VIIEM!$A$2","v":"VIIEM"},null,{"$f":"VIIEM!E7","v":0},{"$f":"VIIEM!H7","v":0}]
[null,null,null,null,null,null,null,null,null,null,null,null,null,null,null,null,null,null,null,null,null,null,5,{"$f":"VIIEM!B8","v":0},{"$f":"VIIEM!C8","v":0},{"$f":"VIIEM!D8","v":0},{"$f":"VIIEM!$F$4","v":"00:00:00"},{"$f":"VIIEM!$A$2","v":"VIIEM"},null,{"$f":"VIIEM!E8","v":0},{"$f":"VIIEM!H8","v":0}]
[null,null,null,null,null,null,null,null,null,null,null,null,null,null,null,null,null,null,null,null,null,null,6,{"$f":"VIIEM!B9","v":0},{"$f":"VIIEM!C9","v":0},{"$f":"VIIEM!D9","v":0},{"$f":"VIIEM!$F$4","v":"00:00:00"},{"$f":"VIIEM!$A$2","v":"VIIEM"},null,{"$f":"VIIEM!E9","v":0},{"$f":"VIIEM!H9","v":0}]
[null,null,null,null,null,null,null,null,null,null,null,null,null,null,null,null,null,null,null,null,null,null,7,{"$f":"VIIEM!B10","v":0},{"$f":"VIIEM!C10","v":0},{"$f":"VIIEM!D10","v":0},{"$f":"VIIEM!$F$4","v":"00:00:00"},{"$f":"VIIEM!$A$2","v":"VIIEM"},null,{"$f":"VIIEM!E10","v":0},{"$f":"VIIEM!H10","v":0}]
[null,null,null,null,null,null,null,null,null,null,null,null,null,null,null,null,null,null,null,null,null,null,8,{"$f":"VIIEM!B11","v":0},{"$f":"VIIEM!C11","v":0},{"$f":"VIIEM!D11","v":0},{"$f":"VIIEM!$F$4","v":"00:00:00"},{"$f":"VIIEM!$A$2","v":"VIIEM"},null,{"$f":"VIIEM!E11","v":0},{"$f":"VIIEM!H11","v":0}]
[null,null,null,null,null,null,null,null,null,null,null,null,null,null,null,null,null,null,null,null,null,null,9,{"$f":"VIIEM!B12","v":0},{"$f":"VIIEM!C12","v":0},{"$f":"VIIEM!D12","v":0},{"$f":"VIIEM!$F$4","v":"00:00:00"},{"$f":"VIIEM!$A$2","v":"VIIEM"},null,{"$f":"VIIEM!E12","v":0},{"$f":"VIIEM!H12","v":0}]
[null,null,null,null,null,null,null,null,null,null,null,null,null,null,null,null,null,null,null,null,null,null,10,{"$f":"VIIEM!B13","v":0},{"$f":"VIIEM!C13","v":0},{"$f":"VIIEM!D13","v":0},{"$f":"VIIEM!$F$4","v":"00:00:00"},{"$f":"VIIEM!$A$2","v":"VIIEM"},null,{"$f":"VIIEM!E13","v":0},{"$f":"VIIEM!H13","v":0}]
[null,null,null,null,null,null,null,null,null,null,null,null,null,null,null,null,null,null,null,null,null,null,11,{"$f":"VIIEM!B14","v":0},{"$f":"VIIEM!C14","v":0},{"$f":"VIIEM!D14","v":0},{"$f":"VIIEM!$F$4","v":"00:00:00"},{"$f":"VIIEM!$A$2","v":"VIIEM"},null,{"$f":"VIIEM!E14","v":0},{"$f":"VIIEM!H14","v":0}]
[null,null,null,null,null,null,null,null,null,null,null,null,null,null,null,null,null,null,null,null,null,null,12,{"$f":"VIIEM!B15","v":0},{"$f":"VIIEM!C15","v":0},{"$f":"VIIEM!D15","v":0},{"$f":"VIIEM!$F$4","v":"00:00:00"},{"$f":"VIIEM!$A$2","v":"VIIEM"},null,{"$f":"VIIEM!E15","v":0},{"$f":"VIIEM!H15","v":0}]
[null,null,null,null,null,null,null,null,null,null,null,null,null,null,null,null,null,null,null,null,null,null,13,{"$f":"VIIEM!B16","v":0},{"$f":"VIIEM!C16","v":0},{"$f":"VIIEM!D16","v":0},{"$f":"VIIEM!$F$4","v":"00:00:00"},{"$f":"VIIEM!$A$2","v":"VIIEM"},null,{"$f":"VIIEM!E16","v":0},{"$f":"VIIEM!H16","v":0}]
[null,null,null,null,null,null,null,null,null,null,null,null,null,null,null,null,null,null,null,null,null,null,14,{"$f":"VIIEM!B17","v":0},{"$f":"VIIEM!C17","v":0},{"$f":"VIIEM!D17","v":0},{"$f":"VIIEM!$F$4","v":"00:00:00"},{"$f":"VIIEM!$A$2","v":"VIIEM"},null,{"$f":"VIIEM!E17","v":0},{"$f":"VIIEM!H17","v":0}]
[null,null,null,null,null,null,null,null,null,null,null,null,null,null,null,null,null,null,null,null,null,null,15,{"$f":"VIIEM!B18","v":0},{"$f":"VIIEM!C18","v":0},{"$f":"VIIEM!D18","v":0},{"$f":"VIIEM!$F$4","v":"00:00:00"},{"$f":"VIIEM!$A$2","v":"VIIEM"},null,{"$f":"VIIEM!E18","v":0},{"$f":"VIIEM!H18","v":0}]
[null,null,null,null,null,null,null,null,null,null,null,null,null,null,null,null,null,null,null,null,null,null,16,{"$f":"VIIEM!B19","v":0},{"$f":"VIIEM!C19","v":0},{"$f":"VIIEM!D19","v":0},{"$f":"VIIEM!$F$4","v":"00:00:00"},{"$f":"VIIEM!$A$2","v":"VIIEM"},null,{"$f":"VIIEM!E19","v":0},{"$f":"VIIEM!H19","v":0}]
[null,null,null,null,null,null,null,null,null,null,null,null,null,null,null,null,null,null,null,null,null,null,17,{"$f":"VIIEM!B20","v":0},{"$f":"VIIEM!C20","v":0},{"$f":"VIIEM!D20","v":0},{"$f":"VIIEM!$F$4","v":"00:00:00"},{"$f":"VIIEM!$A$2","v":"VIIEM"},null,{"$f":"VIIEM!E20","v":0},{"$f":"VIIEM!H20","v":0}]
[null,null,null,null,null,null,null,null,null,null,null,null,null,null,null,null,null,null,null,null,null,null,18,{"$f":"VIIEM!B21","v":0},{"$f":"VIIEM!C21","v":0},{"$f":"VIIEM!D21","v":0},{"$f":"VIIEM!$F$4","v":"00:00:00"},{"$f":"VIIEM!$A$2","v":"VIIEM"},null,{"$f":"VIIEM!E21","v":0},{"$f":"VIIEM!H21","v":0}]
[null,null,null,null,null,null,null,null,null,null,null,null,null,null,null,null,null,null,null,null,null,null,19,{"$f":"VIIEM!B22","v":0},{"$f":"VIIEM!C22","v":0},{"$f":"VIIEM!D22","v":0},{"$f":"VIIEM!$F$4","v":"00:00:00"},{"$f":"VIIEM!$A$2","v":"VIIEM"},null,{"$f":"VIIEM!E22","v":0},{"$f":"VIIEM!H22","v":0}]
[null,null,null,null,null,null,null,null,null,null,null,null,null,null,null,null,null,null,null,null,null,null,20,{"$f":"VIIEM!B23","v":0},{"$f":"VIIEM!C23","v":0},{"$f":"VIIEM!D23","v":0},{"$f":"VIIEM!$F$4","v":"00:00:00"},{"$f":"VIIEM!$A$2","v":"VIIEM"},null,{"$f":"VIIEM!E23","v":0},{"$f":"VIIEM!H23","v":0}]
[null,null,null,null,null,null,null,null,null,null,null,null,null,null,null,null,null,null,null,null,null,null,21,{"$f":"VIIEM!B24","v":0},{"$f":"VIIEM!C24","v":0},{"$f":"VIIEM!D24","v":0},{"$f":"VIIEM!$F$4","v":"00:00:00"},{"$f":"VIIEM!$A$2","v":"VIIEM"},null,{"$f":"VIIEM!E24","v":0},{"$f":"VIIEM!H24","v":0}]
[null,null,null,null,null,null,null,null,null,null,null,null,null,null,null,null,null,null,null,null,null,null,22,{"$f":"VIIEM!B25","v":0},{"$f":"VIIEM!C25","v":0},{"$f":"VIIEM!D25","v":0},{"$f":"VIIEM!$F$4","v":"00:00:00"},{"$f":"VIIEM!$A$2","v":"VIIEM"},null,{"$f":"VIIEM!E25","v":0},{"$f":"VIIEM!H25","v":0}]
[null,null,null,null,null,null,null,null,null,null,null,null,null,null,null,null,null,null,null,null,null,null,23,{"$f":"VIIEM!B26","v":0},{"$f":"VIIEM!C26","v":0},{"$f":"VIIEM!D26","v":0},{"$f":"VIIEM!$F$4","v":"00:00:00"},{"$f":"VIIEM!$A$2","v":"VIIEM"},null,{"$f":"VIIEM!E26","v":0},{"$f":"VIIEM!H26","v":0}]
[null,null,null,null,null,null,null,null,null,null,null,null,null,null,null,null,null,null,null,null,null,null,24,{"$f":"VIIEM!B27","v":0},{"$f":"VIIEM!C27","v":0},{"$f":"VIIEM!D27","v":0},{"$f":"VIIEM!$F$4","v":"00:00:00"},{"$f":"VIIEM!$A$2","v":"VIIEM"},null,{"$f":"VIIEM!E27","v":0},{"$f":"VIIEM!H27","v":0}]
[null,null,null,null,null,null,null,null,null,null,null,null,null,null,null,null,null,null,null,null,null,null,25,{"$f":"VIIEM!B28","v":0},{"$f":"VIIEM!C28","v":0},{"$f":"VIIEM!D28","v":0},{"$f":"VIIEM!$F$4","v":"00:00:00"},{"$f":"VIIEM!$A$2","v":"VIIEM"},null,{"$f":"VIIEM!E28","v":0},{"$f":"VIIEM!H28","v":0}]
[null,null,null,null,null,null,null,null,null,null,null,null,null,null,null,null,null,null,null,null,null,null,26,{"$f":"VIIEM!B29","v":0},{"$f":"VIIEM!C29","v":0},{"$f":"VIIEM!D29","v":0},{"$f":"VIIEM!$F$4","v":"00:00:00"},{"$f":"VIIEM!$A$2","v":"VIIEM"},null,{"$f":"VIIEM!E29","v":0},{"$f":"VIIEM!H29","v":0}]
[null,null,null,null,null,null,null,null,null,null,null,null,null,null,null,null,null,null,null,null,null,null,27,{"$f":"VIIEM!B30","v":0},{"$f":"VIIEM!C30","v":0},{"$f":"VIIEM!D30","v":0},{"$f":"VIIEM!$F$4","v":"00:00:00"},{"$f":"VIIEM!$A$2","v":"VIIEM"},null,{"$f":"VIIEM!E30","v":0},{"$f":"VIIEM!H30","v":0}]
[null,null,null,null,null,null,null,null,null,null,null,null,null,null,null,null,null,null,null,null,null,null,28,{"$f":"VIIEM!B31","v":0},{"$f":"VIIEM!C31","v":0},{"$f":"VIIEM!D31","v":0},{"$f":"VIIEM!$F$4","v":"00:00:00"},{"$f":"VIIEM!$A$2","v":"VIIEM"},null,{"$f":"VIIEM!E31","v":0},{"$f":"VIIEM!H31","v":0}]
[null,null,null,null,null,null,null,null,null,null,null,null,null,null,null,null,null,null,null,null,null,null,29,{"$f":"VIIEM!B32","v":0},{"$f":"VIIEM!C32","v":0},{"$f":"VIIEM!D32","v":0},{"$f":"VIIEM!$F$4","v":"00:00:00"},{"$f":"VIIEM!$A$2","v":"VIIEM"},null,{"$f":"VIIEM!E32","v":0},{"$f":"VIIEM!H32","v":0}]
[null,null,null,null,null,null,null,null,null,null,null,null,null,null,null,null,null,null,null,null,null,null,30,{"$f":"VIIEM!B33","v":0},{"$f":"VIIEM!C33","v":0},{"$f":"VIIEM!D33","v":0},{"$f":"VIIEM!$F$4","v":"00:00:00"},{"$f":"VIIEM!$A$2","v":"VIIEM"},null,{"$f":"VIIEM!E33","v":0},{"$f":"VIIEM!H33","v":0}]
[null,null,null,null,null,null,null,null,null,null,null,null,null,null,null,null,null,null,null,null,null,null,31,{"$f":"VIIEM!B34","v":0},{"$f":"VIIEM!C34","v":0},{"$f":"VIIEM!D34","v":0},{"$f":"VIIEM!$F$4","v":"00:00:00"},{"$f":"VIIEM!$A$2","v":"VIIEM"},null,{"$f":"VIIEM!E34","v":0},{"$f":"VIIEM!H34","v":0}]
[null,null,null,null,null,null,null,null,null,null,null,null,null,null,null,null,null,null,null,null,null,null,32,{"$f":"VIIEM!B35","v":0},{"$f":"VIIEM!C35","v":0},{"$f":"VIIEM!D35","v":0},{"$f":"VIIEM!$F$4","v":"00:00:00"},{"$f":"VIIEM!$A$2","v":"VIIEM"},null,{"$f":"VIIEM!E35","v":0},{"$f":"VIIEM!H35","v":0}]
[null,null,null,null,null,null,null,null,null,null,null,null,null,null,null,null,null,null,null,null,null,null,33,{"$f":"VIIEM!B36","v":0},{"$f":"VIIEM!C36","v":0},{"$f":"VIIEM!D36","v":0},{"$f":"VIIEM!$F$4","v":"00:00:00"},{"$f":"VIIEM!$A$2","v":"VIIEM"},null,{"$f":"VIIEM!E36","v":0},{"$f":"VIIEM!H36","v":0}]
[null,null,null,null,null,null,null,null,null,null,null,null,null,null,null,null,null,null,null,null,null,null,34,{"$f":"VIIEM!B37","v":0},{"$f":"VIIEM!C37","v":0},{"$f":"VIIEM!D37","v":0},{"$f":"VIIEM!$F$4","v":"00:00:00"},{"$f":"VIIEM!$A$2","v":"VIIEM"},null,{"$f":"VIIEM!E37","v":0},{"$f":"VIIEM!H37","v":0}]
[null,null,null,null,null,null,null,null,null,null,null,null,null,null,null,null,null,null,null,null,null,null,35,{"$f":"VIIEM!B38","v":0},{"$f":"VIIEM!C38","v":0},{"$f":"VIIEM!D38","v":0},{"$f":"VIIEM!$F$4","v":"00:00:00"},{"$f":"VIIEM!$A$2","v":"VIIEM"},null,{"$f":"VIIEM!E38","v":0},{"$f":"VIIEM!H38","v":0}]
[null,null,null,null,null,null,null,null,null,null,null,null,null,null,null,null,null,null,null,null,null,null,36,{"$f":"VIIEM!B39","v":0},{"$f":"VIIEM!C39","v":0},{"$f":"VIIEM!D39","v":0},{"$f":"VIIEM!$F$4","v":"00:00:00"},{"$f":"VIIEM!$A$2","v":"VIIEM"},null,{"$f":"VIIEM!E39","v":0},{"$f":"VIIEM!H39","v":0}]
[null,null,null,null,null,null,null,null,null,null,null,null,null,null,null,null,null,null,null,null,null,null,37,{"$f":"VIIEM!B40","v":0},{"$f":"VIIEM!C40","v":0},{"$f":"VIIEM!D40","v":0},{"$f":"VIIEM!$F$4","v":"00:00:00"},{"$f":"VIIEM!$A$2","v":"VIIEM"},null,{"$f":"VIIEM!E40","v":0},{"$f":"VIIEM!H40","v":0}]
[null,null,null,null,null,null,null,null,null,null,null,null,null,null,null,null,null,null,null,null,null,null,38,{"$f":"VIIEM!B41","v":0},{"$f":"VIIEM!C41","v":0},{"$f":"VIIEM!D41","v":0},{"$f":"VIIEM!$F$4","v":"00:00:00"},{"$f":"VIIEM!$A$2","v":"VIIEM"},null,{"$f":"VIIEM!E41","v":0},{"$f":"VIIEM!H41","v":0}]
[null,null,null,null,null,null,null,null,null,null,null,null,null,null,null,null,null,null,null,null,null,null,39,{"$f":"VIIEM!B42","v":0},{"$f":"VIIEM!C42","v":0},{"$f":"VIIEM!D42","v":0},{"$f":"VIIEM!$F$4","v":"00:00:00"},{"$f":"VIIEM!$A$2","v":"VIIEM"},null,{"$f":"VIIEM!E42","v":0},{"$f":"VIIEM!H42","v":0}]
[null,null,null,null,null,null,null,null,null,null,null,null,null,null,null,null,null,null,null,null,null,null,40,{"$f":"VIIEM!B43","v":0},{"$f":"VIIEM!C43","v":0},{"$f":"VIIEM!D43","v":0},{"$f":"VIIEM!$F$4","v":"00:00:00"},{"$f":"VIIEM!$A$2","v":"VIIEM"},null,{"$f":"VIIEM!E43","v":0},{"$f":"VIIEM!H43","v":0}]
[null,null,null,null,null,null,null,null,null,null,null,null,null,null,null,null,null,null,null,null,null,null,41,{"$f":"VIIEM!B44","v":0},{"$f":"VIIEM!C44","v":0},{"$f":"VIIEM!D44","v":0},{"$f":"VIIEM!$F$4","v":"00:00:00"},{"$f":"VIIEM!$A$2","v":"VIIEM"},null,{"$f":"VIIEM!E44","v":0},{"$f":"VIIEM!H44","v":0}]
[null,null,null,null,null,null,null,null,null,null,null,null,null,null,null,null,null,null,null,null,null,null,42,{"$f":"VIIEM!B45","v":0},{"$f":"VIIEM!C45","v":0},{"$f":"VIIEM!D45","v":0},{"$f":"VIIEM!$F$4","v":"00:00:00"},{"$f":"VIIEM!$A$2","v":"VIIEM"},null,{"$f":"VIIEM!E45","v":0},{"$f":"VIIEM!H45","v":0}]
[null,null,null,null,null,null,null,null,null,null,null,null,null,null,null,null,null,null,null,null,null,null,43,{"$f":"VIIEM!B46","v":0},{"$f":"VIIEM!C46","v":0},{"$f":"VIIEM!D46","v":0},{"$f":"VIIEM!$F$4","v":"00:00:00"},{"$f":"VIIEM!$A$2","v":"VIIEM"},null,{"$f":"VIIEM!E46","v":0},{"$f":"VIIEM!H46","v":0}]
[null,null,null,null,null,null,null,null,null,null,null,null,null,null,null,null,null,null,null,null,null,null,44,{"$f":"VIIEM!B47","v":0},{"$f":"VIIEM!C47","v":0},{"$f":"VIIEM!D47","v":0},{"$f":"VIIEM!$F$4","v":"00:00:00"},{"$f":"VIIEM!$A$2","v":"VIIEM"},null,{"$f":"VIIEM!E47","v":0},{"$f":"VIIEM!H47","v":0}]
[null,null,null,null,null,null,null,null,null,null,null,null,null,null,null,null,null,null,null,null,null,null,45,{"$f":"VIIEM!B48","v":0},{"$f":"VIIEM!C48","v":0},{"$f":"VIIEM!D48","v":0},{"$f":"VIIEM!$F$4","v":"00:00:00"},{"$f":"VIIEM!$A$2","v":"VIIEM"},null,{"$f":"VIIEM!E48","v":0},{"$f":"VIIEM!H48","v":0}]
[null,null,null,null,null,null,null,null,null,null,null,null,null,null,null,null,null,null,null,null,null,null,46,{"$f":"VIIEM!B49","v":0},{"$f":"VIIEM!C49","v":0},{"$f":"VIIEM!D49","v":0},{"$f":"VIIEM!$F$4","v":"00:00:00"},{"$f":"VIIEM!$A$2","v":"VIIEM"},null,{"$f":"VIIEM!E49","v":0},{"$f":"VIIEM!H49","v":0}]
[null,null,null,null,null,null,null,null,null,null,null,null,null,null,null,null,null,null,null,null,null,null,47,{"$f":"VIIEM!B50","v":0},{"$f":"VIIEM!C50","v":0},{"$f":"VIIEM!D50","v":0},{"$f":"VIIEM!$F$4","v":"00:00:00"},{"$f":"VIIEM!$A$2","v":"VIIEM"},null,{"$f":"VIIEM!E50","v":0},{"$f":"VIIEM!H50","v":0}]
[null,null,null,null,null,null,null,null,null,null,null,null,null,null,null,null,null,null,null,null,null,null,48,{"$f":"VIIEM!B51","v":0},{"$f":"VIIEM!C51","v":0},{"$f":"VIIEM!D51","v":0},{"$f":"VIIEM!$F$4","v":"00:00:00"},{"$f":"VIIEM!$A$2","v":"VIIEM"},null,{"$f":"VIIEM!E51","v":0},{"$f":"VIIEM!H51","v":0}]
[null,null,null,null,null,null,null,null,null,null,null,null,null,null,null,null,null,null,null,null,null,null,49,{"$f":"VIIEM!B52","v":0},{"$f":"VIIEM!C52","v":0},{"$f":"VIIEM!D52","v":0},{"$f":"VIIEM!$F$4","v":"00:00:00"},{"$f":"VIIEM!$A$2","v":"VIIEM"},null,{"$f":"VIIEM!E52","v":0},{"$f":"VIIEM!H52","v":0}]
[null,null,null,null,null,null,null,null,null,null,null,null,null,null,null,null,null,null,null,null,null,null,50,{"$f":"VIIEM!B53","v":0},{"$f":"VIIEM!C53","v":0},{"$f":"VIIEM!D53","v":0},{"$f":"VIIEM!$F$4","v":"00:00:00"},{"$f":"VIIEM!$A$2","v":"VIIEM"},null,{"$f":"VIIEM!E53","v":0},{"$f":"VIIEM!H53","v":0}]
[null,null,null,null,null,null,null,null,null,null,null,null,null,null,null,null,null,null,null,null,null,null,51,{"$f":"VIIEM!B54","v":0},{"$f":"VIIEM!C54","v":0},{"$f":"VIIEM!D54","v":0},{"$f":"VIIEM!$F$4","v":"00:00:00"},{"$f":"VIIEM!$A$2","v":"VIIEM"},null,{"$f":"VIIEM!E54","v":0},{"$f":"VIIEM!H54","v":0}]
[null,null,null,null,null,null,null,null,null,null,null,null,null,null,null,null,null,null,null,null,null,null,52,{"$f":"VIIEM!B55","v":0},{"$f":"VIIEM!C55","v":0},{"$f":"VIIEM!D55","v":0},{"$f":"VIIEM!$F$4","v":"00:00:00"},{"$f":"VIIEM!$A$2","v":"VIIEM"},null,{"$f":"VIIEM!E55","v":0},{"$f":"VIIEM!H55","v":0}]
[null,null,null,null,null,null,null,null,null,null,null,null,null,null,null,null,null,null,null,null,null,null,53,{"$f":"VIIEM!B56","v":0},{"$f":"VIIEM!C56","v":0},{"$f":"VIIEM!D56","v":0},{"$f":"VIIEM!$F$4","v":"00:00:00"},{"$f":"VIIEM!$A$2","v":"VIIEM"},null,{"$f":"VIIEM!E56","v":0},{"$f":"VIIEM!H56","v":0}]
[null,null,null,null,null,null,null,null,null,null,null,null,null,null,null,null,null,null,null,null,null,null,54,{"$f":"VIIEM!B57","v":0},{"$f":"VIIEM!C57","v":0},{"$f":"VIIEM!D57","v":0},{"$f":"VIIEM!$F$4","v":"00:00:00"},{"$f":"VIIEM!$A$2","v":"VIIEM"},null,{"$f":"VIIEM!E57","v":0},{"$f":"VIIEM!H57","v":0}]
[null,null,null,null,null,null,null,null,null,null,null,null,null,null,null,null,null,null,null,null,null,null,55,{"$f":"VIIEM!B58","v":0},{"$f":"VIIEM!C58","v":0},{"$f":"VIIEM!D58","v":0},{"$f":"VIIEM!$F$4","v":"00:00:00"},{"$f":"VIIEM!$A$2","v":"VIIEM"},null,{"$f":"VIIEM!E58","v":0},{"$f":"VIIEM!H58","v":0}]
[null,null,null,null,null,null,null,null,null,null,null,null,null,null,null,null,null,null,null,null,null,null,56,{"$f":"VIIEM!B59","v":0},{"$f":"VIIEM!C59","v":0},{"$f":"VIIEM!D59","v":0},{"$f":"VIIEM!$F$4","v":"00:00:00"},{"$f":"VIIEM!$A$2","v":"VIIEM"},null,{"$f":"VIIEM!E59","v":0},{"$f":"VIIEM!H59","v":0}]
[null,null,null,null,null,null,null,null,null,null,null,null,null,null,null,null,null,null,null,null,null,null,57,{"$f":"VIIEM!B60","v":0},{"$f":"VIIEM!C60","v":0},{"$f":"VIIEM!D60","v":0},{"$f":"VIIEM!$F$4","v":"00:00:00"},{"$f":"VIIEM!$A$2","v":"VIIEM"},null,{"$f":"VIIEM!E60","v":0},{"$f":"VIIEM!H60","v":0}]
[null,null,null,null,null,null,null,null,null,null,null,null,null,null,null,null,null,null,null,null,null,null,58,{"$f":"VIIEM!B61","v":0},{"$f":"VIIEM!C61","v":0},{"$f":"VIIEM!D61","v":0},{"$f":"VIIEM!$F$4","v":"00:00:00"},{"$f":"VIIEM!$A$2","v":"VIIEM"},null,{"$f":"VIIEM!E61","v":0},{"$f":"VIIEM!H61","v":0}]
[null,null,null,null,null,null,null,null,null,null,null,null,null,null,null,null,null,null,null,null,null,null,59,{"$f":"VIIEM!B62","v":0},{"$f":"VIIEM!C62","v":0},{"$f":"VIIEM!D62","v":0},{"$f":"VIIEM!$F$4","v":"00:00:00"},{"$f":"VIIEM!$A$2","v":"VIIEM"},null,{"$f":"VIIEM!E62","v":0},{"$f":"VIIEM!H62","v":0}]
[null,null,null,null,null,null,null,null,null,null,null,null,null,null,null,null,null,null,null,null,null,null,60,{"$f":"VIIEM!B63","v":0},{"$f":"VIIEM!C63","v":0},{"$f":"VIIEM!D63","v":0},{"$f":"VIIEM!$F$4","v":"00:00:00"},{"$f":"VIIEM!$A$2","v":"VIIEM"},null,{"$f":"VIIEM!E63","v":0},{"$f":"VIIEM!H63","v":0}]
[null,null,null,null,null,null,null,null,null,null,null,null,null,null,null,null,null,null,null,null,null,null,61,{"$f":"VIIEM!B64","v":0},{"$f":"VIIEM!C64","v":0},{"$f":"VIIEM!D64","v":0},{"$f":"VIIEM!$F$4","v":"00:00:00"},{"$f":"VIIEM!$A$2","v":"VIIEM"},null,{"$f":"VIIEM!E64","v":0},{"$f":"VIIEM!H64","v":0}]
[null,null,null,null,null,null,null,null,null,null,null,null,null,null,null,null,null,null,null,null,null,null,62,{"$f":"VIIEM!B65","v":0},{"$f":"VIIEM!C65","v":0},{"$f":"VIIEM!D65","v":0},{"$f":"VIIEM!$F$4","v":"00:00:00"},{"$f":"VIIEM!$A$2","v":"VIIEM"},null,{"$f":"VIIEM!E65","v":0},{"$f":"VIIEM!H65","v":0}]
[null,null,null,null,null,null,null,null,null,null,null,null,null,null,null,null,null,null,null,null,null,null,63,{"$f":"VIIEM!B66","v":0},{"$f":"VIIEM!C66","v":0},{"$f":"VIIEM!D66","v":0},{"$f":"VIIEM!$F$4","v":"00:00:00"},{"$f":"VIIEM!$A$2","v":"VIIEM"},null,{"$f":"VIIEM!E66","v":0},{"$f":"VIIEM!H66","v":0}]
[null,null,null,null,null,null,null,null,null,null,null,null,null,null,null,null,null,null,null,null,null,null,64,{"$f":"VIIEM!B67","v":0},{"$f":"VIIEM!C67","v":0},{"$f":"VIIEM!D67","v":0},{"$f":"VIIEM!$F$4","v":"00:00:00"},{"$f":"VIIEM!$A$2","v":"VIIEM"},null,{"$f":"VIIEM!E67","v":0},{"$f":"VIIEM!H67","v":0}]
[null,null,null,null,null,null,null,null,null,null,null,null,null,null,null,null,null,null,null,null,null,null,65,{"$f":"VIIEM!B68","v":0},{"$f":"VIIEM!C68","v":0},{"$f":"VIIEM!D68","v":0},{"$f":"VIIEM!$F$4","v":"00:00:00"},{"$f":"VIIEM!$A$2","v":"VIIEM"},null,{"$f":"VIIEM!E68","v":0},{"$f":"VIIEM!H68","v":0}]
[null,null,null,null,null,null,null,null,null,null,null,null,null,null,null,null,null,null,null,null,null,null,66,{"$f":"VIIEM!B69","v":0},{"$f":"VIIEM!C69","v":0},{"$f":"VIIEM!D69","v":0},{"$f":"VIIEM!$F$4","v":"00:00:00"},{"$f":"VIIEM!$A$2","v":"VIIEM"},null,{"$f":"VIIEM!E69","v":0},{"$f":"VIIEM!H69","v":0}]
[null,null,null,null,null,null,null,null,null,null,null,null,null,null,null,null,null,null,null,null,null,null,67,{"$f":"VIIEM!B70","v":0},{"$f":"VIIEM!C70","v":0},{"$f":"VIIEM!D70","v":0},{"$f":"VIIEM!$F$4","v":"00:00:00"},{"$f":"VIIEM!$A$2","v":"VIIEM"},null,{"$f":"VIIEM!E70","v":0},{"$f":"VIIEM!H70","v":0}]
[null,null,null,null,null,null,null,null,null,null,null,null,null,null,null,null,null,null,null,null,null,null,68,{"$f":"VIIEM!B71","v":0},{"$f":"VIIEM!C71","v":0},{"$f":"VIIEM!D71","v":0},{"$f":"VIIEM!$F$4","v":"00:00:00"},{"$f":"VIIEM!$A$2","v":"VIIEM"},null,{"$f":"VIIEM!E71","v":0},{"$f":"VIIEM!H71","v":0}]
[null,null,null,null,null,null,null,null,null,null,null,null,null,null,null,null,null,null,null,null,null,null,69,{"$f":"VIIEM!B72","v":0},{"$f":"VIIEM!C72","v":0},{"$f":"VIIEM!D72","v":0},{"$f":"VIIEM!$F$4","v":"00:00:00"},{"$f":"VIIEM!$A$2","v":"VIIEM"},null,{"$f":"VIIEM!E72","v":0},{"$f":"VIIEM!H72","v":0}]
[null,null,null,null,null,null,null,null,null,null,null,null,null,null,null,null,null,null,null,null,null,null,70,{"$f":"VIIEM!B73","v":0},{"$f":"VIIEM!C73","v":0},{"$f":"VIIEM!D73","v":0},{"$f":"VIIEM!$F$4","v":"00:00:00"},{"$f":"VIIEM!$A$2","v":"VIIEM"},null,{"$f":"VIIEM!E73","v":0},{"$f":"VIIEM!H73","v":0}]
[null,null,null,null,null,null,null,null,null,null,null,null,null,null,null,null,null,null,null,null,null,null,71,{"$f":"VIIEM!B74","v":0},{"$f":"VIIEM!C74","v":0},{"$f":"VIIEM!D74","v":0},{"$f":"VIIEM!$F$4","v":"00:00:00"},{"$f":"VIIEM!$A$2","v":"VIIEM"},null,{"$f":"VIIEM!E74","v":0},{"$f":"VIIEM!H74","v":0}]
[null,null,null,null,null,null,null,null,null,null,null,null,null,null,null,null,null,null,null,null,null,null,72,{"$f":"VIIEM!B75","v":0},{"$f":"VIIEM!C75","v":0},{"$f":"VIIEM!D75","v":0},{"$f":"VIIEM!$F$4","v":"00:00:00"},{"$f":"VIIEM!$A$2","v":"VIIEM"},null,{"$f":"VIIEM!E75","v":0},{"$f":"VIIEM!H75","v":0}]
[null,null,null,null,null,null,null,null,null,null,null,null,null,null,null,null,null,null,null,null,null,null,73,{"$f":"VIIEM!B76","v":0},{"$f":"VIIEM!C76","v":0},{"$f":"VIIEM!D76","v":0},{"$f":"VIIEM!$F$4","v":"00:00:00"},{"$f":"VIIEM!$A$2","v":"VIIEM"},null,{"$f":"VIIEM!E76","v":0},{"$f":"VIIEM!H76","v":0}]
[null,null,null,null,null,null,null,null,null,null,null,null,null,null,null,null,null,null,null,null,null,null,74,{"$f":"VIIEM!B77","v":0},{"$f":"VIIEM!C77","v":0},{"$f":"VIIEM!D77","v":0},{"$f":"VIIEM!$F$4","v":"00:00:00"},{"$f":"VIIEM!$A$2","v":"VIIEM"},null,{"$f":"VIIEM!E77","v":0},{"$f":"VIIEM!H77","v":0}]
[null,null,null,null,null,null,null,null,null,null,null,null,null,null,null,null,null,null,null,null,null,null,75,{"$f":"VIIEM!B78","v":0},{"$f":"VIIEM!C78","v":0},{"$f":"VIIEM!D78","v":0},{"$f":"VIIEM!$F$4","v":"00:00:00"},{"$f":"VIIEM!$A$2","v":"VIIEM"},null,{"$f":"VIIEM!E78","v":0},{"$f":"VIIEM!H78","v":0}]
[null,null,null,null,null,null,null,null,null,null,null,null,null,null,null,null,null,null,null,null,null,null,76,{"$f":"VIIEM!B79","v":0},{"$f":"VIIEM!C79","v":0},{"$f":"VIIEM!D79","v":0},{"$f":"VIIEM!$F$4","v":"00:00:00"},{"$f":"VIIEM!$A$2","v":"VIIEM"},null,{"$f":"VIIEM!E79","v":0},{"$f":"VIIEM!H79","v":0}]
[null,null,null,null,null,null,null,null,null,null,null,null,null,null,null,null,null,null,null,null,null,null,77,{"$f":"VIIEM!B80","v":0},{"$f":"VIIEM!C80","v":0},{"$f":"VIIEM!D80","v":0},{"$f":"VIIEM!$F$4","v":"00:00:00"},{"$f":"VIIEM!$A$2","v":"VIIEM"},null,{"$f":"VIIEM!E80","v":0},{"$f":"VIIEM!H80","v":0}]
[null,null,null,null,null,null,null,null,null,null,null,null,null,null,null,null,null,null,null,null,null,null,78,{"$f":"VIIEM!B81","v":0},{"$f":"VIIEM!C81","v":0},{"$f":"VIIEM!D81","v":0},{"$f":"VIIEM!$F$4","v":"00:00:00"},{"$f":"VIIEM!$A$2","v":"VIIEM"},null,{"$f":"VIIEM!E81","v":0},{"$f":"VIIEM!H81","v":0}]
[null,null,null,null,null,null,null,null,null,null,null,null,null,null,null,null,null,null,null,null,null,null,79,{"$f":"VIIEM!B82","v":0},{"$f":"VIIEM!C82","v":0},{"$f":"VIIEM!D82","v":0},{"$f":"VIIEM!$F$4","v":"00:00:00"},{"$f":"VIIEM!$A$2","v":"VIIEM"},null,{"$f":"VIIEM!E82","v":0},{"$f":"VIIEM!H82","v":0}]
[null,null,null,null,null,null,null,null,null,null,null,null,null,null,null,null,null,null,null,null,null,null,80,{"$f":"VIIEM!B83","v":0},{"$f":"VIIEM!C83","v":0},{"$f":"VIIEM!D83","v":0},{"$f":"VIIEM!$F$4","v":"00:00:00"},{"$f":"VIIEM!$A$2","v":"VIIEM"},null,{"$f":"VIIEM!E83","v":0},{"$f":"VIIEM!H83","v":0}]
[null,null,null,null,null,null,null,null,null,null,null,null,null,null,null,null,null,null,null,null,null,null,81,{"$f":"VIIEM!B84","v":0},{"$f":"VIIEM!C84","v":0},{"$f":"VIIEM!D84","v":0},{"$f":"VIIEM!$F$4","v":"00:00:00"},{"$f":"VIIEM!$A$2","v":"VIIEM"},null,{"$f":"VIIEM!E84","v":0},{"$f":"VIIEM!H84","v":0}]
[null,null,null,null,null,null,null,null,null,null,null,null,null,null,null,null,null,null,null,null,null,null,82,{"$f":"VIIEM!B85","v":0},{"$f":"VIIEM!C85","v":0},{"$f":"VIIEM!D85","v":0},{"$f":"VIIEM!$F$4","v":"00:00:00"},{"$f":"VIIEM!$A$2","v":"VIIEM"},null,{"$f":"VIIEM!E85","v":0},{"$f":"VIIEM!H85","v":0}]
[null,null,null,null,null,null,null,null,null,null,null,null,null,null,null,null,null,null,null,null,null,null,83,{"$f":"VIIEM!B86","v":0},{"$f":"VIIEM!C86","v":0},{"$f":"VIIEM!D86","v":0},{"$f":"VIIEM!$F$4","v":"00:00:00"},{"$f":"VIIEM!$A$2","v":"VIIEM"},null,{"$f":"VIIEM!E86","v":0},{"$f":"VIIEM!H86","v":0}]
[null,null,null,null,null,null,null,null,null,null,null,null,null,null,null,null,null,null,null,null,null,null,84,{"$f":"VIIEM!B87","v":0},{"$f":"VIIEM!C87","v":0},{"$f":"VIIEM!D87","v":0},{"$f":"VIIEM!$F$4","v":"00:00:00"},{"$f":"VIIEM!$A$2","v":"VIIEM"},null,{"$f":"VIIEM!E87","v":0},{"$f":"VIIEM!H87","v":0}]
[null,null,null,null,null,null,null,null,null,null,null,null,null,null,null,null,null,null,null,null,null,null,85,{"$f":"VIIEM!B88","v":0},{"$f":"VIIEM!C88","v":0},{"$f":"VIIEM!D88","v":0},{"$f":"VIIEM!$F$4","v":"00:00:00"},{"$f":"VIIEM!$A$2","v":"VIIEM"},null,{"$f":"VIIEM!E88","v":0},{"$f":"VIIEM!H88","v":0}]
[null,null,null,null,null,null,null,null,null,null,null,null,null,null,null,null,null,null,null,null,null,null,86,{"$f":"VIIEM!B89","v":0},{"$f":"VIIEM!C89","v":0},{"$f":"VIIEM!D89","v":0},{"$f":"VIIEM!$F$4","v":"00:00:00"},{"$f":"VIIEM!$A$2","v":"VIIEM"},null,{"$f":"VIIEM!E89","v":0},{"$f":"VIIEM!H89","v":0}]
[null,null,null,null,null,null,null,null,null,null,null,null,null,null,null,null,null,null,null,null,null,null,87,{"$f":"VIIEM!B90","v":0},{"$f":"VIIEM!C90","v":0},{"$f":"VIIEM!D90","v":0},{"$f":"VIIEM!$F$4","v":"00:00:00"},{"$f":"VIIEM!$A$2","v":"VIIEM"},null,{"$f":"VIIEM!E90","v":0},{"$f":"VIIEM!H90","v":0}]
[null,null,null,null,null,null,null,null,null,null,null,null,null,null,null,null,null,null,null,null,null,null,88,{"$f":"VIIEM!B91","v":0},{"$f":"VIIEM!C91","v":0},{"$f":"VIIEM!D91","v":0},{"$f":"VIIEM!$F$4","v":"00:00:00"},{"$f":"VIIEM!$A$2","v":"VIIEM"},null,{"$f":"VIIEM!E91","v":0},{"$f":"VIIEM!H91","v":0}]
[null,null,null,null,null,null,null,null,null,null,null,null,null,null,null,null,null,null,null,null,null,null,89,{"$f":"VIIEM!B92","v":0},{"$f":"VIIEM!C92","v":0},{"$f":"VIIEM!D92","v":0},{"$f":"VIIEM!$F$4","v":"00:00:00"},{"$f":"VIIEM!$A$2","v":"VIIEM"},null,{"$f":"VIIEM!E92","v":0},{"$f":"VIIEM!H92","v":0}]
[null,null,null,null,null,null,null,null,null,null,null,null,null,null,null,null,null,null,null,null,null,null,90,{"$f":"VIIEM!B93","v":0},{"$f":"VIIEM!C93","v":0},{"$f":"VIIEM!D93","v":0},{"$f":"VIIEM!$F$4","v":"00:00:00"},{"$f":"VIIEM!$A$2","v":"VIIEM"},null,{"$f":"VIIEM!E93","v":0},{"$f":"VIIEM!H93","v":0}]
[null,null,null,null,null,null,null,null,null,null,null,null,null,null,null,null,null,null,null,null,null,null,91,{"$f":"VIIEM!B94","v":0},{"$f":"VIIEM!C94","v":0},{"$f":"VIIEM!D94","v":0},{"$f":"VIIEM!$F$4","v":"00:00:00"},{"$f":"VIIEM!$A$2","v":"VIIEM"},null,{"$f":"VIIEM!E94","v":0},{"$f":"VIIEM!H94","v":0}]
[null,null,null,null,null,null,null,null,null,null,null,null,null,null,null,null,null,null,null,null,null,null,92,{"$f":"VIIEM!B95","v":0},{"$f":"VIIEM!C95","v":0},{"$f":"VIIEM!D95","v":0},{"$f":"VIIEM!$F$4","v":"00:00:00"},{"$f":"VIIEM!$A$2","v":"VIIEM"},null,{"$f":"VIIEM!E95","v":0},{"$f":"VIIEM!H95","v":0}]
[null,null,null,null,null,null,null,null,null,null,null,null,null,null,null,null,null,null,null,null,null,null,93,{"$f":"VIIEM!B96","v":0},{"$f":"VIIEM!C96","v":0},{"$f":"VIIEM!D96","v":0},{"$f":"VIIEM!$F$4","v":"00:00:00"},{"$f":"VIIEM!$A$2","v":"VIIEM"},null,{"$f":"VIIEM!E96","v":0},{"$f":"VIIEM!H96","v":0}]
[null,null,null,null,null,null,null,null,null,null,null,null,null,null,null,null,null,null,null,null,null,null,94,{"$f":"VIIEM!B97","v":0},{"$f":"VIIEM!C97","v":0},{"$f":"VIIEM!D97","v":0},{"$f":"VIIEM!$F$4","v":"00:00:00"},{"$f":"VIIEM!$A$2","v":"VIIEM"},null,{"$f":"VIIEM!E97","v":0},{"$f":"VIIEM!H97","v":0}]
[null,null,null,null,null,null,null,null,null,null,null,null,null,null,null,null,null,null,null,null,null,null,95,{"$f":"VIIEM!B98","v":0},{"$f":"VIIEM!C98","v":0},{"$f":"VIIEM!D98","v":0},{"$f":"VIIEM!$F$4","v":"00:00:00"},{"$f":"VIIEM!$A$2","v":"VIIEM"},null,{"$f":"VIIEM!E98","v":0},{"$f":"VIIEM!H98","v":0}]
[null,null,null,null,null,null,null,null,null,null,null,null,null,null,null,null,null,null,null,null,null,null,96,{"$f":"VIIEM!B99","v":0},{"$f":"VIIEM!C99","v":0},{"$f":"VIIEM!D99","v":0},{"$f":"VIIEM!$F$4","v":"00:00:00"},{"$f":"VIIEM!$A$2","v":"VIIEM"},null,{"$f":"VIIEM!E99","v":0},{"$f":"VIIEM!H99","v":0}]
[null,null,null,null,null,null,null,null,null,null,null,null,null,null,null,null,null,null,null,null,null,null,97,{"$f":"VIIEM!B100","v":0},{"$f":"VIIEM!C100","v":0},{"$f":"VIIEM!D100","v":0},{"$f":"VIIEM!$F$4","v":"00:00:00"},{"$f":"VIIEM!$A$2","v":"VIIEM"},null,{"$f":"VIIEM!E100","v":0},{"$f":"VIIEM!H100","v":0}]
[null,null,null,null,null,null,null,null,null,null,null,null,null,null,null,null,null,null,null,null,null,null,98,{"$f":"VIIEM!B101","v":0},{"$f":"VIIEM!C101","v":0},{"$f":"VIIEM!D101","v":0},{"$f":"VIIEM!$F$4","v":"00:00:00"},{"$f":"VIIEM!$A$2","v":"VIIEM"},null,{"$f":"VIIEM!E101","v":0},{"$f":"VIIEM!H101","v":0}]
[null,null,null,null,null,null,null,null,null,null,null,null,null,null,null,null,null,null,null,null,null,null,99,{"$f":"VIIEM!B102","v":0},{"$f":"VIIEM!C102","v":0},{"$f":"VIIEM!D102","v":0},{"$f":"VIIEM!$F$4","v":"00:00:00"},{"$f":"VIIEM!$A$2","v":"VIIEM"},null,{"$f":"VIIEM!E102","v":0},{"$f":"VIIEM!H102","v":0}]
[null,null,null,null,null,null,null,null,null,null,null,null,null,null,null,null,null,null,null,null,null,null,100,{"$f":"VIIEM!B103","v":0},{"$f":"VIIEM!C103","v":0},{"$f":"VIIEM!D103","v":0},{"$f":"VIIEM!$F$4","v":"00:00:00"},{"$f":"VIIEM!$A$2","v":"VIIEM"},null,{"$f":"VIIEM!E103","v":0},{"$f":"VIIEM!H103","v":0}]
[null,null,null,null,null,null,null,null,null,null,null,null,null,null,null,null,null,null,null,null,null,null,101,{"$f":"VIIEM!B104","v":0},{"$f":"VIIEM!C104","v":0},{"$f":"VIIEM!D104","v":0},{"$f":"VIIEM!$F$4","v":"00:00:00"},{"$f":"VIIEM!$A$2","v":"VIIEM"},null,{"$f":"VIIEM!E104","v":0},{"$f":"VIIEM!H104","v":0}]
[null,null,null,null,null,null,null,null,null,null,null,null,null,null,null,null,null,null,null,null,null,null,102,{"$f":"VIIEM!B105","v":0},{"$f":"VIIEM!C105","v":0},{"$f":"VIIEM!D105","v":0},{"$f":"VIIEM!$F$4","v":"00:00:00"},{"$f":"VIIEM!$A$2","v":"VIIEM"},null,{"$f":"VIIEM!E105","v":0},{"$f":"VIIEM!H105","v":0}]
[null,null,null,null,null,null,null,null,null,null,null,null,null,null,null,null,null,null,null,null,null,null,103,{"$f":"VIIEM!B106","v":0},{"$f":"VIIEM!C106","v":0},{"$f":"VIIEM!D106","v":0},{"$f":"VIIEM!$F$4","v":"00:00:00"},{"$f":"VIIEM!$A$2","v":"VIIEM"},null,{"$f":"VIIEM!E106","v":0},{"$f":"VIIEM!H106","v":0}]
[null,null,null,null,null,null,null,null,null,null,null,null,null,null,null,null,null,null,null,null,null,null,104,{"$f":"VIIEM!B107","v":0},{"$f":"VIIEM!C107","v":0},{"$f":"VIIEM!D107","v":0},{"$f":"VIIEM!$F$4","v":"00:00:00"},{"$f":"VIIEM!$A$2","v":"VIIEM"},null,{"$f":"VIIEM!E107","v":0},{"$f":"VIIEM!H107","v":0}]
[null,null,null,null,null,null,null,null,null,null,null,null,null,null,null,null,null,null,null,null,null,null,105,{"$f":"VIIEM!B108","v":0},{"$f":"VIIEM!C108","v":0},{"$f":"VIIEM!D108","v":0},{"$f":"VIIEM!$F$4","v":"00:00:00"},{"$f":"VIIEM!$A$2","v":"VIIEM"},null,{"$f":"VIIEM!E108","v":0},{"$f":"VIIEM!H108","v":0}]
[null,null,null,null,null,null,null,null,null,null,null,null,null,null,null,null,null,null,null,null,null,null,106,{"$f":"VIIEM!B109","v":0},{"$f":"VIIEM!C109","v":0},{"$f":"VIIEM!D109","v":0},{"$f":"VIIEM!$F$4","v":"00:00:00"},{"$f":"VIIEM!$A$2","v":"VIIEM"},null,{"$f":"VIIEM!E109","v":0},{"$f":"VIIEM!H109","v":0}]
[null,null,null,null,null,null,null,null,null,null,null,null,null,null,null,null,null,null,null,null,null,null,107,{"$f":"VIIEM!B110","v":0},{"$f":"VIIEM!C110","v":0},{"$f":"VIIEM!D110","v":0},{"$f":"VIIEM!$F$4","v":"00:00:00"},{"$f":"VIIEM!$A$2","v":"VIIEM"},null,{"$f":"VIIEM!E110","v":0},{"$f":"VIIEM!H110","v":0}]
[null,null,null,null,null,null,null,null,null,null,null,null,null,null,null,null,null,null,null,null,null,null,108,{"$f":"VIIEM!B111","v":0},{"$f":"VIIEM!C111","v":0},{"$f":"VIIEM!D111","v":0},{"$f":"VIIEM!$F$4","v":"00:00:00"},{"$f":"VIIEM!$A$2","v":"VIIEM"},null,{"$f":"VIIEM!E111","v":0},{"$f":"VIIEM!H111","v":0}]
[null,null,null,null,null,null,null,null,null,null,null,null,null,null,null,null,null,null,null,null,null,null,109,{"$f":"VIIEM!B112","v":0},{"$f":"VIIEM!C112","v":0},{"$f":"VIIEM!D112","v":0},{"$f":"VIIEM!$F$4","v":"00:00:00"},{"$f":"VIIEM!$A$2","v":"VIIEM"},null,{"$f":"VIIEM!E112","v":0},{"$f":"VIIEM!H112","v":0}]
[null,null,null,null,null,null,null,null,null,null,null,null,null,null,null,null,null,null,null,null,null,null,110,{"$f":"VIIEM!B113","v":0},{"$f":"VIIEM!C113","v":0},{"$f":"VIIEM!D113","v":0},{"$f":"VIIEM!$F$4","v":"00:00:00"},{"$f":"VIIEM!$A$2","v":"VIIEM"},null,{"$f":"VIIEM!E113","v":0},{"$f":"VIIEM!H113","v":0}]
[null,null,null,null,null,null,null,null,null,null,null,null,null,null,null,null,null,null,null,null,null,null,111,{"$f":"VIIEM!B114","v":0},{"$f":"VIIEM!C114","v":0},{"$f":"VIIEM!D114","v":0},{"$f":"VIIEM!$F$4","v":"00:00:00"},{"$f":"VIIEM!$A$2","v":"VIIEM"},null,{"$f":"VIIEM!E114","v":0},{"$f":"VIIEM!H114","v":0}]
[null,null,null,null,null,null,null,null,null,null,null,null,null,null,null,null,null,null,null,null,null,null,112,{"$f":"VIIEM!B115","v":0},{"$f":"VIIEM!C115","v":0},{"$f":"VIIEM!D115","v":0},{"$f":"VIIEM!$F$4","v":"00:00:00"},{"$f":"VIIEM!$A$2","v":"VIIEM"},null,{"$f":"VIIEM!E115","v":0},{"$f":"VIIEM!H115","v":0}]
[null,null,null,null,null,null,null,null,null,null,null,null,null,null,null,null,null,null,null,null,null,null,113,{"$f":"VIIEM!B116","v":0},{"$f":"VIIEM!C116","v":0},{"$f":"VIIEM!D116","v":0},{"$f":"VIIEM!$F$4","v":"00:00:00"},{"$f":"VIIEM!$A$2","v":"VIIEM"},null,{"$f":"VIIEM!E116","v":0},{"$f":"VIIEM!H116","v":0}]
[null,null,null,null,null,null,null,null,null,null,null,null,null,null,null,null,null,null,null,null,null,null,114,{"$f":"VIIEM!B117","v":0},{"$f":"VIIEM!C117","v":0},{"$f":"VIIEM!D117","v":0},{"$f":"VIIEM!$F$4","v":"00:00:00"},{"$f":"VIIEM!$A$2","v":"VIIEM"},null,{"$f":"VIIEM!E117","v":0},{"$f":"VIIEM!H117","v":0}]
[null,null,null,null,null,null,null,null,null,null,null,null,null,null,null,null,null,null,null,null,null,null,115,{"$f":"VIIEM!B118","v":0},{"$f":"VIIEM!C118","v":0},{"$f":"VIIEM!D118","v":0},{"$f":"VIIEM!$F$4","v":"00:00:00"},{"$f":"VIIEM!$A$2","v":"VIIEM"},null,{"$f":"VIIEM!E118","v":0},{"$f":"VIIEM!H118","v":0}]
[null,null,null,null,null,null,null,null,null,null,null,null,null,null,null,null,null,null,null,null,null,null,116,{"$f":"VIIEM!B119","v":0},{"$f":"VIIEM!C119","v":0},{"$f":"VIIEM!D119","v":0},{"$f":"VIIEM!$F$4","v":"00:00:00"},{"$f":"VIIEM!$A$2","v":"VIIEM"},null,{"$f":"VIIEM!E119","v":0},{"$f":"VIIEM!H119","v":0}]
[null,null,null,null,null,null,null,null,null,null,null,null,null,null,null,null,null,null,null,null,null,null,117,{"$f":"VIIEM!B120","v":0},{"$f":"VIIEM!C120","v":0},{"$f":"VIIEM!D120","v":0},{"$f":"VIIEM!$F$4","v":"00:00:00"},{"$f":"VIIEM!$A$2","v":"VIIEM"},null,{"$f":"VIIEM!E120","v":0},{"$f":"VIIEM!H120","v":0}]
[null,null,null,null,null,null,null,null,null,null,null,null,null,null,null,null,null,null,null,null,null,null,118,{"$f":"VIIEM!B121","v":0},{"$f":"VIIEM!C121","v":0},{"$f":"VIIEM!D121","v":0},{"$f":"VIIEM!$F$4","v":"00:00:00"},{"$f":"VIIEM!$A$2","v":"VIIEM"},null,{"$f":"VIIEM!E121","v":0},{"$f":"VIIEM!H121","v":0}]
[null,null,null,null,null,null,null,null,null,null,null,null,null,null,null,null,null,null,null,null,null,null,119,{"$f":"VIIEM!B122","v":0},{"$f":"VIIEM!C122","v":0},{"$f":"VIIEM!D122","v":0},{"$f":"VIIEM!$F$4","v":"00:00:00"},{"$f":"VIIEM!$A$2","v":"VIIEM"},null,{"$f":"VIIEM!E122","v":0},{"$f":"VIIEM!H122","v":0}]
[null,null,null,null,null,null,null,null,null,null,null,null,null,null,null,null,null,null,null,null,null,null,120,{"$f":"VIIEM!B123","v":0},{"$f":"VIIEM!C123","v":0},{"$f":"VIIEM!D123","v":0},{"$f":"VIIEM!$F$4","v":"00:00:00"},{"$f":"VIIEM!$A$2","v":"VIIEM"},null,{"$f":"VIIEM!E123","v":0},{"$f":"VIIEM!H123","v":0}]
[null,null,null,null,null,null,null,null,null,null,null,null,null,null,null,null,null,null,null,null,null,null,121,{"$f":"VIIEM!B124","v":0},{"$f":"VIIEM!C124","v":0},{"$f":"VIIEM!D124","v":0},{"$f":"VIIEM!$F$4","v":"00:00:00"},{"$f":"VIIEM!$A$2","v":"VIIEM"},null,{"$f":"VIIEM!E124","v":0},{"$f":"VIIEM!H124","v":0}]
[null,null,null,null,null,null,null,null,null,null,null,null,null,null,null,null,null,null,null,null,null,null,122,{"$f":"VIIEM!B125","v":0},{"$f":"VIIEM!C125","v":0},{"$f":"VIIEM!D125","v":0},{"$f":"VIIEM!$F$4","v":"00:00:00"},{"$f":"VIIEM!$A$2","v":"VIIEM"},null,{"$f":"VIIEM!E125","v":0},{"$f":"VIIEM!H125","v":0}]
[null,null,null,null,null,null,null,null,null,null,null,null,null,null,null,null,null,null,null,null,null,null,123,{"$f":"VIIEM!B126","v":0},{"$f":"VIIEM!C126","v":0},{"$f":"VIIEM!D126","v":0},{"$f":"VIIEM!$F$4","v":"00:00:00"},{"$f":"VIIEM!$A$2","v":"VIIEM"},null,{"$f":"VIIEM!E126","v":0},{"$f":"VIIEM!H126","v":0}]
[null,null,null,null,null,null,null,null,null,null,null,null,null,null,null,null,null,null,null,null,null,null,124,{"$f":"VIIEM!B127","v":0},{"$f":"VIIEM!C127","v":0},{"$f":"VIIEM!D127","v":0},{"$f":"VIIEM!$F$4","v":"00:00:00"},{"$f":"VIIEM!$A$2","v":"VIIEM"},null,{"$f":"VIIEM!E127","v":0},{"$f":"VIIEM!H127","v":0}]
[null,null,null,null,null,null,null,null,null,null,null,null,null,null,null,null,null,null,null,null,null,null,125,{"$f":"VIIEM!B128","v":0},{"$f":"VIIEM!C128","v":0},{"$f":"VIIEM!D128","v":0},{"$f":"VIIEM!$F$4","v":"00:00:00"},{"$f":"VIIEM!$A$2","v":"VIIEM"},null,{"$f":"VIIEM!E128","v":0},{"$f":"VIIEM!H128","v":0}]
[null,null,null,null,null,null,null,null,null,null,null,null,null,null,null,null,null,null,null,null,null,null,126,{"$f":"VIIEM!B129","v":0},{"$f":"VIIEM!C129","v":0},{"$f":"VIIEM!D129","v":0},{"$f":"VIIEM!$F$4","v":"00:00:00"},{"$f":"VIIEM!$A$2","v":"VIIEM"},null,{"$f":"VIIEM!E129","v":0},{"$f":"VIIEM!H129","v":0}]
[null,null,null,null,null,null,null,null,null,null,null,null,null,null,null,null,null,null,null,null,null,null,127,{"$f":"VIIEM!B130","v":0},{"$f":"VIIEM!C130","v":0},{"$f":"VIIEM!D130","v":0},{"$f":"VIIEM!$F$4","v":"00:00:00"},{"$f":"VIIEM!$A$2","v":"VIIEM"},null,{"$f":"VIIEM!E130","v":0},{"$f":"VIIEM!H130","v":0}]
[null,null,null,null,null,null,null,null,null,null,null,null,null,null,null,null,null,null,null,null,null,null,128,{"$f":"VIIEM!B131","v":0},{"$f":"VIIEM!C131","v":0},{"$f":"VIIEM!D131","v":0},{"$f":"VIIEM!$F$4","v":"00:00:00"},{"$f":"VIIEM!$A$2","v":"VIIEM"},null,{"$f":"VIIEM!E131","v":0},{"$f":"VIIEM!H131","v":0}]
[null,null,null,null,null,null,null,null,null,null,null,null,null,null,null,null,null,null,null,null,null,null,129,{"$f":"VIIEM!B132","v":0},{"$f":"VIIEM!C132","v":0},{"$f":"VIIEM!D132","v":0},{"$f":"VIIEM!$F$4","v":"00:00:00"},{"$f":"VIIEM!$A$2","v":"VIIEM"},null,{"$f":"VIIEM!E132","v":0},{"$f":"VIIEM!H132","v":0}]
[null,null,null,null,null,null,null,null,null,null,null,null,null,null,null,null,null,null,null,null,null,null,130,{"$f":"VIIEM!B133","v":0},{"$f":"VIIEM!C133","v":0},{"$f":"VIIEM!D133","v":0},{"$f":"VIIEM!$F$4","v":"00:00:00"},{"$f":"VIIEM!$A$2","v":"VIIEM"},null,{"$f":"VIIEM!E133","v":0},{"$f":"VIIEM!H133","v":0}]
[null,null,null,null,null,null,null,null,null,null,null,null,null,null,null,null,null,null,null,null,null,null,131,{"$f":"VIIEM!B134","v":0},{"$f":"VIIEM!C134","v":0},{"$f":"VIIEM!D134","v":0},{"$f":"VIIEM!$F$4","v":"00:00:00"},{"$f":"VIIEM!$A$2","v":"VIIEM"},null,{"$f":"VIIEM!E134","v":0},{"$f":"VIIEM!H134","v":0}]
[null,null,null,null,null,null,null,null,null,null,null,null,null,null,null,null,null,null,null,null,null,null,132,{"$f":"VIIEM!B135","v":0},{"$f":"VIIEM!C135","v":0},{"$f":"VIIEM!D135","v":0},{"$f":"VIIEM!$F$4","v":"00:00:00"},{"$f":"VIIEM!$A$2","v":"VIIEM"},null,{"$f":"VIIEM!E135","v":0},{"$f":"VIIEM!H135","v":0}]
[null,null,null,null,null,null,null,null,null,null,null,null,null,null,null,null,null,null,null,null,null,null,133,{"$f":"VIIEM!B136","v":0},{"$f":"VIIEM!C136","v":0},{"$f":"VIIEM!D136","v":0},{"$f":"VIIEM!$F$4","v":"00:00:00"},{"$f":"VIIEM!$A$2","v":"VIIEM"},null,{"$f":"VIIEM!E136","v":0},{"$f":"VIIEM!H136","v":0}]
[null,null,null,null,null,null,null,null,null,null,null,null,null,null,null,null,null,null,null,null,null,null,134,{"$f":"VIIEM!B137","v":0},{"$f":"VIIEM!C137","v":0},{"$f":"VIIEM!D137","v":0},{"$f":"VIIEM!$F$4","v":"00:00:00"},{"$f":"VIIEM!$A$2","v":"VIIEM"},null,{"$f":"VIIEM!E137","v":0},{"$f":"VIIEM!H137","v":0}]
[null,null,null,null,null,null,null,null,null,null,null,null,null,null,null,null,null,null,null,null,null,null,135,{"$f":"VIIEM!B138","v":0},{"$f":"VIIEM!C138","v":0},{"$f":"VIIEM!D138","v":0},{"$f":"VIIEM!$F$4","v":"00:00:00"},{"$f":"VIIEM!$A$2","v":"VIIEM"},null,{"$f":"VIIEM!E138","v":0},{"$f":"VIIEM!H138","v":0}]
[null,null,null,null,null,null,null,null,null,null,null,null,null,null,null,null,null,null,null,null,null,null,136,{"$f":"VIIEM!B139","v":0},{"$f":"VIIEM!C139","v":0},{"$f":"VIIEM!D139","v":0},{"$f":"VIIEM!$F$4","v":"00:00:00"},{"$f":"VIIEM!$A$2","v":"VIIEM"},null,{"$f":"VIIEM!E139","v":0},{"$f":"VIIEM!H139","v":0}]
[null,null,null,null,null,null,null,null,null,null,null,null,null,null,null,null,null,null,null,null,null,null,137,{"$f":"VIIEM!B140","v":0},{"$f":"VIIEM!C140","v":0},{"$f":"VIIEM!D140","v":0},{"$f":"VIIEM!$F$4","v":"00:00:00"},{"$f":"VIIEM!$A$2","v":"VIIEM"},null,{"$f":"VIIEM!E140","v":0},{"$f":"VIIEM!H140","v":0}]
[null,null,null,null,null,null,null,null,null,null,null,null,null,null,null,null,null,null,null,null,null,null,138,{"$f":"VIIEM!B141","v":0},{"$f":"VIIEM!C141","v":0},{"$f":"VIIEM!D141","v":0},{"$f":"VIIEM!$F$4","v":"00:00:00"},{"$f":"VIIEM!$A$2","v":"VIIEM"},null,{"$f":"VIIEM!E141","v":0},{"$f":"VIIEM!H141","v":0}]
[null,null,null,null,null,null,null,null,null,null,null,null,null,null,null,null,null,null,null,null,null,null,139,{"$f":"VIIEM!B142","v":0},{"$f":"VIIEM!C142","v":0},{"$f":"VIIEM!D142","v":0},{"$f":"VIIEM!$F$4","v":"00:00:00"},{"$f":"VIIEM!$A$2","v":"VIIEM"},null,{"$f":"VIIEM!E142","v":0},{"$f":"VIIEM!H142","v":0}]
[null,null,null,null,null,null,null,null,null,null,null,null,null,null,null,null,null,null,null,null,null,null,140,{"$f":"VIIEM!B143","v":0},{"$f":"VIIEM!C143","v":0},{"$f":"VIIEM!D143","v":0},{"$f":"VIIEM!$F$4","v":"00:00:00"},{"$f":"VIIEM!$A$2","v":"VIIEM"},null,{"$f":"VIIEM!E143","v":0},{"$f":"VIIEM!H143","v":0}]
[null,null,null,null,null,null,null,null,null,null,null,null,null,null,null,null,null,null,null,null,null,null,141,{"$f":"VIIEM!B144","v":0},{"$f":"VIIEM!C144","v":0},{"$f":"VIIEM!D144","v":0},{"$f":"VIIEM!$F$4","v":"00:00:00"},{"$f":"VIIEM!$A$2","v":"VIIEM"},null,{"$f":"VIIEM!E144","v":0},{"$f":"VIIEM!H144","v":0}]
[null,null,null,null,null,null,null,null,null,null,null,null,null,null,null,null,null,null,null,null,null,null,142,{"$f":"VIIEM!B145","v":0},{"$f":"VIIEM!C145","v":0},{"$f":"VIIEM!D145","v":0},{"$f":"VIIEM!$F$4","v":"00:00:00"},{"$f":"VIIEM!$A$2","v":"VIIEM"},null,{"$f":"VIIEM!E145","v":0},{"$f":"VIIEM!H145","v":0}]
[null,null,null,null,null,null,null,null,null,null,null,null,null,null,null,null,null,null,null,null,null,null,143,{"$f":"VIIEM!B146","v":0},{"$f":"VIIEM!C146","v":0},{"$f":"VIIEM!D146","v":0},{"$f":"VIIEM!$F$4","v":"00:00:00"},{"$f":"VIIEM!$A$2","v":"VIIEM"},null,{"$f":"VIIEM!E146","v":0},{"$f":"VIIEM!H146","v":0}]
[null,null,null,null,null,null,null,null,null,null,null,null,null,null,null,null,null,null,null,null,null,null,144,{"$f":"VIIEM!B147","v":0},{"$f":"VIIEM!C147","v":0},{"$f":"VIIEM!D147","v":0},{"$f":"VIIEM!$F$4","v":"00:00:00"},{"$f":"VIIEM!$A$2","v":"VIIEM"},null,{"$f":"VIIEM!E147","v":0},{"$f":"VIIEM!H147","v":0}]
[null,null,null,null,null,null,null,null,null,null,null,null,null,null,null,null,null,null,null,null,null,null,145,{"$f":"VIIEM!B148","v":0},{"$f":"VIIEM!C148","v":0},{"$f":"VIIEM!D148","v":0},{"$f":"VIIEM!$F$4","v":"00:00:00"},{"$f":"VIIEM!$A$2","v":"VIIEM"},null,{"$f":"VIIEM!E148","v":0},{"$f":"VIIEM!H148","v":0}]
[null,null,null,null,null,null,null,null,null,null,null,null,null,null,null,null,null,null,null,null,null,null,146,{"$f":"VIIEM!B149","v":0},{"$f":"VIIEM!C149","v":0},{"$f":"VIIEM!D149","v":0},{"$f":"VIIEM!$F$4","v":"00:00:00"},{"$f":"VIIEM!$A$2","v":"VIIEM"},null,{"$f":"VIIEM!E149","v":0},{"$f":"VIIEM!H149","v":0}]
[null,null,null,null,null,null,null,null,null,null,null,null,null,null,null,null,null,null,null,null,null,null,147,{"$f":"VIIEM!B150","v":0},{"$f":"VIIEM!C150","v":0},{"$f":"VIIEM!D150","v":0},{"$f":"VIIEM!$F$4","v":"00:00:00"},{"$f":"VIIEM!$A$2","v":"VIIEM"},null,{"$f":"VIIEM!E150","v":0},{"$f":"VIIEM!H150","v":0}]
[null,null,null,null,null,null,null,null,null,null,null,null,null,null,null,null,null,null,null,null,null,null,148,{"$f":"VIIEM!B151","v":0},{"$f":"VIIEM!C151","v":0},{"$f":"VIIEM!D151","v":0},{"$f":"VIIEM!$F$4","v":"00:00:00"},{"$f":"VIIEM!$A$2","v":"VIIEM"},null,{"$f":"VIIEM!E151","v":0},{"$f":"VIIEM!H151","v":0}]
[null,null,null,null,null,null,null,null,null,null,null,null,null,null,null,null,null,null,null,null,null,null,149,{"$f":"VIIEM!B152","v":0},{"$f":"VIIEM!C152","v":0},{"$f":"VIIEM!D152","v":0},{"$f":"VIIEM!$F$4","v":"00:00:00"},{"$f":"VIIEM!$A$2","v":"VIIEM"},null,{"$f":"VIIEM!E152","v":0},{"$f":"VIIEM!H152","v":0}]
[null,null,null,null,null,null,null,null,null,null,null,null,null,null,null,null,null,null,null,null,null,null,150,{"$f":"VIIEM!B153","v":0},{"$f":"VIIEM!C153","v":0},{"$f":"VIIEM!D153","v":0},{"$f":"VIIEM!$F$4","v":"00:00:00"},{"$f":"VIIEM!$A$2","v":"VIIEM"},null,{"$f":"VIIEM!E153","v":0},{"$f":"VIIEM!H153","v":0}]
[]
[null,null,null,null,null,null,null,null,null,null,null,null,null,null,null,null,null,null,null,null,null,null,1,{"$f":"VIIIEM!B4","v":0},{"$f":"VIIIEM!C4","v":0},{"$f":"VIIIEM!D4","v":0},{"$f":"VIIIEM!F4","v":"00:00:00"},{"$f":"VIIIEM!$A$2","v":"VIIIEM"},null,{"$f":"VIIIEM!E4","v":0},{"$f":"VIIIEM!H4","v":0}]
[null,null,null,null,null,null,null,null,null,null,null,null,null,null,null,null,null,null,null,null,null,null,2,{"$f":"VIIIEM!B5","v":0},{"$f":"VIIIEM!C5","v":0},{"$f":"VIIIEM!D5","v":0},{"$f":"VIIIEM!F5","v":"00:00:00"},{"$f":"VIIIEM!$A$2","v":"VIIIEM"},null,{"$f":"VIIIEM!E5","v":0},{"$f":"VIIIEM!H5","v":0}]
[null,null,null,null,null,null,null,null,null,null,null,null,null,null,null,null,null,null,null,null,null,null,3,{"$f":"VIIIEM!B6","v":0},{"$f":"VIIIEM!C6","v":0},{"$f":"VIIIEM!D6","v":0},{"$f":"VIIIEM!F6","v":"00:00:00"},{"$f":"VIIIEM!$A$2","v":"VIIIEM"},null,{"$f":"VIIIEM!E6","v":0},{"$f":"VIIIEM!H6","v":0}]
[null,null,null,null,null,null,null,null,null,null,null,null,null,null,null,null,null,null,null,null,null,null,4,{"$f":"VIIIEM!B7","v":0},{"$f":"VIIIEM!C7","v":0},{"$f":"VIIIEM!D7","v":0},{"$f":"VIIIEM!F7","v":"00:00:00"},{"$f":"VIIIEM!$A$2","v":"VIIIEM"},null,{"$f":"VIIIEM!E7","v":0},{"$f":"VIIIEM!H7","v":0}]
[null,null,null,null,null,null,null,null,null,null,null,null,null,null,null,null,null,null,null,null,null,null,5,{"$f":"VIIIEM!B8","v":0},{"$f":"VIIIEM!C8","v":0},{"$f":"VIIIEM!D8","v":0},{"$f":"VIIIEM!F8","v":"00:00:00"},{"$f":"VIIIEM!$A$2","v":"VIIIEM"},null,{"$f":"VIIIEM!E8","v":0},{"$f":"VIIIEM!H8","v":0}]
[null,null,null,null,null,null,null,null,null,null,null,null,null,null,null,null,null,null,null,null,null,null,6,{"$f":"VIIIEM!B9","v":0},{"$f":"VIIIEM!C9","v":0},{"$f":"VIIIEM!D9","v":0},{"$f":"VIIIEM!F9","v":"00:00:00"},{"$f":"VIIIEM!$A$2","v":"VIIIEM"},null,{"$f":"VIIIEM!E9","v":0},{"$f":"VIIIEM!H9","v":0}]
[null,null,null,null,null,null,null,null,null,null,null,null,null,null,null,null,null,null,null,null,null,null,7,{"$f":"VIIIEM!B10","v":0},{"$f":"VIIIEM!C10","v":0},{"$f":"VIIIEM!D10","v":0},{"$f":"VIIIEM!F10","v":"00:00:00"},{"$f":"VIIIEM!$A$2","v":"VIIIEM"},null,{"$f":"VIIIEM!E10","v":0},{"$f":"VIIIEM!H10","v":0}]
[null,null,null,null,null,null,null,null,null,null,null,null,null,null,null,null,null,null,null,null,null,null,8,{"$f":"VIIIEM!B11","v":0},{"$f":"VIIIEM!C11","v":0},{"$f":"VIIIEM!D11","v":0},{"$f":"VIIIEM!F11","v":"00:00:00"},{"$f":"VIIIEM!$A$2","v":"VIIIEM"},null,{"$f":"VIIIEM!E11","v":0},{"$f":"VIIIEM!H11","v":0}]
[null,null,null,null,null,null,null,null,null,null,null,null,null,null,null,null,null,null,null,null,null,null,9,{"$f":"VIIIEM!B12","v":0},{"$f":"VIIIEM!C12","v":0},{"$f":"VIIIEM!D12","v":0},{"$f":"VIIIEM!F12","v":"00:00:00"},{"$f":"VIIIEM!$A$2","v":"VIIIEM"},null,{"$f":"VIIIEM!E12","v":0},{"$f":"VIIIEM!H12","v":0}]
[null,null,null,null,null,null,null,null,null,null,null,null,null,null,null,null,null,null,null,null,null,null,10,{"$f":"VIIIEM!B13","v":0},{"$f":"VIIIEM!C13","v":0},{"$f":"VIIIEM!D13","v":0},{"$f":"VIIIEM!F13","v":"00:00:00"},{"$f":"VIIIEM!$A$2","v":"VIIIEM"},null,{"$f":"VIIIEM!E13","v":0},{"$f":"VIIIEM!H13","v":0}]
[null,null,null,null,null,null,null,null,null,null,null,null,null,null,null,null,null,null,null,null,null,null,11,{"$f":"VIIIEM!B14","v":0},{"$f":"VIIIEM!C14","v":0},{"$f":"VIIIEM!D14","v":0},{"$f":"VIIIEM!F14","v":"00:00:00"},{"$f":"VIIIEM!$A$2","v":"VIIIEM"},null,{"$f":"VIIIEM!E14","v":0},{"$f":"VIIIEM!H14","v":0}]
[null,null,null,null,null,null,null,null,null,null,null,null,null,null,null,null,null,null,null,null,null,null,12,{"$f":"VIIIEM!B15","v":0},{"$f":"VIIIEM!C15","v":0},{"$f":"VIIIEM!D15","v":0},{"$f":"VIIIEM!F15","v":"00:00:00"},{"$f":"VIIIEM!$A$2","v":"VIIIEM"},null,{"$f":"VIIIEM!E15","v":0},{"$f":"VIIIEM!H15","v":0}]
[null,null,null,null,null,null,null,null,null,null,null,null,null,null,null,null,null,null,null,null,null,null,13,{"$f":"VIIIEM!B16","v":0},{"$f":"VIIIEM!C16","v":0},{"$f":"VIIIEM!D16","v":0},{"$f":"VIIIEM!F16","v":"00:00:00"},{"$f":"VIIIEM!$A$2","v":"VIIIEM"},null,{"$f":"VIIIEM!E16","v":0},{"$f":"VIIIEM!H16","v":0}]
[null,null,null,null,null,null,null,null,null,null,null,null,null,null,null,null,null,null,null,null,null,null,14,{"$f":"VIIIEM!B17","v":0},{"$f":"VIIIEM!C17","v":0},{"$f":"VIIIEM!D17","v":0},{"$f":"VIIIEM!F17","v":"00:00:00"},{"$f":"VIIIEM!$A$2","v":"VIIIEM"},null,{"$f":"VIIIEM!E17","v":0},{"$f":"VIIIEM!H17","v":0}]
[null,null,null,null,null,null,null,null,null,null,null,null,null,null,null,null,null,null,null,null,null,null,15,{"$f":"VIIIEM!B18","v":0},{"$f":"VIIIEM!C18","v":0},{"$f":"VIIIEM!D18","v":0},{"$f":"VIIIEM!F18","v":"00:00:00"},{"$f":"VIIIEM!$A$2","v":"VIIIEM"},null,{"$f":"VIIIEM!E18","v":0},{"$f":"VIIIEM!H18","v":0}]
[null,null,null,null,null,null,null,null,null,null,null,null,null,null,null,null,null,null,null,null,null,null,16,{"$f":"VIIIEM!B19","v":0},{"$f":"VIIIEM!C19","v":0},{"$f":"VIIIEM!D19","v":0},{"$f":"VIIIEM!F19","v":"00:00:00"},{"$f":"VIIIEM!$A$2","v":"VIIIEM"},null,{"$f":"VIIIEM!E19","v":0},{"$f":"VIIIEM!H19","v":0}]
[null,null,null,null,null,null,null,null,null,null,null,null,null,null,null,null,null,null,null,null,null,null,17,{"$f":"VIIIEM!B20","v":0},{"$f":"VIIIEM!C20","v":0},{"$f":"VIIIEM!D20","v":0},{"$f":"VIIIEM!F20","v":"00:00:00"},{"$f":"VIIIEM!$A$2","v":"VIIIEM"},null,{"$f":"VIIIEM!E20","v":0},{"$f":"VIIIEM!H20","v":0}]
[null,null,null,null,null,null,null,null,null,null,null,null,null,null,null,null,null,null,null,null,null,null,18,{"$f":"VIIIEM!B21","v":0},{"$f":"VIIIEM!C21","v":0},{"$f":"VIIIEM!D21","v":0},{"$f":"VIIIEM!F21","v":"00:00:00"},{"$f":"VIIIEM!$A$2","v":"VIIIEM"},null,{"$f":"VIIIEM!E21","v":0},{"$f":"VIIIEM!H21","v":0}]
[null,null,null,null,null,null,null,null,null,null,null,null,null,null,null,null,null,null,null,null,null,null,19,{"$f":"VIIIEM!B22","v":0},{"$f":"VIIIEM!C22","v":0},{"$f":"VIIIEM!D22","v":0},{"$f":"VIIIEM!F22","v":"00:00:00"},{"$f":"VIIIEM!$A$2","v":"VIIIEM"},null,{"$f":"VIIIEM!E22","v":0},{"$f":"VIIIEM!H22","v":0}]
[null,null,null,null,null,null,null,null,null,null,null,null,null,null,null,null,null,null,null,null,null,null,20,{"$f":"VIIIEM!B23","v":0},{"$f":"VIIIEM!C23","v":0},{"$f":"VIIIEM!D23","v":0},{"$f":"VIIIEM!F23","v":"00:00:00"},{"$f":"VIIIEM!$A$2","v":"VIIIEM"},null,{"$f":"VIIIEM!E23","v":0},{"$f":"VIIIEM!H23","v":0}]
[null,null,null,null,null,null,null,null,null,null,null,null,null,null,null,null,null,null,null,null,null,null,21,{"$f":"VIIIEM!B24","v":0},{"$f":"VIIIEM!C24","v":0},{"$f":"VIIIEM!D24","v":0},{"$f":"VIIIEM!F24","v":"00:00:00"},{"$f":"VIIIEM!$A$2","v":"VIIIEM"},null,{"$f":"VIIIEM!E24","v":0},{"$f":"VIIIEM!H24","v":0}]
[null,null,null,null,null,null,null,null,null,null,null,null,null,null,null,null,null,null,null,null,null,null,22,{"$f":"VIIIEM!B25","v":0},{"$f":"VIIIEM!C25","v":0},{"$f":"VIIIEM!D25","v":0},{"$f":"VIIIEM!F25","v":"00:00:00"},{"$f":"VIIIEM!$A$2","v":"VIIIEM"},null,{"$f":"VIIIEM!E25","v":0},{"$f":"VIIIEM!H25","v":0}]
[null,null,null,null,null,null,null,null,null,null,null,null,null,null,null,null,null,null,null,null,null,null,23,{"$f":"VIIIEM!B26","v":0},{"$f":"VIIIEM!C26","v":0},{"$f":"VIIIEM!D26","v":0},{"$f":"VIIIEM!F26","v":"00:00:00"},{"$f":"VIIIEM!$A$2","v":"VIIIEM"},null,{"$f":"VIIIEM!E26","v":0},{"$f":"VIIIEM!H26","v":0}]
[null,null,null,null,null,null,null,null,null,null,null,null,null,null,null,null,null,null,null,null,null,null,24,{"$f":"VIIIEM!B27","v":0},{"$f":"VIIIEM!C27","v":0},{"$f":"VIIIEM!D27","v":0},{"$f":"VIIIEM!F27","v":"00:00:00"},{"$f":"VIIIEM!$A$2","v":"VIIIEM"},null,{"$f":"VIIIEM!E27","v":0},{"$f":"VIIIEM!H27","v":0}]
[null,null,null,null,null,null,null,null,null,null,null,null,null,null,null,null,null,null,null,null,null,null,25,{"$f":"VIIIEM!B28","v":0},{"$f":"VIIIEM!C28","v":0},{"$f":"VIIIEM!D28","v":0},{"$f":"VIIIEM!F28","v":"00:00:00"},{"$f":"VIIIEM!$A$2","v":"VIIIEM"},null,{"$f":"VIIIEM!E28","v":0},{"$f":"VIIIEM!H28","v":0}]
[null,null,null,null,null,null,null,null,null,null,null,null,null,null,null,null,null,null,null,null,null,null,26,{"$f":"VIIIEM!B29","v":0},{"$f":"VIIIEM!C29","v":0},{"$f":"VIIIEM!D29","v":0},{"$f":"VIIIEM!F29","v":"00:00:00"},{"$f":"VIIIEM!$A$2","v":"VIIIEM"},null,{"$f":"VIIIEM!E29","v":0},{"$f":"VIIIEM!H29","v":0}]
[null,null,null,null,null,null,null,null,null,null,null,null,null,null,null,null,null,null,null,null,null,null,27,{"$f":"VIIIEM!B30","v":0},{"$f":"VIIIEM!C30","v":0},{"$f":"VIIIEM!D30","v":0},{"$f":"VIIIEM!F30","v":"00:00:00"},{"$f":"VIIIEM!$A$2","v":"VIIIEM"},null,{"$f":"VIIIEM!E30","v":0},{"$f":"VIIIEM!H30","v":0}]
[null,null,null,null,null,null,null,null,null,null,null,null,null,null,null,null,null,null,null,null,null,null,28,{"$f":"VIIIEM!B31","v":0},{"$f":"VIIIEM!C31","v":0},{"$f":"VIIIEM!D31","v":0},{"$f":"VIIIEM!F31","v":"00:00:00"},{"$f":"VIIIEM!$A$2","v":"VIIIEM"},null,{"$f":"VIIIEM!E31","v":0},{"$f":"VIIIEM!H31","v":0}]
[null,null,null,null,null,null,null,null,null,null,null,null,null,null,null,null,null,null,null,null,null,null,29,{"$f":"VIIIEM!B32","v":0},{"$f":"VIIIEM!C32","v":0},{"$f":"VIIIEM!D32","v":0},{"$f":"VIIIEM!F32","v":"00:00:00"},{"$f":"VIIIEM!$A$2","v":"VIIIEM"},null,{"$f":"VIIIEM!E32","v":0},{"$f":"VIIIEM!H32","v":0}]
[null,null,null,null,null,null,null,null,null,null,null,null,null,null,null,null,null,null,null,null,null,null,30,{"$f":"VIIIEM!B33","v":0},{"$f":"VIIIEM!C33","v":0},{"$f":"VIIIEM!D33","v":0},{"$f":"VIIIEM!F33","v":"00:00:00"},{"$f":"VIIIEM!$A$2","v":"VIIIEM"},null,{"$f":"VIIIEM!E33","v":0},{"$f":"VIIIEM!H33","v":0}]
[null,null,null,null,null,null,null,null,null,null,null,null,null,null,null,null,null,null,null,null,null,null,31,{"$f":"VIIIEM!B34","v":0},{"$f":"VIIIEM!C34","v":0},{"$f":"VIIIEM!D34","v":0},{"$f":"VIIIEM!F34","v":"00:00:00"},{"$f":"VIIIEM!$A$2","v":"VIIIEM"},null,{"$f":"VIIIEM!E34","v":0},{"$f":"VIIIEM!H34","v":0}]
[null,null,null,null,null,null,null,null,null,null,null,null,null,null,null,null,null,null,null,null,null,null,32,{"$f":"VIIIEM!B35","v":0},{"$f":"VIIIEM!C35","v":0},{"$f":"VIIIEM!D35","v":0},{"$f":"VIIIEM!F35","v":"00:00:00"},{"$f":"VIIIEM!$A$2","v":"VIIIEM"},null,{"$f":"VIIIEM!E35","v":0},{"$f":"VIIIEM!H35","v":0}]
[null,null,null,null,null,null,null,null,null,null,null,null,null,null,null,null,null,null,null,null,null,null,33,{"$f":"VIIIEM!B36","v":0},{"$f":"VIIIEM!C36","v":0},{"$f":"VIIIEM!D36","v":0},{"$f":"VIIIEM!F36","v":"00:00:00"},{"$f":"VIIIEM!$A$2","v":"VIIIEM"},null,{"$f":"VIIIEM!E36","v":0},{"$f":"VIIIEM!H36","v":0}]
[null,null,null,null,null,null,null,null,null,null,null,null,null,null,null,null,null,null,null,null,null,null,34,{"$f":"VIIIEM!B37","v":0},{"$f":"VIIIEM!C37","v":0},{"$f":"VIIIEM!D37","v":0},{"$f":"VIIIEM!F37","v":"00:00:00"},{"$f":"VIIIEM!$A$2","v":"VIIIEM"},null,{"$f":"VIIIEM!E37","v":0},{"$f":"VIIIEM!H37","v":0}]
[null,null,null,null,null,null,null,null,null,null,null,null,null,null,null,null,null,null,null,null,null,null,35,{"$f":"VIIIEM!B38","v":0},{"$f":"VIIIEM!C38","v":0},{"$f":"VIIIEM!D38","v":0},{"$f":"VIIIEM!F38","v":"00:00:00"},{"$f":"VIIIEM!$A$2","v":"VIIIEM"},null,{"$f":"VIIIEM!E38","v":0},{"$f":"VIIIEM!H38","v":0}]
[null,null,null,null,null,null,null,null,null,null,null,null,null,null,null,null,null,null,null,null,null,null,36,{"$f":"VIIIEM!B39","v":0},{"$f":"VIIIEM!C39","v":0},{"$f":"VIIIEM!D39","v":0},{"$f":"VIIIEM!F39","v":"00:00:00"},{"$f":"VIIIEM!$A$2","v":"VIIIEM"},null,{"$f":"VIIIEM!E39","v":0},{"$f":"VIIIEM!H39","v":0}]
[null,null,null,null,null,null,null,null,null,null,null,null,null,null,null,null,null,null,null,null,null,null,37,{"$f":"VIIIEM!B40","v":0},{"$f":"VIIIEM!C40","v":0},{"$f":"VIIIEM!D40","v":0},{"$f":"VIIIEM!F40","v":"00:00:00"},{"$f":"VIIIEM!$A$2","v":"VIIIEM"},null,{"$f":"VIIIEM!E40","v":0},{"$f":"VIIIEM!H40","v":0}]
[null,null,null,null,null,null,null,null,null,null,null,null,null,null,null,null,null,null,null,null,null,null,38,{"$f":"VIIIEM!B41","v":0},{"$f":"VIIIEM!C41","v":0},{"$f":"VIIIEM!D41","v":0},{"$f":"VIIIEM!F41","v":"00:00:00"},{"$f":"VIIIEM!$A$2","v":"VIIIEM"},null,{"$f":"VIIIEM!E41","v":0},{"$f":"VIIIEM!H41","v":0}]
[null,null,null,null,null,null,null,null,null,null,null,null,null,null,null,null,null,null,null,null,null,null,39,{"$f":"VIIIEM!B42","v":0},{"$f":"VIIIEM!C42","v":0},{"$f":"VIIIEM!D42","v":0},{"$f":"VIIIEM!F42","v":"00:00:00"},{"$f":"VIIIEM!$A$2","v":"VIIIEM"},null,{"$f":"VIIIEM!E42","v":0},{"$f":"VIIIEM!H42","v":0}]
[null,null,null,null,null,null,null,null,null,null,null,null,null,null,null,null,null,null,null,null,null,null,40,{"$f":"VIIIEM!B43","v":0},{"$f":"VIIIEM!C43","v":0},{"$f":"VIIIEM!D43","v":0},{"$f":"VIIIEM!F43","v":"00:00:00"},{"$f":"VIIIEM!$A$2","v":"VIIIEM"},null,{"$f":"VIIIEM!E43","v":0},{"$f":"VIIIEM!H43","v":0}]
[null,null,null,null,null,null,null,null,null,null,null,null,null,null,null,null,null,null,null,null,null,null,41,{"$f":"VIIIEM!B44","v":0},{"$f":"VIIIEM!C44","v":0},{"$f":"VIIIEM!D44","v":0},{"$f":"VIIIEM!F44","v":"00:00:00"},{"$f":"VIIIEM!$A$2","v":"VIIIEM"},null,{"$f":"VIIIEM!E44","v":0},{"$f":"VIIIEM!H44","v":0}]
[null,null,null,null,null,null,null,null,null,null,null,null,null,null,null,null,null,null,null,null,null,null,42,{"$f":"VIIIEM!B45","v":0},{"$f":"VIIIEM!C45","v":0},{"$f":"VIIIEM!D45","v":0},{"$f":"VIIIEM!F45","v":"00:00:00"},{"$f":"VIIIEM!$A$2","v":"VIIIEM"},null,{"$f":"VIIIEM!E45","v":0},{"$f":"VIIIEM!H45","v":0}]
[null,null,null,null,null,null,null,null,null,null,null,null,null,null,null,null,null,null,null,null,null,null,43,{"$f":"VIIIEM!B46","v":0},{"$f":"VIIIEM!C46","v":0},{"$f":"VIIIEM!D46","v":0},{"$f":"VIIIEM!F46","v":"00:00:00"},{"$f":"VIIIEM!$A$2","v":"VIIIEM"},null,{"$f":"VIIIEM!E46","v":0},{"$f":"VIIIEM!H46","v":0}]
[null,null,null,null,null,null,null,null,null,null,null,null,null,null,null,null,null,null,null,null,null,null,44,{"$f":"VIIIEM!B47","v":0},{"$f":"VIIIEM!C47","v":0},{"$f":"VIIIEM!D47","v":0},{"$f":"VIIIEM!F47","v":"00:00:00"},{"$f":"VIIIEM!$A$2","v":"VIIIEM"},null,{"$f":"VIIIEM!E47","v":0},{"$f":"VIIIEM!H47","v":0}]
[null,null,null,null,null,null,null,null,null,null,null,null,null,null,null,null,null,null,null,null,null,null,45,{"$f":"VIIIEM!B48","v":0},{"$f":"VIIIEM!C48","v":0},{"$f":"VIIIEM!D48","v":0},{"$f":"VIIIEM!F48","v":"00:00:00"},{"$f":"VIIIEM!$A$2","v":"VIIIEM"},null,{"$f":"VIIIEM!E48","v":0},{"$f":"VIIIEM!H48","v":0}]
[null,null,null,null,null,null,null,null,null,null,null,null,null,null,null,null,null,null,null,null,null,null,46,{"$f":"VIIIEM!B49","v":0},{"$f":"VIIIEM!C49","v":0},{"$f":"VIIIEM!D49","v":0},{"$f":"VIIIEM!F49","v":"00:00:00"},{"$f":"VIIIEM!$A$2","v":"VIIIEM"},null,{"$f":"VIIIEM!E49","v":0},{"$f":"VIIIEM!H49","v":0}]
[null,null,null,null,null,null,null,null,null,null,null,null,null,null,null,null,null,null,null,null,null,null,47,{"$f":"VIIIEM!B50","v":0},{"$f":"VIIIEM!C50","v":0},{"$f":"VIIIEM!D50","v":0},{"$f":"VIIIEM!F50","v":"00:00:00"},{"$f":"VIIIEM!$A$2","v":"VIIIEM"},null,{"$f":"VIIIEM!E50","v":0},{"$f":"VIIIEM!H50","v":0}]
[null,null,null,null,null,null,null,null,null,null,null,null,null,null,null,null,null,null,null,null,null,null,48,{"$f":"VIIIEM!B51","v":0},{"$f":"VIIIEM!C51","v":0},{"$f":"VIIIEM!D51","v":0},{"$f":"VIIIEM!F51","v":"00:00:00"},{"$f":"VIIIEM!$A$2","v":"VIIIEM"},null,{"$f":"VIIIEM!E51","v":0},{"$f":"VIIIEM!H51","v":0}]
[null,null,null,null,null,null,null,null,null,null,null,null,null,null,null,null,null,null,null,null,null,null,49,{"$f":"VIIIEM!B52","v":0},{"$f":"VIIIEM!C52","v":0},{"$f":"VIIIEM!D52","v":0},{"$f":"VIIIEM!F52","v":"00:00:00"},{"$f":"VIIIEM!$A$2","v":"VIIIEM"},null,{"$f":"VIIIEM!E52","v":0},{"$f":"VIIIEM!H52","v":0}]
[null,null,null,null,null,null,null,null,null,null,null,null,null,null,null,null,null,null,null,null,null,null,50,{"$f":"VIIIEM!B53","v":0},{"$f":"VIIIEM!C53","v":0},{"$f":"VIIIEM!D53","v":0},{"$f":"VIIIEM!F53","v":"00:00:00"},{"$f":"VIIIEM!$A$2","v":"VIIIEM"},null,{"$f":"VIIIEM!E53","v":0},{"$f":"VIIIEM!H53","v":0}]
[null,null,null,null,null,null,null,null,null,null,null,null,null,null,null,null,null,null,null,null,null,null,51,{"$f":"VIIIEM!B54","v":0},{"$f":"VIIIEM!C54","v":0},{"$f":"VIIIEM!D54","v":0},{"$f":"VIIIEM!F54","v":"00:00:00"},{"$f":"VIIIEM!$A$2","v":"VIIIEM"},null,{"$f":"VIIIEM!E54","v":0},{"$f":"VIIIEM!H54","v":0}]
[null,null,null,null,null,null,null,null,null,null,null,null,null,null,null,null,null,null,null,null,null,null,52,{"$f":"VIIIEM!B55","v":0},{"$f":"VIIIEM!C55","v":0},{"$f":"VIIIEM!D55","v":0},{"$f":"VIIIEM!F55","v":"00:00:00"},{"$f":"VIIIEM!$A$2","v":"VIIIEM"},null,{"$f":"VIIIEM!E55","v":0},{"$f":"VIIIEM!H55","v":0}]
[null,null,null,null,null,null,null,null,null,null,null,null,null,null,null,null,null,null,null,null,null,null,53,{"$f":"VIIIEM!B56","v":0},{"$f":"VIIIEM!C56","v":0},{"$f":"VIIIEM!D56","v":0},{"$f":"VIIIEM!F56","v":"00:00:00"},{"$f":"VIIIEM!$A$2","v":"VIIIEM"},null,{"$f":"VIIIEM!E56","v":0},{"$f":"VIIIEM!H56","v":0}]
[null,null,null,null,null,null,null,null,null,null,null,null,null,null,null,null,null,null,null,null,null,null,54,{"$f":"VIIIEM!B57","v":0},{"$f":"VIIIEM!C57","v":0},{"$f":"VIIIEM!D57","v":0},{"$f":"VIIIEM!F57","v":"00:00:00"},{"$f":"VIIIEM!$A$2","v":"VIIIEM"},null,{"$f":"VIIIEM!E57","v":0},{"$f":"VIIIEM!H57","v":0}]
[null,null,null,null,null,null,null,null,null,null,null,null,null,null,null,null,null,null,null,null,null,null,55,{"$f":"VIIIEM!B58","v":0},{"$f":"VIIIEM!C58","v":0},{"$f":"VIIIEM!D58","v":0},{"$f":"VIIIEM!F58","v":"00:00:00"},{"$f":"VIIIEM!$A$2","v":"VIIIEM"},null,{"$f":"VIIIEM!E58","v":0},{"$f":"VIIIEM!H58","v":0}]
[null,null,null,null,null,null,null,null,null,null,null,null,null,null,null,null,null,null,null,null,null,null,56,{"$f":"VIIIEM!B59","v":0},{"$f":"VIIIEM!C59","v":0},{"$f":"VIIIEM!D59","v":0},{"$f":"VIIIEM!F59","v":"00:00:00"},{"$f":"VIIIEM!$A$2","v":"VIIIEM"},null,{"$f":"VIIIEM!E59","v":0},{"$f":"VIIIEM!H59","v":0}]
[null,null,null,null,null,null,null,null,null,null,null,null,null,null,null,null,null,null,null,null,null,null,57,{"$f":"VIIIEM!B60","v":0},{"$f":"VIIIEM!C60","v":0},{"$f":"VIIIEM!D60","v":0},{"$f":"VIIIEM!F60","v":"00:00:00"},{"$f":"VIIIEM!$A$2","v":"VIIIEM"},null,{"$f":"VIIIEM!E60","v":0},{"$f":"VIIIEM!H60","v":0}]
[null,null,null,null,null,null,null,null,null,null,null,null,null,null,null,null,null,null,null,null,null,null,58,{"$f":"VIIIEM!B61","v":0},{"$f":"VIIIEM!C61","v":0},{"$f":"VIIIEM!D61","v":0},{"$f":"VIIIEM!F61","v":"00:00:00"},{"$f":"VIIIEM!$A$2","v":"VIIIEM"},null,{"$f":"VIIIEM!E61","v":0},{"$f":"VIIIEM!H61","v":0}]
[null,null,null,null,null,null,null,null,null,null,null,null,null,null,null,null,null,null,null,null,null,null,59,{"$f":"VIIIEM!B62","v":0},{"$f":"VIIIEM!C62","v":0},{"$f":"VIIIEM!D62","v":0},{"$f":"VIIIEM!F62","v":"00:00:00"},{"$f":"VIIIEM!$A$2","v":"VIIIEM"},null,{"$f":"VIIIEM!E62","v":0},{"$f":"VIIIEM!H62","v":0}]
[null,null,null,null,null,null,null,null,null,null,null,null,null,null,null,null,null,null,null,null,null,null,60,{"$f":"VIIIEM!B63","v":0},{"$f":"VIIIEM!C63","v":0},{"$f":"VIIIEM!D63","v":0},{"$f":"VIIIEM!F63","v":"00:00:00"},{"$f":"VIIIEM!$A$2","v":"VIIIEM"},null,{"$f":"VIIIEM!E63","v":0},{"$f":"VIIIEM!H63","v":0}]
[null,null,null,null,null,null,null,null,null,null,null,null,null,null,null,null,null,null,null,null,null,null,61,{"$f":"VIIIEM!B64","v":0},{"$f":"VIIIEM!C64","v":0},{"$f":"VIIIEM!D64","v":0},{"$f":"VIIIEM!F64","v":"00:00:00"},{"$f":"VIIIEM!$A$2","v":"VIIIEM"},null,{"$f":"VIIIEM!E64","v":0},{"$f":"VIIIEM!H64","v":0}]
[null,null,null,null,null,null,null,null,null,null,null,null,null,null,null,null,null,null,null,null,null,null,62,{"$f":"VIIIEM!B65","v":0},{"$f":"VIIIEM!C65","v":0},{"$f":"VIIIEM!D65","v":0},{"$f":"VIIIEM!F65","v":"00:00:00"},{"$f":"VIIIEM!$A$2","v":"VIIIEM"},null,{"$f":"VIIIEM!E65","v":0},{"$f":"VIIIEM!H65","v":0}]
[null,null,null,null,null,null,null,null,null,null,null,null,null,null,null,null,null,null,null,null,null,null,63,{"$f":"VIIIEM!B66","v":0},{"$f":"VIIIEM!C66","v":0},{"$f":"VIIIEM!D66","v":0},{"$f":"VIIIEM!F66","v":"00:00:00"},{"$f":"VIIIEM!$A$2","v":"VIIIEM"},null,{"$f":"VIIIEM!E66","v":0},{"$f":"VIIIEM!H66","v":0}]
[null,null,null,null,null,null,null,null,null,null,null,null,null,null,null,null,null,null,null,null,null,null,64,{"$f":"VIIIEM!B67","v":0},{"$f":"VIIIEM!C67","v":0},{"$f":"VIIIEM!D67","v":0},{"$f":"VIIIEM!F67","v":"00:00:00"},{"$f":"VIIIEM!$A$2","v":"VIIIEM"},null,{"$f":"VIIIEM!E67","v":0},{"$f":"VIIIEM!H67","v":0}]
[null,null,null,null,null,null,null,null,null,null,null,null,null,null,null,null,null,null,null,null,null,null,65,{"$f":"VIIIEM!B68","v":0},{"$f":"VIIIEM!C68","v":0},{"$f":"VIIIEM!D68","v":0},{"$f":"VIIIEM!F68","v":"00:00:00"},{"$f":"VIIIEM!$A$2","v":"VIIIEM"},null,{"$f":"VIIIEM!E68","v":0},{"$f":"VIIIEM!H68","v":0}]
[null,null,null,null,null,null,null,null,null,null,null,null,null,null,null,null,null,null,null,null,null,null,66,{"$f":"VIIIEM!B69","v":0},{"$f":"VIIIEM!C69","v":0},{"$f":"VIIIEM!D69","v":0},{"$f":"VIIIEM!F69","v":"00:00:00"},{"$f":"VIIIEM!$A$2","v":"VIIIEM"},null,{"$f":"VIIIEM!E69","v":0},{"$f":"VIIIEM!H69","v":0}]
[null,null,null,null,null,null,null,null,null,null,null,null,null,null,null,null,null,null,null,null,null,null,67,{"$f":"VIIIEM!B70","v":0},{"$f":"VIIIEM!C70","v":0},{"$f":"VIIIEM!D70","v":0},{"$f":"VIIIEM!F70","v":"00:00:00"},{"$f":"VIIIEM!$A$2","v":"VIIIEM"},null,{"$f":"VIIIEM!E70","v":0},{"$f":"VIIIEM!H70","v":0}]
[null,null,null,null,null,null,null,null,null,null,null,null,null,null,null,null,null,null,null,null,null,null,68,{"$f":"VIIIEM!B71","v":0},{"$f":"VIIIEM!C71","v":0},{"$f":"VIIIEM!D71","v":0},{"$f":"VIIIEM!F71","v":"00:00:00"},{"$f":"VIIIEM!$A$2","v":"VIIIEM"},null,{"$f":"VIIIEM!E71","v":0},{"$f":"VIIIEM!H71","v":0}]
[null,null,null,null,null,null,null,null,null,null,null,null,null,null,null,null,null,null,null,null,null,null,69,{"$f":"VIIIEM!B72","v":0},{"$f":"VIIIEM!C72","v":0},{"$f":"VIIIEM!D72","v":0},{"$f":"VIIIEM!F72","v":"00:00:00"},{"$f":"VIIIEM!$A$2","v":"VIIIEM"},null,{"$f":"VIIIEM!E72","v":0},{"$f":"VIIIEM!H72","v":0}]
[null,null,null,null,null,null,null,null,null,null,null,null,null,null,null,null,null,null,null,null,null,null,70,{"$f":"VIIIEM!B73","v":0},{"$f":"VIIIEM!C73","v":0},{"$f":"VIIIEM!D73","v":0},{"$f":"VIIIEM!F73","v":"00:00:00"},{"$f":"VIIIEM!$A$2","v":"VIIIEM"},null,{"$f":"VIIIEM!E73","v":0},{"$f":"VIIIEM!H73","v":0}]
[null,null,null,null,null,null,null,null,null,null,null,null,null,null,null,null,null,null,null,null,null,null,71,{"$f":"VIIIEM!B74","v":0},{"$f":"VIIIEM!C74","v":0},{"$f":"VIIIEM!D74","v":0},{"$f":"VIIIEM!F74","v":"00:00:00"},{"$f":"VIIIEM!$A$2","v":"VIIIEM"},null,{"$f":"VIIIEM!E74","v":0},{"$f":"VIIIEM!H74","v":0}]
[null,null,null,null,null,null,null,null,null,null,null,null,null,null,null,null,null,null,null,null,null,null,72,{"$f":"VIIIEM!B75","v":0},{"$f":"VIIIEM!C75","v":0},{"$f":"VIIIEM!D75","v":0},{"$f":"VIIIEM!F75","v":"00:00:00"},{"$f":"VIIIEM!$A$2","v":"VIIIEM"},null,{"$f":"VIIIEM!E75","v":0},{"$f":"VIIIEM!H75","v":0}]
[null,null,null,null,null,null,null,null,null,null,null,null,null,null,null,null,null,null,null,null,null,null,73,{"$f":"VIIIEM!B76","v":0},{"$f":"VIIIEM!C76","v":0},{"$f":"VIIIEM!D76","v":0},{"$f":"VIIIEM!F76","v":"00:00:00"},{"$f":"VIIIEM!$A$2","v":"VIIIEM"},null,{"$f":"VIIIEM!E76","v":0},{"$f":"VIIIEM!H76","v":0}]
[null,null,null,null,null,null,null,null,null,null,null,null,null,null,null,null,null,null,null,null,null,null,74,{"$f":"VIIIEM!B77","v":0},{"$f":"VIIIEM!C77","v":0},{"$f":"VIIIEM!D77","v":0},{"$f":"VIIIEM!F77","v":"00:00:00"},{"$f":"VIIIEM!$A$2","v":"VIIIEM"},null,{"$f":"VIIIEM!E77","v":0},{"$f":"VIIIEM!H77","v":0}]
[null,null,null,null,null,null,null,null,null,null,null,null,null,null,null,null,null,null,null,null,null,null,75,{"$f":"VIIIEM!B78","v":0},{"$f":"VIIIEM!C78","v":0},{"$f":"VIIIEM!D78","v":0},{"$f":"VIIIEM!F78","v":"00:00:00"},{"$f":"VIIIEM!$A$2","v":"VIIIEM"},null,{"$f":"VIIIEM!E78","v":0},{"$f":"VIIIEM!H78","v":0}]
[null,null,null,null,null,null,null,null,null,null,null,null,null,null,null,null,null,null,null,null,null,null,76,{"$f":"VIIIEM!B79","v":0},{"$f":"VIIIEM!C79","v":0},{"$f":"VIIIEM!D79","v":0},{"$f":"VIIIEM!F79","v":"00:00:00"},{"$f":"VIIIEM!$A$2","v":"VIIIEM"},null,{"$f":"VIIIEM!E79","v":0},{"$f":"VIIIEM!H79","v":0}]
[null,null,null,null,null,null,null,null,null,null,null,null,null,null,null,null,null,null,null,null,null,null,77,{"$f":"VIIIEM!B80","v":0},{"$f":"VIIIEM!C80","v":0},{"$f":"VIIIEM!D80","v":0},{"$f":"VIIIEM!F80","v":"00:00:00"},{"$f":"VIIIEM!$A$2","v":"VIIIEM"},null,{"$f":"VIIIEM!E80","v":0},{"$f":"VIIIEM!H80","v":0}]
[null,null,null,null,null,null,null,null,null,null,null,null,null,null,null,null,null,null,null,null,null,null,78,{"$f":"VIIIEM!B81","v":0},{"$f":"VIIIEM!C81","v":0},{"$f":"VIIIEM!D81","v":0},{"$f":"VIIIEM!F81","v":"00:00:00"},{"$f":"VIIIEM!$A$2","v":"VIIIEM"},null,{"$f":"VIIIEM!E81","v":0},{"$f":"VIIIEM!H81","v":0}]
[null,null,null,null,null,null,null,null,null,null,null,null,null,null,null,null,null,null,null,null,null,null,79,{"$f":"VIIIEM!B82","v":0},{"$f":"VIIIEM!C82","v":0},{"$f":"VIIIEM!D82","v":0},{"$f":"VIIIEM!F82","v":"00:00:00"},{"$f":"VIIIEM!$A$2","v":"VIIIEM"},null,{"$f":"VIIIEM!E82","v":0},{"$f":"VIIIEM!H82","v":0}]
[null,null,null,null,null,null,null,null,null,null,null,null,null,null,null,null,null,null,null,null,null,null,80,{"$f":"VIIIEM!B83","v":0},{"$f":"VIIIEM!C83","v":0},{"$f":"VIIIEM!D83","v":0},{"$f":"VIIIEM!F83","v":"00:00:00"},{"$f":"VIIIEM!$A$2","v":"VIIIEM"},null,{"$f":"VIIIEM!E83","v":0},{"$f":"VIIIEM!H83","v":0}]
[null,null,null,null,null,null,null,null,null,null,null,null,null,null,null,null,null,null,null,null,null,null,81,{"$f":"VIIIEM!B84","v":0},{"$f":"VIIIEM!C84","v":0},{"$f":"VIIIEM!D84","v":0},{"$f":"VIIIEM!F84","v":"00:00:00"},{"$f":"VIIIEM!$A$2","v":"VIIIEM"},null,{"$f":"VIIIEM!E84","v":0},{"$f":"VIIIEM!H84","v":0}]
[null,null,null,null,null,null,null,null,null,null,null,null,null,null,null,null,null,null,null,null,null,null,82,{"$f":"VIIIEM!B85","v":0},{"$f":"VIIIEM!C85","v":0},{"$f":"VIIIEM!D85","v":0},{"$f":"VIIIEM!F85","v":"00:00:00"},{"$f":"VIIIEM!$A$2","v":"VIIIEM"},null,{"$f":"VIIIEM!E85","v":0},{"$f":"VIIIEM!H85","v":0}]
[null,null,null,null,null,null,null,null,null,null,null,null,null,null,null,null,null,null,null,null,null,null,83,{"$f":"VIIIEM!B86","v":0},{"$f":"VIIIEM!C86","v":0},{"$f":"VIIIEM!D86","v":0},{"$f":"VIIIEM!F86","v":"00:00:00"},{"$f":"VIIIEM!$A$2","v":"VIIIEM"},null,{"$f":"VIIIEM!E86","v":0},{"$f":"VIIIEM!H86","v":0}]
[null,null,null,null,null,null,null,null,null,null,null,null,null,null,null,null,null,null,null,null,null,null,84,{"$f":"VIIIEM!B87","v":0},{"$f":"VIIIEM!C87","v":0},{"$f":"VIIIEM!D87","v":0},{"$f":"VIIIEM!F87","v":"00:00:00"},{"$f":"VIIIEM!$A$2","v":"VIIIEM"},null,{"$f":"VIIIEM!E87","v":0},{"$f":"VIIIEM!H87","v":0}]
[null,null,null,null,null,null,null,null,null,null,null,null,null,null,null,null,null,null,null,null,null,null,85,{"$f":"VIIIEM!B88","v":0},{"$f":"VIIIEM!C88","v":0},{"$f":"VIIIEM!D88","v":0},{"$f":"VIIIEM!F88","v":"00:00:00"},{"$f":"VIIIEM!$A$2","v":"VIIIEM"},null,{"$f":"VIIIEM!E88","v":0},{"$f":"VIIIEM!H88","v":0}]
[null,null,null,null,null,null,null,null,null,null,null,null,null,null,null,null,null,null,null,null,null,null,86,{"$f":"VIIIEM!B89","v":0},{"$f":"VIIIEM!C89","v":0},{"$f":"VIIIEM!D89","v":0},{"$f":"VIIIEM!F89","v":"00:00:00"},{"$f":"VIIIEM!$A$2","v":"VIIIEM"},null,{"$f":"VIIIEM!E89","v":0},{"$f":"VIIIEM!H89","v":0}]
[null,null,null,null,null,null,null,null,null,null,null,null,null,null,null,null,null,null,null,null,null,null,87,{"$f":"VIIIEM!B90","v":0},{"$f":"VIIIEM!C90","v":0},{"$f":"VIIIEM!D90","v":0},{"$f":"VIIIEM!F90","v":"00:00:00"},{"$f":"VIIIEM!$A$2","v":"VIIIEM"},null,{"$f":"VIIIEM!E90","v":0},{"$f":"VIIIEM!H90","v":0}]
[null,null,null,null,null,null,null,null,null,null,null,null,null,null,null,null,null,null,null,null,null,null,88,{"$f":"VIIIEM!B91","v":0},{"$f":"VIIIEM!C91","v":0},{"$f":"VIIIEM!D91","v":0},{"$f":"VIIIEM!F91","v":"00:00:00"},{"$f":"VIIIEM!$A$2","v":"VIIIEM"},null,{"$f":"VIIIEM!E91","v":0},{"$f":"VIIIEM!H91","v":0}]
[null,null,null,null,null,null,null,null,null,null,null,null,null,null,null,null,null,null,null,null,null,null,89,{"$f":"VIIIEM!B92","v":0},{"$f":"VIIIEM!C92","v":0},{"$f":"VIIIEM!D92","v":0},{"$f":"VIIIEM!F92","v":"00:00:00"},{"$f":"VIIIEM!$A$2","v":"VIIIEM"},null,{"$f":"VIIIEM!E92","v":0},{"$f":"VIIIEM!H92","v":0}]
[null,null,null,null,null,null,null,null,null,null,null,null,null,null,null,null,null,null,null,null,null,null,90,{"$f":"VIIIEM!B93","v":0},{"$f":"VIIIEM!C93","v":0},{"$f":"VIIIEM!D93","v":0},{"$f":"VIIIEM!F93","v":"00:00:00"},{"$f":"VIIIEM!$A$2","v":"VIIIEM"},null,{"$f":"VIIIEM!E93","v":0},{"$f":"VIIIEM!H93","v":0}]
[null,null,null,null,null,null,null,null,null,null,null,null,null,null,null,null,null,null,null,null,null,null,91,{"$f":"VIIIEM!B94","v":0},{"$f":"VIIIEM!C94","v":0},{"$f":"VIIIEM!D94","v":0},{"$f":"VIIIEM!F94","v":"00:00:00"},{"$f":"VIIIEM!$A$2","v":"VIIIEM"},null,{"$f":"VIIIEM!E94","v":0},{"$f":"VIIIEM!H94","v":0}]
[null,null,null,null,null,null,null,null,null,null,null,null,null,null,null,null,null,null,null,null,null,null,92,{"$f":"VIIIEM!B95","v":0},{"$f":"VIIIEM!C95","v":0},{"$f":"VIIIEM!D95","v":0},{"$f":"VIIIEM!F95","v":"00:00:00"},{"$f":"VIIIEM!$A$2","v":"VIIIEM"},null,{"$f":"VIIIEM!E95","v":0},{"$f":"VIIIEM!H95","v":0}]
[null,null,null,null,null,null,null,null,null,null,null,null,null,null,null,null,null,null,null,null,null,null,93,{"$f":"VIIIEM!B96","v":0},{"$f":"VIIIEM!C96","v":0},{"$f":"VIIIEM!D96","v":0},{"$f":"VIIIEM!F96","v":"00:00:00"},{"$f":"VIIIEM!$A$2","v":"VIIIEM"},null,{"$f":"VIIIEM!E96","v":0},{"$f":"VIIIEM!H96","v":0}]
[null,null,null,null,null,null,null,null,null,null,null,null,null,null,null,null,null,null,null,null,null,null,94,{"$f":"VIIIEM!B97","v":0},{"$f":"VIIIEM!C97","v":0},{"$f":"VIIIEM!D97","v":0},{"$f":"VIIIEM!F97","v":"00:00:00"},{"$f":"VIIIEM!$A$2","v":"VIIIEM"},null,{"$f":"VIIIEM!E97","v":0},{"$f":"VIIIEM!H97","v":0}]
[null,null,null,null,null,null,null,null,null,null,null,null,null,null,null,null,null,null,null,null,null,null,95,{"$f":"VIIIEM!B98","v":0},{"$f":"VIIIEM!C98","v":0},{"$f":"VIIIEM!D98","v":0},{"$f":"VIIIEM!F98","v":"00:00:00"},{"$f":"VIIIEM!$A$2","v":"VIIIEM"},null,{"$f":"VIIIEM!E98","v":0},{"$f":"VIIIEM!H98","v":0}]
[null,null,null,null,null,null,null,null,null,null,null,null,null,null,null,null,null,null,null,null,null,null,96,{"$f":"VIIIEM!B99","v":0},{"$f":"VIIIEM!C99","v":0},{"$f":"VIIIEM!D99","v":0},{"$f":"VIIIEM!F99","v":"00:00:00"},{"$f":"VIIIEM!$A$2","v":"VIIIEM"},null,{"$f":"VIIIEM!E99","v":0},{"$f":"VIIIEM!H99","v":0}]
[null,null,null,null,null,null,null,null,null,null,null,null,null,null,null,null,null,null,null,null,null,null,97,{"$f":"VIIIEM!B100","v":0},{"$f":"VIIIEM!C100","v":0},{"$f":"VIIIEM!D100","v":0},{"$f":"VIIIEM!F100","v":"00:00:00"},{"$f":"VIIIEM!$A$2","v":"VIIIEM"},null,{"$f":"VIIIEM!E100","v":0},{"$f":"VIIIEM!H100","v":0}]
[null,null,null,null,null,null,null,null,null,null,null,null,null,null,null,null,null,null,null,null,null,null,98,{"$f":"VIIIEM!B101","v":0},{"$f":"VIIIEM!C101","v":0},{"$f":"VIIIEM!D101","v":0},{"$f":"VIIIEM!F101","v":"00:00:00"},{"$f":"VIIIEM!$A$2","v":"VIIIEM"},null,{"$f":"VIIIEM!E101","v":0},{"$f":"VIIIEM!H101","v":0}]
[null,null,null,null,null,null,null,null,null,null,null,null,null,null,null,null,null,null,null,null,null,null,99,{"$f":"VIIIEM!B102","v":0},{"$f":"VIIIEM!C102","v":0},{"$f":"VIIIEM!D102","v":0},{"$f":"VIIIEM!F102","v":"00:00:00"},{"$f":"VIIIEM!$A$2","v":"VIIIEM"},null,{"$f":"VIIIEM!E102","v":0},{"$f":"VIIIEM!H102","v":0}]
[null,null,null,null,null,null,null,null,null,null,null,null,null,null,null,null,null,null,null,null,null,null,100,{"$f":"VIIIEM!B103","v":0},{"$f":"VIIIEM!C103","v":0},{"$f":"VIIIEM!D103","v":0},{"$f":"VIIIEM!F103","v":"00:00:00"},{"$f":"VIIIEM!$A$2","v":"VIIIEM"},null,{"$f":"VIIIEM!E103","v":0},{"$f":"VIIIEM!H103","v":0}]
[null,null,null,null,null,null,null,null,null,null,null,null,null,null,null,null,null,null,null,null,null,null,101,{"$f":"VIIIEM!B104","v":0},{"$f":"VIIIEM!C104","v":0},{"$f":"VIIIEM!D104","v":0},{"$f":"VIIIEM!F104","v":"00:00:00"},{"$f":"VIIIEM!$A$2","v":"VIIIEM"},null,{"$f":"VIIIEM!E104","v":0},{"$f":"VIIIEM!H104","v":0}]
[null,null,null,null,null,null,null,null,null,null,null,null,null,null,null,null,null,null,null,null,null,null,102,{"$f":"VIIIEM!B105","v":0},{"$f":"VIIIEM!C105","v":0},{"$f":"VIIIEM!D105","v":0},{"$f":"VIIIEM!F105","v":"00:00:00"},{"$f":"VIIIEM!$A$2","v":"VIIIEM"},null,{"$f":"VIIIEM!E105","v":0},{"$f":"VIIIEM!H105","v":0}]
[null,null,null,null,null,null,null,null,null,null,null,null,null,null,null,null,null,null,null,null,null,null,103,{"$f":"VIIIEM!B106","v":0},{"$f":"VIIIEM!C106","v":0},{"$f":"VIIIEM!D106","v":0},{"$f":"VIIIEM!F106","v":"00:00:00"},{"$f":"VIIIEM!$A$2","v":"VIIIEM"},null,{"$f":"VIIIEM!E106","v":0},{"$f":"VIIIEM!H106","v":0}]
[null,null,null,null,null,null,null,null,null,null,null,null,null,null,null,null,null,null,null,null,null,null,104,{"$f":"VIIIEM!B107","v":0},{"$f":"VIIIEM!C107","v":0},{"$f":"VIIIEM!D107","v":0},{"$f":"VIIIEM!F107","v":"00:00:00"},{"$f":"VIIIEM!$A$2","v":"VIIIEM"},null,{"$f":"VIIIEM!E107","v":0},{"$f":"VIIIEM!H107","v":0}]
[null,null,null,null,null,null,null,null,null,null,null,null,null,null,null,null,null,null,null,null,null,null,105,{"$f":"VIIIEM!B108","v":0},{"$f":"VIIIEM!C108","v":0},{"$f":"VIIIEM!D108","v":0},{"$f":"VIIIEM!F108","v":"00:00:00"},{"$f":"VIIIEM!$A$2","v":"VIIIEM"},null,{"$f":"VIIIEM!E108","v":0},{"$f":"VIIIEM!H108","v":0}]
[null,null,null,null,null,null,null,null,null,null,null,null,null,null,null,null,null,null,null,null,null,null,106,{"$f":"VIIIEM!B109","v":0},{"$f":"VIIIEM!C109","v":0},{"$f":"VIIIEM!D109","v":0},{"$f":"VIIIEM!F109","v":"00:00:00"},{"$f":"VIIIEM!$A$2","v":"VIIIEM"},null,{"$f":"VIIIEM!E109","v":0},{"$f":"VIIIEM!H109","v":0}]
[null,null,null,null,null,null,null,null,null,null,null,null,null,null,null,null,null,null,null,null,null,null,107,{"$f":"VIIIEM!B110","v":0},{"$f":"VIIIEM!C110","v":0},{"$f":"VIIIEM!D110","v":0},{"$f":"VIIIEM!F110","v":"00:00:00"},{"$f":"VIIIEM!$A$2","v":"VIIIEM"},null,{"$f":"VIIIEM!E110","v":0},{"$f":"VIIIEM!H110","v":0}]
[null,null,null,null,null,null,null,null,null,null,null,null,null,null,null,null,null,null,null,null,null,null,108,{"$f":"VIIIEM!B111","v":0},{"$f":"VIIIEM!C111","v":0},{"$f":"VIIIEM!D111","v":0},{"$f":"VIIIEM!F111","v":"00:00:00"},{"$f":"VIIIEM!$A$2","v":"VIIIEM"},null,{"$f":"VIIIEM!E111","v":0},{"$f":"VIIIEM!H111","v":0}]
[null,null,null,null,null,null,null,null,null,null,null,null,null,null,null,null,null,null,null,null,null,null,109,{"$f":"VIIIEM!B112","v":0},{"$f":"VIIIEM!C112","v":0},{"$f":"VIIIEM!D112","v":0},{"$f":"VIIIEM!F112","v":"00:00:00"},{"$f":"VIIIEM!$A$2","v":"VIIIEM"},null,{"$f":"VIIIEM!E112","v":0},{"$f":"VIIIEM!H112","v":0}]
[null,null,null,null,null,null,null,null,null,null,null,null,null,null,null,null,null,null,null,null,null,null,110,{"$f":"VIIIEM!B113","v":0},{"$f":"VIIIEM!C113","v":0},{"$f":"VIIIEM!D113","v":0},{"$f":"VIIIEM!F113","v":"00:00:00"},{"$f":"VIIIEM!$A$2","v":"VIIIEM"},null,{"$f":"VIIIEM!E113","v":0},{"$f":"VIIIEM!H113","v":0}]
[null,null,null,null,null,null,null,null,null,null,null,null,null,null,null,null,null,null,null,null,null,null,111,{"$f":"VIIIEM!B114","v":0},{"$f":"VIIIEM!C114","v":0},{"$f":"VIIIEM!D114","v":0},{"$f":"VIIIEM!F114","v":"00:00:00"},{"$f":"VIIIEM!$A$2","v":"VIIIEM"},null,{"$f":"VIIIEM!E114","v":0},{"$f":"VIIIEM!H114","v":0}]
[null,null,null,null,null,null,null,null,null,null,null,null,null,null,null,null,null,null,null,null,null,null,112,{"$f":"VIIIEM!B115","v":0},{"$f":"VIIIEM!C115","v":0},{"$f":"VIIIEM!D115","v":0},{"$f":"VIIIEM!F115","v":"00:00:00"},{"$f":"VIIIEM!$A$2","v":"VIIIEM"},null,{"$f":"VIIIEM!E115","v":0},{"$f":"VIIIEM!H115","v":0}]
[null,null,null,null,null,null,null,null,null,null,null,null,null,null,null,null,null,null,null,null,null,null,113,{"$f":"VIIIEM!B116","v":0},{"$f":"VIIIEM!C116","v":0},{"$f":"VIIIEM!D116","v":0},{"$f":"VIIIEM!F116","v":"00:00:00"},{"$f":"VIIIEM!$A$2","v":"VIIIEM"},null,{"$f":"VIIIEM!E116","v":0},{"$f":"VIIIEM!H116","v":0}]
[null,null,null,null,null,null,null,null,null,null,null,null,null,null,null,null,null,null,null,null,null,null,114,{"$f":"VIIIEM!B117","v":0},{"$f":"VIIIEM!C117","v":0},{"$f":"VIIIEM!D117","v":0},{"$f":"VIIIEM!F117","v":"00:00:00"},{"$f":"VIIIEM!$A$2","v":"VIIIEM"},null,{"$f":"VIIIEM!E117","v":0},{"$f":"VIIIEM!H117","v":0}]
[null,null,null,null,null,null,null,null,null,null,null,null,null,null,null,null,null,null,null,null,null,null,115,{"$f":"VIIIEM!B118","v":0},{"$f":"VIIIEM!C118","v":0},{"$f":"VIIIEM!D118","v":0},{"$f":"VIIIEM!F118","v":"00:00:00"},{"$f":"VIIIEM!$A$2","v":"VIIIEM"},null,{"$f":"VIIIEM!E118","v":0},{"$f":"VIIIEM!H118","v":0}]
[null,null,null,null,null,null,null,null,null,null,null,null,null,null,null,null,null,null,null,null,null,null,116,{"$f":"VIIIEM!B119","v":0},{"$f":"VIIIEM!C119","v":0},{"$f":"VIIIEM!D119","v":0},{"$f":"VIIIEM!F119","v":"00:00:00"},{"$f":"VIIIEM!$A$2","v":"VIIIEM"},null,{"$f":"VIIIEM!E119","v":0},{"$f":"VIIIEM!H119","v":0}]
[null,null,null,null,null,null,null,null,null,null,null,null,null,null,null,null,null,null,null,null,null,null,117,{"$f":"VIIIEM!B120","v":0},{"$f":"VIIIEM!C120","v":0},{"$f":"VIIIEM!D120","v":0},{"$f":"VIIIEM!F120","v":"00:00:00"},{"$f":"VIIIEM!$A$2","v":"VIIIEM"},null,{"$f":"VIIIEM!E120","v":0},{"$f":"VIIIEM!H120","v":0}]
[null,null,null,null,null,null,null,null,null,null,null,null,null,null,null,null,null,null,null,null,null,null,118,{"$f":"VIIIEM!B121","v":0},{"$f":"VIIIEM!C121","v":0},{"$f":"VIIIEM!D121","v":0},{"$f":"VIIIEM!F121","v":"00:00:00"},{"$f":"VIIIEM!$A$2","v":"VIIIEM"},null,{"$f":"VIIIEM!E121","v":0},{"$f":"VIIIEM!H121","v":0}]
[null,null,null,null,null,null,null,null,null,null,null,null,null,null,null,null,null,null,null,null,null,null,119,{"$f":"VIIIEM!B122","v":0},{"$f":"VIIIEM!C122","v":0},{"$f":"VIIIEM!D122","v":0},{"$f":"VIIIEM!F122","v":"00:00:00"},{"$f":"VIIIEM!$A$2","v":"VIIIEM"},null,{"$f":"VIIIEM!E122","v":0},{"$f":"VIIIEM!H122","v":0}]
[null,null,null,null,null,null,null,null,null,null,null,null,null,null,null,null,null,null,null,null,null,null,120,{"$f":"VIIIEM!B123","v":0},{"$f":"VIIIEM!C123","v":0},{"$f":"VIIIEM!D123","v":0},{"$f":"VIIIEM!F123","v":"00:00:00"},{"$f":"VIIIEM!$A$2","v":"VIIIEM"},null,{"$f":"VIIIEM!E123","v":0},{"$f":"VIIIEM!H123","v":0}]
[null,null,null,null,null,null,null,null,null,null,null,null,null,null,null,null,null,null,null,null,null,null,121,{"$f":"VIIIEM!B124","v":0},{"$f":"VIIIEM!C124","v":0},{"$f":"VIIIEM!D124","v":0},{"$f":"VIIIEM!F124","v":"00:00:00"},{"$f":"VIIIEM!$A$2","v":"VIIIEM"},null,{"$f":"VIIIEM!E124","v":0},{"$f":"VIIIEM!H124","v":0}]
[null,null,null,null,null,null,null,null,null,null,null,null,null,null,null,null,null,null,null,null,null,null,122,{"$f":"VIIIEM!B125","v":0},{"$f":"VIIIEM!C125","v":0},{"$f":"VIIIEM!D125","v":0},{"$f":"VIIIEM!F125","v":"00:00:00"},{"$f":"VIIIEM!$A$2","v":"VIIIEM"},null,{"$f":"VIIIEM!E125","v":0},{"$f":"VIIIEM!H125","v":0}]
[null,null,null,null,null,null,null,null,null,null,null,null,null,null,null,null,null,null,null,null,null,null,123,{"$f":"VIIIEM!B126","v":0},{"$f":"VIIIEM!C126","v":0},{"$f":"VIIIEM!D126","v":0},{"$f":"VIIIEM!F126","v":"00:00:00"},{"$f":"VIIIEM!$A$2","v":"VIIIEM"},null,{"$f":"VIIIEM!E126","v":0},{"$f":"VIIIEM!H126","v":0}]
[null,null,null,null,null,null,null,null,null,null,null,null,null,null,null,null,null,null,null,null,null,null,124,{"$f":"VIIIEM!B127","v":0},{"$f":"VIIIEM!C127","v":0},{"$f":"VIIIEM!D127","v":0},{"$f":"VIIIEM!F127","v":"00:00:00"},{"$f":"VIIIEM!$A$2","v":"VIIIEM"},null,{"$f":"VIIIEM!E127","v":0},{"$f":"VIIIEM!H127","v":0}]
[null,null,null,null,null,null,null,null,null,null,null,null,null,null,null,null,null,null,null,null,null,null,125,{"$f":"VIIIEM!B128","v":0},{"$f":"VIIIEM!C128","v":0},{"$f":"VIIIEM!D128","v":0},{"$f":"VIIIEM!F128","v":"00:00:00"},{"$f":"VIIIEM!$A$2","v":"VIIIEM"},null,{"$f":"VIIIEM!E128","v":0},{"$f":"VIIIEM!H128","v":0}]
[null,null,null,null,null,null,null,null,null,null,null,null,null,null,null,null,null,null,null,null,null,null,126,{"$f":"VIIIEM!B129","v":0},{"$f":"VIIIEM!C129","v":0},{"$f":"VIIIEM!D129","v":0},{"$f":"VIIIEM!F129","v":"00:00:00"},{"$f":"VIIIEM!$A$2","v":"VIIIEM"},null,{"$f":"VIIIEM!E129","v":0},{"$f":"VIIIEM!H129","v":0}]
[null,null,null,null,null,null,null,null,null,null,null,null,null,null,null,null,null,null,null,null,null,null,127,{"$f":"VIIIEM!B130","v":0},{"$f":"VIIIEM!C130","v":0},{"$f":"VIIIEM!D130","v":0},{"$f":"VIIIEM!F130","v":"00:00:00"},{"$f":"VIIIEM!$A$2","v":"VIIIEM"},null,{"$f":"VIIIEM!E130","v":0},{"$f":"VIIIEM!H130","v":0}]
[null,null,null,null,null,null,null,null,null,null,null,null,null,null,null,null,null,null,null,null,null,null,128,{"$f":"VIIIEM!B131","v":0},{"$f":"VIIIEM!C131","v":0},{"$f":"VIIIEM!D131","v":0},{"$f":"VIIIEM!F131","v":"00:00:00"},{"$f":"VIIIEM!$A$2","v":"VIIIEM"},null,{"$f":"VIIIEM!E131","v":0},{"$f":"VIIIEM!H131","v":0}]
[null,null,null,null,null,null,null,null,null,null,null,null,null,null,null,null,null,null,null,null,null,null,129,{"$f":"VIIIEM!B132","v":0},{"$f":"VIIIEM!C132","v":0},{"$f":"VIIIEM!D132","v":0},{"$f":"VIIIEM!F132","v":"00:00:00"},{"$f":"VIIIEM!$A$2","v":"VIIIEM"},null,{"$f":"VIIIEM!E132","v":0},{"$f":"VIIIEM!H132","v":0}]
[null,null,null,null,null,null,null,null,null,null,null,null,null,null,null,null,null,null,null,null,null,null,130,{"$f":"VIIIEM!B133","v":0},{"$f":"VIIIEM!C133","v":0},{"$f":"VIIIEM!D133","v":0},{"$f":"VIIIEM!F133","v":"00:00:00"},{"$f":"VIIIEM!$A$2","v":"VIIIEM"},null,{"$f":"VIIIEM!E133","v":0},{"$f":"VIIIEM!H133","v":0}]
[null,null,null,null,null,null,null,null,null,null,null,null,null,null,null,null,null,null,null,null,null,null,131,{"$f":"VIIIEM!B134","v":0},{"$f":"VIIIEM!C134","v":0},{"$f":"VIIIEM!D134","v":0},{"$f":"VIIIEM!F134","v":"00:00:00"},{"$f":"VIIIEM!$A$2","v":"VIIIEM"},null,{"$f":"VIIIEM!E134","v":0},{"$f":"VIIIEM!H134","v":0}]
[null,null,null,null,null,null,null,null,null,null,null,null,null,null,null,null,null,null,null,null,null,null,132,{"$f":"VIIIEM!B135","v":0},{"$f":"VIIIEM!C135","v":0},{"$f":"VIIIEM!D135","v":0},{"$f":"VIIIEM!F135","v":"00:00:00"},{"$f":"VIIIEM!$A$2","v":"VIIIEM"},null,{"$f":"VIIIEM!E135","v":0},{"$f":"VIIIEM!H135","v":0}]
[null,null,null,null,null,null,null,null,null,null,null,null,null,null,null,null,null,null,null,null,null,null,133,{"$f":"VIIIEM!B136","v":0},{"$f":"VIIIEM!C136","v":0},{"$f":"VIIIEM!D136","v":0},{"$f":"VIIIEM!F136","v":"00:00:00"},{"$f":"VIIIEM!$A$2","v":"VIIIEM"},null,{"$f":"VIIIEM!E136","v":0},{"$f":"VIIIEM!H136","v":0}]
[null,null,null,null,null,null,null,null,null,null,null,null,null,null,null,null,null,null,null,null,null,null,134,{"$f":"VIIIEM!B137","v":0},{"$f":"VIIIEM!C137","v":0},{"$f":"VIIIEM!D137","v":0},{"$f":"VIIIEM!F137","v":"00:00:00"},{"$f":"VIIIEM!$A$2","v":"VIIIEM"},null,{"$f":"VIIIEM!E137","v":0},{"$f":"VIIIEM!H137","v":0}]
[null,null,null,null,null,null,null,null,null,null,null,null,null,null,null,null,null,null,null,null,null,null,135,{"$f":"VIIIEM!B138","v":0},{"$f":"VIIIEM!C138","v":0},{"$f":"VIIIEM!D138","v":0},{"$f":"VIIIEM!F138","v":"00:00:00"},{"$f":"VIIIEM!$A$2","v":"VIIIEM"},null,{"$f":"VIIIEM!E138","v":0},{"$f":"VIIIEM!H138","v":0}]
[null,null,null,null,null,null,null,null,null,null,null,null,null,null,null,null,null,null,null,null,null,null,136,{"$f":"VIIIEM!B139","v":0},{"$f":"VIIIEM!C139","v":0},{"$f":"VIIIEM!D139","v":0},{"$f":"VIIIEM!F139","v":"00:00:00"},{"$f":"VIIIEM!$A$2","v":"VIIIEM"},null,{"$f":"VIIIEM!E139","v":0},{"$f":"VIIIEM!H139","v":0}]
[null,null,null,null,null,null,null,null,null,null,null,null,null,null,null,null,null,null,null,null,null,null,137,{"$f":"VIIIEM!B140","v":0},{"$f":"VIIIEM!C140","v":0},{"$f":"VIIIEM!D140","v":0},{"$f":"VIIIEM!F140","v":"00:00:00"},{"$f":"VIIIEM!$A$2","v":"VIIIEM"},null,{"$f":"VIIIEM!E140","v":0},{"$f":"VIIIEM!H140","v":0}]
[null,null,null,null,null,null,null,null,null,null,null,null,null,null,null,null,null,null,null,null,null,null,138,{"$f":"VIIIEM!B141","v":0},{"$f":"VIIIEM!C141","v":0},{"$f":"VIIIEM!D141","v":0},{"$f":"VIIIEM!F141","v":"00:00:00"},{"$f":"VIIIEM!$A$2","v":"VIIIEM"},null,{"$f":"VIIIEM!E141","v":0},{"$f":"VIIIEM!H141","v":0}]
[null,null,null,null,null,null,null,null,null,null,null,null,null,null,null,null,null,null,null,null,null,null,139,{"$f":"VIIIEM!B142","v":0},{"$f":"VIIIEM!C142","v":0},{"$f":"VIIIEM!D142","v":0},{"$f":"VIIIEM!F142","v":"00:00:00"},{"$f":"VIIIEM!$A$2","v":"VIIIEM"},null,{"$f":"VIIIEM!E142","v":0},{"$f":"VIIIEM!H142","v":0}]
[null,null,null,null,null,null,null,null,null,null,null,null,null,null,null,null,null,null,null,null,null,null,140,{"$f":"VIIIEM!B143","v":0},{"$f":"VIIIEM!C143","v":0},{"$f":"VIIIEM!D143","v":0},{"$f":"VIIIEM!F143","v":"00:00:00"},{"$f":"VIIIEM!$A$2","v":"VIIIEM"},null,{"$f":"VIIIEM!E143","v":0},{"$f":"VIIIEM!H143","v":0}]
[null,null,null,null,null,null,null,null,null,null,null,null,null,null,null,null,null,null,null,null,null,null,141,{"$f":"VIIIEM!B144","v":0},{"$f":"VIIIEM!C144","v":0},{"$f":"VIIIEM!D144","v":0},{"$f":"VIIIEM!F144","v":"00:00:00"},{"$f":"VIIIEM!$A$2","v":"VIIIEM"},null,{"$f":"VIIIEM!E144","v":0},{"$f":"VIIIEM!H144","v":0}]
[null,null,null,null,null,null,null,null,null,null,null,null,null,null,null,null,null,null,null,null,null,null,142,{"$f":"VIIIEM!B145","v":0},{"$f":"VIIIEM!C145","v":0},{"$f":"VIIIEM!D145","v":0},{"$f":"VIIIEM!F145","v":"00:00:00"},{"$f":"VIIIEM!$A$2","v":"VIIIEM"},null,{"$f":"VIIIEM!E145","v":0},{"$f":"VIIIEM!H145","v":0}]
[null,null,null,null,null,null,null,null,null,null,null,null,null,null,null,null,null,null,null,null,null,null,143,{"$f":"VIIIEM!B146","v":0},{"$f":"VIIIEM!C146","v":0},{"$f":"VIIIEM!D146","v":0},{"$f":"VIIIEM!F146","v":"00:00:00"},{"$f":"VIIIEM!$A$2","v":"VIIIEM"},null,{"$f":"VIIIEM!E146","v":0},{"$f":"VIIIEM!H146","v":0}]
[null,null,null,null,null,null,null,null,null,null,null,null,null,null,null,null,null,null,null,null,null,null,144,{"$f":"VIIIEM!B147","v":0},{"$f":"VIIIEM!C147","v":0},{"$f":"VIIIEM!D147","v":0},{"$f":"VIIIEM!F147","v":"00:00:00"},{"$f":"VIIIEM!$A$2","v":"VIIIEM"},null,{"$f":"VIIIEM!E147","v":0},{"$f":"VIIIEM!H147","v":0}]
[null,null,null,null,null,null,null,null,null,null,null,null,null,null,null,null,null,null,null,null,null,null,145,{"$f":"VIIIEM!B148","v":0},{"$f":"VIIIEM!C148","v":0},{"$f":"VIIIEM!D148","v":0},{"$f":"VIIIEM!F148","v":"00:00:00"},{"$f":"VIIIEM!$A$2","v":"VIIIEM"},null,{"$f":"VIIIEM!E148","v":0},{"$f":"VIIIEM!H148","v":0}]
[null,null,null,null,null,null,null,null,null,null,null,null,null,null,null,null,null,null,null,null,null,null,146,{"$f":"VIIIEM!B149","v":0},{"$f":"VIIIEM!C149","v":0},{"$f":"VIIIEM!D149","v":0},{"$f":"VIIIEM!F149","v":"00:00:00"},{"$f":"VIIIEM!$A$2","v":"VIIIEM"},null,{"$f":"VIIIEM!E149","v":0},{"$f":"VIIIEM!H149","v":0}]
[null,null,null,null,null,null,null,null,null,null,null,null,null,null,null,null,null,null,null,null,null,null,147,{"$f":"VIIIEM!B150","v":0},{"$f":"VIIIEM!C150","v":0},{"$f":"VIIIEM!D150","v":0},{"$f":"VIIIEM!F150","v":"00:00:00"},{"$f":"VIIIEM!$A$2","v":"VIIIEM"},null,{"$f":"VIIIEM!E150","v":0},{"$f":"VIIIEM!H150","v":0}]
[null,null,null,null,null,null,null,null,null,null,null,null,null,null,null,null,null,null,null,null,null,null,148,{"$f":"VIIIEM!B151","v":0},{"$f":"VIIIEM!C151","v":0},{"$f":"VIIIEM!D151","v":0},{"$f":"VIIIEM!F151","v":"00:00:00"},{"$f":"VIIIEM!$A$2","v":"VIIIEM"},null,{"$f":"VIIIEM!E151","v":0},{"$f":"VIIIEM!H151","v":0}]
[null,null,null,null,null,null,null,null,null,null,null,null,null,null,null,null,null,null,null,null,null,null,149,{"$f":"VIIIEM!B152","v":0},{"$f":"VIIIEM!C152","v":0},{"$f":"VIIIEM!D152","v":0},{"$f":"VIIIEM!F152","v":"00:00:00"},{"$f":"VIIIEM!$A$2","v":"VIIIEM"},null,{"$f":"VIIIEM!E152","v":0},{"$f":"VIIIEM!H152","v":0}]
[null,null,null,null,null,null,null,null,null,null,null,null,null,null,null,null,null,null,null,null,null,null,150,{"$f":"VIIIEM!B153","v":0},{"$f":"VIIIEM!C153","v":0},{"$f":"VIIIEM!D153","v":0},{"$f":"VIIIEM!F153","v":"00:00:00"},{"$f":"VIIIEM!$A$2","v":"VIIIEM"},null,{"$f":"VIIIEM!E153","v":0},{"$f":"VIIIEM!H153","v":0}]
[]
[null,null,null,null,null,null,null,null,null,null,null,null,null,null,null,null,null,null,null,null,null,null,1,{"$f":"IXEM!B4","v":0},{"$f":"IXEM!C4","v":0},{"$f":"IXEM!D4","v":0},{"$f":"IXEM!F4","v":"00:00:00"},{"$f":"IXEM!$A$2","v":"IXEM"},null,{"$f":"IXEM!E4","v":0},{"$f":"IXEM!H4","v":0}]
[null,null,null,null,null,null,null,null,null,null,null,null,null,null,null,null,null,null,null,null,null,null,2,{"$f":"IXEM!B5","v":0},{"$f":"IXEM!C5","v":0},{"$f":"IXEM!D5","v":0},{"$f":"IXEM!F5","v":"00:00:00"},{"$f":"IXEM!$A$2","v":"IXEM"},null,{"$f":"IXEM!E5","v":0},{"$f":"IXEM!H5","v":0}]
[null,null,null,null,null,null,null,null,null,null,null,null,null,null,null,null,null,null,null,null,null,null,3,{"$f":"IXEM!B6","v":0},{"$f":"IXEM!C6","v":0},{"$f":"IXEM!D6","v":0},{"$f":"IXEM!F6","v":"00:00:00"},{"$f":"IXEM!$A$2","v":"IXEM"},null,{"$f":"IXEM!E6","v":0},{"$f":"IXEM!H6","v":0}]
[null,null,null,null,null,null,null,null,null,null,null,null,null,null,null,null,null,null,null,null,null,null,4,{"$f":"IXEM!B7","v":0},{"$f":"IXEM!C7","v":0},{"$f":"IXEM!D7","v":0},{"$f":"IXEM!F7","v":"00:00:00"},{"$f":"IXEM!$A$2","v":"IXEM"},null,{"$f":"IXEM!E7","v":0},{"$f":"IXEM!H7","v":0}]
[null,null,null,null,null,null,null,null,null,null,null,null,null,null,null,null,null,null,null,null,null,null,5,{"$f":"IXEM!B8","v":0},{"$f":"IXEM!C8","v":0},{"$f":"IXEM!D8","v":0},{"$f":"IXEM!F8","v":"00:00:00"},{"$f":"IXEM!$A$2","v":"IXEM"},null,{"$f":"IXEM!E8","v":0},{"$f":"IXEM!H8","v":0}]
[null,null,null,null,null,null,null,null,null,null,null,null,null,null,null,null,null,null,null,null,null,null,6,{"$f":"IXEM!B9","v":0},{"$f":"IXEM!C9","v":0},{"$f":"IXEM!D9","v":0},{"$f":"IXEM!F9","v":"00:00:00"},{"$f":"IXEM!$A$2","v":"IXEM"},null,{"$f":"IXEM!E9","v":0},{"$f":"IXEM!H9","v":0}]
[null,null,null,null,null,null,null,null,null,null,null,null,null,null,null,null,null,null,null,null,null,null,7,{"$f":"IXEM!B10","v":0},{"$f":"IXEM!C10","v":0},{"$f":"IXEM!D10","v":0},{"$f":"IXEM!F10","v":"00:00:00"},{"$f":"IXEM!$A$2","v":"IXEM"},null,{"$f":"IXEM!E10","v":0},{"$f":"IXEM!H10","v":0}]
[null,null,null,null,null,null,null,null,null,null,null,null,null,null,null,null,null,null,null,null,null,null,8,{"$f":"IXEM!B11","v":0},{"$f":"IXEM!C11","v":0},{"$f":"IXEM!D11","v":0},{"$f":"IXEM!F11","v":"00:00:00"},{"$f":"IXEM!$A$2","v":"IXEM"},null,{"$f":"IXEM!E11","v":0},{"$f":"IXEM!H11","v":0}]
[null,null,null,null,null,null,null,null,null,null,null,null,null,null,null,null,null,null,null,null,null,null,9,{"$f":"IXEM!B12","v":0},{"$f":"IXEM!C12","v":0},{"$f":"IXEM!D12","v":0},{"$f":"IXEM!F12","v":"00:00:00"},{"$f":"IXEM!$A$2","v":"IXEM"},null,{"$f":"IXEM!E12","v":0},{"$f":"IXEM!H12","v":0}]
[null,null,null,null,null,null,null,null,null,null,null,null,null,null,null,null,null,null,null,null,null,null,10,{"$f":"IXEM!B13","v":0},{"$f":"IXEM!C13","v":0},{"$f":"IXEM!D13","v":0},{"$f":"IXEM!F13","v":"00:00:00"},{"$f":"IXEM!$A$2","v":"IXEM"},null,{"$f":"IXEM!E13","v":0},{"$f":"IXEM!H13","v":0}]
[null,null,null,null,null,null,null,null,null,null,null,null,null,null,null,null,null,null,null,null,null,null,11,{"$f":"IXEM!B14","v":0},{"$f":"IXEM!C14","v":0},{"$f":"IXEM!D14","v":0},{"$f":"IXEM!F14","v":"00:00:00"},{"$f":"IXEM!$A$2","v":"IXEM"},null,{"$f":"IXEM!E14","v":0},{"$f":"IXEM!H14","v":0}]
[null,null,null,null,null,null,null,null,null,null,null,null,null,null,null,null,null,null,null,null,null,null,12,{"$f":"IXEM!B15","v":0},{"$f":"IXEM!C15","v":0},{"$f":"IXEM!D15","v":0},{"$f":"IXEM!F15","v":"00:00:00"},{"$f":"IXEM!$A$2","v":"IXEM"},null,{"$f":"IXEM!E15","v":0},{"$f":"IXEM!H15","v":0}]
[null,null,null,null,null,null,null,null,null,null,null,null,null,null,null,null,null,null,null,null,null,null,13,{"$f":"IXEM!B16","v":0},{"$f":"IXEM!C16","v":0},{"$f":"IXEM!D16","v":0},{"$f":"IXEM!F16","v":"00:00:00"},{"$f":"IXEM!$A$2","v":"IXEM"},null,{"$f":"IXEM!E16","v":0},{"$f":"IXEM!H16","v":0}]
[null,null,null,null,null,null,null,null,null,null,null,null,null,null,null,null,null,null,null,null,null,null,14,{"$f":"IXEM!B17","v":0},{"$f":"IXEM!C17","v":0},{"$f":"IXEM!D17","v":0},{"$f":"IXEM!F17","v":"00:00:00"},{"$f":"IXEM!$A$2","v":"IXEM"},null,{"$f":"IXEM!E17","v":0},{"$f":"IXEM!H17","v":0}]
[null,null,null,null,null,null,null,null,null,null,null,null,null,null,null,null,null,null,null,null,null,null,15,{"$f":"IXEM!B18","v":0},{"$f":"IXEM!C18","v":0},{"$f":"IXEM!D18","v":0},{"$f":"IXEM!F18","v":"00:00:00"},{"$f":"IXEM!$A$2","v":"IXEM"},null,{"$f":"IXEM!E18","v":0},{"$f":"IXEM!H18","v":0}]
[null,null,null,null,null,null,null,null,null,null,null,null,null,null,null,null,null,null,null,null,null,null,16,{"$f":"IXEM!B19","v":0},{"$f":"IXEM!C19","v":0},{"$f":"IXEM!D19","v":0},{"$f":"IXEM!F19","v":"00:00:00"},{"$f":"IXEM!$A$2","v":"IXEM"},null,{"$f":"IXEM!E19","v":0},{"$f":"IXEM!H19","v":0}]
[null,null,null,null,null,null,null,null,null,null,null,null,null,null,null,null,null,null,null,null,null,null,17,{"$f":"IXEM!B20","v":0},{"$f":"IXEM!C20","v":0},{"$f":"IXEM!D20","v":0},{"$f":"IXEM!F20","v":"00:00:00"},{"$f":"IXEM!$A$2","v":"IXEM"},null,{"$f":"IXEM!E20","v":0},{"$f":"IXEM!H20","v":0}]
[null,null,null,null,null,null,null,null,null,null,null,null,null,null,null,null,null,null,null,null,null,null,18,{"$f":"IXEM!B21","v":0},{"$f":"IXEM!C21","v":0},{"$f":"IXEM!D21","v":0},{"$f":"IXEM!F21","v":"00:00:00"},{"$f":"IXEM!$A$2","v":"IXEM"},null,{"$f":"IXEM!E21","v":0},{"$f":"IXEM!H21","v":0}]
[null,null,null,null,null,null,null,null,null,null,null,null,null,null,null,null,null,null,null,null,null,null,19,{"$f":"IXEM!B22","v":0},{"$f":"IXEM!C22","v":0},{"$f":"IXEM!D22","v":0},{"$f":"IXEM!F22","v":"00:00:00"},{"$f":"IXEM!$A$2","v":"IXEM"},null,{"$f":"IXEM!E22","v":0},{"$f":"IXEM!H22","v":0}]
[null,null,null,null,null,null,null,null,null,null,null,null,null,null,null,null,null,null,null,null,null,null,20,{"$f":"IXEM!B23","v":0},{"$f":"IXEM!C23","v":0},{"$f":"IXEM!D23","v":0},{"$f":"IXEM!F23","v":"00:00:00"},{"$f":"IXEM!$A$2","v":"IXEM"},null,{"$f":"IXEM!E23","v":0},{"$f":"IXEM!H23","v":0}]
[null,null,null,null,null,null,null,null,null,null,null,null,null,null,null,null,null,null,null,null,null,null,21,{"$f":"IXEM!B24","v":0},{"$f":"IXEM!C24","v":0},{"$f":"IXEM!D24","v":0},{"$f":"IXEM!F24","v":"00:00:00"},{"$f":"IXEM!$A$2","v":"IXEM"},null,{"$f":"IXEM!E24","v":0},{"$f":"IXEM!H24","v":0}]
[null,null,null,null,null,null,null,null,null,null,null,null,null,null,null,null,null,null,null,null,null,null,22,{"$f":"IXEM!B25","v":0},{"$f":"IXEM!C25","v":0},{"$f":"IXEM!D25","v":0},{"$f":"IXEM!F25","v":"00:00:00"},{"$f":"IXEM!$A$2","v":"IXEM"},null,{"$f":"IXEM!E25","v":0},{"$f":"IXEM!H25","v":0}]
[null,null,null,null,null,null,null,null,null,null,null,null,null,null,null,null,null,null,null,null,null,null,23,{"$f":"IXEM!B26","v":0},{"$f":"IXEM!C26","v":0},{"$f":"IXEM!D26","v":0},{"$f":"IXEM!F26","v":"00:00:00"},{"$f":"IXEM!$A$2","v":"IXEM"},null,{"$f":"IXEM!E26","v":0},{"$f":"IXEM!H26","v":0}]
[null,null,null,null,null,null,null,null,null,null,null,null,null,null,null,null,null,null,null,null,null,null,24,{"$f":"IXEM!B27","v":0},{"$f":"IXEM!C27","v":0},{"$f":"IXEM!D27","v":0},{"$f":"IXEM!F27","v":"00:00:00"},{"$f":"IXEM!$A$2","v":"IXEM"},null,{"$f":"IXEM!E27","v":0},{"$f":"IXEM!H27","v":0}]
[null,null,null,null,null,null,null,null,null,null,null,null,null,null,null,null,null,null,null,null,null,null,25,{"$f":"IXEM!B28","v":0},{"$f":"IXEM!C28","v":0},{"$f":"IXEM!D28","v":0},{"$f":"IXEM!F28","v":"00:00:00"},{"$f":"IXEM!$A$2","v":"IXEM"},null,{"$f":"IXEM!E28","v":0},{"$f":"IXEM!H28","v":0}]
[null,null,null,null,null,null,null,null,null,null,null,null,null,null,null,null,null,null,null,null,null,null,26,{"$f":"IXEM!B29","v":0},{"$f":"IXEM!C29","v":0},{"$f":"IXEM!D29","v":0},{"$f":"IXEM!F29","v":"00:00:00"},{"$f":"IXEM!$A$2","v":"IXEM"},null,{"$f":"IXEM!E29","v":0},{"$f":"IXEM!H29","v":0}]
[null,null,null,null,null,null,null,null,null,null,null,null,null,null,null,null,null,null,null,null,null,null,27,{"$f":"IXEM!B30","v":0},{"$f":"IXEM!C30","v":0},{"$f":"IXEM!D30","v":0},{"$f":"IXEM!F30","v":"00:00:00"},{"$f":"IXEM!$A$2","v":"IXEM"},null,{"$f":"IXEM!E30","v":0},{"$f":"IXEM!H30","v":0}]
[null,null,null,null,null,null,null,null,null,null,null,null,null,null,null,null,null,null,null,null,null,null,28,{"$f":"IXEM!B31","v":0},{"$f":"IXEM!C31","v":0},{"$f":"IXEM!D31","v":0},{"$f":"IXEM!F31","v":"00:00:00"},{"$f":"IXEM!$A$2","v":"IXEM"},null,{"$f":"IXEM!E31","v":0},{"$f":"IXEM!H31","v":0}]
[null,null,null,null,null,null,null,null,null,null,null,null,null,null,null,null,null,null,null,null,null,null,29,{"$f":"IXEM!B32","v":0},{"$f":"IXEM!C32","v":0},{"$f":"IXEM!D32","v":0},{"$f":"IXEM!F32","v":"00:00:00"},{"$f":"IXEM!$A$2","v":"IXEM"},null,{"$f":"IXEM!E32","v":0},{"$f":"IXEM!H32","v":0}]
[null,null,null,null,null,null,null,null,null,null,null,null,null,null,null,null,null,null,null,null,null,null,30,{"$f":"IXEM!B33","v":0},{"$f":"IXEM!C33","v":0},{"$f":"IXEM!D33","v":0},{"$f":"IXEM!F33","v":"00:00:00"},{"$f":"IXEM!$A$2","v":"IXEM"},null,{"$f":"IXEM!E33","v":0},{"$f":"IXEM!H33","v":0}]
[null,null,null,null,null,null,null,null,null,null,null,null,null,null,null,null,null,null,null,null,null,null,31,{"$f":"IXEM!B34","v":0},{"$f":"IXEM!C34","v":0},{"$f":"IXEM!D34","v":0},{"$f":"IXEM!F34","v":"00:00:00"},{"$f":"IXEM!$A$2","v":"IXEM"},null,{"$f":"IXEM!E34","v":0},{"$f":"IXEM!H34","v":0}]
[null,null,null,null,null,null,null,null,null,null,null,null,null,null,null,null,null,null,null,null,null,null,32,{"$f":"IXEM!B35","v":0},{"$f":"IXEM!C35","v":0},{"$f":"IXEM!D35","v":0},{"$f":"IXEM!F35","v":"00:00:00"},{"$f":"IXEM!$A$2","v":"IXEM"},null,{"$f":"IXEM!E35","v":0},{"$f":"IXEM!H35","v":0}]
[null,null,null,null,null,null,null,null,null,null,null,null,null,null,null,null,null,null,null,null,null,null,33,{"$f":"IXEM!B36","v":0},{"$f":"IXEM!C36","v":0},{"$f":"IXEM!D36","v":0},{"$f":"IXEM!F36","v":"00:00:00"},{"$f":"IXEM!$A$2","v":"IXEM"},null,{"$f":"IXEM!E36","v":0},{"$f":"IXEM!H36","v":0}]
[null,null,null,null,null,null,null,null,null,null,null,null,null,null,null,null,null,null,null,null,null,null,34,{"$f":"IXEM!B37","v":0},{"$f":"IXEM!C37","v":0},{"$f":"IXEM!D37","v":0},{"$f":"IXEM!F37","v":"00:00:00"},{"$f":"IXEM!$A$2","v":"IXEM"},null,{"$f":"IXEM!E37","v":0},{"$f":"IXEM!H37","v":0}]
[null,null,null,null,null,null,null,null,null,null,null,null,null,null,null,null,null,null,null,null,null,null,35,{"$f":"IXEM!B38","v":0},{"$f":"IXEM!C38","v":0},{"$f":"IXEM!D38","v":0},{"$f":"IXEM!F38","v":"00:00:00"},{"$f":"IXEM!$A$2","v":"IXEM"},null,{"$f":"IXEM!E38","v":0},{"$f":"IXEM!H38","v":0}]
[null,null,null,null,null,null,null,null,null,null,null,null,null,null,null,null,null,null,null,null,null,null,36,{"$f":"IXEM!B39","v":0},{"$f":"IXEM!C39","v":0},{"$f":"IXEM!D39","v":0},{"$f":"IXEM!F39","v":"00:00:00"},{"$f":"IXEM!$A$2","v":"IXEM"},null,{"$f":"IXEM!E39","v":0},{"$f":"IXEM!H39","v":0}]
[null,null,null,null,null,null,null,null,null,null,null,null,null,null,null,null,null,null,null,null,null,null,37,{"$f":"IXEM!B40","v":0},{"$f":"IXEM!C40","v":0},{"$f":"IXEM!D40","v":0},{"$f":"IXEM!F40","v":"00:00:00"},{"$f":"IXEM!$A$2","v":"IXEM"},null,{"$f":"IXEM!E40","v":0},{"$f":"IXEM!H40","v":0}]
[null,null,null,null,null,null,null,null,null,null,null,null,null,null,null,null,null,null,null,null,null,null,38,{"$f":"IXEM!B41","v":0},{"$f":"IXEM!C41","v":0},{"$f":"IXEM!D41","v":0},{"$f":"IXEM!F41","v":"00:00:00"},{"$f":"IXEM!$A$2","v":"IXEM"},null,{"$f":"IXEM!E41","v":0},{"$f":"IXEM!H41","v":0}]
[null,null,null,null,null,null,null,null,null,null,null,null,null,null,null,null,null,null,null,null,null,null,39,{"$f":"IXEM!B42","v":0},{"$f":"IXEM!C42","v":0},{"$f":"IXEM!D42","v":0},{"$f":"IXEM!F42","v":"00:00:00"},{"$f":"IXEM!$A$2","v":"IXEM"},null,{"$f":"IXEM!E42","v":0},{"$f":"IXEM!H42","v":0}]
[null,null,null,null,null,null,null,null,null,null,null,null,null,null,null,null,null,null,null,null,null,null,40,{"$f":"IXEM!B43","v":0},{"$f":"IXEM!C43","v":0},{"$f":"IXEM!D43","v":0},{"$f":"IXEM!F43","v":"00:00:00"},{"$f":"IXEM!$A$2","v":"IXEM"},null,{"$f":"IXEM!E43","v":0},{"$f":"IXEM!H43","v":0}]
[null,null,null,null,null,null,null,null,null,null,null,null,null,null,null,null,null,null,null,null,null,null,41,{"$f":"IXEM!B44","v":0},{"$f":"IXEM!C44","v":0},{"$f":"IXEM!D44","v":0},{"$f":"IXEM!F44","v":"00:00:00"},{"$f":"IXEM!$A$2","v":"IXEM"},null,{"$f":"IXEM!E44","v":0},{"$f":"IXEM!H44","v":0}]
[null,null,null,null,null,null,null,null,null,null,null,null,null,null,null,null,null,null,null,null,null,null,42,{"$f":"IXEM!B45","v":0},{"$f":"IXEM!C45","v":0},{"$f":"IXEM!D45","v":0},{"$f":"IXEM!F45","v":"00:00:00"},{"$f":"IXEM!$A$2","v":"IXEM"},null,{"$f":"IXEM!E45","v":0},{"$f":"IXEM!H45","v":0}]
[null,null,null,null,null,null,null,null,null,null,null,null,null,null,null,null,null,null,null,null,null,null,43,{"$f":"IXEM!B46","v":0},{"$f":"IXEM!C46","v":0},{"$f":"IXEM!D46","v":0},{"$f":"IXEM!F46","v":"00:00:00"},{"$f":"IXEM!$A$2","v":"IXEM"},null,{"$f":"IXEM!E46","v":0},{"$f":"IXEM!H46","v":0}]
[null,null,null,null,null,null,null,null,null,null,null,null,null,null,null,null,null,null,null,null,null,null,44,{"$f":"IXEM!B47","v":0},{"$f":"IXEM!C47","v":0},{"$f":"IXEM!D47","v":0},{"$f":"IXEM!F47","v":"00:00:00"},{"$f":"IXEM!$A$2","v":"IXEM"},null,{"$f":"IXEM!E47","v":0},{"$f":"IXEM!H47","v":0}]
[null,null,null,null,null,null,null,null,null,null,null,null,null,null,null,null,null,null,null,null,null,null,45,{"$f":"IXEM!B48","v":0},{"$f":"IXEM!C48","v":0},{"$f":"IXEM!D48","v":0},{"$f":"IXEM!F48","v":"00:00:00"},{"$f":"IXEM!$A$2","v":"IXEM"},null,{"$f":"IXEM!E48","v":0},{"$f":"IXEM!H48","v":0}]
[null,null,null,null,null,null,null,null,null,null,null,null,null,null,null,null,null,null,null,null,null,null,46,{"$f":"IXEM!B49","v":0},{"$f":"IXEM!C49","v":0},{"$f":"IXEM!D49","v":0},{"$f":"IXEM!F49","v":"00:00:00"},{"$f":"IXEM!$A$2","v":"IXEM"},null,{"$f":"IXEM!E49","v":0},{"$f":"IXEM!H49","v":0}]
[null,null,null,null,null,null,null,null,null,null,null,null,null,null,null,null,null,null,null,null,null,null,47,{"$f":"IXEM!B50","v":0},{"$f":"IXEM!C50","v":0},{"$f":"IXEM!D50","v":0},{"$f":"IXEM!F50","v":"00:00:00"},{"$f":"IXEM!$A$2","v":"IXEM"},null,{"$f":"IXEM!E50","v":0},{"$f":"IXEM!H50","v":0}]
[null,null,null,null,null,null,null,null,null,null,null,null,null,null,null,null,null,null,null,null,null,null,48,{"$f":"IXEM!B51","v":0},{"$f":"IXEM!C51","v":0},{"$f":"IXEM!D51","v":0},{"$f":"IXEM!F51","v":"00:00:00"},{"$f":"IXEM!$A$2","v":"IXEM"},null,{"$f":"IXEM!E51","v":0},{"$f":"IXEM!H51","v":0}]
[null,null,null,null,null,null,null,null,null,null,null,null,null,null,null,null,null,null,null,null,null,null,49,{"$f":"IXEM!B52","v":0},{"$f":"IXEM!C52","v":0},{"$f":"IXEM!D52","v":0},{"$f":"IXEM!F52","v":"00:00:00"},{"$f":"IXEM!$A$2","v":"IXEM"},null,{"$f":"IXEM!E52","v":0},{"$f":"IXEM!H52","v":0}]
[null,null,null,null,null,null,null,null,null,null,null,null,null,null,null,null,null,null,null,null,null,null,50,{"$f":"IXEM!B53","v":0},{"$f":"IXEM!C53","v":0},{"$f":"IXEM!D53","v":0},{"$f":"IXEM!F53","v":"00:00:00"},{"$f":"IXEM!$A$2","v":"IXEM"},null,{"$f":"IXEM!E53","v":0},{"$f":"IXEM!H53","v":0}]
[null,null,null,null,null,null,null,null,null,null,null,null,null,null,null,null,null,null,null,null,null,null,51,{"$f":"IXEM!B54","v":0},{"$f":"IXEM!C54","v":0},{"$f":"IXEM!D54","v":0},{"$f":"IXEM!F54","v":"00:00:00"},{"$f":"IXEM!$A$2","v":"IXEM"},null,{"$f":"IXEM!E54","v":0},{"$f":"IXEM!H54","v":0}]
[null,null,null,null,null,null,null,null,null,null,null,null,null,null,null,null,null,null,null,null,null,null,52,{"$f":"IXEM!B55","v":0},{"$f":"IXEM!C55","v":0},{"$f":"IXEM!D55","v":0},{"$f":"IXEM!F55","v":"00:00:00"},{"$f":"IXEM!$A$2","v":"IXEM"},null,{"$f":"IXEM!E55","v":0},{"$f":"IXEM!H55","v":0}]
[null,null,null,null,null,null,null,null,null,null,null,null,null,null,null,null,null,null,null,null,null,null,53,{"$f":"IXEM!B56","v":0},{"$f":"IXEM!C56","v":0},{"$f":"IXEM!D56","v":0},{"$f":"IXEM!F56","v":"00:00:00"},{"$f":"IXEM!$A$2","v":"IXEM"},null,{"$f":"IXEM!E56","v":0},{"$f":"IXEM!H56","v":0}]
[null,null,null,null,null,null,null,null,null,null,null,null,null,null,null,null,null,null,null,null,null,null,54,{"$f":"IXEM!B57","v":0},{"$f":"IXEM!C57","v":0},{"$f":"IXEM!D57","v":0},{"$f":"IXEM!F57","v":"00:00:00"},{"$f":"IXEM!$A$2","v":"IXEM"},null,{"$f":"IXEM!E57","v":0},{"$f":"IXEM!H57","v":0}]
[null,null,null,null,null,null,null,null,null,null,null,null,null,null,null,null,null,null,null,null,null,null,55,{"$f":"IXEM!B58","v":0},{"$f":"IXEM!C58","v":0},{"$f":"IXEM!D58","v":0},{"$f":"IXEM!F58","v":"00:00:00"},{"$f":"IXEM!$A$2","v":"IXEM"},null,{"$f":"IXEM!E58","v":0},{"$f":"IXEM!H58","v":0}]
[null,null,null,null,null,null,null,null,null,null,null,null,null,null,null,null,null,null,null,null,null,null,56,{"$f":"IXEM!B59","v":0},{"$f":"IXEM!C59","v":0},{"$f":"IXEM!D59","v":0},{"$f":"IXEM!F59","v":"00:00:00"},{"$f":"IXEM!$A$2","v":"IXEM"},null,{"$f":"IXEM!E59","v":0},{"$f":"IXEM!H59","v":0}]
[null,null,null,null,null,null,null,null,null,null,null,null,null,null,null,null,null,null,null,null,null,null,57,{"$f":"IXEM!B60","v":0},{"$f":"IXEM!C60","v":0},{"$f":"IXEM!D60","v":0},{"$f":"IXEM!F60","v":"00:00:00"},{"$f":"IXEM!$A$2","v":"IXEM"},null,{"$f":"IXEM!E60","v":0},{"$f":"IXEM!H60","v":0}]
[null,null,null,null,null,null,null,null,null,null,null,null,null,null,null,null,null,null,null,null,null,null,58,{"$f":"IXEM!B61","v":0},{"$f":"IXEM!C61","v":0},{"$f":"IXEM!D61","v":0},{"$f":"IXEM!F61","v":"00:00:00"},{"$f":"IXEM!$A$2","v":"IXEM"},null,{"$f":"IXEM!E61","v":0},{"$f":"IXEM!H61","v":0}]
[null,null,null,null,null,null,null,null,null,null,null,null,null,null,null,null,null,null,null,null,null,null,59,{"$f":"IXEM!B62","v":0},{"$f":"IXEM!C62","v":0},{"$f":"IXEM!D62","v":0},{"$f":"IXEM!F62","v":"00:00:00"},{"$f":"IXEM!$A$2","v":"IXEM"},null,{"$f":"IXEM!E62","v":0},{"$f":"IXEM!H62","v":0}]
[null,null,null,null,null,null,null,null,null,null,null,null,null,null,null,null,null,null,null,null,null,null,60,{"$f":"IXEM!B63","v":0},{"$f":"IXEM!C63","v":0},{"$f":"IXEM!D63","v":0},{"$f":"IXEM!F63","v":"00:00:00"},{"$f":"IXEM!$A$2","v":"IXEM"},null,{"$f":"IXEM!E63","v":0},{"$f":"IXEM!H63","v":0}]
[null,null,null,null,null,null,null,null,null,null,null,null,null,null,null,null,null,null,null,null,null,null,61,{"$f":"IXEM!B64","v":0},{"$f":"IXEM!C64","v":0},{"$f":"IXEM!D64","v":0},{"$f":"IXEM!F64","v":"00:00:00"},{"$f":"IXEM!$A$2","v":"IXEM"},null,{"$f":"IXEM!E64","v":0},{"$f":"IXEM!H64","v":0}]
[null,null,null,null,null,null,null,null,null,null,null,null,null,null,null,null,null,null,null,null,null,null,62,{"$f":"IXEM!B65","v":0},{"$f":"IXEM!C65","v":0},{"$f":"IXEM!D65","v":0},{"$f":"IXEM!F65","v":"00:00:00"},{"$f":"IXEM!$A$2","v":"IXEM"},null,{"$f":"IXEM!E65","v":0},{"$f":"IXEM!H65","v":0}]
[null,null,null,null,null,null,null,null,null,null,null,null,null,null,null,null,null,null,null,null,null,null,63,{"$f":"IXEM!B66","v":0},{"$f":"IXEM!C66","v":0},{"$f":"IXEM!D66","v":0},{"$f":"IXEM!F66","v":"00:00:00"},{"$f":"IXEM!$A$2","v":"IXEM"},null,{"$f":"IXEM!E66","v":0},{"$f":"IXEM!H66","v":0}]
[null,null,null,null,null,null,null,null,null,null,null,null,null,null,null,null,null,null,null,null,null,null,64,{"$f":"IXEM!B67","v":0},{"$f":"IXEM!C67","v":0},{"$f":"IXEM!D67","v":0},{"$f":"IXEM!F67","v":"00:00:00"},{"$f":"IXEM!$A$2","v":"IXEM"},null,{"$f":"IXEM!E67","v":0},{"$f":"IXEM!H67","v":0}]
[null,null,null,null,null,null,null,null,null,null,null,null,null,null,null,null,null,null,null,null,null,null,65,{"$f":"IXEM!B68","v":0},{"$f":"IXEM!C68","v":0},{"$f":"IXEM!D68","v":0},{"$f":"IXEM!F68","v":"00:00:00"},{"$f":"IXEM!$A$2","v":"IXEM"},null,{"$f":"IXEM!E68","v":0},{"$f":"IXEM!H68","v":0}]
[null,null,null,null,null,null,null,null,null,null,null,null,null,null,null,null,null,null,null,null,null,null,66,{"$f":"IXEM!B69","v":0},{"$f":"IXEM!C69","v":0},{"$f":"IXEM!D69","v":0},{"$f":"IXEM!F69","v":"00:00:00"},{"$f":"IXEM!$A$2","v":"IXEM"},null,{"$f":"IXEM!E69","v":0},{"$f":"IXEM!H69","v":0}]
[null,null,null,null,null,null,null,null,null,null,null,null,null,null,null,null,null,null,null,null,null,null,67,{"$f":"IXEM!B70","v":0},{"$f":"IXEM!C70","v":0},{"$f":"IXEM!D70","v":0},{"$f":"IXEM!F70","v":"00:00:00"},{"$f":"IXEM!$A$2","v":"IXEM"},null,{"$f":"IXEM!E70","v":0},{"$f":"IXEM!H70","v":0}]
[null,null,null,null,null,null,null,null,null,null,null,null,null,null,null,null,null,null,null,null,null,null,68,{"$f":"IXEM!B71","v":0},{"$f":"IXEM!C71","v":0},{"$f":"IXEM!D71","v":0},{"$f":"IXEM!F71","v":"00:00:00"},{"$f":"IXEM!$A$2","v":"IXEM"},null,{"$f":"IXEM!E71","v":0},{"$f":"IXEM!H71","v":0}]
[null,null,null,null,null,null,null,null,null,null,null,null,null,null,null,null,null,null,null,null,null,null,69,{"$f":"IXEM!B72","v":0},{"$f":"IXEM!C72","v":0},{"$f":"IXEM!D72","v":0},{"$f":"IXEM!F72","v":"00:00:00"},{"$f":"IXEM!$A$2","v":"IXEM"},null,{"$f":"IXEM!E72","v":0},{"$f":"IXEM!H72","v":0}]
[null,null,null,null,null,null,null,null,null,null,null,null,null,null,null,null,null,null,null,null,null,null,70,{"$f":"IXEM!B73","v":0},{"$f":"IXEM!C73","v":0},{"$f":"IXEM!D73","v":0},{"$f":"IXEM!F73","v":"00:00:00"},{"$f":"IXEM!$A$2","v":"IXEM"},null,{"$f":"IXEM!E73","v":0},{"$f":"IXEM!H73","v":0}]
[null,null,null,null,null,null,null,null,null,null,null,null,null,null,null,null,null,null,null,null,null,null,71,{"$f":"IXEM!B74","v":0},{"$f":"IXEM!C74","v":0},{"$f":"IXEM!D74","v":0},{"$f":"IXEM!F74","v":"00:00:00"},{"$f":"IXEM!$A$2","v":"IXEM"},null,{"$f":"IXEM!E74","v":0},{"$f":"IXEM!H74","v":0}]
[null,null,null,null,null,null,null,null,null,null,null,null,null,null,null,null,null,null,null,null,null,null,72,{"$f":"IXEM!B75","v":0},{"$f":"IXEM!C75","v":0},{"$f":"IXEM!D75","v":0},{"$f":"IXEM!F75","v":"00:00:00"},{"$f":"IXEM!$A$2","v":"IXEM"},null,{"$f":"IXEM!E75","v":0},{"$f":"IXEM!H75","v":0}]
[null,null,null,null,null,null,null,null,null,null,null,null,null,null,null,null,null,null,null,null,null,null,73,{"$f":"IXEM!B76","v":0},{"$f":"IXEM!C76","v":0},{"$f":"IXEM!D76","v":0},{"$f":"IXEM!F76","v":"00:00:00"},{"$f":"IXEM!$A$2","v":"IXEM"},null,{"$f":"IXEM!E76","v":0},{"$f":"IXEM!H76","v":0}]
[null,null,null,null,null,null,null,null,null,null,null,null,null,null,null,null,null,null,null,null,null,null,74,{"$f":"IXEM!B77","v":0},{"$f":"IXEM!C77","v":0},{"$f":"IXEM!D77","v":0},{"$f":"IXEM!F77","v":"00:00:00"},{"$f":"IXEM!$A$2","v":"IXEM"},null,{"$f":"IXEM!E77","v":0},{"$f":"IXEM!H77","v":0}]
[null,null,null,null,null,null,null,null,null,null,null,null,null,null,null,null,null,null,null,null,null,null,75,{"$f":"IXEM!B78","v":0},{"$f":"IXEM!C78","v":0},{"$f":"IXEM!D78","v":0},{"$f":"IXEM!F78","v":"00:00:00"},{"$f":"IXEM!$A$2","v":"IXEM"},null,{"$f":"IXEM!E78","v":0},{"$f":"IXEM!H78","v":0}]
[null,null,null,null,null,null,null,null,null,null,null,null,null,null,null,null,null,null,null,null,null,null,76,{"$f":"IXEM!B79","v":0},{"$f":"IXEM!C79","v":0},{"$f":"IXEM!D79","v":0},{"$f":"IXEM!F79","v":"00:00:00"},{"$f":"IXEM!$A$2","v":"IXEM"},null,{"$f":"IXEM!E79","v":0},{"$f":"IXEM!H79","v":0}]
[null,null,null,null,null,null,null,null,null,null,null,null,null,null,null,null,null,null,null,null,null,null,77,{"$f":"IXEM!B80","v":0},{"$f":"IXEM!C80","v":0},{"$f":"IXEM!D80","v":0},{"$f":"IXEM!F80","v":"00:00:00"},{"$f":"IXEM!$A$2","v":"IXEM"},null,{"$f":"IXEM!E80","v":0},{"$f":"IXEM!H80","v":0}]
[null,null,null,null,null,null,null,null,null,null,null,null,null,null,null,null,null,null,null,null,null,null,78,{"$f":"IXEM!B81","v":0},{"$f":"IXEM!C81","v":0},{"$f":"IXEM!D81","v":0},{"$f":"IXEM!F81","v":"00:00:00"},{"$f":"IXEM!$A$2","v":"IXEM"},null,{"$f":"IXEM!E81","v":0},{"$f":"IXEM!H81","v":0}]
[null,null,null,null,null,null,null,null,null,null,null,null,null,null,null,null,null,null,null,null,null,null,79,{"$f":"IXEM!B82","v":0},{"$f":"IXEM!C82","v":0},{"$f":"IXEM!D82","v":0},{"$f":"IXEM!F82","v":"00:00:00"},{"$f":"IXEM!$A$2","v":"IXEM"},null,{"$f":"IXEM!E82","v":0},{"$f":"IXEM!H82","v":0}]
[null,null,null,null,null,null,null,null,null,null,null,null,null,null,null,null,null,null,null,null,null,null,80,{"$f":"IXEM!B83","v":0},{"$f":"IXEM!C83","v":0},{"$f":"IXEM!D83","v":0},{"$f":"IXEM!F83","v":"00:00:00"},{"$f":"IXEM!$A$2","v":"IXEM"},null,{"$f":"IXEM!E83","v":0},{"$f":"IXEM!H83","v":0}]
[null,null,null,null,null,null,null,null,null,null,null,null,null,null,null,null,null,null,null,null,null,null,81,{"$f":"IXEM!B84","v":0},{"$f":"IXEM!C84","v":0},{"$f":"IXEM!D84","v":0},{"$f":"IXEM!F84","v":"00:00:00"},{"$f":"IXEM!$A$2","v":"IXEM"},null,{"$f":"IXEM!E84","v":0},{"$f":"IXEM!H84","v":0}]
[null,null,null,null,null,null,null,null,null,null,null,null,null,null,null,null,null,null,null,null,null,null,82,{"$f":"IXEM!B85","v":0},{"$f":"IXEM!C85","v":0},{"$f":"IXEM!D85","v":0},{"$f":"IXEM!F85","v":"00:00:00"},{"$f":"IXEM!$A$2","v":"IXEM"},null,{"$f":"IXEM!E85","v":0},{"$f":"IXEM!H85","v":0}]
[null,null,null,null,null,null,null,null,null,null,null,null,null,null,null,null,null,null,null,null,null,null,83,{"$f":"IXEM!B86","v":0},{"$f":"IXEM!C86","v":0},{"$f":"IXEM!D86","v":0},{"$f":"IXEM!F86","v":"00:00:00"},{"$f":"IXEM!$A$2","v":"IXEM"},null,{"$f":"IXEM!E86","v":0},{"$f":"IXEM!H86","v":0}]
[null,null,null,null,null,null,null,null,null,null,null,null,null,null,null,null,null,null,null,null,null,null,84,{"$f":"IXEM!B87","v":0},{"$f":"IXEM!C87","v":0},{"$f":"IXEM!D87","v":0},{"$f":"IXEM!F87","v":"00:00:00"},{"$f":"IXEM!$A$2","v":"IXEM"},null,{"$f":"IXEM!E87","v":0},{"$f":"IXEM!H87","v":0}]
[null,null,null,null,null,null,null,null,null,null,null,null,null,null,null,null,null,null,null,null,null,null,85,{"$f":"IXEM!B88","v":0},{"$f":"IXEM!C88","v":0},{"$f":"IXEM!D88","v":0},{"$f":"IXEM!F88","v":"00:00:00"},{"$f":"IXEM!$A$2","v":"IXEM"},null,{"$f":"IXEM!E88","v":0},{"$f":"IXEM!H88","v":0}]
[null,null,null,null,null,null,null,null,null,null,null,null,null,null,null,null,null,null,null,null,null,null,86,{"$f":"IXEM!B89","v":0},{"$f":"IXEM!C89","v":0},{"$f":"IXEM!D89","v":0},{"$f":"IXEM!F89","v":"00:00:00"},{"$f":"IXEM!$A$2","v":"IXEM"},null,{"$f":"IXEM!E89","v":0},{"$f":"IXEM!H89","v":0}]
[null,null,null,null,null,null,null,null,null,null,null,null,null,null,null,null,null,null,null,null,null,null,87,{"$f":"IXEM!B90","v":0},{"$f":"IXEM!C90","v":0},{"$f":"IXEM!D90","v":0},{"$f":"IXEM!F90","v":"00:00:00"},{"$f":"IXEM!$A$2","v":"IXEM"},null,{"$f":"IXEM!E90","v":0},{"$f":"IXEM!H90","v":0}]
[null,null,null,null,null,null,null,null,null,null,null,null,null,null,null,null,null,null,null,null,null,null,88,{"$f":"IXEM!B91","v":0},{"$f":"IXEM!C91","v":0},{"$f":"IXEM!D91","v":0},{"$f":"IXEM!F91","v":"00:00:00"},{"$f":"IXEM!$A$2","v":"IXEM"},null,{"$f":"IXEM!E91","v":0},{"$f":"IXEM!H91","v":0}]
[null,null,null,null,null,null,null,null,null,null,null,null,null,null,null,null,null,null,null,null,null,null,89,{"$f":"IXEM!B92","v":0},{"$f":"IXEM!C92","v":0},{"$f":"IXEM!D92","v":0},{"$f":"IXEM!F92","v":"00:00:00"},{"$f":"IXEM!$A$2","v":"IXEM"},null,{"$f":"IXEM!E92","v":0},{"$f":"IXEM!H92","v":0}]
[null,null,null,null,null,null,null,null,null,null,null,null,null,null,null,null,null,null,null,null,null,null,90,{"$f":"IXEM!B93","v":0},{"$f":"IXEM!C93","v":0},{"$f":"IXEM!D93","v":0},{"$f":"IXEM!F93","v":"00:00:00"},{"$f":"IXEM!$A$2","v":"IXEM"},null,{"$f":"IXEM!E93","v":0},{"$f":"IXEM!H93","v":0}]
[null,null,null,null,null,null,null,null,null,null,null,null,null,null,null,null,null,null,null,null,null,null,91,{"$f":"IXEM!B94","v":0},{"$f":"IXEM!C94","v":0},{"$f":"IXEM!D94","v":0},{"$f":"IXEM!F94","v":"00:00:00"},{"$f":"IXEM!$A$2","v":"IXEM"},null,{"$f":"IXEM!E94","v":0},{"$f":"IXEM!H94","v":0}]
[null,null,null,null,null,null,null,null,null,null,null,null,null,null,null,null,null,null,null,null,null,null,92,{"$f":"IXEM!B95","v":0},{"$f":"IXEM!C95","v":0},{"$f":"IXEM!D95","v":0},{"$f":"IXEM!F95","v":"00:00:00"},{"$f":"IXEM!$A$2","v":"IXEM"},null,{"$f":"IXEM!E95","v":0},{"$f":"IXEM!H95","v":0}]
[null,null,null,null,null,null,null,null,null,null,null,null,null,null,null,null,null,null,null,null,null,null,93,{"$f":"IXEM!B96","v":0},{"$f":"IXEM!C96","v":0},{"$f":"IXEM!D96","v":0},{"$f":"IXEM!F96","v":"00:00:00"},{"$f":"IXEM!$A$2","v":"IXEM"},null,{"$f":"IXEM!E96","v":0},{"$f":"IXEM!H96","v":0}]
[null,null,null,null,null,null,null,null,null,null,null,null,null,null,null,null,null,null,null,null,null,null,94,{"$f":"IXEM!B97","v":0},{"$f":"IXEM!C97","v":0},{"$f":"IXEM!D97","v":0},{"$f":"IXEM!F97","v":"00:00:00"},{"$f":"IXEM!$A$2","v":"IXEM"},null,{"$f":"IXEM!E97","v":0},{"$f":"IXEM!H97","v":0}]
[null,null,null,null,null,null,null,null,null,null,null,null,null,null,null,null,null,null,null,null,null,null,95,{"$f":"IXEM!B98","v":0},{"$f":"IXEM!C98","v":0},{"$f":"IXEM!D98","v":0},{"$f":"IXEM!F98","v":"00:00:00"},{"$f":"IXEM!$A$2","v":"IXEM"},null,{"$f":"IXEM!E98","v":0},{"$f":"IXEM!H98","v":0}]
[null,null,null,null,null,null,null,null,null,null,null,null,null,null,null,null,null,null,null,null,null,null,96,{"$f":"IXEM!B99","v":0},{"$f":"IXEM!C99","v":0},{"$f":"IXEM!D99","v":0},{"$f":"IXEM!F99","v":"00:00:00"},{"$f":"IXEM!$A$2","v":"IXEM"},null,{"$f":"IXEM!E99","v":0},{"$f":"IXEM!H99","v":0}]
[null,null,null,null,null,null,null,null,null,null,null,null,null,null,null,null,null,null,null,null,null,null,97,{"$f":"IXEM!B100","v":0},{"$f":"IXEM!C100","v":0},{"$f":"IXEM!D100","v":0},{"$f":"IXEM!F100","v":"00:00:00"},{"$f":"IXEM!$A$2","v":"IXEM"},null,{"$f":"IXEM!E100","v":0},{"$f":"IXEM!H100","v":0}]
[null,null,null,null,null,null,null,null,null,null,null,null,null,null,null,null,null,null,null,null,null,null,98,{"$f":"IXEM!B101","v":0},{"$f":"IXEM!C101","v":0},{"$f":"IXEM!D101","v":0},{"$f":"IXEM!F101","v":"00:00:00"},{"$f":"IXEM!$A$2","v":"IXEM"},null,{"$f":"IXEM!E101","v":0},{"$f":"IXEM!H101","v":0}]
[null,null,null,null,null,null,null,null,null,null,null,null,null,null,null,null,null,null,null,null,null,null,99,{"$f":"IXEM!B102","v":0},{"$f":"IXEM!C102","v":0},{"$f":"IXEM!D102","v":0},{"$f":"IXEM!F102","v":"00:00:00"},{"$f":"IXEM!$A$2","v":"IXEM"},null,{"$f":"IXEM!E102","v":0},{"$f":"IXEM!H102","v":0}]
[null,null,null,null,null,null,null,null,null,null,null,null,null,null,null,null,null,null,null,null,null,null,100,{"$f":"IXEM!B103","v":0},{"$f":"IXEM!C103","v":0},{"$f":"IXEM!D103","v":0},{"$f":"IXEM!F103","v":"00:00:00"},{"$f":"IXEM!$A$2","v":"IXEM"},null,{"$f":"IXEM!E103","v":0},{"$f":"IXEM!H103","v":0}]
[null,null,null,null,null,null,null,null,null,null,null,null,null,null,null,null,null,null,null,null,null,null,101,{"$f":"IXEM!B104","v":0},{"$f":"IXEM!C104","v":0},{"$f":"IXEM!D104","v":0},{"$f":"IXEM!F104","v":"00:00:00"},{"$f":"IXEM!$A$2","v":"IXEM"},null,{"$f":"IXEM!E104","v":0},{"$f":"IXEM!H104","v":0}]
[null,null,null,null,null,null,null,null,null,null,null,null,null,null,null,null,null,null,null,null,null,null,102,{"$f":"IXEM!B105","v":0},{"$f":"IXEM!C105","v":0},{"$f":"IXEM!D105","v":0},{"$f":"IXEM!F105","v":"00:00:00"},{"$f":"IXEM!$A$2","v":"IXEM"},null,{"$f":"IXEM!E105","v":0},{"$f":"IXEM!H105","v":0}]
[null,null,null,null,null,null,null,null,null,null,null,null,null,null,null,null,null,null,null,null,null,null,103,{"$f":"IXEM!B106","v":0},{"$f":"IXEM!C106","v":0},{"$f":"IXEM!D106","v":0},{"$f":"IXEM!F106","v":"00:00:00"},{"$f":"IXEM!$A$2","v":"IXEM"},null,{"$f":"IXEM!E106","v":0},{"$f":"IXEM!H106","v":0}]
[null,null,null,null,null,null,null,null,null,null,null,null,null,null,null,null,null,null,null,null,null,null,104,{"$f":"IXEM!B107","v":0},{"$f":"IXEM!C107","v":0},{"$f":"IXEM!D107","v":0},{"$f":"IXEM!F107","v":"00:00:00"},{"$f":"IXEM!$A$2","v":"IXEM"},null,{"$f":"IXEM!E107","v":0},{"$f":"IXEM!H107","v":0}]
[null,null,null,null,null,null,null,null,null,null,null,null,null,null,null,null,null,null,null,null,null,null,105,{"$f":"IXEM!B108","v":0},{"$f":"IXEM!C108","v":0},{"$f":"IXEM!D108","v":0},{"$f":"IXEM!F108","v":"00:00:00"},{"$f":"IXEM!$A$2","v":"IXEM"},null,{"$f":"IXEM!E108","v":0},{"$f":"IXEM!H108","v":0}]
[null,null,null,null,null,null,null,null,null,null,null,null,null,null,null,null,null,null,null,null,null,null,106,{"$f":"IXEM!B109","v":0},{"$f":"IXEM!C109","v":0},{"$f":"IXEM!D109","v":0},{"$f":"IXEM!F109","v":"00:00:00"},{"$f":"IXEM!$A$2","v":"IXEM"},null,{"$f":"IXEM!E109","v":0},{"$f":"IXEM!H109","v":0}]
[null,null,null,null,null,null,null,null,null,null,null,null,null,null,null,null,null,null,null,null,null,null,107,{"$f":"IXEM!B110","v":0},{"$f":"IXEM!C110","v":0},{"$f":"IXEM!D110","v":0},{"$f":"IXEM!F110","v":"00:00:00"},{"$f":"IXEM!$A$2","v":"IXEM"},null,{"$f":"IXEM!E110","v":0},{"$f":"IXEM!H110","v":0}]
[null,null,null,null,null,null,null,null,null,null,null,null,null,null,null,null,null,null,null,null,null,null,108,{"$f":"IXEM!B111","v":0},{"$f":"IXEM!C111","v":0},{"$f":"IXEM!D111","v":0},{"$f":"IXEM!F111","v":"00:00:00"},{"$f":"IXEM!$A$2","v":"IXEM"},null,{"$f":"IXEM!E111","v":0},{"$f":"IXEM!H111","v":0}]
[null,null,null,null,null,null,null,null,null,null,null,null,null,null,null,null,null,null,null,null,null,null,109,{"$f":"IXEM!B112","v":0},{"$f":"IXEM!C112","v":0},{"$f":"IXEM!D112","v":0},{"$f":"IXEM!F112","v":"00:00:00"},{"$f":"IXEM!$A$2","v":"IXEM"},null,{"$f":"IXEM!E112","v":0},{"$f":"IXEM!H112","v":0}]
[null,null,null,null,null,null,null,null,null,null,null,null,null,null,null,null,null,null,null,null,null,null,110,{"$f":"IXEM!B113","v":0},{"$f":"IXEM!C113","v":0},{"$f":"IXEM!D113","v":0},{"$f":"IXEM!F113","v":"00:00:00"},{"$f":"IXEM!$A$2","v":"IXEM"},null,{"$f":"IXEM!E113","v":0},{"$f":"IXEM!H113","v":0}]
[null,null,null,null,null,null,null,null,null,null,null,null,null,null,null,null,null,null,null,null,null,null,111,{"$f":"IXEM!B114","v":0},{"$f":"IXEM!C114","v":0},{"$f":"IXEM!D114","v":0},{"$f":"IXEM!F114","v":"00:00:00"},{"$f":"IXEM!$A$2","v":"IXEM"},null,{"$f":"IXEM!E114","v":0},{"$f":"IXEM!H114","v":0}]
[null,null,null,null,null,null,null,null,null,null,null,null,null,null,null,null,null,null,null,null,null,null,112,{"$f":"IXEM!B115","v":0},{"$f":"IXEM!C115","v":0},{"$f":"IXEM!D115","v":0},{"$f":"IXEM!F115","v":"00:00:00"},{"$f":"IXEM!$A$2","v":"IXEM"},null,{"$f":"IXEM!E115","v":0},{"$f":"IXEM!H115","v":0}]
[null,null,null,null,null,null,null,null,null,null,null,null,null,null,null,null,null,null,null,null,null,null,113,{"$f":"IXEM!B116","v":0},{"$f":"IXEM!C116","v":0},{"$f":"IXEM!D116","v":0},{"$f":"IXEM!F116","v":"00:00:00"},{"$f":"IXEM!$A$2","v":"IXEM"},null,{"$f":"IXEM!E116","v":0},{"$f":"IXEM!H116","v":0}]
[null,null,null,null,null,null,null,null,null,null,null,null,null,null,null,null,null,null,null,null,null,null,114,{"$f":"IXEM!B117","v":0},{"$f":"IXEM!C117","v":0},{"$f":"IXEM!D117","v":0},{"$f":"IXEM!F117","v":"00:00:00"},{"$f":"IXEM!$A$2","v":"IXEM"},null,{"$f":"IXEM!E117","v":0},{"$f":"IXEM!H117","v":0}]
[null,null,null,null,null,null,null,null,null,null,null,null,null,null,null,null,null,null,null,null,null,null,115,{"$f":"IXEM!B118","v":0},{"$f":"IXEM!C118","v":0},{"$f":"IXEM!D118","v":0},{"$f":"IXEM!F118","v":"00:00:00"},{"$f":"IXEM!$A$2","v":"IXEM"},null,{"$f":"IXEM!E118","v":0},{"$f":"IXEM!H118","v":0}]
[null,null,null,null,null,null,null,null,null,null,null,null,null,null,null,null,null,null,null,null,null,null,116,{"$f":"IXEM!B119","v":0},{"$f":"IXEM!C119","v":0},{"$f":"IXEM!D119","v":0},{"$f":"IXEM!F119","v":"00:00:00"},{"$f":"IXEM!$A$2","v":"IXEM"},null,{"$f":"IXEM!E119","v":0},{"$f":"IXEM!H119","v":0}]
[null,null,null,null,null,null,null,null,null,null,null,null,null,null,null,null,null,null,null,null,null,null,117,{"$f":"IXEM!B120","v":0},{"$f":"IXEM!C120","v":0},{"$f":"IXEM!D120","v":0},{"$f":"IXEM!F120","v":"00:00:00"},{"$f":"IXEM!$A$2","v":"IXEM"},null,{"$f":"IXEM!E120","v":0},{"$f":"IXEM!H120","v":0}]
[null,null,null,null,null,null,null,null,null,null,null,null,null,null,null,null,null,null,null,null,null,null,118,{"$f":"IXEM!B121","v":0},{"$f":"IXEM!C121","v":0},{"$f":"IXEM!D121","v":0},{"$f":"IXEM!F121","v":"00:00:00"},{"$f":"IXEM!$A$2","v":"IXEM"},null,{"$f":"IXEM!E121","v":0},{"$f":"IXEM!H121","v":0}]
[null,null,null,null,null,null,null,null,null,null,null,null,null,null,null,null,null,null,null,null,null,null,119,{"$f":"IXEM!B122","v":0},{"$f":"IXEM!C122","v":0},{"$f":"IXEM!D122","v":0},{"$f":"IXEM!F122","v":"00:00:00"},{"$f":"IXEM!$A$2","v":"IXEM"},null,{"$f":"IXEM!E122","v":0},{"$f":"IXEM!H122","v":0}]
[null,null,null,null,null,null,null,null,null,null,null,null,null,null,null,null,null,null,null,null,null,null,120,{"$f":"IXEM!B123","v":0},{"$f":"IXEM!C123","v":0},{"$f":"IXEM!D123","v":0},{"$f":"IXEM!F123","v":"00:00:00"},{"$f":"IXEM!$A$2","v":"IXEM"},null,{"$f":"IXEM!E123","v":0},{"$f":"IXEM!H123","v":0}]
[null,null,null,null,null,null,null,null,null,null,null,null,null,null,null,null,null,null,null,null,null,null,121,{"$f":"IXEM!B124","v":0},{"$f":"IXEM!C124","v":0},{"$f":"IXEM!D124","v":0},{"$f":"IXEM!F124","v":"00:00:00"},{"$f":"IXEM!$A$2","v":"IXEM"},null,{"$f":"IXEM!E124","v":0},{"$f":"IXEM!H124","v":0}]
[null,null,null,null,null,null,null,null,null,null,null,null,null,null,null,null,null,null,null,null,null,null,122,{"$f":"IXEM!B125","v":0},{"$f":"IXEM!C125","v":0},{"$f":"IXEM!D125","v":0},{"$f":"IXEM!F125","v":"00:00:00"},{"$f":"IXEM!$A$2","v":"IXEM"},null,{"$f":"IXEM!E125","v":0},{"$f":"IXEM!H125","v":0}]
[null,null,null,null,null,null,null,null,null,null,null,null,null,null,null,null,null,null,null,null,null,null,123,{"$f":"IXEM!B126","v":0},{"$f":"IXEM!C126","v":0},{"$f":"IXEM!D126","v":0},{"$f":"IXEM!F126","v":"00:00:00"},{"$f":"IXEM!$A$2","v":"IXEM"},null,{"$f":"IXEM!E126","v":0},{"$f":"IXEM!H126","v":0}]
[null,null,null,null,null,null,null,null,null,null,null,null,null,null,null,null,null,null,null,null,null,null,124,{"$f":"IXEM!B127","v":0},{"$f":"IXEM!C127","v":0},{"$f":"IXEM!D127","v":0},{"$f":"IXEM!F127","v":"00:00:00"},{"$f":"IXEM!$A$2","v":"IXEM"},null,{"$f":"IXEM!E127","v":0},{"$f":"IXEM!H127","v":0}]
[null,null,null,null,null,null,null,null,null,null,null,null,null,null,null,null,null,null,null,null,null,null,125,{"$f":"IXEM!B128","v":0},{"$f":"IXEM!C128","v":0},{"$f":"IXEM!D128","v":0},{"$f":"IXEM!F128","v":"00:00:00"},{"$f":"IXEM!$A$2","v":"IXEM"},null,{"$f":"IXEM!E128","v":0},{"$f":"IXEM!H128","v":0}]
[null,null,null,null,null,null,null,null,null,null,null,null,null,null,null,null,null,null,null,null,null,null,126,{"$f":"IXEM!B129","v":0},{"$f":"IXEM!C129","v":0},{"$f":"IXEM!D129","v":0},{"$f":"IXEM!F129","v":"00:00:00"},{"$f":"IXEM!$A$2","v":"IXEM"},null,{"$f":"IXEM!E129","v":0},{"$f":"IXEM!H129","v":0}]
[null,null,null,null,null,null,null,null,null,null,null,null,null,null,null,null,null,null,null,null,null,null,127,{"$f":"IXEM!B130","v":0},{"$f":"IXEM!C130","v":0},{"$f":"IXEM!D130","v":0},{"$f":"IXEM!F130","v":"00:00:00"},{"$f":"IXEM!$A$2","v":"IXEM"},null,{"$f":"IXEM!E130","v":0},{"$f":"IXEM!H130","v":0}]
[null,null,null,null,null,null,null,null,null,null,null,null,null,null,null,null,null,null,null,null,null,null,128,{"$f":"IXEM!B131","v":0},{"$f":"IXEM!C131","v":0},{"$f":"IXEM!D131","v":0},{"$f":"IXEM!F131","v":"00:00:00"},{"$f":"IXEM!$A$2","v":"IXEM"},null,{"$f":"IXEM!E131","v":0},{"$f":"IXEM!H131","v":0}]
[null,null,null,null,null,null,null,null,null,null,null,null,null,null,null,null,null,null,null,null,null,null,129,{"$f":"IXEM!B132","v":0},{"$f":"IXEM!C132","v":0},{"$f":"IXEM!D132","v":0},{"$f":"IXEM!F132","v":"00:00:00"},{"$f":"IXEM!$A$2","v":"IXEM"},null,{"$f":"IXEM!E132","v":0},{"$f":"IXEM!H132","v":0}]
[null,null,null,null,null,null,null,null,null,null,null,null,null,null,null,null,null,null,null,null,null,null,130,{"$f":"IXEM!B133","v":0},{"$f":"IXEM!C133","v":0},{"$f":"IXEM!D133","v":0},{"$f":"IXEM!F133","v":"00:00:00"},{"$f":"IXEM!$A$2","v":"IXEM"},null,{"$f":"IXEM!E133","v":0},{"$f":"IXEM!H133","v":0}]
[null,null,null,null,null,null,null,null,null,null,null,null,null,null,null,null,null,null,null,null,null,null,131,{"$f":"IXEM!B134","v":0},{"$f":"IXEM!C134","v":0},{"$f":"IXEM!D134","v":0},{"$f":"IXEM!F134","v":"00:00:00"},{"$f":"IXEM!$A$2","v":"IXEM"},null,{"$f":"IXEM!E134","v":0},{"$f":"IXEM!H134","v":0}]
[null,null,null,null,null,null,null,null,null,null,null,null,null,null,null,null,null,null,null,null,null,null,132,{"$f":"IXEM!B135","v":0},{"$f":"IXEM!C135","v":0},{"$f":"IXEM!D135","v":0},{"$f":"IXEM!F135","v":"00:00:00"},{"$f":"IXEM!$A$2","v":"IXEM"},null,{"$f":"IXEM!E135","v":0},{"$f":"IXEM!H135","v":0}]
[null,null,null,null,null,null,null,null,null,null,null,null,null,null,null,null,null,null,null,null,null,null,133,{"$f":"IXEM!B136","v":0},{"$f":"IXEM!C136","v":0},{"$f":"IXEM!D136","v":0},{"$f":"IXEM!F136","v":"00:00:00"},{"$f":"IXEM!$A$2","v":"IXEM"},null,{"$f":"IXEM!E136","v":0},{"$f":"IXEM!H136","v":0}]
[null,null,null,null,null,null,null,null,null,null,null,null,null,null,null,null,null,null,null,null,null,null,134,{"$f":"IXEM!B137","v":0},{"$f":"IXEM!C137","v":0},{"$f":"IXEM!D137","v":0},{"$f":"IXEM!F137","v":"00:00:00"},{"$f":"IXEM!$A$2","v":"IXEM"},null,{"$f":"IXEM!E137","v":0},{"$f":"IXEM!H137","v":0}]
[null,null,null,null,null,null,null,null,null,null,null,null,null,null,null,null,null,null,null,null,null,null,135,{"$f":"IXEM!B138","v":0},{"$f":"IXEM!C138","v":0},{"$f":"IXEM!D138","v":0},{"$f":"IXEM!F138","v":"00:00:00"},{"$f":"IXEM!$A$2","v":"IXEM"},null,{"$f":"IXEM!E138","v":0},{"$f":"IXEM!H138","v":0}]
[null,null,null,null,null,null,null,null,null,null,null,null,null,null,null,null,null,null,null,null,null,null,136,{"$f":"IXEM!B139","v":0},{"$f":"IXEM!C139","v":0},{"$f":"IXEM!D139","v":0},{"$f":"IXEM!F139","v":"00:00:00"},{"$f":"IXEM!$A$2","v":"IXEM"},null,{"$f":"IXEM!E139","v":0},{"$f":"IXEM!H139","v":0}]
[null,null,null,null,null,null,null,null,null,null,null,null,null,null,null,null,null,null,null,null,null,null,137,{"$f":"IXEM!B140","v":0},{"$f":"IXEM!C140","v":0},{"$f":"IXEM!D140","v":0},{"$f":"IXEM!F140","v":"00:00:00"},{"$f":"IXEM!$A$2","v":"IXEM"},null,{"$f":"IXEM!E140","v":0},{"$f":"IXEM!H140","v":0}]
[null,null,null,null,null,null,null,null,null,null,null,null,null,null,null,null,null,null,null,null,null,null,138,{"$f":"IXEM!B141","v":0},{"$f":"IXEM!C141","v":0},{"$f":"IXEM!D141","v":0},{"$f":"IXEM!F141","v":"00:00:00"},{"$f":"IXEM!$A$2","v":"IXEM"},null,{"$f":"IXEM!E141","v":0},{"$f":"IXEM!H141","v":0}]
[null,null,null,null,null,null,null,null,null,null,null,null,null,null,null,null,null,null,null,null,null,null,139,{"$f":"IXEM!B142","v":0},{"$f":"IXEM!C142","v":0},{"$f":"IXEM!D142","v":0},{"$f":"IXEM!F142","v":"00:00:00"},{"$f":"IXEM!$A$2","v":"IXEM"},null,{"$f":"IXEM!E142","v":0},{"$f":"IXEM!H142","v":0}]
[null,null,null,null,null,null,null,null,null,null,null,null,null,null,null,null,null,null,null,null,null,null,140,{"$f":"IXEM!B143","v":0},{"$f":"IXEM!C143","v":0},{"$f":"IXEM!D143","v":0},{"$f":"IXEM!F143","v":"00:00:00"},{"$f":"IXEM!$A$2","v":"IXEM"},null,{"$f":"IXEM!E143","v":0},{"$f":"IXEM!H143","v":0}]
[null,null,null,null,null,null,null,null,null,null,null,null,null,null,null,null,null,null,null,null,null,null,141,{"$f":"IXEM!B144","v":0},{"$f":"IXEM!C144","v":0},{"$f":"IXEM!D144","v":0},{"$f":"IXEM!F144","v":"00:00:00"},{"$f":"IXEM!$A$2","v":"IXEM"},null,{"$f":"IXEM!E144","v":0},{"$f":"IXEM!H144","v":0}]
[null,null,null,null,null,null,null,null,null,null,null,null,null,null,null,null,null,null,null,null,null,null,142,{"$f":"IXEM!B145","v":0},{"$f":"IXEM!C145","v":0},{"$f":"IXEM!D145","v":0},{"$f":"IXEM!F145","v":"00:00:00"},{"$f":"IXEM!$A$2","v":"IXEM"},null,{"$f":"IXEM!E145","v":0},{"$f":"IXEM!H145","v":0}]
[null,null,null,null,null,null,null,null,null,null,null,null,null,null,null,null,null,null,null,null,null,null,143,{"$f":"IXEM!B146","v":0},{"$f":"IXEM!C146","v":0},{"$f":"IXEM!D146","v":0},{"$f":"IXEM!F146","v":"00:00:00"},{"$f":"IXEM!$A$2","v":"IXEM"},null,{"$f":"IXEM!E146","v":0},{"$f":"IXEM!H146","v":0}]
[null,null,null,null,null,null,null,null,null,null,null,null,null,null,null,null,null,null,null,null,null,null,144,{"$f":"IXEM!B147","v":0},{"$f":"IXEM!C147","v":0},{"$f":"IXEM!D147","v":0},{"$f":"IXEM!F147","v":"00:00:00"},{"$f":"IXEM!$A$2","v":"IXEM"},null,{"$f":"IXEM!E147","v":0},{"$f":"IXEM!H147","v":0}]
[null,null,null,null,null,null,null,null,null,null,null,null,null,null,null,null,null,null,null,null,null,null,145,{"$f":"IXEM!B148","v":0},{"$f":"IXEM!C148","v":0},{"$f":"IXEM!D148","v":0},{"$f":"IXEM!F148","v":"00:00:00"},{"$f":"IXEM!$A$2","v":"IXEM"},null,{"$f":"IXEM!E148","v":0},{"$f":"IXEM!H148","v":0}]
[null,null,null,null,null,null,null,null,null,null,null,null,null,null,null,null,null,null,null,null,null,null,146,{"$f":"IXEM!B149","v":0},{"$f":"IXEM!C149","v":0},{"$f":"IXEM!D149","v":0},{"$f":"IXEM!F149","v":"00:00:00"},{"$f":"IXEM!$A$2","v":"IXEM"},null,{"$f":"IXEM!E149","v":0},{"$f":"IXEM!H149","v":0}]
[null,null,null,null,null,null,null,null,null,null,null,null,null,null,null,null,null,null,null,null,null,null,147,{"$f":"IXEM!B150","v":0},{"$f":"IXEM!C150","v":0},{"$f":"IXEM!D150","v":0},{"$f":"IXEM!F150","v":"00:00:00"},{"$f":"IXEM!$A$2","v":"IXEM"},null,{"$f":"IXEM!E150","v":0},{"$f":"IXEM!H150","v":0}]
[null,null,null,null,null,null,null,null,null,null,null,null,null,null,null,null,null,null,null,null,null,null,148,{"$f":"IXEM!B151","v":0},{"$f":"IXEM!C151","v":0},{"$f":"IXEM!D151","v":0},{"$f":"IXEM!F151","v":"00:00:00"},{"$f":"IXEM!$A$2","v":"IXEM"},null,{"$f":"IXEM!E151","v":0},{"$f":"IXEM!H151","v":0}]
[null,null,null,null,null,null,null,null,null,null,null,null,null,null,null,null,null,null,null,null,null,null,149,{"$f":"IXEM!B152","v":0},{"$f":"IXEM!C152","v":0},{"$f":"IXEM!D152","v":0},{"$f":"IXEM!F152","v":"00:00:00"},{"$f":"IXEM!$A$2","v":"IXEM"},null,{"$f":"IXEM!E152","v":0},{"$f":"IXEM!H152","v":0}]
[null,null,null,null,null,null,null,null,null,null,null,null,null,null,null,null,null,null,null,null,null,null,150,{"$f":"IXEM!B153","v":0},{"$f":"IXEM!C153","v":0},{"$f":"IXEM!D153","v":0},{"$f":"IXEM!F153","v":"00:00:00"},{"$f":"IXEM!$A$2","v":"IXEM"},null,{"$f":"IXEM!E153","v":0},{"$f":"IXEM!H153","v":0}]
[null,null,null,null,null,null,null,null,null,null,null,null,null,null,null,null,null,null,null,null,null,null,1]
[null,null,null,null,null,null,null,null,null,null,null,null,null,null,null,null,null,null,null,null,null,null,2,{"$f":"XEM!B4","v":0},{"$f":"XEM!C4","v":0},{"$f":"XEM!D4","v":0},{"$f":"XEM!F4","v":"00:00:00"},{"$f":"XEM!$A$2","v":"XEM"},null,{"$f":"XEM!E4","v":0},{"$f":"XEM!H4","v":0}]
[null,null,null,null,null,null,null,null,null,null,null,null,null,null,null,null,null,null,null,null,null,null,3,{"$f":"XEM!B5","v":0},{"$f":"XEM!C5","v":0},{"$f":"XEM!D5","v":0},{"$f":"XEM!F5","v":"00:00:00"},{"$f":"XEM!$A$2","v":"XEM"},null,{"$f":"XEM!E5","v":0},{"$f":"XEM!H5","v":0}]
[null,null,null,null,null,null,null,null,null,null,null,null,null,null,null,null,null,null,null,null,null,null,4,{"$f":"XEM!B6","v":0},{"$f":"XEM!C6","v":0},{"$f":"XEM!D6","v":0},{"$f":"XEM!F6","v":"00:00:00"},{"$f":"XEM!$A$2","v":"XEM"},null,{"$f":"XEM!E6","v":0},{"$f":"XEM!H6","v":0}]
[null,null,null,null,null,null,null,null,null,null,null,null,null,null,null,null,null,null,null,null,null,null,5,{"$f":"XEM!B7","v":0},{"$f":"XEM!C7","v":0},{"$f":"XEM!D7","v":0},{"$f":"XEM!F7","v":"00:00:00"},{"$f":"XEM!$A$2","v":"XEM"},null,{"$f":"XEM!E7","v":0},{"$f":"XEM!H7","v":0}]
[null,null,null,null,null,null,null,null,null,null,null,null,null,null,null,null,null,null,null,null,null,null,6,{"$f":"XEM!B8","v":0},{"$f":"XEM!C8","v":0},{"$f":"XEM!D8","v":0},{"$f":"XEM!F8","v":"00:00:00"},{"$f":"XEM!$A$2","v":"XEM"},null,{"$f":"XEM!E8","v":0},{"$f":"XEM!H8","v":0}]
[null,null,null,null,null,null,null,null,null,null,null,null,null,null,null,null,null,null,null,null,null,null,7,{"$f":"XEM!B9","v":0},{"$f":"XEM!C9","v":0},{"$f":"XEM!D9","v":0},{"$f":"XEM!F9","v":"00:00:00"},{"$f":"XEM!$A$2","v":"XEM"},null,{"$f":"XEM!E9","v":0},{"$f":"XEM!H9","v":0}]
[null,null,null,null,null,null,null,null,null,null,null,null,null,null,null,null,null,null,null,null,null,null,8,{"$f":"XEM!B10","v":0},{"$f":"XEM!C10","v":0},{"$f":"XEM!D10","v":0},{"$f":"XEM!F10","v":"00:00:00"},{"$f":"XEM!$A$2","v":"XEM"},null,{"$f":"XEM!E10","v":0},{"$f":"XEM!H10","v":0}]
[null,null,null,null,null,null,null,null,null,null,null,null,null,null,null,null,null,null,null,null,null,null,9,{"$f":"XEM!B11","v":0},{"$f":"XEM!C11","v":0},{"$f":"XEM!D11","v":0},{"$f":"XEM!F11","v":"00:00:00"},{"$f":"XEM!$A$2","v":"XEM"},null,{"$f":"XEM!E11","v":0},{"$f":"XEM!H11","v":0}]
[null,null,null,null,null,null,null,null,null,null,null,null,null,null,null,null,null,null,null,null,null,null,10,{"$f":"XEM!B12","v":0},{"$f":"XEM!C12","v":0},{"$f":"XEM!D12","v":0},{"$f":"XEM!F12","v":"00:00:00"},{"$f":"XEM!$A$2","v":"XEM"},null,{"$f":"XEM!E12","v":0},{"$f":"XEM!H12","v":0}]
[null,null,null,null,null,null,null,null,null,null,null,null,null,null,null,null,null,null,null,null,null,null,11,{"$f":"XEM!B13","v":0},{"$f":"XEM!C13","v":0},{"$f":"XEM!D13","v":0},{"$f":"XEM!F13","v":"00:00:00"},{"$f":"XEM!$A$2","v":"XEM"},null,{"$f":"XEM!E13","v":0},{"$f":"XEM!H13","v":0}]
[null,null,null,null,null,null,null,null,null,null,null,null,null,null,null,null,null,null,null,null,null,null,12,{"$f":"XEM!B14","v":0},{"$f":"XEM!C14","v":0},{"$f":"XEM!D14","v":0},{"$f":"XEM!F14","v":"00:00:00"},{"$f":"XEM!$A$2","v":"XEM"},null,{"$f":"XEM!E14","v":0},{"$f":"XEM!H14","v":0}]
[null,null,null,null,null,null,null,null,null,null,null,null,null,null,null,null,null,null,null,null,null,null,13,{"$f":"XEM!B15","v":0},{"$f":"XEM!C15","v":0},{"$f":"XEM!D15","v":0},{"$f":"XEM!F15","v":"00:00:00"},{"$f":"XEM!$A$2","v":"XEM"},null,{"$f":"XEM!E15","v":0},{"$f":"XEM!H15","v":0}]
[null,null,null,null,null,null,null,null,null,null,null,null,null,null,null,null,null,null,null,null,null,null,14,{"$f":"XEM!B16","v":0},{"$f":"XEM!C16","v":0},{"$f":"XEM!D16","v":0},{"$f":"XEM!F16","v":"00:00:00"},{"$f":"XEM!$A$2","v":"XEM"},null,{"$f":"XEM!E16","v":0},{"$f":"XEM!H16","v":0}]
[null,null,null,null,null,null,null,null,null,null,null,null,null,null,null,null,null,null,null,null,null,null,15,{"$f":"XEM!B17","v":0},{"$f":"XEM!C17","v":0},{"$f":"XEM!D17","v":0},{"$f":"XEM!F17","v":"00:00:00"},{"$f":"XEM!$A$2","v":"XEM"},null,{"$f":"XEM!E17","v":0},{"$f":"XEM!H17","v":0}]
[null,null,null,null,null,null,null,null,null,null,null,null,null,null,null,null,null,null,null,null,null,null,16,{"$f":"XEM!B18","v":0},{"$f":"XEM!C18","v":0},{"$f":"XEM!D18","v":0},{"$f":"XEM!F18","v":"00:00:00"},{"$f":"XEM!$A$2","v":"XEM"},null,{"$f":"XEM!E18","v":0},{"$f":"XEM!H18","v":0}]
[null,null,null,null,null,null,null,null,null,null,null,null,null,null,null,null,null,null,null,null,null,null,17,{"$f":"XEM!B19","v":0},{"$f":"XEM!C19","v":0},{"$f":"XEM!D19","v":0},{"$f":"XEM!F19","v":"00:00:00"},{"$f":"XEM!$A$2","v":"XEM"},null,{"$f":"XEM!E19","v":0},{"$f":"XEM!H19","v":0}]
[null,null,null,null,null,null,null,null,null,null,null,null,null,null,null,null,null,null,null,null,null,null,18,{"$f":"XEM!B20","v":0},{"$f":"XEM!C20","v":0},{"$f":"XEM!D20","v":0},{"$f":"XEM!F20","v":"00:00:00"},{"$f":"XEM!$A$2","v":"XEM"},null,{"$f":"XEM!E20","v":0},{"$f":"XEM!H20","v":0}]
[null,null,null,null,null,null,null,null,null,null,null,null,null,null,null,null,null,null,null,null,null,null,19,{"$f":"XEM!B21","v":0},{"$f":"XEM!C21","v":0},{"$f":"XEM!D21","v":0},{"$f":"XEM!F21","v":"00:00:00"},{"$f":"XEM!$A$2","v":"XEM"},null,{"$f":"XEM!E21","v":0},{"$f":"XEM!H21","v":0}]
[null,null,null,null,null,null,null,null,null,null,null,null,null,null,null,null,null,null,null,null,null,null,20,{"$f":"XEM!B22","v":0},{"$f":"XEM!C22","v":0},{"$f":"XEM!D22","v":0},{"$f":"XEM!F22","v":"00:00:00"},{"$f":"XEM!$A$2","v":"XEM"},null,{"$f":"XEM!E22","v":0},{"$f":"XEM!H22","v":0}]
[null,null,null,null,null,null,null,null,null,null,null,null,null,null,null,null,null,null,null,null,null,null,21,{"$f":"XEM!B23","v":0},{"$f":"XEM!C23","v":0},{"$f":"XEM!D23","v":0},{"$f":"XEM!F23","v":"00:00:00"},{"$f":"XEM!$A$2","v":"XEM"},null,{"$f":"XEM!E23","v":0},{"$f":"XEM!H23","v":0}]
[null,null,null,null,null,null,null,null,null,null,null,null,null,null,null,null,null,null,null,null,null,null,22,{"$f":"XEM!B24","v":0},{"$f":"XEM!C24","v":0},{"$f":"XEM!D24","v":0},{"$f":"XEM!F24","v":"00:00:00"},{"$f":"XEM!$A$2","v":"XEM"},null,{"$f":"XEM!E24","v":0},{"$f":"XEM!H24","v":0}]
[null,null,null,null,null,null,null,null,null,null,null,null,null,null,null,null,null,null,null,null,null,null,23,{"$f":"XEM!B25","v":0},{"$f":"XEM!C25","v":0},{"$f":"XEM!D25","v":0},{"$f":"XEM!F25","v":"00:00:00"},{"$f":"XEM!$A$2","v":"XEM"},null,{"$f":"XEM!E25","v":0},{"$f":"XEM!H25","v":0}]
[null,null,null,null,null,null,null,null,null,null,null,null,null,null,null,null,null,null,null,null,null,null,24,{"$f":"XEM!B26","v":0},{"$f":"XEM!C26","v":0},{"$f":"XEM!D26","v":0},{"$f":"XEM!F26","v":"00:00:00"},{"$f":"XEM!$A$2","v":"XEM"},null,{"$f":"XEM!E26","v":0},{"$f":"XEM!H26","v":0}]
[null,null,null,null,null,null,null,null,null,null,null,null,null,null,null,null,null,null,null,null,null,null,25,{"$f":"XEM!B27","v":0},{"$f":"XEM!C27","v":0},{"$f":"XEM!D27","v":0},{"$f":"XEM!F27","v":"00:00:00"},{"$f":"XEM!$A$2","v":"XEM"},null,{"$f":"XEM!E27","v":0},{"$f":"XEM!H27","v":0}]
[null,null,null,null,null,null,null,null,null,null,null,null,null,null,null,null,null,null,null,null,null,null,26,{"$f":"XEM!B28","v":0},{"$f":"XEM!C28","v":0},{"$f":"XEM!D28","v":0},{"$f":"XEM!F28","v":"00:00:00"},{"$f":"XEM!$A$2","v":"XEM"},null,{"$f":"XEM!E28","v":0},{"$f":"XEM!H28","v":0}]
[null,null,null,null,null,null,null,null,null,null,null,null,null,null,null,null,null,null,null,null,null,null,27,{"$f":"XEM!B29","v":0},{"$f":"XEM!C29","v":0},{"$f":"XEM!D29","v":0},{"$f":"XEM!F29","v":"00:00:00"},{"$f":"XEM!$A$2","v":"XEM"},null,{"$f":"XEM!E29","v":0},{"$f":"XEM!H29","v":0}]
[null,null,null,null,null,null,null,null,null,null,null,null,null,null,null,null,null,null,null,null,null,null,28,{"$f":"XEM!B30","v":0},{"$f":"XEM!C30","v":0},{"$f":"XEM!D30","v":0},{"$f":"XEM!F30","v":"00:00:00"},{"$f":"XEM!$A$2","v":"XEM"},null,{"$f":"XEM!E30","v":0},{"$f":"XEM!H30","v":0}]
[null,null,null,null,null,null,null,null,null,null,null,null,null,null,null,null,null,null,null,null,null,null,29,{"$f":"XEM!B31","v":0},{"$f":"XEM!C31","v":0},{"$f":"XEM!D31","v":0},{"$f":"XEM!F31","v":"00:00:00"},{"$f":"XEM!$A$2","v":"XEM"},null,{"$f":"XEM!E31","v":0},{"$f":"XEM!H31","v":0}]
[null,null,null,null,null,null,null,null,null,null,null,null,null,null,null,null,null,null,null,null,null,null,30,{"$f":"XEM!B32","v":0},{"$f":"XEM!C32","v":0},{"$f":"XEM!D32","v":0},{"$f":"XEM!F32","v":"00:00:00"},{"$f":"XEM!$A$2","v":"XEM"},null,{"$f":"XEM!E32","v":0},{"$f":"XEM!H32","v":0}]
[null,null,null,null,null,null,null,null,null,null,null,null,null,null,null,null,null,null,null,null,null,null,31,{"$f":"XEM!B33","v":0},{"$f":"XEM!C33","v":0},{"$f":"XEM!D33","v":0},{"$f":"XEM!F33","v":"00:00:00"},{"$f":"XEM!$A$2","v":"XEM"},null,{"$f":"XEM!E33","v":0},{"$f":"XEM!H33","v":0}]
[null,null,null,null,null,null,null,null,null,null,null,null,null,null,null,null,null,null,null,null,null,null,32,{"$f":"XEM!B34","v":0},{"$f":"XEM!C34","v":0},{"$f":"XEM!D34","v":0},{"$f":"XEM!F34","v":"00:00:00"},{"$f":"XEM!$A$2","v":"XEM"},null,{"$f":"XEM!E34","v":0},{"$f":"XEM!H34","v":0}]
[null,null,null,null,null,null,null,null,null,null,null,null,null,null,null,null,null,null,null,null,null,null,33,{"$f":"XEM!B35","v":0},{"$f":"XEM!C35","v":0},{"$f":"XEM!D35","v":0},{"$f":"XEM!F35","v":"00:00:00"},{"$f":"XEM!$A$2","v":"XEM"},null,{"$f":"XEM!E35","v":0},{"$f":"XEM!H35","v":0}]
[null,null,null,null,null,null,null,null,null,null,null,null,null,null,null,null,null,null,null,null,null,null,34,{"$f":"XEM!B36","v":0},{"$f":"XEM!C36","v":0},{"$f":"XEM!D36","v":0},{"$f":"XEM!F36","v":"00:00:00"},{"$f":"XEM!$A$2","v":"XEM"},null,{"$f":"XEM!E36","v":0},{"$f":"XEM!H36","v":0}]
[null,null,null,null,null,null,null,null,null,null,null,null,null,null,null,null,null,null,null,null,null,null,35,{"$f":"XEM!B37","v":0},{"$f":"XEM!C37","v":0},{"$f":"XEM!D37","v":0},{"$f":"XEM!F37","v":"00:00:00"},{"$f":"XEM!$A$2","v":"XEM"},null,{"$f":"XEM!E37","v":0},{"$f":"XEM!H37","v":0}]
[null,null,null,null,null,null,null,null,null,null,null,null,null,null,null,null,null,null,null,null,null,null,36,{"$f":"XEM!B38","v":0},{"$f":"XEM!C38","v":0},{"$f":"XEM!D38","v":0},{"$f":"XEM!F38","v":"00:00:00"},{"$f":"XEM!$A$2","v":"XEM"},null,{"$f":"XEM!E38","v":0},{"$f":"XEM!H38","v":0}]
[null,null,null,null,null,null,null,null,null,null,null,null,null,null,null,null,null,null,null,null,null,null,37,{"$f":"XEM!B39","v":0},{"$f":"XEM!C39","v":0},{"$f":"XEM!D39","v":0},{"$f":"XEM!F39","v":"00:00:00"},{"$f":"XEM!$A$2","v":"XEM"},null,{"$f":"XEM!E39","v":0},{"$f":"XEM!H39","v":0}]
[null,null,null,null,null,null,null,null,null,null,null,null,null,null,null,null,null,null,null,null,null,null,38,{"$f":"XEM!B40","v":0},{"$f":"XEM!C40","v":0},{"$f":"XEM!D40","v":0},{"$f":"XEM!F40","v":"00:00:00"},{"$f":"XEM!$A$2","v":"XEM"},null,{"$f":"XEM!E40","v":0},{"$f":"XEM!H40","v":0}]
[null,null,null,null,null,null,null,null,null,null,null,null,null,null,null,null,null,null,null,null,null,null,39,{"$f":"XEM!B41","v":0},{"$f":"XEM!C41","v":0},{"$f":"XEM!D41","v":0},{"$f":"XEM!F41","v":"00:00:00"},{"$f":"XEM!$A$2","v":"XEM"},null,{"$f":"XEM!E41","v":0},{"$f":"XEM!H41","v":0}]
[null,null,null,null,null,null,null,null,null,null,null,null,null,null,null,null,null,null,null,null,null,null,40,{"$f":"XEM!B42","v":0},{"$f":"XEM!C42","v":0},{"$f":"XEM!D42","v":0},{"$f":"XEM!F42","v":"00:00:00"},{"$f":"XEM!$A$2","v":"XEM"},null,{"$f":"XEM!E42","v":0},{"$f":"XEM!H42","v":0}]
[null,null,null,null,null,null,null,null,null,null,null,null,null,null,null,null,null,null,null,null,null,null,41,{"$f":"XEM!B43","v":0},{"$f":"XEM!C43","v":0},{"$f":"XEM!D43","v":0},{"$f":"XEM!F43","v":"00:00:00"},{"$f":"XEM!$A$2","v":"XEM"},null,{"$f":"XEM!E43","v":0},{"$f":"XEM!H43","v":0}]
[null,null,null,null,null,null,null,null,null,null,null,null,null,null,null,null,null,null,null,null,null,null,42,{"$f":"XEM!B44","v":0},{"$f":"XEM!C44","v":0},{"$f":"XEM!D44","v":0},{"$f":"XEM!F44","v":"00:00:00"},{"$f":"XEM!$A$2","v":"XEM"},null,{"$f":"XEM!E44","v":0},{"$f":"XEM!H44","v":0}]
[null,null,null,null,null,null,null,null,null,null,null,null,null,null,null,null,null,null,null,null,null,null,43,{"$f":"XEM!B45","v":0},{"$f":"XEM!C45","v":0},{"$f":"XEM!D45","v":0},{"$f":"XEM!F45","v":"00:00:00"},{"$f":"XEM!$A$2","v":"XEM"},null,{"$f":"XEM!E45","v":0},{"$f":"XEM!H45","v":0}]
[null,null,null,null,null,null,null,null,null,null,null,null,null,null,null,null,null,null,null,null,null,null,44,{"$f":"XEM!B46","v":0},{"$f":"XEM!C46","v":0},{"$f":"XEM!D46","v":0},{"$f":"XEM!F46","v":"00:00:00"},{"$f":"XEM!$A$2","v":"XEM"},null,{"$f":"XEM!E46","v":0},{"$f":"XEM!H46","v":0}]
[null,null,null,null,null,null,null,null,null,null,null,null,null,null,null,null,null,null,null,null,null,null,45,{"$f":"XEM!B47","v":0},{"$f":"XEM!C47","v":0},{"$f":"XEM!D47","v":0},{"$f":"XEM!F47","v":"00:00:00"},{"$f":"XEM!$A$2","v":"XEM"},null,{"$f":"XEM!E47","v":0},{"$f":"XEM!H47","v":0}]
[null,null,null,null,null,null,null,null,null,null,null,null,null,null,null,null,null,null,null,null,null,null,46,{"$f":"XEM!B48","v":0},{"$f":"XEM!C48","v":0},{"$f":"XEM!D48","v":0},{"$f":"XEM!F48","v":"00:00:00"},{"$f":"XEM!$A$2","v":"XEM"},null,{"$f":"XEM!E48","v":0},{"$f":"XEM!H48","v":0}]
[null,null,null,null,null,null,null,null,null,null,null,null,null,null,null,null,null,null,null,null,null,null,47,{"$f":"XEM!B49","v":0},{"$f":"XEM!C49","v":0},{"$f":"XEM!D49","v":0},{"$f":"XEM!F49","v":"00:00:00"},{"$f":"XEM!$A$2","v":"XEM"},null,{"$f":"XEM!E49","v":0},{"$f":"XEM!H49","v":0}]
[null,null,null,null,null,null,null,null,null,null,null,null,null,null,null,null,null,null,null,null,null,null,48,{"$f":"XEM!B50","v":0},{"$f":"XEM!C50","v":0},{"$f":"XEM!D50","v":0},{"$f":"XEM!F50","v":"00:00:00"},{"$f":"XEM!$A$2","v":"XEM"},null,{"$f":"XEM!E50","v":0},{"$f":"XEM!H50","v":0}]
[null,null,null,null,null,null,null,null,null,null,null,null,null,null,null,null,null,null,null,null,null,null,49,{"$f":"XEM!B51","v":0},{"$f":"XEM!C51","v":0},{"$f":"XEM!D51","v":0},{"$f":"XEM!F51","v":"00:00:00"},{"$f":"XEM!$A$2","v":"XEM"},null,{"$f":"XEM!E51","v":0},{"$f":"XEM!H51","v":0}]
[null,null,null,null,null,null,null,null,null,null,null,null,null,null,null,null,null,null,null,null,null,null,50,{"$f":"XEM!B52","v":0},{"$f":"XEM!C52","v":0},{"$f":"XEM!D52","v":0},{"$f":"XEM!F52","v":"00:00:00"},{"$f":"XEM!$A$2","v":"XEM"},null,{"$f":"XEM!E52","v":0},{"$f":"XEM!H52","v":0}]
[null,null,null,null,null,null,null,null,null,null,null,null,null,null,null,null,null,null,null,null,null,null,51,{"$f":"XEM!B53","v":0},{"$f":"XEM!C53","v":0},{"$f":"XEM!D53","v":0},{"$f":"XEM!F53","v":"00:00:00"},{"$f":"XEM!$A$2","v":"XEM"},null,{"$f":"XEM!E53","v":0},{"$f":"XEM!H53","v":0}]
[null,null,null,null,null,null,null,null,null,null,null,null,null,null,null,null,null,null,null,null,null,null,52,{"$f":"XEM!B54","v":0},{"$f":"XEM!C54","v":0},{"$f":"XEM!D54","v":0},{"$f":"XEM!F54","v":"00:00:00"},{"$f":"XEM!$A$2","v":"XEM"},null,{"$f":"XEM!E54","v":0},{"$f":"XEM!H54","v":0}]
[null,null,null,null,null,null,null,null,null,null,null,null,null,null,null,null,null,null,null,null,null,null,53,{"$f":"XEM!B55","v":0},{"$f":"XEM!C55","v":0},{"$f":"XEM!D55","v":0},{"$f":"XEM!F55","v":"00:00:00"},{"$f":"XEM!$A$2","v":"XEM"},null,{"$f":"XEM!E55","v":0},{"$f":"XEM!H55","v":0}]
[null,null,null,null,null,null,null,null,null,null,null,null,null,null,null,null,null,null,null,null,null,null,54,{"$f":"XEM!B56","v":0},{"$f":"XEM!C56","v":0},{"$f":"XEM!D56","v":0},{"$f":"XEM!F56","v":"00:00:00"},{"$f":"XEM!$A$2","v":"XEM"},null,{"$f":"XEM!E56","v":0},{"$f":"XEM!H56","v":0}]
[null,null,null,null,null,null,null,null,null,null,null,null,null,null,null,null,null,null,null,null,null,null,55,{"$f":"XEM!B57","v":0},{"$f":"XEM!C57","v":0},{"$f":"XEM!D57","v":0},{"$f":"XEM!F57","v":"00:00:00"},{"$f":"XEM!$A$2","v":"XEM"},null,{"$f":"XEM!E57","v":0},{"$f":"XEM!H57","v":0}]
[null,null,null,null,null,null,null,null,null,null,null,null,null,null,null,null,null,null,null,null,null,null,56,{"$f":"XEM!B58","v":0},{"$f":"XEM!C58","v":0},{"$f":"XEM!D58","v":0},{"$f":"XEM!F58","v":"00:00:00"},{"$f":"XEM!$A$2","v":"XEM"},null,{"$f":"XEM!E58","v":0},{"$f":"XEM!H58","v":0}]
[null,null,null,null,null,null,null,null,null,null,null,null,null,null,null,null,null,null,null,null,null,null,57,{"$f":"XEM!B59","v":0},{"$f":"XEM!C59","v":0},{"$f":"XEM!D59","v":0},{"$f":"XEM!F59","v":"00:00:00"},{"$f":"XEM!$A$2","v":"XEM"},null,{"$f":"XEM!E59","v":0},{"$f":"XEM!H59","v":0}]
[null,null,null,null,null,null,null,null,null,null,null,null,null,null,null,null,null,null,null,null,null,null,58,{"$f":"XEM!B60","v":0},{"$f":"XEM!C60","v":0},{"$f":"XEM!D60","v":0},{"$f":"XEM!F60","v":"00:00:00"},{"$f":"XEM!$A$2","v":"XEM"},null,{"$f":"XEM!E60","v":0},{"$f":"XEM!H60","v":0}]
[null,null,null,null,null,null,null,null,null,null,null,null,null,null,null,null,null,null,null,null,null,null,59,{"$f":"XEM!B61","v":0},{"$f":"XEM!C61","v":0},{"$f":"XEM!D61","v":0},{"$f":"XEM!F61","v":"00:00:00"},{"$f":"XEM!$A$2","v":"XEM"},null,{"$f":"XEM!E61","v":0},{"$f":"XEM!H61","v":0}]
[null,null,null,null,null,null,null,null,null,null,null,null,null,null,null,null,null,null,null,null,null,null,60,{"$f":"XEM!B62","v":0},{"$f":"XEM!C62","v":0},{"$f":"XEM!D62","v":0},{"$f":"XEM!F62","v":"00:00:00"},{"$f":"XEM!$A$2","v":"XEM"},null,{"$f":"XEM!E62","v":0},{"$f":"XEM!H62","v":0}]
[null,null,null,null,null,null,null,null,null,null,null,null,null,null,null,null,null,null,null,null,null,null,61,{"$f":"XEM!B63","v":0},{"$f":"XEM!C63","v":0},{"$f":"XEM!D63","v":0},{"$f":"XEM!F63","v":"00:00:00"},{"$f":"XEM!$A$2","v":"XEM"},null,{"$f":"XEM!E63","v":0},{"$f":"XEM!H63","v":0}]
[null,null,null,null,null,null,null,null,null,null,null,null,null,null,null,null,null,null,null,null,null,null,62,{"$f":"XEM!B64","v":0},{"$f":"XEM!C64","v":0},{"$f":"XEM!D64","v":0},{"$f":"XEM!F64","v":"00:00:00"},{"$f":"XEM!$A$2","v":"XEM"},null,{"$f":"XEM!E64","v":0},{"$f":"XEM!H64","v":0}]
[null,null,null,null,null,null,null,null,null,null,null,null,null,null,null,null,null,null,null,null,null,null,63,{"$f":"XEM!B65","v":0},{"$f":"XEM!C65","v":0},{"$f":"XEM!D65","v":0},{"$f":"XEM!F65","v":"00:00:00"},{"$f":"XEM!$A$2","v":"XEM"},null,{"$f":"XEM!E65","v":0},{"$f":"XEM!H65","v":0}]
[null,null,null,null,null,null,null,null,null,null,null,null,null,null,null,null,null,null,null,null,null,null,64,{"$f":"XEM!B66","v":0},{"$f":"XEM!C66","v":0},{"$f":"XEM!D66","v":0},{"$f":"XEM!F66","v":"00:00:00"},{"$f":"XEM!$A$2","v":"XEM"},null,{"$f":"XEM!E66","v":0},{"$f":"XEM!H66","v":0}]
[null,null,null,null,null,null,null,null,null,null,null,null,null,null,null,null,null,null,null,null,null,null,65,{"$f":"XEM!B67","v":0},{"$f":"XEM!C67","v":0},{"$f":"XEM!D67","v":0},{"$f":"XEM!F67","v":"00:00:00"},{"$f":"XEM!$A$2","v":"XEM"},null,{"$f":"XEM!E67","v":0},{"$f":"XEM!H67","v":0}]
[null,null,null,null,null,null,null,null,null,null,null,null,null,null,null,null,null,null,null,null,null,null,66,{"$f":"XEM!B68","v":0},{"$f":"XEM!C68","v":0},{"$f":"XEM!D68","v":0},{"$f":"XEM!F68","v":"00:00:00"},{"$f":"XEM!$A$2","v":"XEM"},null,{"$f":"XEM!E68","v":0},{"$f":"XEM!H68","v":0}]
[null,null,null,null,null,null,null,null,null,null,null,null,null,null,null,null,null,null,null,null,null,null,67,{"$f":"XEM!B69","v":0},{"$f":"XEM!C69","v":0},{"$f":"XEM!D69","v":0},{"$f":"XEM!F69","v":"00:00:00"},{"$f":"XEM!$A$2","v":"XEM"},null,{"$f":"XEM!E69","v":0},{"$f":"XEM!H69","v":0}]
[null,null,null,null,null,null,null,null,null,null,null,null,null,null,null,null,null,null,null,null,null,null,68,{"$f":"XEM!B70","v":0},{"$f":"XEM!C70","v":0},{"$f":"XEM!D70","v":0},{"$f":"XEM!F70","v":"00:00:00"},{"$f":"XEM!$A$2","v":"XEM"},null,{"$f":"XEM!E70","v":0},{"$f":"XEM!H70","v":0}]
[null,null,null,null,null,null,null,null,null,null,null,null,null,null,null,null,null,null,null,null,null,null,69,{"$f":"XEM!B71","v":0},{"$f":"XEM!C71","v":0},{"$f":"XEM!D71","v":0},{"$f":"XEM!F71","v":"00:00:00"},{"$f":"XEM!$A$2","v":"XEM"},null,{"$f":"XEM!E71","v":0},{"$f":"XEM!H71","v":0}]
[null,null,null,null,null,null,null,null,null,null,null,null,null,null,null,null,null,null,null,null,null,null,70,{"$f":"XEM!B72","v":0},{"$f":"XEM!C72","v":0},{"$f":"XEM!D72","v":0},{"$f":"XEM!F72","v":"00:00:00"},{"$f":"XEM!$A$2","v":"XEM"},null,{"$f":"XEM!E72","v":0},{"$f":"XEM!H72","v":0}]
[null,null,null,null,null,null,null,null,null,null,null,null,null,null,null,null,null,null,null,null,null,null,71,{"$f":"XEM!B73","v":0},{"$f":"XEM!C73","v":0},{"$f":"XEM!D73","v":0},{"$f":"XEM!F73","v":"00:00:00"},{"$f":"XEM!$A$2","v":"XEM"},null,{"$f":"XEM!E73","v":0},{"$f":"XEM!H73","v":0}]
[null,null,null,null,null,null,null,null,null,null,null,null,null,null,null,null,null,null,null,null,null,null,72,{"$f":"XEM!B74","v":0},{"$f":"XEM!C74","v":0},{"$f":"XEM!D74","v":0},{"$f":"XEM!F74","v":"00:00:00"},{"$f":"XEM!$A$2","v":"XEM"},null,{"$f":"XEM!E74","v":0},{"$f":"XEM!H74","v":0}]
[null,null,null,null,null,null,null,null,null,null,null,null,null,null,null,null,null,null,null,null,null,null,73,{"$f":"XEM!B75","v":0},{"$f":"XEM!C75","v":0},{"$f":"XEM!D75","v":0},{"$f":"XEM!F75","v":"00:00:00"},{"$f":"XEM!$A$2","v":"XEM"},null,{"$f":"XEM!E75","v":0},{"$f":"XEM!H75","v":0}]
[null,null,null,null,null,null,null,null,null,null,null,null,null,null,null,null,null,null,null,null,null,null,74,{"$f":"XEM!B76","v":0},{"$f":"XEM!C76","v":0},{"$f":"XEM!D76","v":0},{"$f":"XEM!F76","v":"00:00:00"},{"$f":"XEM!$A$2","v":"XEM"},null,{"$f":"XEM!E76","v":0},{"$f":"XEM!H76","v":0}]
[null,null,null,null,null,null,null,null,null,null,null,null,null,null,null,null,null,null,null,null,null,null,75,{"$f":"XEM!B77","v":0},{"$f":"XEM!C77","v":0},{"$f":"XEM!D77","v":0},{"$f":"XEM!F77","v":"00:00:00"},{"$f":"XEM!$A$2","v":"XEM"},null,{"$f":"XEM!E77","v":0},{"$f":"XEM!H77","v":0}]
[null,null,null,null,null,null,null,null,null,null,null,null,null,null,null,null,null,null,null,null,null,null,76,{"$f":"XEM!B78","v":0},{"$f":"XEM!C78","v":0},{"$f":"XEM!D78","v":0},{"$f":"XEM!F78","v":"00:00:00"},{"$f":"XEM!$A$2","v":"XEM"},null,{"$f":"XEM!E78","v":0},{"$f":"XEM!H78","v":0}]
[null,null,null,null,null,null,null,null,null,null,null,null,null,null,null,null,null,null,null,null,null,null,77,{"$f":"XEM!B79","v":0},{"$f":"XEM!C79","v":0},{"$f":"XEM!D79","v":0},{"$f":"XEM!F79","v":"00:00:00"},{"$f":"XEM!$A$2","v":"XEM"},null,{"$f":"XEM!E79","v":0},{"$f":"XEM!H79","v":0}]
[null,null,null,null,null,null,null,null,null,null,null,null,null,null,null,null,null,null,null,null,null,null,78,{"$f":"XEM!B80","v":0},{"$f":"XEM!C80","v":0},{"$f":"XEM!D80","v":0},{"$f":"XEM!F80","v":"00:00:00"},{"$f":"XEM!$A$2","v":"XEM"},null,{"$f":"XEM!E80","v":0},{"$f":"XEM!H80","v":0}]
[null,null,null,null,null,null,null,null,null,null,null,null,null,null,null,null,null,null,null,null,null,null,79,{"$f":"XEM!B81","v":0},{"$f":"XEM!C81","v":0},{"$f":"XEM!D81","v":0},{"$f":"XEM!F81","v":"00:00:00"},{"$f":"XEM!$A$2","v":"XEM"},null,{"$f":"XEM!E81","v":0},{"$f":"XEM!H81","v":0}]
[null,null,null,null,null,null,null,null,null,null,null,null,null,null,null,null,null,null,null,null,null,null,80,{"$f":"XEM!B82","v":0},{"$f":"XEM!C82","v":0},{"$f":"XEM!D82","v":0},{"$f":"XEM!F82","v":"00:00:00"},{"$f":"XEM!$A$2","v":"XEM"},null,{"$f":"XEM!E82","v":0},{"$f":"XEM!H82","v":0}]
[null,null,null,null,null,null,null,null,null,null,null,null,null,null,null,null,null,null,null,null,null,null,81,{"$f":"XEM!B83","v":0},{"$f":"XEM!C83","v":0},{"$f":"XEM!D83","v":0},{"$f":"XEM!F83","v":"00:00:00"},{"$f":"XEM!$A$2","v":"XEM"},null,{"$f":"XEM!E83","v":0},{"$f":"XEM!H83","v":0}]
[null,null,null,null,null,null,null,null,null,null,null,null,null,null,null,null,null,null,null,null,null,null,82,{"$f":"XEM!B84","v":0},{"$f":"XEM!C84","v":0},{"$f":"XEM!D84","v":0},{"$f":"XEM!F84","v":"00:00:00"},{"$f":"XEM!$A$2","v":"XEM"},null,{"$f":"XEM!E84","v":0},{"$f":"XEM!H84","v":0}]
[null,null,null,null,null,null,null,null,null,null,null,null,null,null,null,null,null,null,null,null,null,null,83,{"$f":"XEM!B85","v":0},{"$f":"XEM!C85","v":0},{"$f":"XEM!D85","v":0},{"$f":"XEM!F85","v":"00:00:00"},{"$f":"XEM!$A$2","v":"XEM"},null,{"$f":"XEM!E85","v":0},{"$f":"XEM!H85","v":0}]
[null,null,null,null,null,null,null,null,null,null,null,null,null,null,null,null,null,null,null,null,null,null,84,{"$f":"XEM!B86","v":0},{"$f":"XEM!C86","v":0},{"$f":"XEM!D86","v":0},{"$f":"XEM!F86","v":"00:00:00"},{"$f":"XEM!$A$2","v":"XEM"},null,{"$f":"XEM!E86","v":0},{"$f":"XEM!H86","v":0}]
[null,null,null,null,null,null,null,null,null,null,null,null,null,null,null,null,null,null,null,null,null,null,85,{"$f":"XEM!B87","v":0},{"$f":"XEM!C87","v":0},{"$f":"XEM!D87","v":0},{"$f":"XEM!F87","v":"00:00:00"},{"$f":"XEM!$A$2","v":"XEM"},null,{"$f":"XEM!E87","v":0},{"$f":"XEM!H87","v":0}]
[null,null,null,null,null,null,null,null,null,null,null,null,null,null,null,null,null,null,null,null,null,null,86,{"$f":"XEM!B88","v":0},{"$f":"XEM!C88","v":0},{"$f":"XEM!D88","v":0},{"$f":"XEM!F88","v":"00:00:00"},{"$f":"XEM!$A$2","v":"XEM"},null,{"$f":"XEM!E88","v":0},{"$f":"XEM!H88","v":0}]
[null,null,null,null,null,null,null,null,null,null,null,null,null,null,null,null,null,null,null,null,null,null,87,{"$f":"XEM!B89","v":0},{"$f":"XEM!C89","v":0},{"$f":"XEM!D89","v":0},{"$f":"XEM!F89","v":"00:00:00"},{"$f":"XEM!$A$2","v":"XEM"},null,{"$f":"XEM!E89","v":0},{"$f":"XEM!H89","v":0}]
[null,null,null,null,null,null,null,null,null,null,null,null,null,null,null,null,null,null,null,null,null,null,88,{"$f":"XEM!B90","v":0},{"$f":"XEM!C90","v":0},{"$f":"XEM!D90","v":0},{"$f":"XEM!F90","v":"00:00:00"},{"$f":"XEM!$A$2","v":"XEM"},null,{"$f":"XEM!E90","v":0},{"$f":"XEM!H90","v":0}]
[null,null,null,null,null,null,null,null,null,null,null,null,null,null,null,null,null,null,null,null,null,null,89,{"$f":"XEM!B91","v":0},{"$f":"XEM!C91","v":0},{"$f":"XEM!D91","v":0},{"$f":"XEM!F91","v":"00:00:00"},{"$f":"XEM!$A$2","v":"XEM"},null,{"$f":"XEM!E91","v":0},{"$f":"XEM!H91","v":0}]
[null,null,null,null,null,null,null,null,null,null,null,null,null,null,null,null,null,null,null,null,null,null,90,{"$f":"XEM!B92","v":0},{"$f":"XEM!C92","v":0},{"$f":"XEM!D92","v":0},{"$f":"XEM!F92","v":"00:00:00"},{"$f":"XEM!$A$2","v":"XEM"},null,{"$f":"XEM!E92","v":0},{"$f":"XEM!H92","v":0}]
[null,null,null,null,null,null,null,null,null,null,null,null,null,null,null,null,null,null,null,null,null,null,91,{"$f":"XEM!B93","v":0},{"$f":"XEM!C93","v":0},{"$f":"XEM!D93","v":0},{"$f":"XEM!F93","v":"00:00:00"},{"$f":"XEM!$A$2","v":"XEM"},null,{"$f":"XEM!E93","v":0},{"$f":"XEM!H93","v":0}]
[null,null,null,null,null,null,null,null,null,null,null,null,null,null,null,null,null,null,null,null,null,null,92,{"$f":"XEM!B94","v":0},{"$f":"XEM!C94","v":0},{"$f":"XEM!D94","v":0},{"$f":"XEM!F94","v":"00:00:00"},{"$f":"XEM!$A$2","v":"XEM"},null,{"$f":"XEM!E94","v":0},{"$f":"XEM!H94","v":0}]
[null,null,null,null,null,null,null,null,null,null,null,null,null,null,null,null,null,null,null,null,null,null,93,{"$f":"XEM!B95","v":0},{"$f":"XEM!C95","v":0},{"$f":"XEM!D95","v":0},{"$f":"XEM!F95","v":"00:00:00"},{"$f":"XEM!$A$2","v":"XEM"},null,{"$f":"XEM!E95","v":0},{"$f":"XEM!H95","v":0}]
[null,null,null,null,null,null,null,null,null,null,null,null,null,null,null,null,null,null,null,null,null,null,94,{"$f":"XEM!B96","v":0},{"$f":"XEM!C96","v":0},{"$f":"XEM!D96","v":0},{"$f":"XEM!F96","v":"00:00:00"},{"$f":"XEM!$A$2","v":"XEM"},null,{"$f":"XEM!E96","v":0},{"$f":"XEM!H96","v":0}]
[null,null,null,null,null,null,null,null,null,null,null,null,null,null,null,null,null,null,null,null,null,null,95,{"$f":"XEM!B97","v":0},{"$f":"XEM!C97","v":0},{"$f":"XEM!D97","v":0},{"$f":"XEM!F97","v":"00:00:00"},{"$f":"XEM!$A$2","v":"XEM"},null,{"$f":"XEM!E97","v":0},{"$f":"XEM!H97","v":0}]
[null,null,null,null,null,null,null,null,null,null,null,null,null,null,null,null,null,null,null,null,null,null,96,{"$f":"XEM!B98","v":0},{"$f":"XEM!C98","v":0},{"$f":"XEM!D98","v":0},{"$f":"XEM!F98","v":"00:00:00"},{"$f":"XEM!$A$2","v":"XEM"},null,{"$f":"XEM!E98","v":0},{"$f":"XEM!H98","v":0}]
[null,null,null,null,null,null,null,null,null,null,null,null,null,null,null,null,null,null,null,null,null,null,97,{"$f":"XEM!B99","v":0},{"$f":"XEM!C99","v":0},{"$f":"XEM!D99","v":0},{"$f":"XEM!F99","v":"00:00:00"},{"$f":"XEM!$A$2","v":"XEM"},null,{"$f":"XEM!E99","v":0},{"$f":"XEM!H99","v":0}]
[null,null,null,null,null,null,null,null,null,null,null,null,null,null,null,null,null,null,null,null,null,null,98,{"$f":"XEM!B100","v":0},{"$f":"XEM!C100","v":0},{"$f":"XEM!D100","v":0},{"$f":"XEM!F100","v":"00:00:00"},{"$f":"XEM!$A$2","v":"XEM"},null,{"$f":"XEM!E100","v":0},{"$f":"XEM!H100","v":0}]
[null,null,null,null,null,null,null,null,null,null,null,null,null,null,null,null,null,null,null,null,null,null,99,{"$f":"XEM!B101","v":0},{"$f":"XEM!C101","v":0},{"$f":"XEM!D101","v":0},{"$f":"XEM!F101","v":"00:00:00"},{"$f":"XEM!$A$2","v":"XEM"},null,{"$f":"XEM!E101","v":0},{"$f":"XEM!H101","v":0}]
[null,null,null,null,null,null,null,null,null,null,null,null,null,null,null,null,null,null,null,null,null,null,100,{"$f":"XEM!B102","v":0},{"$f":"XEM!C102","v":0},{"$f":"XEM!D102","v":0},{"$f":"XEM!F102","v":"00:00:00"},{"$f":"XEM!$A$2","v":"XEM"},null,{"$f":"XEM!E102","v":0},{"$f":"XEM!H102","v":0}]
[null,null,null,null,null,null,null,null,null,null,null,null,null,null,null,null,null,null,null,null,null,null,101,{"$f":"XEM!B103","v":0},{"$f":"XEM!C103","v":0},{"$f":"XEM!D103","v":0},{"$f":"XEM!F103","v":"00:00:00"},{"$f":"XEM!$A$2","v":"XEM"},null,{"$f":"XEM!E103","v":0},{"$f":"XEM!H103","v":0}]
[null,null,null,null,null,null,null,null,null,null,null,null,null,null,null,null,null,null,null,null,null,null,102,{"$f":"XEM!B104","v":0},{"$f":"XEM!C104","v":0},{"$f":"XEM!D104","v":0},{"$f":"XEM!F104","v":"00:00:00"},{"$f":"XEM!$A$2","v":"XEM"},null,{"$f":"XEM!E104","v":0},{"$f":"XEM!H104","v":0}]
[null,null,null,null,null,null,null,null,null,null,null,null,null,null,null,null,null,null,null,null,null,null,103,{"$f":"XEM!B105","v":0},{"$f":"XEM!C105","v":0},{"$f":"XEM!D105","v":0},{"$f":"XEM!F105","v":"00:00:00"},{"$f":"XEM!$A$2","v":"XEM"},null,{"$f":"XEM!E105","v":0},{"$f":"XEM!H105","v":0}]
[null,null,null,null,null,null,null,null,null,null,null,null,null,null,null,null,null,null,null,null,null,null,104,{"$f":"XEM!B106","v":0},{"$f":"XEM!C106","v":0},{"$f":"XEM!D106","v":0},{"$f":"XEM!F106","v":"00:00:00"},{"$f":"XEM!$A$2","v":"XEM"},null,{"$f":"XEM!E106","v":0},{"$f":"XEM!H106","v":0}]
[null,null,null,null,null,null,null,null,null,null,null,null,null,null,null,null,null,null,null,null,null,null,105,{"$f":"XEM!B107","v":0},{"$f":"XEM!C107","v":0},{"$f":"XEM!D107","v":0},{"$f":"XEM!F107","v":"00:00:00"},{"$f":"XEM!$A$2","v":"XEM"},null,{"$f":"XEM!E107","v":0},{"$f":"XEM!H107","v":0}]
[null,null,null,null,null,null,null,null,null,null,null,null,null,null,null,null,null,null,null,null,null,null,106,{"$f":"XEM!B108","v":0},{"$f":"XEM!C108","v":0},{"$f":"XEM!D108","v":0},{"$f":"XEM!F108","v":"00:00:00"},{"$f":"XEM!$A$2","v":"XEM"},null,{"$f":"XEM!E108","v":0},{"$f":"XEM!H108","v":0}]
[null,null,null,null,null,null,null,null,null,null,null,null,null,null,null,null,null,null,null,null,null,null,107,{"$f":"XEM!B109","v":0},{"$f":"XEM!C109","v":0},{"$f":"XEM!D109","v":0},{"$f":"XEM!F109","v":"00:00:00"},{"$f":"XEM!$A$2","v":"XEM"},null,{"$f":"XEM!E109","v":0},{"$f":"XEM!H109","v":0}]
[null,null,null,null,null,null,null,null,null,null,null,null,null,null,null,null,null,null,null,null,null,null,108,{"$f":"XEM!B110","v":0},{"$f":"XEM!C110","v":0},{"$f":"XEM!D110","v":0},{"$f":"XEM!F110","v":"00:00:00"},{"$f":"XEM!$A$2","v":"XEM"},null,{"$f":"XEM!E110","v":0},{"$f":"XEM!H110","v":0}]
[null,null,null,null,null,null,null,null,null,null,null,null,null,null,null,null,null,null,null,null,null,null,109,{"$f":"XEM!B111","v":0},{"$f":"XEM!C111","v":0},{"$f":"XEM!D111","v":0},{"$f":"XEM!F111","v":"00:00:00"},{"$f":"XEM!$A$2","v":"XEM"},null,{"$f":"XEM!E111","v":0},{"$f":"XEM!H111","v":0}]
[null,null,null,null,null,null,null,null,null,null,null,null,null,null,null,null,null,null,null,null,null,null,110,{"$f":"XEM!B112","v":0},{"$f":"XEM!C112","v":0},{"$f":"XEM!D112","v":0},{"$f":"XEM!F112","v":"00:00:00"},{"$f":"XEM!$A$2","v":"XEM"},null,{"$f":"XEM!E112","v":0},{"$f":"XEM!H112","v":0}]
[null,null,null,null,null,null,null,null,null,null,null,null,null,null,null,null,null,null,null,null,null,null,111,{"$f":"XEM!B113","v":0},{"$f":"XEM!C113","v":0},{"$f":"XEM!D113","v":0},{"$f":"XEM!F113","v":"00:00:00"},{"$f":"XEM!$A$2","v":"XEM"},null,{"$f":"XEM!E113","v":0},{"$f":"XEM!H113","v":0}]
[null,null,null,null,null,null,null,null,null,null,null,null,null,null,null,null,null,null,null,null,null,null,112,{"$f":"XEM!B114","v":0},{"$f":"XEM!C114","v":0},{"$f":"XEM!D114","v":0},{"$f":"XEM!F114","v":"00:00:00"},{"$f":"XEM!$A$2","v":"XEM"},null,{"$f":"XEM!E114","v":0},{"$f":"XEM!H114","v":0}]
[null,null,null,null,null,null,null,null,null,null,null,null,null,null,null,null,null,null,null,null,null,null,113,{"$f":"XEM!B115","v":0},{"$f":"XEM!C115","v":0},{"$f":"XEM!D115","v":0},{"$f":"XEM!F115","v":"00:00:00"},{"$f":"XEM!$A$2","v":"XEM"},null,{"$f":"XEM!E115","v":0},{"$f":"XEM!H115","v":0}]
[null,null,null,null,null,null,null,null,null,null,null,null,null,null,null,null,null,null,null,null,null,null,114,{"$f":"XEM!B116","v":0},{"$f":"XEM!C116","v":0},{"$f":"XEM!D116","v":0},{"$f":"XEM!F116","v":"00:00:00"},{"$f":"XEM!$A$2","v":"XEM"},null,{"$f":"XEM!E116","v":0},{"$f":"XEM!H116","v":0}]
[null,null,null,null,null,null,null,null,null,null,null,null,null,null,null,null,null,null,null,null,null,null,115,{"$f":"XEM!B117","v":0},{"$f":"XEM!C117","v":0},{"$f":"XEM!D117","v":0},{"$f":"XEM!F117","v":"00:00:00"},{"$f":"XEM!$A$2","v":"XEM"},null,{"$f":"XEM!E117","v":0},{"$f":"XEM!H117","v":0}]
[null,null,null,null,null,null,null,null,null,null,null,null,null,null,null,null,null,null,null,null,null,null,116,{"$f":"XEM!B118","v":0},{"$f":"XEM!C118","v":0},{"$f":"XEM!D118","v":0},{"$f":"XEM!F118","v":"00:00:00"},{"$f":"XEM!$A$2","v":"XEM"},null,{"$f":"XEM!E118","v":0},{"$f":"XEM!H118","v":0}]
[null,null,null,null,null,null,null,null,null,null,null,null,null,null,null,null,null,null,null,null,null,null,117,{"$f":"XEM!B119","v":0},{"$f":"XEM!C119","v":0},{"$f":"XEM!D119","v":0},{"$f":"XEM!F119","v":"00:00:00"},{"$f":"XEM!$A$2","v":"XEM"},null,{"$f":"XEM!E119","v":0},{"$f":"XEM!H119","v":0}]
[null,null,null,null,null,null,null,null,null,null,null,null,null,null,null,null,null,null,null,null,null,null,118,{"$f":"XEM!B120","v":0},{"$f":"XEM!C120","v":0},{"$f":"XEM!D120","v":0},{"$f":"XEM!F120","v":"00:00:00"},{"$f":"XEM!$A$2","v":"XEM"},null,{"$f":"XEM!E120","v":0},{"$f":"XEM!H120","v":0}]
[null,null,null,null,null,null,null,null,null,null,null,null,null,null,null,null,null,null,null,null,null,null,119,{"$f":"XEM!B121","v":0},{"$f":"XEM!C121","v":0},{"$f":"XEM!D121","v":0},{"$f":"XEM!F121","v":"00:00:00"},{"$f":"XEM!$A$2","v":"XEM"},null,{"$f":"XEM!E121","v":0},{"$f":"XEM!H121","v":0}]
[null,null,null,null,null,null,null,null,null,null,null,null,null,null,null,null,null,null,null,null,null,null,120,{"$f":"XEM!B122","v":0},{"$f":"XEM!C122","v":0},{"$f":"XEM!D122","v":0},{"$f":"XEM!F122","v":"00:00:00"},{"$f":"XEM!$A$2","v":"XEM"},null,{"$f":"XEM!E122","v":0},{"$f":"XEM!H122","v":0}]
[null,null,null,null,null,null,null,null,null,null,null,null,null,null,null,null,null,null,null,null,null,null,121,{"$f":"XEM!B123","v":0},{"$f":"XEM!C123","v":0},{"$f":"XEM!D123","v":0},{"$f":"XEM!F123","v":"00:00:00"},{"$f":"XEM!$A$2","v":"XEM"},null,{"$f":"XEM!E123","v":0},{"$f":"XEM!H123","v":0}]
[null,null,null,null,null,null,null,null,null,null,null,null,null,null,null,null,null,null,null,null,null,null,122,{"$f":"XEM!B124","v":0},{"$f":"XEM!C124","v":0},{"$f":"XEM!D124","v":0},{"$f":"XEM!F124","v":"00:00:00"},{"$f":"XEM!$A$2","v":"XEM"},null,{"$f":"XEM!E124","v":0},{"$f":"XEM!H124","v":0}]
[null,null,null,null,null,null,null,null,null,null,null,null,null,null,null,null,null,null,null,null,null,null,123,{"$f":"XEM!B125","v":0},{"$f":"XEM!C125","v":0},{"$f":"XEM!D125","v":0},{"$f":"XEM!F125","v":"00:00:00"},{"$f":"XEM!$A$2","v":"XEM"},null,{"$f":"XEM!E125","v":0},{"$f":"XEM!H125","v":0}]
[null,null,null,null,null,null,null,null,null,null,null,null,null,null,null,null,null,null,null,null,null,null,124,{"$f":"XEM!B126","v":0},{"$f":"XEM!C126","v":0},{"$f":"XEM!D126","v":0},{"$f":"XEM!F126","v":"00:00:00"},{"$f":"XEM!$A$2","v":"XEM"},null,{"$f":"XEM!E126","v":0},{"$f":"XEM!H126","v":0}]
[null,null,null,null,null,null,null,null,null,null,null,null,null,null,null,null,null,null,null,null,null,null,125,{"$f":"XEM!B127","v":0},{"$f":"XEM!C127","v":0},{"$f":"XEM!D127","v":0},{"$f":"XEM!F127","v":"00:00:00"},{"$f":"XEM!$A$2","v":"XEM"},null,{"$f":"XEM!E127","v":0},{"$f":"XEM!H127","v":0}]
[null,null,null,null,null,null,null,null,null,null,null,null,null,null,null,null,null,null,null,null,null,null,126,{"$f":"XEM!B128","v":0},{"$f":"XEM!C128","v":0},{"$f":"XEM!D128","v":0},{"$f":"XEM!F128","v":"00:00:00"},{"$f":"XEM!$A$2","v":"XEM"},null,{"$f":"XEM!E128","v":0},{"$f":"XEM!H128","v":0}]
[null,null,null,null,null,null,null,null,null,null,null,null,null,null,null,null,null,null,null,null,null,null,127,{"$f":"XEM!B129","v":0},{"$f":"XEM!C129","v":0},{"$f":"XEM!D129","v":0},{"$f":"XEM!F129","v":"00:00:00"},{"$f":"XEM!$A$2","v":"XEM"},null,{"$f":"XEM!E129","v":0},{"$f":"XEM!H129","v":0}]
[null,null,null,null,null,null,null,null,null,null,null,null,null,null,null,null,null,null,null,null,null,null,128,{"$f":"XEM!B130","v":0},{"$f":"XEM!C130","v":0},{"$f":"XEM!D130","v":0},{"$f":"XEM!F130","v":"00:00:00"},{"$f":"XEM!$A$2","v":"XEM"},null,{"$f":"XEM!E130","v":0},{"$f":"XEM!H130","v":0}]
[null,null,null,null,null,null,null,null,null,null,null,null,null,null,null,null,null,null,null,null,null,null,129,{"$f":"XEM!B131","v":0},{"$f":"XEM!C131","v":0},{"$f":"XEM!D131","v":0},{"$f":"XEM!F131","v":"00:00:00"},{"$f":"XEM!$A$2","v":"XEM"},null,{"$f":"XEM!E131","v":0},{"$f":"XEM!H131","v":0}]
[null,null,null,null,null,null,null,null,null,null,null,null,null,null,null,null,null,null,null,null,null,null,130,{"$f":"XEM!B132","v":0},{"$f":"XEM!C132","v":0},{"$f":"XEM!D132","v":0},{"$f":"XEM!F132","v":"00:00:00"},{"$f":"XEM!$A$2","v":"XEM"},null,{"$f":"XEM!E132","v":0},{"$f":"XEM!H132","v":0}]
[null,null,null,null,null,null,null,null,null,null,null,null,null,null,null,null,null,null,null,null,null,null,131,{"$f":"XEM!B133","v":0},{"$f":"XEM!C133","v":0},{"$f":"XEM!D133","v":0},{"$f":"XEM!F133","v":"00:00:00"},{"$f":"XEM!$A$2","v":"XEM"},null,{"$f":"XEM!E133","v":0},{"$f":"XEM!H133","v":0}]
[null,null,null,null,null,null,null,null,null,null,null,null,null,null,null,null,null,null,null,null,null,null,132,{"$f":"XEM!B134","v":0},{"$f":"XEM!C134","v":0},{"$f":"XEM!D134","v":0},{"$f":"XEM!F134","v":"00:00:00"},{"$f":"XEM!$A$2","v":"XEM"},null,{"$f":"XEM!E134","v":0},{"$f":"XEM!H134","v":0}]
[null,null,null,null,null,null,null,null,null,null,null,null,null,null,null,null,null,null,null,null,null,null,133,{"$f":"XEM!B135","v":0},{"$f":"XEM!C135","v":0},{"$f":"XEM!D135","v":0},{"$f":"XEM!F135","v":"00:00:00"},{"$f":"XEM!$A$2","v":"XEM"},null,{"$f":"XEM!E135","v":0},{"$f":"XEM!H135","v":0}]
[null,null,null,null,null,null,null,null,null,null,null,null,null,null,null,null,null,null,null,null,null,null,134,{"$f":"XEM!B136","v":0},{"$f":"XEM!C136","v":0},{"$f":"XEM!D136","v":0},{"$f":"XEM!F136","v":"00:00:00"},{"$f":"XEM!$A$2","v":"XEM"},null,{"$f":"XEM!E136","v":0},{"$f":"XEM!H136","v":0}]
[null,null,null,null,null,null,null,null,null,null,null,null,null,null,null,null,null,null,null,null,null,null,135,{"$f":"XEM!B137","v":0},{"$f":"XEM!C137","v":0},{"$f":"XEM!D137","v":0},{"$f":"XEM!F137","v":"00:00:00"},{"$f":"XEM!$A$2","v":"XEM"},null,{"$f":"XEM!E137","v":0},{"$f":"XEM!H137","v":0}]
[null,null,null,null,null,null,null,null,null,null,null,null,null,null,null,null,null,null,null,null,null,null,136,{"$f":"XEM!B138","v":0},{"$f":"XEM!C138","v":0},{"$f":"XEM!D138","v":0},{"$f":"XEM!F138","v":"00:00:00"},{"$f":"XEM!$A$2","v":"XEM"},null,{"$f":"XEM!E138","v":0},{"$f":"XEM!H138","v":0}]
[null,null,null,null,null,null,null,null,null,null,null,null,null,null,null,null,null,null,null,null,null,null,137,{"$f":"XEM!B139","v":0},{"$f":"XEM!C139","v":0},{"$f":"XEM!D139","v":0},{"$f":"XEM!F139","v":"00:00:00"},{"$f":"XEM!$A$2","v":"XEM"},null,{"$f":"XEM!E139","v":0},{"$f":"XEM!H139","v":0}]
[null,null,null,null,null,null,null,null,null,null,null,null,null,null,null,null,null,null,null,null,null,null,138,{"$f":"XEM!B140","v":0},{"$f":"XEM!C140","v":0},{"$f":"XEM!D140","v":0},{"$f":"XEM!F140","v":"00:00:00"},{"$f":"XEM!$A$2","v":"XEM"},null,{"$f":"XEM!E140","v":0},{"$f":"XEM!H140","v":0}]
[null,null,null,null,null,null,null,null,null,null,null,null,null,null,null,null,null,null,null,null,null,null,139,{"$f":"XEM!B141","v":0},{"$f":"XEM!C141","v":0},{"$f":"XEM!D141","v":0},{"$f":"XEM!F141","v":"00:00:00"},{"$f":"XEM!$A$2","v":"XEM"},null,{"$f":"XEM!E141","v":0},{"$f":"XEM!H141","v":0}]
[null,null,null,null,null,null,null,null,null,null,null,null,null,null,null,null,null,null,null,null,null,null,140,{"$f":"XEM!B142","v":0},{"$f":"XEM!C142","v":0},{"$f":"XEM!D142","v":0},{"$f":"XEM!F142","v":"00:00:00"},{"$f":"XEM!$A$2","v":"XEM"},null,{"$f":"XEM!E142","v":0},{"$f":"XEM!H142","v":0}]
[null,null,null,null,null,null,null,null,null,null,null,null,null,null,null,null,null,null,null,null,null,null,141,{"$f":"XEM!B143","v":0},{"$f":"XEM!C143","v":0},{"$f":"XEM!D143","v":0},{"$f":"XEM!F143","v":"00:00:00"},{"$f":"XEM!$A$2","v":"XEM"},null,{"$f":"XEM!E143","v":0},{"$f":"XEM!H143","v":0}]
[null,null,null,null,null,null,null,null,null,null,null,null,null,null,null,null,null,null,null,null,null,null,142,{"$f":"XEM!B144","v":0},{"$f":"XEM!C144","v":0},{"$f":"XEM!D144","v":0},{"$f":"XEM!F144","v":"00:00:00"},{"$f":"XEM!$A$2","v":"XEM"},null,{"$f":"XEM!E144","v":0},{"$f":"XEM!H144","v":0}]
[null,null,null,null,null,null,null,null,null,null,null,null,null,null,null,null,null,null,null,null,null,null,143,{"$f":"XEM!B145","v":0},{"$f":"XEM!C145","v":0},{"$f":"XEM!D145","v":0},{"$f":"XEM!F145","v":"00:00:00"},{"$f":"XEM!$A$2","v":"XEM"},null,{"$f":"XEM!E145","v":0},{"$f":"XEM!H145","v":0}]
[null,null,null,null,null,null,null,null,null,null,null,null,null,null,null,null,null,null,null,null,null,null,144,{"$f":"XEM!B146","v":0},{"$f":"XEM!C146","v":0},{"$f":"XEM!D146","v":0},{"$f":"XEM!F146","v":"00:00:00"},{"$f":"XEM!$A$2","v":"XEM"},null,{"$f":"XEM!E146","v":0},{"$f":"XEM!H146","v":0}]
[null,null,null,null,null,null,null,null,null,null,null,null,null,null,null,null,null,null,null,null,null,null,145,{"$f":"XEM!B147","v":0},{"$f":"XEM!C147","v":0},{"$f":"XEM!D147","v":0},{"$f":"XEM!F147","v":"00:00:00"},{"$f":"XEM!$A$2","v":"XEM"},null,{"$f":"XEM!E147","v":0},{"$f":"XEM!H147","v":0}]
[null,null,null,null,null,null,null,null,null,null,null,null,null,null,null,null,null,null,null,null,null,null,146,{"$f":"XEM!B148","v":0},{"$f":"XEM!C148","v":0},{"$f":"XEM!D148","v":0},{"$f":"XEM!F148","v":"00:00:00"},{"$f":"XEM!$A$2","v":"XEM"},null,{"$f":"XEM!E148","v":0},{"$f":"XEM!H148","v":0}]
[null,null,null,null,null,null,null,null,null,null,null,null,null,null,null,null,null,null,null,null,null,null,147,{"$f":"XEM!B149","v":0},{"$f":"XEM!C149","v":0},{"$f":"XEM!D149","v":0},{"$f":"XEM!F149","v":"00:00:00"},{"$f":"XEM!$A$2","v":"XEM"},null,{"$f":"XEM!E149","v":0},{"$f":"XEM!H149","v":0}]
[null,null,null,null,null,null,null,null,null,null,null,null,null,null,null,null,null,null,null,null,null,null,148,{"$f":"XEM!B150","v":0},{"$f":"XEM!C150","v":0},{"$f":"XEM!D150","v":0},{"$f":"XEM!F150","v":"00:00:00"},{"$f":"XEM!$A$2","v":"XEM"},null,{"$f":"XEM!E150","v":0},{"$f":"XEM!H150","v":0}]
[null,null,null,null,null,null,null,null,null,null,null,null,null,null,null,null,null,null,null,null,null,null,149,{"$f":"XEM!B151","v":0},{"$f":"XEM!C151","v":0},{"$f":"XEM!D151","v":0},{"$f":"XEM!F151","v":"00:00:00"},{"$f":"XEM!$A$2","v":"XEM"},null,{"$f":"XEM!E151","v":0},{"$f":"XEM!H151","v":0}]
[null,null,null,null,null,null,null,null,null,null,null,null,null,null,null,null,null,null,null,null,null,null,150,{"$f":"XEM!B152","v":0},{"$f":"XEM!C152","v":0},{"$f":"XEM!D152","v":0},{"$f":"XEM!F152","v":"00:00:00"},{"$f":"XEM!$A$2","v":"XEM"},null,{"$f":"XEM!E152","v":0},{"$f":"XEM!H152","v":0}]
[null,null,null,null,null,null,null,null,null,null,null,null,null,null,null,null,null,null,null,null,null,null,null,{"$f":"XEM!B153","v":0},{"$f":"XEM!C153","v":0},{"$f":"XEM!D153","v":0},{"$f":"XEM!F153","v":"00:00:00"},{"$f":"XEM!$A$2","v":"XEM"},null,{"$f":"XEM!E153","v":0},{"$f":"XEM!H153","v":0}]
[null,null,null,null,null,null,null,null,null,null,null,null,null,null,null,null,null,null,null,null,null,null,1]
[null,null,null,null,null,null,null,null,null,null,null,null,null,null,null,null,null,null,null,null,null,null,2,{"$f":"EXTRA1!B4","v":0},{"$f":"EXTRA1!C4","v":0},{"$f":"EXTRA1!D4","v":0},{"$f":"EXTRA1!F4","v":"00:00:00"},{"$f":"EXTRA1!$A$2","v":"EXTRA1"},null,{"$f":"EXTRA1!E4","v":0},{"$f":"EXTRA1!H4","v":0}]
[null,null,null,null,null,null,null,null,null,null,null,null,null,null,null,null,null,null,null,null,null,null,3,{"$f":"EXTRA1!B5","v":0},{"$f":"EXTRA1!C5","v":0},{"$f":"EXTRA1!D5","v":0},{"$f":"EXTRA1!F5","v":"00:00:00"},{"$f":"EXTRA1!$A$2","v":"EXTRA1"},null,{"$f":"EXTRA1!E5","v":0},{"$f":"EXTRA1!H5","v":0}]
[null,null,null,null,null,null,null,null,null,null,null,null,null,null,null,null,null,null,null,null,null,null,4,{"$f":"EXTRA1!B6","v":0},{"$f":"EXTRA1!C6","v":0},{"$f":"EXTRA1!D6","v":0},{"$f":"EXTRA1!F6","v":"00:00:00"},{"$f":"EXTRA1!$A$2","v":"EXTRA1"},null,{"$f":"EXTRA1!E6","v":0},{"$f":"EXTRA1!H6","v":0}]
[null,null,null,null,null,null,null,null,null,null,null,null,null,null,null,null,null,null,null,null,null,null,5,{"$f":"EXTRA1!B7","v":0},{"$f":"EXTRA1!C7","v":0},{"$f":"EXTRA1!D7","v":0},{"$f":"EXTRA1!F7","v":"00:00:00"},{"$f":"EXTRA1!$A$2","v":"EXTRA1"},null,{"$f":"EXTRA1!E7","v":0},{"$f":"EXTRA1!H7","v":0}]
[null,null,null,null,null,null,null,null,null,null,null,null,null,null,null,null,null,null,null,null,null,null,6,{"$f":"EXTRA1!B8","v":0},{"$f":"EXTRA1!C8","v":0},{"$f":"EXTRA1!D8","v":0},{"$f":"EXTRA1!F8","v":"00:00:00"},{"$f":"EXTRA1!$A$2","v":"EXTRA1"},null,{"$f":"EXTRA1!E8","v":0},{"$f":"EXTRA1!H8","v":0}]
[null,null,null,null,null,null,null,null,null,null,null,null,null,null,null,null,null,null,null,null,null,null,7,{"$f":"EXTRA1!B9","v":0},{"$f":"EXTRA1!C9","v":0},{"$f":"EXTRA1!D9","v":0},{"$f":"EXTRA1!F9","v":"00:00:00"},{"$f":"EXTRA1!$A$2","v":"EXTRA1"},null,{"$f":"EXTRA1!E9","v":0},{"$f":"EXTRA1!H9","v":0}]
[null,null,null,null,null,null,null,null,null,null,null,null,null,null,null,null,null,null,null,null,null,null,8,{"$f":"EXTRA1!B10","v":0},{"$f":"EXTRA1!C10","v":0},{"$f":"EXTRA1!D10","v":0},{"$f":"EXTRA1!F10","v":"00:00:00"},{"$f":"EXTRA1!$A$2","v":"EXTRA1"},null,{"$f":"EXTRA1!E10","v":0},{"$f":"EXTRA1!H10","v":0}]
[null,null,null,null,null,null,null,null,null,null,null,null,null,null,null,null,null,null,null,null,null,null,9,{"$f":"EXTRA1!B11","v":0},{"$f":"EXTRA1!C11","v":0},{"$f":"EXTRA1!D11","v":0},{"$f":"EXTRA1!F11","v":"00:00:00"},{"$f":"EXTRA1!$A$2","v":"EXTRA1"},null,{"$f":"EXTRA1!E11","v":0},{"$f":"EXTRA1!H11","v":0}]
[null,null,null,null,null,null,null,null,null,null,null,null,null,null,null,null,null,null,null,null,null,null,10,{"$f":"EXTRA1!B12","v":0},{"$f":"EXTRA1!C12","v":0},{"$f":"EXTRA1!D12","v":0},{"$f":"EXTRA1!F12","v":"00:00:00"},{"$f":"EXTRA1!$A$2","v":"EXTRA1"},null,{"$f":"EXTRA1!E12","v":0},{"$f":"EXTRA1!H12","v":0}]
[null,null,null,null,null,null,null,null,null,null,null,null,null,null,null,null,null,null,null,null,null,null,11,{"$f":"EXTRA1!B13","v":0},{"$f":"EXTRA1!C13","v":0},{"$f":"EXTRA1!D13","v":0},{"$f":"EXTRA1!F13","v":"00:00:00"},{"$f":"EXTRA1!$A$2","v":"EXTRA1"},null,{"$f":"EXTRA1!E13","v":0},{"$f":"EXTRA1!H13","v":0}]
[null,null,null,null,null,null,null,null,null,null,null,null,null,null,null,null,null,null,null,null,null,null,12,{"$f":"EXTRA1!B14","v":0},{"$f":"EXTRA1!C14","v":0},{"$f":"EXTRA1!D14","v":0},{"$f":"EXTRA1!F14","v":"00:00:00"},{"$f":"EXTRA1!$A$2","v":"EXTRA1"},null,{"$f":"EXTRA1!E14","v":0},{"$f":"EXTRA1!H14","v":0}]
[null,null,null,null,null,null,null,null,null,null,null,null,null,null,null,null,null,null,null,null,null,null,13,{"$f":"EXTRA1!B15","v":0},{"$f":"EXTRA1!C15","v":0},{"$f":"EXTRA1!D15","v":0},{"$f":"EXTRA1!F15","v":"00:00:00"},{"$f":"EXTRA1!$A$2","v":"EXTRA1"},null,{"$f":"EXTRA1!E15","v":0},{"$f":"EXTRA1!H15","v":0}]
[null,null,null,null,null,null,null,null,null,null,null,null,null,null,null,null,null,null,null,null,null,null,14,{"$f":"EXTRA1!B16","v":0},{"$f":"EXTRA1!C16","v":0},{"$f":"EXTRA1!D16","v":0},{"$f":"EXTRA1!F16","v":"00:00:00"},{"$f":"EXTRA1!$A$2","v":"EXTRA1"},null,{"$f":"EXTRA1!E16","v":0},{"$f":"EXTRA1!H16","v":0}]
[null,null,null,null,null,null,null,null,null,null,null,null,null,null,null,null,null,null,null,null,null,null,15,{"$f":"EXTRA1!B17","v":0},{"$f":"EXTRA1!C17","v":0},{"$f":"EXTRA1!D17","v":0},{"$f":"EXTRA1!F17","v":"00:00:00"},{"$f":"EXTRA1!$A$2","v":"EXTRA1"},null,{"$f":"EXTRA1!E17","v":0},{"$f":"EXTRA1!H17","v":0}]
[null,null,null,null,null,null,null,null,null,null,null,null,null,null,null,null,null,null,null,null,null,null,16,{"$f":"EXTRA1!B18","v":0},{"$f":"EXTRA1!C18","v":0},{"$f":"EXTRA1!D18","v":0},{"$f":"EXTRA1!F18","v":"00:00:00"},{"$f":"EXTRA1!$A$2","v":"EXTRA1"},null,{"$f":"EXTRA1!E18","v":0},{"$f":"EXTRA1!H18","v":0}]
[null,null,null,null,null,null,null,null,null,null,null,null,null,null,null,null,null,null,null,null,null,null,17,{"$f":"EXTRA1!B19","v":0},{"$f":"EXTRA1!C19","v":0},{"$f":"EXTRA1!D19","v":0},{"$f":"EXTRA1!F19","v":"00:00:00"},{"$f":"EXTRA1!$A$2","v":"EXTRA1"},null,{"$f":"EXTRA1!E19","v":0},{"$f":"EXTRA1!H19","v":0}]
[null,null,null,null,null,null,null,null,null,null,null,null,null,null,null,null,null,null,null,null,null,null,18,{"$f":"EXTRA1!B20","v":0},{"$f":"EXTRA1!C20","v":0},{"$f":"EXTRA1!D20","v":0},{"$f":"EXTRA1!F20","v":"00:00:00"},{"$f":"EXTRA1!$A$2","v":"EXTRA1"},null,{"$f":"EXTRA1!E20","v":0},{"$f":"EXTRA1!H20","v":0}]
[null,null,null,null,null,null,null,null,null,null,null,null,null,null,null,null,null,null,null,null,null,null,19,{"$f":"EXTRA1!B21","v":0},{"$f":"EXTRA1!C21","v":0},{"$f":"EXTRA1!D21","v":0},{"$f":"EXTRA1!F21","v":"00:00:00"},{"$f":"EXTRA1!$A$2","v":"EXTRA1"},null,{"$f":"EXTRA1!E21","v":0},{"$f":"EXTRA1!H21","v":0}]
[null,null,null,null,null,null,null,null,null,null,null,null,null,null,null,null,null,null,null,null,null,null,20,{"$f":"EXTRA1!B22","v":0},{"$f":"EXTRA1!C22","v":0},{"$f":"EXTRA1!D22","v":0},{"$f":"EXTRA1!F22","v":"00:00:00"},{"$f":"EXTRA1!$A$2","v":"EXTRA1"},null,{"$f":"EXTRA1!E22","v":0},{"$f":"EXTRA1!H22","v":0}]
[null,null,null,null,null,null,null,null,null,null,null,null,null,null,null,null,null,null,null,null,null,null,21,{"$f":"EXTRA1!B23","v":0},{"$f":"EXTRA1!C23","v":0},{"$f":"EXTRA1!D23","v":0},{"$f":"EXTRA1!F23","v":"00:00:00"},{"$f":"EXTRA1!$A$2","v":"EXTRA1"},null,{"$f":"EXTRA1!E23","v":0},{"$f":"EXTRA1!H23","v":0}]
[null,null,null,null,null,null,null,null,null,null,null,null,null,null,null,null,null,null,null,null,null,null,22,{"$f":"EXTRA1!B24","v":0},{"$f":"EXTRA1!C24","v":0},{"$f":"EXTRA1!D24","v":0},{"$f":"EXTRA1!F24","v":"00:00:00"},{"$f":"EXTRA1!$A$2","v":"EXTRA1"},null,{"$f":"EXTRA1!E24","v":0},{"$f":"EXTRA1!H24","v":0}]
[null,null,null,null,null,null,null,null,null,null,null,null,null,null,null,null,null,null,null,null,null,null,23,{"$f":"EXTRA1!B25","v":0},{"$f":"EXTRA1!C25","v":0},{"$f":"EXTRA1!D25","v":0},{"$f":"EXTRA1!F25","v":"00:00:00"},{"$f":"EXTRA1!$A$2","v":"EXTRA1"},null,{"$f":"EXTRA1!E25","v":0},{"$f":"EXTRA1!H25","v":0}]
[null,null,null,null,null,null,null,null,null,null,null,null,null,null,null,null,null,null,null,null,null,null,24,{"$f":"EXTRA1!B26","v":0},{"$f":"EXTRA1!C26","v":0},{"$f":"EXTRA1!D26","v":0},{"$f":"EXTRA1!F26","v":"00:00:00"},{"$f":"EXTRA1!$A$2","v":"EXTRA1"},null,{"$f":"EXTRA1!E26","v":0},{"$f":"EXTRA1!H26","v":0}]
[null,null,null,null,null,null,null,null,null,null,null,null,null,null,null,null,null,null,null,null,null,null,25,{"$f":"EXTRA1!B27","v":0},{"$f":"EXTRA1!C27","v":0},{"$f":"EXTRA1!D27","v":0},{"$f":"EXTRA1!F27","v":"00:00:00"},{"$f":"EXTRA1!$A$2","v":"EXTRA1"},null,{"$f":"EXTRA1!E27","v":0},{"$f":"EXTRA1!H27","v":0}]
[null,null,null,null,null,null,null,null,null,null,null,null,null,null,null,null,null,null,null,null,null,null,26,{"$f":"EXTRA1!B28","v":0},{"$f":"EXTRA1!C28","v":0},{"$f":"EXTRA1!D28","v":0},{"$f":"EXTRA1!F28","v":"00:00:00"},{"$f":"EXTRA1!$A$2","v":"EXTRA1"},null,{"$f":"EXTRA1!E28","v":0},{"$f":"EXTRA1!H28","v":0}]
[null,null,null,null,null,null,null,null,null,null,null,null,null,null,null,null,null,null,null,null,null,null,27,{"$f":"EXTRA1!B29","v":0},{"$f":"EXTRA1!C29","v":0},{"$f":"EXTRA1!D29","v":0},{"$f":"EXTRA1!F29","v":"00:00:00"},{"$f":"EXTRA1!$A$2","v":"EXTRA1"},null,{"$f":"EXTRA1!E29","v":0},{"$f":"EXTRA1!H29","v":0}]
[null,null,null,null,null,null,null,null,null,null,null,null,null,null,null,null,null,null,null,null,null,null,28,{"$f":"EXTRA1!B30","v":0},{"$f":"EXTRA1!C30","v":0},{"$f":"EXTRA1!D30","v":0},{"$f":"EXTRA1!F30","v":"00:00:00"},{"$f":"EXTRA1!$A$2","v":"EXTRA1"},null,{"$f":"EXTRA1!E30","v":0},{"$f":"EXTRA1!H30","v":0}]
[null,null,null,null,null,null,null,null,null,null,null,null,null,null,null,null,null,null,null,null,null,null,29,{"$f":"EXTRA1!B31","v":0},{"$f":"EXTRA1!C31","v":0},{"$f":"EXTRA1!D31","v":0},{"$f":"EXTRA1!F31","v":"00:00:00"},{"$f":"EXTRA1!$A$2","v":"EXTRA1"},null,{"$f":"EXTRA1!E31","v":0},{"$f":"EXTRA1!H31","v":0}]
[null,null,null,null,null,null,null,null,null,null,null,null,null,null,null,null,null,null,null,null,null,null,30,{"$f":"EXTRA1!B32","v":0},{"$f":"EXTRA1!C32","v":0},{"$f":"EXTRA1!D32","v":0},{"$f":"EXTRA1!F32","v":"00:00:00"},{"$f":"EXTRA1!$A$2","v":"EXTRA1"},null,{"$f":"EXTRA1!E32","v":0},{"$f":"EXTRA1!H32","v":0}]
[null,null,null,null,null,null,null,null,null,null,null,null,null,null,null,null,null,null,null,null,null,null,31,{"$f":"EXTRA1!B33","v":0},{"$f":"EXTRA1!C33","v":0},{"$f":"EXTRA1!D33","v":0},{"$f":"EXTRA1!F33","v":"00:00:00"},{"$f":"EXTRA1!$A$2","v":"EXTRA1"},null,{"$f":"EXTRA1!E33","v":0},{"$f":"EXTRA1!H33","v":0}]
[null,null,null,null,null,null,null,null,null,null,null,null,null,null,null,null,null,null,null,null,null,null,32,{"$f":"EXTRA1!B34","v":0},{"$f":"EXTRA1!C34","v":0},{"$f":"EXTRA1!D34","v":0},{"$f":"EXTRA1!F34","v":"00:00:00"},{"$f":"EXTRA1!$A$2","v":"EXTRA1"},null,{"$f":"EXTRA1!E34","v":0},{"$f":"EXTRA1!H34","v":0}]
[null,null,null,null,null,null,null,null,null,null,null,null,null,null,null,null,null,null,null,null,null,null,33,{"$f":"EXTRA1!B35","v":0},{"$f":"EXTRA1!C35","v":0},{"$f":"EXTRA1!D35","v":0},{"$f":"EXTRA1!F35","v":"00:00:00"},{"$f":"EXTRA1!$A$2","v":"EXTRA1"},null,{"$f":"EXTRA1!E35","v":0},{"$f":"EXTRA1!H35","v":0}]
[null,null,null,null,null,null,null,null,null,null,null,null,null,null,null,null,null,null,null,null,null,null,34,{"$f":"EXTRA1!B36","v":0},{"$f":"EXTRA1!C36","v":0},{"$f":"EXTRA1!D36","v":0},{"$f":"EXTRA1!F36","v":"00:00:00"},{"$f":"EXTRA1!$A$2","v":"EXTRA1"},null,{"$f":"EXTRA1!E36","v":0},{"$f":"EXTRA1!H36","v":0}]
[null,null,null,null,null,null,null,null,null,null,null,null,null,null,null,null,null,null,null,null,null,null,35,{"$f":"EXTRA1!B37","v":0},{"$f":"EXTRA1!C37","v":0},{"$f":"EXTRA1!D37","v":0},{"$f":"EXTRA1!F37","v":"00:00:00"},{"$f":"EXTRA1!$A$2","v":"EXTRA1"},null,{"$f":"EXTRA1!E37","v":0},{"$f":"EXTRA1!H37","v":0}]
[null,null,null,null,null,null,null,null,null,null,null,null,null,null,null,null,null,null,null,null,null,null,36,{"$f":"EXTRA1!B38","v":0},{"$f":"EXTRA1!C38","v":0},{"$f":"EXTRA1!D38","v":0},{"$f":"EXTRA1!F38","v":"00:00:00"},{"$f":"EXTRA1!$A$2","v":"EXTRA1"},null,{"$f":"EXTRA1!E38","v":0},{"$f":"EXTRA1!H38","v":0}]
[null,null,null,null,null,null,null,null,null,null,null,null,null,null,null,null,null,null,null,null,null,null,37,{"$f":"EXTRA1!B39","v":0},{"$f":"EXTRA1!C39","v":0},{"$f":"EXTRA1!D39","v":0},{"$f":"EXTRA1!F39","v":"00:00:00"},{"$f":"EXTRA1!$A$2","v":"EXTRA1"},null,{"$f":"EXTRA1!E39","v":0},{"$f":"EXTRA1!H39","v":0}]
[null,null,null,null,null,null,null,null,null,null,null,null,null,null,null,null,null,null,null,null,null,null,38,{"$f":"EXTRA1!B40","v":0},{"$f":"EXTRA1!C40","v":0},{"$f":"EXTRA1!D40","v":0},{"$f":"EXTRA1!F40","v":"00:00:00"},{"$f":"EXTRA1!$A$2","v":"EXTRA1"},null,{"$f":"EXTRA1!E40","v":0},{"$f":"EXTRA1!H40","v":0}]
[null,null,null,null,null,null,null,null,null,null,null,null,null,null,null,null,null,null,null,null,null,null,39,{"$f":"EXTRA1!B41","v":0},{"$f":"EXTRA1!C41","v":0},{"$f":"EXTRA1!D41","v":0},{"$f":"EXTRA1!F41","v":"00:00:00"},{"$f":"EXTRA1!$A$2","v":"EXTRA1"},null,{"$f":"EXTRA1!E41","v":0},{"$f":"EXTRA1!H41","v":0}]
[null,null,null,null,null,null,null,null,null,null,null,null,null,null,null,null,null,null,null,null,null,null,40,{"$f":"EXTRA1!B42","v":0},{"$f":"EXTRA1!C42","v":0},{"$f":"EXTRA1!D42","v":0},{"$f":"EXTRA1!F42","v":"00:00:00"},{"$f":"EXTRA1!$A$2","v":"EXTRA1"},null,{"$f":"EXTRA1!E42","v":0},{"$f":"EXTRA1!H42","v":0}]
[null,null,null,null,null,null,null,null,null,null,null,null,null,null,null,null,null,null,null,null,null,null,41,{"$f":"EXTRA1!B43","v":0},{"$f":"EXTRA1!C43","v":0},{"$f":"EXTRA1!D43","v":0},{"$f":"EXTRA1!F43","v":"00:00:00"},{"$f":"EXTRA1!$A$2","v":"EXTRA1"},null,{"$f":"EXTRA1!E43","v":0},{"$f":"EXTRA1!H43","v":0}]
[null,null,null,null,null,null,null,null,null,null,null,null,null,null,null,null,null,null,null,null,null,null,42,{"$f":"EXTRA1!B44","v":0},{"$f":"EXTRA1!C44","v":0},{"$f":"EXTRA1!D44","v":0},{"$f":"EXTRA1!F44","v":"00:00:00"},{"$f":"EXTRA1!$A$2","v":"EXTRA1"},null,{"$f":"EXTRA1!E44","v":0},{"$f":"EXTRA1!H44","v":0}]
[null,null,null,null,null,null,null,null,null,null,null,null,null,null,null,null,null,null,null,null,null,null,43,{"$f":"EXTRA1!B45","v":0},{"$f":"EXTRA1!C45","v":0},{"$f":"EXTRA1!D45","v":0},{"$f":"EXTRA1!F45","v":"00:00:00"},{"$f":"EXTRA1!$A$2","v":"EXTRA1"},null,{"$f":"EXTRA1!E45","v":0},{"$f":"EXTRA1!H45","v":0}]
[null,null,null,null,null,null,null,null,null,null,null,null,null,null,null,null,null,null,null,null,null,null,44,{"$f":"EXTRA1!B46","v":0},{"$f":"EXTRA1!C46","v":0},{"$f":"EXTRA1!D46","v":0},{"$f":"EXTRA1!F46","v":"00:00:00"},{"$f":"EXTRA1!$A$2","v":"EXTRA1"},null,{"$f":"EXTRA1!E46","v":0},{"$f":"EXTRA1!H46","v":0}]
[null,null,null,null,null,null,null,null,null,null,null,null,null,null,null,null,null,null,null,null,null,null,45,{"$f":"EXTRA1!B47","v":0},{"$f":"EXTRA1!C47","v":0},{"$f":"EXTRA1!D47","v":0},{"$f":"EXTRA1!F47","v":"00:00:00"},{"$f":"EXTRA1!$A$2","v":"EXTRA1"},null,{"$f":"EXTRA1!E47","v":0},{"$f":"EXTRA1!H47","v":0}]
[null,null,null,null,null,null,null,null,null,null,null,null,null,null,null,null,null,null,null,null,null,null,46,{"$f":"EXTRA1!B48","v":0},{"$f":"EXTRA1!C48","v":0},{"$f":"EXTRA1!D48","v":0},{"$f":"EXTRA1!F48","v":"00:00:00"},{"$f":"EXTRA1!$A$2","v":"EXTRA1"},null,{"$f":"EXTRA1!E48","v":0},{"$f":"EXTRA1!H48","v":0}]
[null,null,null,null,null,null,null,null,null,null,null,null,null,null,null,null,null,null,null,null,null,null,47,{"$f":"EXTRA1!B49","v":0},{"$f":"EXTRA1!C49","v":0},{"$f":"EXTRA1!D49","v":0},{"$f":"EXTRA1!F49","v":"00:00:00"},{"$f":"EXTRA1!$A$2","v":"EXTRA1"},null,{"$f":"EXTRA1!E49","v":0},{"$f":"EXTRA1!H49","v":0}]
[null,null,null,null,null,null,null,null,null,null,null,null,null,null,null,null,null,null,null,null,null,null,48,{"$f":"EXTRA1!B50","v":0},{"$f":"EXTRA1!C50","v":0},{"$f":"EXTRA1!D50","v":0},{"$f":"EXTRA1!F50","v":"00:00:00"},{"$f":"EXTRA1!$A$2","v":"EXTRA1"},null,{"$f":"EXTRA1!E50","v":0},{"$f":"EXTRA1!H50","v":0}]
[null,null,null,null,null,null,null,null,null,null,null,null,null,null,null,null,null,null,null,null,null,null,49,{"$f":"EXTRA1!B51","v":0},{"$f":"EXTRA1!C51","v":0},{"$f":"EXTRA1!D51","v":0},{"$f":"EXTRA1!F51","v":"00:00:00"},{"$f":"EXTRA1!$A$2","v":"EXTRA1"},null,{"$f":"EXTRA1!E51","v":0},{"$f":"EXTRA1!H51","v":0}]
[null,null,null,null,null,null,null,null,null,null,null,null,null,null,null,null,null,null,null,null,null,null,50,{"$f":"EXTRA1!B52","v":0},{"$f":"EXTRA1!C52","v":0},{"$f":"EXTRA1!D52","v":0},{"$f":"EXTRA1!F52","v":"00:00:00"},{"$f":"EXTRA1!$A$2","v":"EXTRA1"},null,{"$f":"EXTRA1!E52","v":0},{"$f":"EXTRA1!H52","v":0}]
[null,null,null,null,null,null,null,null,null,null,null,null,null,null,null,null,null,null,null,null,null,null,51,{"$f":"EXTRA1!B53","v":0},{"$f":"EXTRA1!C53","v":0},{"$f":"EXTRA1!D53","v":0},{"$f":"EXTRA1!F53","v":"00:00:00"},{"$f":"EXTRA1!$A$2","v":"EXTRA1"},null,{"$f":"EXTRA1!E53","v":0},{"$f":"EXTRA1!H53","v":0}]
[null,null,null,null,null,null,null,null,null,null,null,null,null,null,null,null,null,null,null,null,null,null,52,{"$f":"EXTRA1!B54","v":0},{"$f":"EXTRA1!C54","v":0},{"$f":"EXTRA1!D54","v":0},{"$f":"EXTRA1!F54","v":"00:00:00"},{"$f":"EXTRA1!$A$2","v":"EXTRA1"},null,{"$f":"EXTRA1!E54","v":0},{"$f":"EXTRA1!H54","v":0}]
[null,null,null,null,null,null,null,null,null,null,null,null,null,null,null,null,null,null,null,null,null,null,53,{"$f":"EXTRA1!B55","v":0},{"$f":"EXTRA1!C55","v":0},{"$f":"EXTRA1!D55","v":0},{"$f":"EXTRA1!F55","v":"00:00:00"},{"$f":"EXTRA1!$A$2","v":"EXTRA1"},null,{"$f":"EXTRA1!E55","v":0},{"$f":"EXTRA1!H55","v":0}]
[null,null,null,null,null,null,null,null,null,null,null,null,null,null,null,null,null,null,null,null,null,null,54,{"$f":"EXTRA1!B56","v":0},{"$f":"EXTRA1!C56","v":0},{"$f":"EXTRA1!D56","v":0},{"$f":"EXTRA1!F56","v":"00:00:00"},{"$f":"EXTRA1!$A$2","v":"EXTRA1"},null,{"$f":"EXTRA1!E56","v":0},{"$f":"EXTRA1!H56","v":0}]
[null,null,null,null,null,null,null,null,null,null,null,null,null,null,null,null,null,null,null,null,null,null,55,{"$f":"EXTRA1!B57","v":0},{"$f":"EXTRA1!C57","v":0},{"$f":"EXTRA1!D57","v":0},{"$f":"EXTRA1!F57","v":"00:00:00"},{"$f":"EXTRA1!$A$2","v":"EXTRA1"},null,{"$f":"EXTRA1!E57","v":0},{"$f":"EXTRA1!H57","v":0}]
[null,null,null,null,null,null,null,null,null,null,null,null,null,null,null,null,null,null,null,null,null,null,56,{"$f":"EXTRA1!B58","v":0},{"$f":"EXTRA1!C58","v":0},{"$f":"EXTRA1!D58","v":0},{"$f":"EXTRA1!F58","v":"00:00:00"},{"$f":"EXTRA1!$A$2","v":"EXTRA1"},null,{"$f":"EXTRA1!E58","v":0},{"$f":"EXTRA1!H58","v":0}]
[null,null,null,null,null,null,null,null,null,null,null,null,null,null,null,null,null,null,null,null,null,null,57,{"$f":"EXTRA1!B59","v":0},{"$f":"EXTRA1!C59","v":0},{"$f":"EXTRA1!D59","v":0},{"$f":"EXTRA1!F59","v":"00:00:00"},{"$f":"EXTRA1!$A$2","v":"EXTRA1"},null,{"$f":"EXTRA1!E59","v":0},{"$f":"EXTRA1!H59","v":0}]
[null,null,null,null,null,null,null,null,null,null,null,null,null,null,null,null,null,null,null,null,null,null,58,{"$f":"EXTRA1!B60","v":0},{"$f":"EXTRA1!C60","v":0},{"$f":"EXTRA1!D60","v":0},{"$f":"EXTRA1!F60","v":"00:00:00"},{"$f":"EXTRA1!$A$2","v":"EXTRA1"},null,{"$f":"EXTRA1!E60","v":0},{"$f":"EXTRA1!H60","v":0}]
[null,null,null,null,null,null,null,null,null,null,null,null,null,null,null,null,null,null,null,null,null,null,59,{"$f":"EXTRA1!B61","v":0},{"$f":"EXTRA1!C61","v":0},{"$f":"EXTRA1!D61","v":0},{"$f":"EXTRA1!F61","v":"00:00:00"},{"$f":"EXTRA1!$A$2","v":"EXTRA1"},null,{"$f":"EXTRA1!E61","v":0},{"$f":"EXTRA1!H61","v":0}]
[null,null,null,null,null,null,null,null,null,null,null,null,null,null,null,null,null,null,null,null,null,null,60,{"$f":"EXTRA1!B62","v":0},{"$f":"EXTRA1!C62","v":0},{"$f":"EXTRA1!D62","v":0},{"$f":"EXTRA1!F62","v":"00:00:00"},{"$f":"EXTRA1!$A$2","v":"EXTRA1"},null,{"$f":"EXTRA1!E62","v":0},{"$f":"EXTRA1!H62","v":0}]
[null,null,null,null,null,null,null,null,null,null,null,null,null,null,null,null,null,null,null,null,null,null,61,{"$f":"EXTRA1!B63","v":0},{"$f":"EXTRA1!C63","v":0},{"$f":"EXTRA1!D63","v":0},{"$f":"EXTRA1!F63","v":"00:00:00"},{"$f":"EXTRA1!$A$2","v":"EXTRA1"},null,{"$f":"EXTRA1!E63","v":0},{"$f":"EXTRA1!H63","v":0}]
[null,null,null,null,null,null,null,null,null,null,null,null,null,null,null,null,null,null,null,null,null,null,62,{"$f":"EXTRA1!B64","v":0},{"$f":"EXTRA1!C64","v":0},{"$f":"EXTRA1!D64","v":0},{"$f":"EXTRA1!F64","v":"00:00:00"},{"$f":"EXTRA1!$A$2","v":"EXTRA1"},null,{"$f":"EXTRA1!E64","v":0},{"$f":"EXTRA1!H64","v":0}]
[null,null,null,null,null,null,null,null,null,null,null,null,null,null,null,null,null,null,null,null,null,null,63,{"$f":"EXTRA1!B65","v":0},{"$f":"EXTRA1!C65","v":0},{"$f":"EXTRA1!D65","v":0},{"$f":"EXTRA1!F65","v":"00:00:00"},{"$f":"EXTRA1!$A$2","v":"EXTRA1"},null,{"$f":"EXTRA1!E65","v":0},{"$f":"EXTRA1!H65","v":0}]
[null,null,null,null,null,null,null,null,null,null,null,null,null,null,null,null,null,null,null,null,null,null,64,{"$f":"EXTRA1!B66","v":0},{"$f":"EXTRA1!C66","v":0},{"$f":"EXTRA1!D66","v":0},{"$f":"EXTRA1!F66","v":"00:00:00"},{"$f":"EXTRA1!$A$2","v":"EXTRA1"},null,{"$f":"EXTRA1!E66","v":0},{"$f":"EXTRA1!H66","v":0}]
[null,null,null,null,null,null,null,null,null,null,null,null,null,null,null,null,null,null,null,null,null,null,65,{"$f":"EXTRA1!B67","v":0},{"$f":"EXTRA1!C67","v":0},{"$f":"EXTRA1!D67","v":0},{"$f":"EXTRA1!F67","v":"00:00:00"},{"$f":"EXTRA1!$A$2","v":"EXTRA1"},null,{"$f":"EXTRA1!E67","v":0},{"$f":"EXTRA1!H67","v":0}]
[null,null,null,null,null,null,null,null,null,null,null,null,null,null,null,null,null,null,null,null,null,null,66,{"$f":"EXTRA1!B68","v":0},{"$f":"EXTRA1!C68","v":0},{"$f":"EXTRA1!D68","v":0},{"$f":"EXTRA1!F68","v":"00:00:00"},{"$f":"EXTRA1!$A$2","v":"EXTRA1"},null,{"$f":"EXTRA1!E68","v":0},{"$f":"EXTRA1!H68","v":0}]
[null,null,null,null,null,null,null,null,null,null,null,null,null,null,null,null,null,null,null,null,null,null,67,{"$f":"EXTRA1!B69","v":0},{"$f":"EXTRA1!C69","v":0},{"$f":"EXTRA1!D69","v":0},{"$f":"EXTRA1!F69","v":"00:00:00"},{"$f":"EXTRA1!$A$2","v":"EXTRA1"},null,{"$f":"EXTRA1!E69","v":0},{"$f":"EXTRA1!H69","v":0}]
[null,null,null,null,null,null,null,null,null,null,null,null,null,null,null,null,null,null,null,null,null,null,68,{"$f":"EXTRA1!B70","v":0},{"$f":"EXTRA1!C70","v":0},{"$f":"EXTRA1!D70","v":0},{"$f":"EXTRA1!F70","v":"00:00:00"},{"$f":"EXTRA1!$A$2","v":"EXTRA1"},null,{"$f":"EXTRA1!E70","v":0},{"$f":"EXTRA1!H70","v":0}]
[null,null,null,null,null,null,null,null,null,null,null,null,null,null,null,null,null,null,null,null,null,null,69,{"$f":"EXTRA1!B71","v":0},{"$f":"EXTRA1!C71","v":0},{"$f":"EXTRA1!D71","v":0},{"$f":"EXTRA1!F71","v":"00:00:00"},{"$f":"EXTRA1!$A$2","v":"EXTRA1"},null,{"$f":"EXTRA1!E71","v":0},{"$f":"EXTRA1!H71","v":0}]
[null,null,null,null,null,null,null,null,null,null,null,null,null,null,null,null,null,null,null,null,null,null,70,{"$f":"EXTRA1!B72","v":0},{"$f":"EXTRA1!C72","v":0},{"$f":"EXTRA1!D72","v":0},{"$f":"EXTRA1!F72","v":"00:00:00"},{"$f":"EXTRA1!$A$2","v":"EXTRA1"},null,{"$f":"EXTRA1!E72","v":0},{"$f":"EXTRA1!H72","v":0}]
[null,null,null,null,null,null,null,null,null,null,null,null,null,null,null,null,null,null,null,null,null,null,71,{"$f":"EXTRA1!B73","v":0},{"$f":"EXTRA1!C73","v":0},{"$f":"EXTRA1!D73","v":0},{"$f":"EXTRA1!F73","v":"00:00:00"},{"$f":"EXTRA1!$A$2","v":"EXTRA1"},null,{"$f":"EXTRA1!E73","v":0},{"$f":"EXTRA1!H73","v":0}]
[null,null,null,null,null,null,null,null,null,null,null,null,null,null,null,null,null,null,null,null,null,null,72,{"$f":"EXTRA1!B74","v":0},{"$f":"EXTRA1!C74","v":0},{"$f":"EXTRA1!D74","v":0},{"$f":"EXTRA1!F74","v":"00:00:00"},{"$f":"EXTRA1!$A$2","v":"EXTRA1"},null,{"$f":"EXTRA1!E74","v":0},{"$f":"EXTRA1!H74","v":0}]
[null,null,null,null,null,null,null,null,null,null,null,null,null,null,null,null,null,null,null,null,null,null,73,{"$f":"EXTRA1!B75","v":0},{"$f":"EXTRA1!C75","v":0},{"$f":"EXTRA1!D75","v":0},{"$f":"EXTRA1!F75","v":"00:00:00"},{"$f":"EXTRA1!$A$2","v":"EXTRA1"},null,{"$f":"EXTRA1!E75","v":0},{"$f":"EXTRA1!H75","v":0}]
[null,null,null,null,null,null,null,null,null,null,null,null,null,null,null,null,null,null,null,null,null,null,74,{"$f":"EXTRA1!B76","v":0},{"$f":"EXTRA1!C76","v":0},{"$f":"EXTRA1!D76","v":0},{"$f":"EXTRA1!F76","v":"00:00:00"},{"$f":"EXTRA1!$A$2","v":"EXTRA1"},null,{"$f":"EXTRA1!E76","v":0},{"$f":"EXTRA1!H76","v":0}]
[null,null,null,null,null,null,null,null,null,null,null,null,null,null,null,null,null,null,null,null,null,null,75,{"$f":"EXTRA1!B77","v":0},{"$f":"EXTRA1!C77","v":0},{"$f":"EXTRA1!D77","v":0},{"$f":"EXTRA1!F77","v":"00:00:00"},{"$f":"EXTRA1!$A$2","v":"EXTRA1"},null,{"$f":"EXTRA1!E77","v":0},{"$f":"EXTRA1!H77","v":0}]
[null,null,null,null,null,null,null,null,null,null,null,null,null,null,null,null,null,null,null,null,null,null,76,{"$f":"EXTRA1!B78","v":0},{"$f":"EXTRA1!C78","v":0},{"$f":"EXTRA1!D78","v":0},{"$f":"EXTRA1!F78","v":"00:00:00"},{"$f":"EXTRA1!$A$2","v":"EXTRA1"},null,{"$f":"EXTRA1!E78","v":0},{"$f":"EXTRA1!H78","v":0}]
[null,null,null,null,null,null,null,null,null,null,null,null,null,null,null,null,null,null,null,null,null,null,77,{"$f":"EXTRA1!B79","v":0},{"$f":"EXTRA1!C79","v":0},{"$f":"EXTRA1!D79","v":0},{"$f":"EXTRA1!F79","v":"00:00:00"},{"$f":"EXTRA1!$A$2","v":"EXTRA1"},null,{"$f":"EXTRA1!E79","v":0},{"$f":"EXTRA1!H79","v":0}]
[null,null,null,null,null,null,null,null,null,null,null,null,null,null,null,null,null,null,null,null,null,null,78,{"$f":"EXTRA1!B80","v":0},{"$f":"EXTRA1!C80","v":0},{"$f":"EXTRA1!D80","v":0},{"$f":"EXTRA1!F80","v":"00:00:00"},{"$f":"EXTRA1!$A$2","v":"EXTRA1"},null,{"$f":"EXTRA1!E80","v":0},{"$f":"EXTRA1!H80","v":0}]
[null,null,null,null,null,null,null,null,null,null,null,null,null,null,null,null,null,null,null,null,null,null,79,{"$f":"EXTRA1!B81","v":0},{"$f":"EXTRA1!C81","v":0},{"$f":"EXTRA1!D81","v":0},{"$f":"EXTRA1!F81","v":"00:00:00"},{"$f":"EXTRA1!$A$2","v":"EXTRA1"},null,{"$f":"EXTRA1!E81","v":0},{"$f":"EXTRA1!H81","v":0}]
[null,null,null,null,null,null,null,null,null,null,null,null,null,null,null,null,null,null,null,null,null,null,80,{"$f":"EXTRA1!B82","v":0},{"$f":"EXTRA1!C82","v":0},{"$f":"EXTRA1!D82","v":0},{"$f":"EXTRA1!F82","v":"00:00:00"},{"$f":"EXTRA1!$A$2","v":"EXTRA1"},null,{"$f":"EXTRA1!E82","v":0},{"$f":"EXTRA1!H82","v":0}]
[null,null,null,null,null,null,null,null,null,null,null,null,null,null,null,null,null,null,null,null,null,null,81,{"$f":"EXTRA1!B83","v":0},{"$f":"EXTRA1!C83","v":0},{"$f":"EXTRA1!D83","v":0},{"$f":"EXTRA1!F83","v":"00:00:00"},{"$f":"EXTRA1!$A$2","v":"EXTRA1"},null,{"$f":"EXTRA1!E83","v":0},{"$f":"EXTRA1!H83","v":0}]
[null,null,null,null,null,null,null,null,null,null,null,null,null,null,null,null,null,null,null,null,null,null,82,{"$f":"EXTRA1!B84","v":0},{"$f":"EXTRA1!C84","v":0},{"$f":"EXTRA1!D84","v":0},{"$f":"EXTRA1!F84","v":"00:00:00"},{"$f":"EXTRA1!$A$2","v":"EXTRA1"},null,{"$f":"EXTRA1!E84","v":0},{"$f":"EXTRA1!H84","v":0}]
[null,null,null,null,null,null,null,null,null,null,null,null,null,null,null,null,null,null,null,null,null,null,83,{"$f":"EXTRA1!B85","v":0},{"$f":"EXTRA1!C85","v":0},{"$f":"EXTRA1!D85","v":0},{"$f":"EXTRA1!F85","v":"00:00:00"},{"$f":"EXTRA1!$A$2","v":"EXTRA1"},null,{"$f":"EXTRA1!E85","v":0},{"$f":"EXTRA1!H85","v":0}]
[null,null,null,null,null,null,null,null,null,null,null,null,null,null,null,null,null,null,null,null,null,null,84,{"$f":"EXTRA1!B86","v":0},{"$f":"EXTRA1!C86","v":0},{"$f":"EXTRA1!D86","v":0},{"$f":"EXTRA1!F86","v":"00:00:00"},{"$f":"EXTRA1!$A$2","v":"EXTRA1"},null,{"$f":"EXTRA1!E86","v":0},{"$f":"EXTRA1!H86","v":0}]
[null,null,null,null,null,null,null,null,null,null,null,null,null,null,null,null,null,null,null,null,null,null,85,{"$f":"EXTRA1!B87","v":0},{"$f":"EXTRA1!C87","v":0},{"$f":"EXTRA1!D87","v":0},{"$f":"EXTRA1!F87","v":"00:00:00"},{"$f":"EXTRA1!$A$2","v":"EXTRA1"},null,{"$f":"EXTRA1!E87","v":0},{"$f":"EXTRA1!H87","v":0}]
[null,null,null,null,null,null,null,null,null,null,null,null,null,null,null,null,null,null,null,null,null,null,86,{"$f":"EXTRA1!B88","v":0},{"$f":"EXTRA1!C88","v":0},{"$f":"EXTRA1!D88","v":0},{"$f":"EXTRA1!F88","v":"00:00:00"},{"$f":"EXTRA1!$A$2","v":"EXTRA1"},null,{"$f":"EXTRA1!E88","v":0},{"$f":"EXTRA1!H88","v":0}]
[null,null,null,null,null,null,null,null,null,null,null,null,null,null,null,null,null,null,null,null,null,null,87,{"$f":"EXTRA1!B89","v":0},{"$f":"EXTRA1!C89","v":0},{"$f":"EXTRA1!D89","v":0},{"$f":"EXTRA1!F89","v":"00:00:00"},{"$f":"EXTRA1!$A$2","v":"EXTRA1"},null,{"$f":"EXTRA1!E89","v":0},{"$f":"EXTRA1!H89","v":0}]
[null,null,null,null,null,null,null,null,null,null,null,null,null,null,null,null,null,null,null,null,null,null,88,{"$f":"EXTRA1!B90","v":0},{"$f":"EXTRA1!C90","v":0},{"$f":"EXTRA1!D90","v":0},{"$f":"EXTRA1!F90","v":"00:00:00"},{"$f":"EXTRA1!$A$2","v":"EXTRA1"},null,{"$f":"EXTRA1!E90","v":0},{"$f":"EXTRA1!H90","v":0}]
[null,null,null,null,null,null,null,null,null,null,null,null,null,null,null,null,null,null,null,null,null,null,89,{"$f":"EXTRA1!B91","v":0},{"$f":"EXTRA1!C91","v":0},{"$f":"EXTRA1!D91","v":0},{"$f":"EXTRA1!F91","v":"00:00:00"},{"$f":"EXTRA1!$A$2","v":"EXTRA1"},null,{"$f":"EXTRA1!E91","v":0},{"$f":"EXTRA1!H91","v":0}]
[null,null,null,null,null,null,null,null,null,null,null,null,null,null,null,null,null,null,null,null,null,null,90,{"$f":"EXTRA1!B92","v":0},{"$f":"EXTRA1!C92","v":0},{"$f":"EXTRA1!D92","v":0},{"$f":"EXTRA1!F92","v":"00:00:00"},{"$f":"EXTRA1!$A$2","v":"EXTRA1"},null,{"$f":"EXTRA1!E92","v":0},{"$f":"EXTRA1!H92","v":0}]
[null,null,null,null,null,null,null,null,null,null,null,null,null,null,null,null,null,null,null,null,null,null,91,{"$f":"EXTRA1!B93","v":0},{"$f":"EXTRA1!C93","v":0},{"$f":"EXTRA1!D93","v":0},{"$f":"EXTRA1!F93","v":"00:00:00"},{"$f":"EXTRA1!$A$2","v":"EXTRA1"},null,{"$f":"EXTRA1!E93","v":0},{"$f":"EXTRA1!H93","v":0}]
[null,null,null,null,null,null,null,null,null,null,null,null,null,null,null,null,null,null,null,null,null,null,92,{"$f":"EXTRA1!B94","v":0},{"$f":"EXTRA1!C94","v":0},{"$f":"EXTRA1!D94","v":0},{"$f":"EXTRA1!F94","v":"00:00:00"},{"$f":"EXTRA1!$A$2","v":"EXTRA1"},null,{"$f":"EXTRA1!E94","v":0},{"$f":"EXTRA1!H94","v":0}]
[null,null,null,null,null,null,null,null,null,null,null,null,null,null,null,null,null,null,null,null,null,null,93,{"$f":"EXTRA1!B95","v":0},{"$f":"EXTRA1!C95","v":0},{"$f":"EXTRA1!D95","v":0},{"$f":"EXTRA1!F95","v":"00:00:00"},{"$f":"EXTRA1!$A$2","v":"EXTRA1"},null,{"$f":"EXTRA1!E95","v":0},{"$f":"EXTRA1!H95","v":0}]
[null,null,null,null,null,null,null,null,null,null,null,null,null,null,null,null,null,null,null,null,null,null,94,{"$f":"EXTRA1!B96","v":0},{"$f":"EXTRA1!C96","v":0},{"$f":"EXTRA1!D96","v":0},{"$f":"EXTRA1!F96","v":"00:00:00"},{"$f":"EXTRA1!$A$2","v":"EXTRA1"},null,{"$f":"EXTRA1!E96","v":0},{"$f":"EXTRA1!H96","v":0}]
[null,null,null,null,null,null,null,null,null,null,null,null,null,null,null,null,null,null,null,null,null,null,95,{"$f":"EXTRA1!B97","v":0},{"$f":"EXTRA1!C97","v":0},{"$f":"EXTRA1!D97","v":0},{"$f":"EXTRA1!F97","v":"00:00:00"},{"$f":"EXTRA1!$A$2","v":"EXTRA1"},null,{"$f":"EXTRA1!E97","v":0},{"$f":"EXTRA1!H97","v":0}]
[null,null,null,null,null,null,null,null,null,null,null,null,null,null,null,null,null,null,null,null,null,null,96,{"$f":"EXTRA1!B98","v":0},{"$f":"EXTRA1!C98","v":0},{"$f":"EXTRA1!D98","v":0},{"$f":"EXTRA1!F98","v":"00:00:00"},{"$f":"EXTRA1!$A$2","v":"EXTRA1"},null,{"$f":"EXTRA1!E98","v":0},{"$f":"EXTRA1!H98","v":0}]
[null,null,null,null,null,null,null,null,null,null,null,null,null,null,null,null,null,null,null,null,null,null,97,{"$f":"EXTRA1!B99","v":0},{"$f":"EXTRA1!C99","v":0},{"$f":"EXTRA1!D99","v":0},{"$f":"EXTRA1!F99","v":"00:00:00"},{"$f":"EXTRA1!$A$2","v":"EXTRA1"},null,{"$f":"EXTRA1!E99","v":0},{"$f":"EXTRA1!H99","v":0}]
[null,null,null,null,null,null,null,null,null,null,null,null,null,null,null,null,null,null,null,null,null,null,98,{"$f":"EXTRA1!B100","v":0},{"$f":"EXTRA1!C100","v":0},{"$f":"EXTRA1!D100","v":0},{"$f":"EXTRA1!F100","v":"00:00:00"},{"$f":"EXTRA1!$A$2","v":"EXTRA1"},null,{"$f":"EXTRA1!E100","v":0},{"$f":"EXTRA1!H100","v":0}]
[null,null,null,null,null,null,null,null,null,null,null,null,null,null,null,null,null,null,null,null,null,null,99,{"$f":"EXTRA1!B101","v":0},{"$f":"EXTRA1!C101","v":0},{"$f":"EXTRA1!D101","v":0},{"$f":"EXTRA1!F101","v":"00:00:00"},{"$f":"EXTRA1!$A$2","v":"EXTRA1"},null,{"$f":"EXTRA1!E101","v":0},{"$f":"EXTRA1!H101","v":0}]
[null,null,null,null,null,null,null,null,null,null,null,null,null,null,null,null,null,null,null,null,null,null,100,{"$f":"EXTRA1!B102","v":0},{"$f":"EXTRA1!C102","v":0},{"$f":"EXTRA1!D102","v":0},{"$f":"EXTRA1!F102","v":"00:00:00"},{"$f":"EXTRA1!$A$2","v":"EXTRA1"},null,{"$f":"EXTRA1!E102","v":0},{"$f":"EXTRA1!H102","v":0}]
[null,null,null,null,null,null,null,null,null,null,null,null,null,null,null,null,null,null,null,null,null,null,101,{"$f":"EXTRA1!B103","v":0},{"$f":"EXTRA1!C103","v":0},{"$f":"EXTRA1!D103","v":0},{"$f":"EXTRA1!F103","v":"00:00:00"},{"$f":"EXTRA1!$A$2","v":"EXTRA1"},null,{"$f":"EXTRA1!E103","v":0},{"$f":"EXTRA1!H103","v":0}]
[null,null,null,null,null,null,null,null,null,null,null,null,null,null,null,null,null,null,null,null,null,null,102,{"$f":"EXTRA1!B104","v":0},{"$f":"EXTRA1!C104","v":0},{"$f":"EXTRA1!D104","v":0},{"$f":"EXTRA1!F104","v":"00:00:00"},{"$f":"EXTRA1!$A$2","v":"EXTRA1"},null,{"$f":"EXTRA1!E104","v":0},{"$f":"EXTRA1!H104","v":0}]
[null,null,null,null,null,null,null,null,null,null,null,null,null,null,null,null,null,null,null,null,null,null,103,{"$f":"EXTRA1!B105","v":0},{"$f":"EXTRA1!C105","v":0},{"$f":"EXTRA1!D105","v":0},{"$f":"EXTRA1!F105","v":"00:00:00"},{"$f":"EXTRA1!$A$2","v":"EXTRA1"},null,{"$f":"EXTRA1!E105","v":0},{"$f":"EXTRA1!H105","v":0}]
[null,null,null,null,null,null,null,null,null,null,null,null,null,null,null,null,null,null,null,null,null,null,104,{"$f":"EXTRA1!B106","v":0},{"$f":"EXTRA1!C106","v":0},{"$f":"EXTRA1!D106","v":0},{"$f":"EXTRA1!F106","v":"00:00:00"},{"$f":"EXTRA1!$A$2","v":"EXTRA1"},null,{"$f":"EXTRA1!E106","v":0},{"$f":"EXTRA1!H106","v":0}]
[null,null,null,null,null,null,null,null,null,null,null,null,null,null,null,null,null,null,null,null,null,null,105,{"$f":"EXTRA1!B107","v":0},{"$f":"EXTRA1!C107","v":0},{"$f":"EXTRA1!D107","v":0},{"$f":"EXTRA1!F107","v":"00:00:00"},{"$f":"EXTRA1!$A$2","v":"EXTRA1"},null,{"$f":"EXTRA1!E107","v":0},{"$f":"EXTRA1!H107","v":0}]
[null,null,null,null,null,null,null,null,null,null,null,null,null,null,null,null,null,null,null,null,null,null,106,{"$f":"EXTRA1!B108","v":0},{"$f":"EXTRA1!C108","v":0},{"$f":"EXTRA1!D108","v":0},{"$f":"EXTRA1!F108","v":"00:00:00"},{"$f":"EXTRA1!$A$2","v":"EXTRA1"},null,{"$f":"EXTRA1!E108","v":0},{"$f":"EXTRA1!H108","v":0}]
[null,null,null,null,null,null,null,null,null,null,null,null,null,null,null,null,null,null,null,null,null,null,107,{"$f":"EXTRA1!B109","v":0},{"$f":"EXTRA1!C109","v":0},{"$f":"EXTRA1!D109","v":0},{"$f":"EXTRA1!F109","v":"00:00:00"},{"$f":"EXTRA1!$A$2","v":"EXTRA1"},null,{"$f":"EXTRA1!E109","v":0},{"$f":"EXTRA1!H109","v":0}]
[null,null,null,null,null,null,null,null,null,null,null,null,null,null,null,null,null,null,null,null,null,null,108,{"$f":"EXTRA1!B110","v":0},{"$f":"EXTRA1!C110","v":0},{"$f":"EXTRA1!D110","v":0},{"$f":"EXTRA1!F110","v":"00:00:00"},{"$f":"EXTRA1!$A$2","v":"EXTRA1"},null,{"$f":"EXTRA1!E110","v":0},{"$f":"EXTRA1!H110","v":0}]
[null,null,null,null,null,null,null,null,null,null,null,null,null,null,null,null,null,null,null,null,null,null,109,{"$f":"EXTRA1!B111","v":0},{"$f":"EXTRA1!C111","v":0},{"$f":"EXTRA1!D111","v":0},{"$f":"EXTRA1!F111","v":"00:00:00"},{"$f":"EXTRA1!$A$2","v":"EXTRA1"},null,{"$f":"EXTRA1!E111","v":0},{"$f":"EXTRA1!H111","v":0}]
[null,null,null,null,null,null,null,null,null,null,null,null,null,null,null,null,null,null,null,null,null,null,110,{"$f":"EXTRA1!B112","v":0},{"$f":"EXTRA1!C112","v":0},{"$f":"EXTRA1!D112","v":0},{"$f":"EXTRA1!F112","v":"00:00:00"},{"$f":"EXTRA1!$A$2","v":"EXTRA1"},null,{"$f":"EXTRA1!E112","v":0},{"$f":"EXTRA1!H112","v":0}]
[null,null,null,null,null,null,null,null,null,null,null,null,null,null,null,null,null,null,null,null,null,null,111,{"$f":"EXTRA1!B113","v":0},{"$f":"EXTRA1!C113","v":0},{"$f":"EXTRA1!D113","v":0},{"$f":"EXTRA1!F113","v":"00:00:00"},{"$f":"EXTRA1!$A$2","v":"EXTRA1"},null,{"$f":"EXTRA1!E113","v":0},{"$f":"EXTRA1!H113","v":0}]
[null,null,null,null,null,null,null,null,null,null,null,null,null,null,null,null,null,null,null,null,null,null,112,{"$f":"EXTRA1!B114","v":0},{"$f":"EXTRA1!C114","v":0},{"$f":"EXTRA1!D114","v":0},{"$f":"EXTRA1!F114","v":"00:00:00"},{"$f":"EXTRA1!$A$2","v":"EXTRA1"},null,{"$f":"EXTRA1!E114","v":0},{"$f":"EXTRA1!H114","v":0}]
[null,null,null,null,null,null,null,null,null,null,null,null,null,null,null,null,null,null,null,null,null,null,113,{"$f":"EXTRA1!B115","v":0},{"$f":"EXTRA1!C115","v":0},{"$f":"EXTRA1!D115","v":0},{"$f":"EXTRA1!F115","v":"00:00:00"},{"$f":"EXTRA1!$A$2","v":"EXTRA1"},null,{"$f":"EXTRA1!E115","v":0},{"$f":"EXTRA1!H115","v":0}]
[null,null,null,null,null,null,null,null,null,null,null,null,null,null,null,null,null,null,null,null,null,null,114,{"$f":"EXTRA1!B116","v":0},{"$f":"EXTRA1!C116","v":0},{"$f":"EXTRA1!D116","v":0},{"$f":"EXTRA1!F116","v":"00:00:00"},{"$f":"EXTRA1!$A$2","v":"EXTRA1"},null,{"$f":"EXTRA1!E116","v":0},{"$f":"EXTRA1!H116","v":0}]
[null,null,null,null,null,null,null,null,null,null,null,null,null,null,null,null,null,null,null,null,null,null,115,{"$f":"EXTRA1!B117","v":0},{"$f":"EXTRA1!C117","v":0},{"$f":"EXTRA1!D117","v":0},{"$f":"EXTRA1!F117","v":"00:00:00"},{"$f":"EXTRA1!$A$2","v":"EXTRA1"},null,{"$f":"EXTRA1!E117","v":0},{"$f":"EXTRA1!H117","v":0}]
[null,null,null,null,null,null,null,null,null,null,null,null,null,null,null,null,null,null,null,null,null,null,116,{"$f":"EXTRA1!B118","v":0},{"$f":"EXTRA1!C118","v":0},{"$f":"EXTRA1!D118","v":0},{"$f":"EXTRA1!F118","v":"00:00:00"},{"$f":"EXTRA1!$A$2","v":"EXTRA1"},null,{"$f":"EXTRA1!E118","v":0},{"$f":"EXTRA1!H118","v":0}]
[null,null,null,null,null,null,null,null,null,null,null,null,null,null,null,null,null,null,null,null,null,null,117,{"$f":"EXTRA1!B119","v":0},{"$f":"EXTRA1!C119","v":0},{"$f":"EXTRA1!D119","v":0},{"$f":"EXTRA1!F119","v":"00:00:00"},{"$f":"EXTRA1!$A$2","v":"EXTRA1"},null,{"$f":"EXTRA1!E119","v":0},{"$f":"EXTRA1!H119","v":0}]
[null,null,null,null,null,null,null,null,null,null,null,null,null,null,null,null,null,null,null,null,null,null,118,{"$f":"EXTRA1!B120","v":0},{"$f":"EXTRA1!C120","v":0},{"$f":"EXTRA1!D120","v":0},{"$f":"EXTRA1!F120","v":"00:00:00"},{"$f":"EXTRA1!$A$2","v":"EXTRA1"},null,{"$f":"EXTRA1!E120","v":0},{"$f":"EXTRA1!H120","v":0}]
[null,null,null,null,null,null,null,null,null,null,null,null,null,null,null,null,null,null,null,null,null,null,119,{"$f":"EXTRA1!B121","v":0},{"$f":"EXTRA1!C121","v":0},{"$f":"EXTRA1!D121","v":0},{"$f":"EXTRA1!F121","v":"00:00:00"},{"$f":"EXTRA1!$A$2","v":"EXTRA1"},null,{"$f":"EXTRA1!E121","v":0},{"$f":"EXTRA1!H121","v":0}]
[null,null,null,null,null,null,null,null,null,null,null,null,null,null,null,null,null,null,null,null,null,null,120,{"$f":"EXTRA1!B122","v":0},{"$f":"EXTRA1!C122","v":0},{"$f":"EXTRA1!D122","v":0},{"$f":"EXTRA1!F122","v":"00:00:00"},{"$f":"EXTRA1!$A$2","v":"EXTRA1"},null,{"$f":"EXTRA1!E122","v":0},{"$f":"EXTRA1!H122","v":0}]
[null,null,null,null,null,null,null,null,null,null,null,null,null,null,null,null,null,null,null,null,null,null,121,{"$f":"EXTRA1!B123","v":0},{"$f":"EXTRA1!C123","v":0},{"$f":"EXTRA1!D123","v":0},{"$f":"EXTRA1!F123","v":"00:00:00"},{"$f":"EXTRA1!$A$2","v":"EXTRA1"},null,{"$f":"EXTRA1!E123","v":0},{"$f":"EXTRA1!H123","v":0}]
[null,null,null,null,null,null,null,null,null,null,null,null,null,null,null,null,null,null,null,null,null,null,122,{"$f":"EXTRA1!B124","v":0},{"$f":"EXTRA1!C124","v":0},{"$f":"EXTRA1!D124","v":0},{"$f":"EXTRA1!F124","v":"00:00:00"},{"$f":"EXTRA1!$A$2","v":"EXTRA1"},null,{"$f":"EXTRA1!E124","v":0},{"$f":"EXTRA1!H124","v":0}]
[null,null,null,null,null,null,null,null,null,null,null,null,null,null,null,null,null,null,null,null,null,null,123,{"$f":"EXTRA1!B125","v":0},{"$f":"EXTRA1!C125","v":0},{"$f":"EXTRA1!D125","v":0},{"$f":"EXTRA1!F125","v":"00:00:00"},{"$f":"EXTRA1!$A$2","v":"EXTRA1"},null,{"$f":"EXTRA1!E125","v":0},{"$f":"EXTRA1!H125","v":0}]
[null,null,null,null,null,null,null,null,null,null,null,null,null,null,null,null,null,null,null,null,null,null,124,{"$f":"EXTRA1!B126","v":0},{"$f":"EXTRA1!C126","v":0},{"$f":"EXTRA1!D126","v":0},{"$f":"EXTRA1!F126","v":"00:00:00"},{"$f":"EXTRA1!$A$2","v":"EXTRA1"},null,{"$f":"EXTRA1!E126","v":0},{"$f":"EXTRA1!H126","v":0}]
[null,null,null,null,null,null,null,null,null,null,null,null,null,null,null,null,null,null,null,null,null,null,125,{"$f":"EXTRA1!B127","v":0},{"$f":"EXTRA1!C127","v":0},{"$f":"EXTRA1!D127","v":0},{"$f":"EXTRA1!F127","v":"00:00:00"},{"$f":"EXTRA1!$A$2","v":"EXTRA1"},null,{"$f":"EXTRA1!E127","v":0},{"$f":"EXTRA1!H127","v":0}]
[null,null,null,null,null,null,null,null,null,null,null,null,null,null,null,null,null,null,null,null,null,null,126,{"$f":"EXTRA1!B128","v":0},{"$f":"EXTRA1!C128","v":0},{"$f":"EXTRA1!D128","v":0},{"$f":"EXTRA1!F128","v":"00:00:00"},{"$f":"EXTRA1!$A$2","v":"EXTRA1"},null,{"$f":"EXTRA1!E128","v":0},{"$f":"EXTRA1!H128","v":0}]
[null,null,null,null,null,null,null,null,null,null,null,null,null,null,null,null,null,null,null,null,null,null,127,{"$f":"EXTRA1!B129","v":0},{"$f":"EXTRA1!C129","v":0},{"$f":"EXTRA1!D129","v":0},{"$f":"EXTRA1!F129","v":"00:00:00"},{"$f":"EXTRA1!$A$2","v":"EXTRA1"},null,{"$f":"EXTRA1!E129","v":0},{"$f":"EXTRA1!H129","v":0}]
[null,null,null,null,null,null,null,null,null,null,null,null,null,null,null,null,null,null,null,null,null,null,128,{"$f":"EXTRA1!B130","v":0},{"$f":"EXTRA1!C130","v":0},{"$f":"EXTRA1!D130","v":0},{"$f":"EXTRA1!F130","v":"00:00:00"},{"$f":"EXTRA1!$A$2","v":"EXTRA1"},null,{"$f":"EXTRA1!E130","v":0},{"$f":"EXTRA1!H130","v":0}]
[null,null,null,null,null,null,null,null,null,null,null,null,null,null,null,null,null,null,null,null,null,null,129,{"$f":"EXTRA1!B131","v":0},{"$f":"EXTRA1!C131","v":0},{"$f":"EXTRA1!D131","v":0},{"$f":"EXTRA1!F131","v":"00:00:00"},{"$f":"EXTRA1!$A$2","v":"EXTRA1"},null,{"$f":"EXTRA1!E131","v":0},{"$f":"EXTRA1!H131","v":0}]
[null,null,null,null,null,null,null,null,null,null,null,null,null,null,null,null,null,null,null,null,null,null,130,{"$f":"EXTRA1!B132","v":0},{"$f":"EXTRA1!C132","v":0},{"$f":"EXTRA1!D132","v":0},{"$f":"EXTRA1!F132","v":"00:00:00"},{"$f":"EXTRA1!$A$2","v":"EXTRA1"},null,{"$f":"EXTRA1!E132","v":0},{"$f":"EXTRA1!H132","v":0}]
[null,null,null,null,null,null,null,null,null,null,null,null,null,null,null,null,null,null,null,null,null,null,131,{"$f":"EXTRA1!B133","v":0},{"$f":"EXTRA1!C133","v":0},{"$f":"EXTRA1!D133","v":0},{"$f":"EXTRA1!F133","v":"00:00:00"},{"$f":"EXTRA1!$A$2","v":"EXTRA1"},null,{"$f":"EXTRA1!E133","v":0},{"$f":"EXTRA1!H133","v":0}]
[null,null,null,null,null,null,null,null,null,null,null,null,null,null,null,null,null,null,null,null,null,null,132,{"$f":"EXTRA1!B134","v":0},{"$f":"EXTRA1!C134","v":0},{"$f":"EXTRA1!D134","v":0},{"$f":"EXTRA1!F134","v":"00:00:00"},{"$f":"EXTRA1!$A$2","v":"EXTRA1"},null,{"$f":"EXTRA1!E134","v":0},{"$f":"EXTRA1!H134","v":0}]
[null,null,null,null,null,null,null,null,null,null,null,null,null,null,null,null,null,null,null,null,null,null,133,{"$f":"EXTRA1!B135","v":0},{"$f":"EXTRA1!C135","v":0},{"$f":"EXTRA1!D135","v":0},{"$f":"EXTRA1!F135","v":"00:00:00"},{"$f":"EXTRA1!$A$2","v":"EXTRA1"},null,{"$f":"EXTRA1!E135","v":0},{"$f":"EXTRA1!H135","v":0}]
[null,null,null,null,null,null,null,null,null,null,null,null,null,null,null,null,null,null,null,null,null,null,134,{"$f":"EXTRA1!B136","v":0},{"$f":"EXTRA1!C136","v":0},{"$f":"EXTRA1!D136","v":0},{"$f":"EXTRA1!F136","v":"00:00:00"},{"$f":"EXTRA1!$A$2","v":"EXTRA1"},null,{"$f":"EXTRA1!E136","v":0},{"$f":"EXTRA1!H136","v":0}]
[null,null,null,null,null,null,null,null,null,null,null,null,null,null,null,null,null,null,null,null,null,null,135,{"$f":"EXTRA1!B137","v":0},{"$f":"EXTRA1!C137","v":0},{"$f":"EXTRA1!D137","v":0},{"$f":"EXTRA1!F137","v":"00:00:00"},{"$f":"EXTRA1!$A$2","v":"EXTRA1"},null,{"$f":"EXTRA1!E137","v":0},{"$f":"EXTRA1!H137","v":0}]
[null,null,null,null,null,null,null,null,null,null,null,null,null,null,null,null,null,null,null,null,null,null,136,{"$f":"EXTRA1!B138","v":0},{"$f":"EXTRA1!C138","v":0},{"$f":"EXTRA1!D138","v":0},{"$f":"EXTRA1!F138","v":"00:00:00"},{"$f":"EXTRA1!$A$2","v":"EXTRA1"},null,{"$f":"EXTRA1!E138","v":0},{"$f":"EXTRA1!H138","v":0}]
[null,null,null,null,null,null,null,null,null,null,null,null,null,null,null,null,null,null,null,null,null,null,137,{"$f":"EXTRA1!B139","v":0},{"$f":"EXTRA1!C139","v":0},{"$f":"EXTRA1!D139","v":0},{"$f":"EXTRA1!F139","v":"00:00:00"},{"$f":"EXTRA1!$A$2","v":"EXTRA1"},null,{"$f":"EXTRA1!E139","v":0},{"$f":"EXTRA1!H139","v":0}]
[null,null,null,null,null,null,null,null,null,null,null,null,null,null,null,null,null,null,null,null,null,null,138,{"$f":"EXTRA1!B140","v":0},{"$f":"EXTRA1!C140","v":0},{"$f":"EXTRA1!D140","v":0},{"$f":"EXTRA1!F140","v":"00:00:00"},{"$f":"EXTRA1!$A$2","v":"EXTRA1"},null,{"$f":"EXTRA1!E140","v":0},{"$f":"EXTRA1!H140","v":0}]
[null,null,null,null,null,null,null,null,null,null,null,null,null,null,null,null,null,null,null,null,null,null,139,{"$f":"EXTRA1!B141","v":0},{"$f":"EXTRA1!C141","v":0},{"$f":"EXTRA1!D141","v":0},{"$f":"EXTRA1!F141","v":"00:00:00"},{"$f":"EXTRA1!$A$2","v":"EXTRA1"},null,{"$f":"EXTRA1!E141","v":0},{"$f":"EXTRA1!H141","v":0}]
[null,null,null,null,null,null,null,null,null,null,null,null,null,null,null,null,null,null,null,null,null,null,140,{"$f":"EXTRA1!B142","v":0},{"$f":"EXTRA1!C142","v":0},{"$f":"EXTRA1!D142","v":0},{"$f":"EXTRA1!F142","v":"00:00:00"},{"$f":"EXTRA1!$A$2","v":"EXTRA1"},null,{"$f":"EXTRA1!E142","v":0},{"$f":"EXTRA1!H142","v":0}]
[null,null,null,null,null,null,null,null,null,null,null,null,null,null,null,null,null,null,null,null,null,null,141,{"$f":"EXTRA1!B143","v":0},{"$f":"EXTRA1!C143","v":0},{"$f":"EXTRA1!D143","v":0},{"$f":"EXTRA1!F143","v":"00:00:00"},{"$f":"EXTRA1!$A$2","v":"EXTRA1"},null,{"$f":"EXTRA1!E143","v":0},{"$f":"EXTRA1!H143","v":0}]
[null,null,null,null,null,null,null,null,null,null,null,null,null,null,null,null,null,null,null,null,null,null,142,{"$f":"EXTRA1!B144","v":0},{"$f":"EXTRA1!C144","v":0},{"$f":"EXTRA1!D144","v":0},{"$f":"EXTRA1!F144","v":"00:00:00"},{"$f":"EXTRA1!$A$2","v":"EXTRA1"},null,{"$f":"EXTRA1!E144","v":0},{"$f":"EXTRA1!H144","v":0}]
[null,null,null,null,null,null,null,null,null,null,null,null,null,null,null,null,null,null,null,null,null,null,143,{"$f":"EXTRA1!B145","v":0},{"$f":"EXTRA1!C145","v":0},{"$f":"EXTRA1!D145","v":0},{"$f":"EXTRA1!F145","v":"00:00:00"},{"$f":"EXTRA1!$A$2","v":"EXTRA1"},null,{"$f":"EXTRA1!E145","v":0},{"$f":"EXTRA1!H145","v":0}]
[null,null,null,null,null,null,null,null,null,null,null,null,null,null,null,null,null,null,null,null,null,null,144,{"$f":"EXTRA1!B146","v":0},{"$f":"EXTRA1!C146","v":0},{"$f":"EXTRA1!D146","v":0},{"$f":"EXTRA1!F146","v":"00:00:00"},{"$f":"EXTRA1!$A$2","v":"EXTRA1"},null,{"$f":"EXTRA1!E146","v":0},{"$f":"EXTRA1!H146","v":0}]
[null,null,null,null,null,null,null,null,null,null,null,null,null,null,null,null,null,null,null,null,null,null,145,{"$f":"EXTRA1!B147","v":0},{"$f":"EXTRA1!C147","v":0},{"$f":"EXTRA1!D147","v":0},{"$f":"EXTRA1!F147","v":"00:00:00"},{"$f":"EXTRA1!$A$2","v":"EXTRA1"},null,{"$f":"EXTRA1!E147","v":0},{"$f":"EXTRA1!H147","v":0}]
[null,null,null,null,null,null,null,null,null,null,null,null,null,null,null,null,null,null,null,null,null,null,146,{"$f":"EXTRA1!B148","v":0},{"$f":"EXTRA1!C148","v":0},{"$f":"EXTRA1!D148","v":0},{"$f":"EXTRA1!F148","v":"00:00:00"},{"$f":"EXTRA1!$A$2","v":"EXTRA1"},null,{"$f":"EXTRA1!E148","v":0},{"$f":"EXTRA1!H148","v":0}]
[null,null,null,null,null,null,null,null,null,null,null,null,null,null,null,null,null,null,null,null,null,null,147,{"$f":"EXTRA1!B149","v":0},{"$f":"EXTRA1!C149","v":0},{"$f":"EXTRA1!D149","v":0},{"$f":"EXTRA1!F149","v":"00:00:00"},{"$f":"EXTRA1!$A$2","v":"EXTRA1"},null,{"$f":"EXTRA1!E149","v":0},{"$f":"EXTRA1!H149","v":0}]
[null,null,null,null,null,null,null,null,null,null,null,null,null,null,null,null,null,null,null,null,null,null,148,{"$f":"EXTRA1!B150","v":0},{"$f":"EXTRA1!C150","v":0},{"$f":"EXTRA1!D150","v":0},{"$f":"EXTRA1!F150","v":"00:00:00"},{"$f":"EXTRA1!$A$2","v":"EXTRA1"},null,{"$f":"EXTRA1!E150","v":0},{"$f":"EXTRA1!H150","v":0}]
[null,null,null,null,null,null,null,null,null,null,null,null,null,null,null,null,null,null,null,null,null,null,149,{"$f":"EXTRA1!B151","v":0},{"$f":"EXTRA1!C151","v":0},{"$f":"EXTRA1!D151","v":0},{"$f":"EXTRA1!F151","v":"00:00:00"},{"$f":"EXTRA1!$A$2","v":"EXTRA1"},null,{"$f":"EXTRA1!E151","v":0},{"$f":"EXTRA1!H151","v":0}]
[null,null,null,null,null,null,null,null,null,null,null,null,null,null,null,null,null,null,null,null,null,null,150,{"$f":"EXTRA1!B152","v":0},{"$f":"EXTRA1!C152","v":0},{"$f":"EXTRA1!D152","v":0},{"$f":"EXTRA1!F152","v":"00:00:00"},{"$f":"EXTRA1!$A$2","v":"EXTRA1"},null,{"$f":"EXTRA1!E152","v":0},{"$f":"EXTRA1!H152","v":0}]
[null,null,null,null,null,null,null,null,null,null,null,null,null,null,null,null,null,null,null,null,null,null,null,{"$f":"EXTRA1!B153","v":0},{"$f":"EXTRA1!C153","v":0},{"$f":"EXTRA1!D153","v":0},{"$f":"EXTRA1!F153","v":"00:00:00"},{"$f":"EXTRA1!$A$2","v":"EXTRA1"},null,{"$f":"EXTRA1!E153","v":0},{"$f":"EXTRA1!H153","v":0}]
[null,null,null,null,null,null,null,null,null,null,null,null,null,null,null,null,null,null,null,null,null,null,1]
[null,null,null,null,null,null,null,null,null,null,null,null,null,null,null,null,null,null,null,null,null,null,2,{"$f":"EXTRA2!B4","v":0},{"$f":"EXTRA2!C4","v":0},{"$f":"EXTRA2!D4","v":0},{"$f":"EXTRA2!F4","v":"00:00:00"},{"$f":"EXTRA2!$A$2","v":"EXTRA2"},null,{"$f":"EXTRA2!E4","v":0},{"$f":"EXTRA2!H4","v":0}]
[null,null,null,null,null,null,null,null,null,null,null,null,null,null,null,null,null,null,null,null,null,null,3,{"$f":"EXTRA2!B5","v":0},{"$f":"EXTRA2!C5","v":0},{"$f":"EXTRA2!D5","v":0},{"$f":"EXTRA2!F5","v":"00:00:00"},{"$f":"EXTRA2!$A$2","v":"EXTRA2"},null,{"$f":"EXTRA2!E5","v":0},{"$f":"EXTRA2!H5","v":0}]
[null,null,null,null,null,null,null,null,null,null,null,null,null,null,null,null,null,null,null,null,null,null,4,{"$f":"EXTRA2!B6","v":0},{"$f":"EXTRA2!C6","v":0},{"$f":"EXTRA2!D6","v":0},{"$f":"EXTRA2!F6","v":"00:00:00"},{"$f":"EXTRA2!$A$2","v":"EXTRA2"},null,{"$f":"EXTRA2!E6","v":0},{"$f":"EXTRA2!H6","v":0}]
[null,null,null,null,null,null,null,null,null,null,null,null,null,null,null,null,null,null,null,null,null,null,5,{"$f":"EXTRA2!B7","v":0},{"$f":"EXTRA2!C7","v":0},{"$f":"EXTRA2!D7","v":0},{"$f":"EXTRA2!F7","v":"00:00:00"},{"$f":"EXTRA2!$A$2","v":"EXTRA2"},null,{"$f":"EXTRA2!E7","v":0},{"$f":"EXTRA2!H7","v":0}]
[null,null,null,null,null,null,null,null,null,null,null,null,null,null,null,null,null,null,null,null,null,null,6,{"$f":"EXTRA2!B8","v":0},{"$f":"EXTRA2!C8","v":0},{"$f":"EXTRA2!D8","v":0},{"$f":"EXTRA2!F8","v":"00:00:00"},{"$f":"EXTRA2!$A$2","v":"EXTRA2"},null,{"$f":"EXTRA2!E8","v":0},{"$f":"EXTRA2!H8","v":0}]
[null,null,null,null,null,null,null,null,null,null,null,null,null,null,null,null,null,null,null,null,null,null,7,{"$f":"EXTRA2!B9","v":0},{"$f":"EXTRA2!C9","v":0},{"$f":"EXTRA2!D9","v":0},{"$f":"EXTRA2!F9","v":"00:00:00"},{"$f":"EXTRA2!$A$2","v":"EXTRA2"},null,{"$f":"EXTRA2!E9","v":0},{"$f":"EXTRA2!H9","v":0}]
[null,null,null,null,null,null,null,null,null,null,null,null,null,null,null,null,null,null,null,null,null,null,8,{"$f":"EXTRA2!B10","v":0},{"$f":"EXTRA2!C10","v":0},{"$f":"EXTRA2!D10","v":0},{"$f":"EXTRA2!F10","v":"00:00:00"},{"$f":"EXTRA2!$A$2","v":"EXTRA2"},null,{"$f":"EXTRA2!E10","v":0},{"$f":"EXTRA2!H10","v":0}]
[null,null,null,null,null,null,null,null,null,null,null,null,null,null,null,null,null,null,null,null,null,null,9,{"$f":"EXTRA2!B11","v":0},{"$f":"EXTRA2!C11","v":0},{"$f":"EXTRA2!D11","v":0},{"$f":"EXTRA2!F11","v":"00:00:00"},{"$f":"EXTRA2!$A$2","v":"EXTRA2"},null,{"$f":"EXTRA2!E11","v":0},{"$f":"EXTRA2!H11","v":0}]
[null,null,null,null,null,null,null,null,null,null,null,null,null,null,null,null,null,null,null,null,null,null,10,{"$f":"EXTRA2!B12","v":0},{"$f":"EXTRA2!C12","v":0},{"$f":"EXTRA2!D12","v":0},{"$f":"EXTRA2!F12","v":"00:00:00"},{"$f":"EXTRA2!$A$2","v":"EXTRA2"},null,{"$f":"EXTRA2!E12","v":0},{"$f":"EXTRA2!H12","v":0}]
[null,null,null,null,null,null,null,null,null,null,null,null,null,null,null,null,null,null,null,null,null,null,11,{"$f":"EXTRA2!B13","v":0},{"$f":"EXTRA2!C13","v":0},{"$f":"EXTRA2!D13","v":0},{"$f":"EXTRA2!F13","v":"00:00:00"},{"$f":"EXTRA2!$A$2","v":"EXTRA2"},null,{"$f":"EXTRA2!E13","v":0},{"$f":"EXTRA2!H13","v":0}]
[null,null,null,null,null,null,null,null,null,null,null,null,null,null,null,null,null,null,null,null,null,null,12,{"$f":"EXTRA2!B14","v":0},{"$f":"EXTRA2!C14","v":0},{"$f":"EXTRA2!D14","v":0},{"$f":"EXTRA2!F14","v":"00:00:00"},{"$f":"EXTRA2!$A$2","v":"EXTRA2"},null,{"$f":"EXTRA2!E14","v":0},{"$f":"EXTRA2!H14","v":0}]
[null,null,null,null,null,null,null,null,null,null,null,null,null,null,null,null,null,null,null,null,null,null,13,{"$f":"EXTRA2!B15","v":0},{"$f":"EXTRA2!C15","v":0},{"$f":"EXTRA2!D15","v":0},{"$f":"EXTRA2!F15","v":"00:00:00"},{"$f":"EXTRA2!$A$2","v":"EXTRA2"},null,{"$f":"EXTRA2!E15","v":0},{"$f":"EXTRA2!H15","v":0}]
[null,null,null,null,null,null,null,null,null,null,null,null,null,null,null,null,null,null,null,null,null,null,14,{"$f":"EXTRA2!B16","v":0},{"$f":"EXTRA2!C16","v":0},{"$f":"EXTRA2!D16","v":0},{"$f":"EXTRA2!F16","v":"00:00:00"},{"$f":"EXTRA2!$A$2","v":"EXTRA2"},null,{"$f":"EXTRA2!E16","v":0},{"$f":"EXTRA2!H16","v":0}]
[null,null,null,null,null,null,null,null,null,null,null,null,null,null,null,null,null,null,null,null,null,null,15,{"$f":"EXTRA2!B17","v":0},{"$f":"EXTRA2!C17","v":0},{"$f":"EXTRA2!D17","v":0},{"$f":"EXTRA2!F17","v":"00:00:00"},{"$f":"EXTRA2!$A$2","v":"EXTRA2"},null,{"$f":"EXTRA2!E17","v":0},{"$f":"EXTRA2!H17","v":0}]
[null,null,null,null,null,null,null,null,null,null,null,null,null,null,null,null,null,null,null,null,null,null,16,{"$f":"EXTRA2!B18","v":0},{"$f":"EXTRA2!C18","v":0},{"$f":"EXTRA2!D18","v":0},{"$f":"EXTRA2!F18","v":"00:00:00"},{"$f":"EXTRA2!$A$2","v":"EXTRA2"},null,{"$f":"EXTRA2!E18","v":0},{"$f":"EXTRA2!H18","v":0}]
[null,null,null,null,null,null,null,null,null,null,null,null,null,null,null,null,null,null,null,null,null,null,17,{"$f":"EXTRA2!B19","v":0},{"$f":"EXTRA2!C19","v":0},{"$f":"EXTRA2!D19","v":0},{"$f":"EXTRA2!F19","v":"00:00:00"},{"$f":"EXTRA2!$A$2","v":"EXTRA2"},null,{"$f":"EXTRA2!E19","v":0},{"$f":"EXTRA2!H19","v":0}]
[null,null,null,null,null,null,null,null,null,null,null,null,null,null,null,null,null,null,null,null,null,null,18,{"$f":"EXTRA2!B20","v":0},{"$f":"EXTRA2!C20","v":0},{"$f":"EXTRA2!D20","v":0},{"$f":"EXTRA2!F20","v":"00:00:00"},{"$f":"EXTRA2!$A$2","v":"EXTRA2"},null,{"$f":"EXTRA2!E20","v":0},{"$f":"EXTRA2!H20","v":0}]
[null,null,null,null,null,null,null,null,null,null,null,null,null,null,null,null,null,null,null,null,null,null,19,{"$f":"EXTRA2!B21","v":0},{"$f":"EXTRA2!C21","v":0},{"$f":"EXTRA2!D21","v":0},{"$f":"EXTRA2!F21","v":"00:00:00"},{"$f":"EXTRA2!$A$2","v":"EXTRA2"},null,{"$f":"EXTRA2!E21","v":0},{"$f":"EXTRA2!H21","v":0}]
[null,null,null,null,null,null,null,null,null,null,null,null,null,null,null,null,null,null,null,null,null,null,20,{"$f":"EXTRA2!B22","v":0},{"$f":"EXTRA2!C22","v":0},{"$f":"EXTRA2!D22","v":0},{"$f":"EXTRA2!F22","v":"00:00:00"},{"$f":"EXTRA2!$A$2","v":"EXTRA2"},null,{"$f":"EXTRA2!E22","v":0},{"$f":"EXTRA2!H22","v":0}]
[null,null,null,null,null,null,null,null,null,null,null,null,null,null,null,null,null,null,null,null,null,null,21,{"$f":"EXTRA2!B23","v":0},{"$f":"EXTRA2!C23","v":0},{"$f":"EXTRA2!D23","v":0},{"$f":"EXTRA2!F23","v":"00:00:00"},{"$f":"EXTRA2!$A$2","v":"EXTRA2"},null,{"$f":"EXTRA2!E23","v":0},{"$f":"EXTRA2!H23","v":0}]
[null,null,null,null,null,null,null,null,null,null,null,null,null,null,null,null,null,null,null,null,null,null,22,{"$f":"EXTRA2!B24","v":0},{"$f":"EXTRA2!C24","v":0},{"$f":"EXTRA2!D24","v":0},{"$f":"EXTRA2!F24","v":"00:00:00"},{"$f":"EXTRA2!$A$2","v":"EXTRA2"},null,{"$f":"EXTRA2!E24","v":0},{"$f":"EXTRA2!H24","v":0}]
[null,null,null,null,null,null,null,null,null,null,null,null,null,null,null,null,null,null,null,null,null,null,23,{"$f":"EXTRA2!B25","v":0},{"$f":"EXTRA2!C25","v":0},{"$f":"EXTRA2!D25","v":0},{"$f":"EXTRA2!F25","v":"00:00:00"},{"$f":"EXTRA2!$A$2","v":"EXTRA2"},null,{"$f":"EXTRA2!E25","v":0},{"$f":"EXTRA2!H25","v":0}]
[null,null,null,null,null,null,null,null,null,null,null,null,null,null,null,null,null,null,null,null,null,null,24,{"$f":"EXTRA2!B26","v":0},{"$f":"EXTRA2!C26","v":0},{"$f":"EXTRA2!D26","v":0},{"$f":"EXTRA2!F26","v":"00:00:00"},{"$f":"EXTRA2!$A$2","v":"EXTRA2"},null,{"$f":"EXTRA2!E26","v":0},{"$f":"EXTRA2!H26","v":0}]
[null,null,null,null,null,null,null,null,null,null,null,null,null,null,null,null,null,null,null,null,null,null,25,{"$f":"EXTRA2!B27","v":0},{"$f":"EXTRA2!C27","v":0},{"$f":"EXTRA2!D27","v":0},{"$f":"EXTRA2!F27","v":"00:00:00"},{"$f":"EXTRA2!$A$2","v":"EXTRA2"},null,{"$f":"EXTRA2!E27","v":0},{"$f":"EXTRA2!H27","v":0}]
[null,null,null,null,null,null,null,null,null,null,null,null,null,null,null,null,null,null,null,null,null,null,26,{"$f":"EXTRA2!B28","v":0},{"$f":"EXTRA2!C28","v":0},{"$f":"EXTRA2!D28","v":0},{"$f":"EXTRA2!F28","v":"00:00:00"},{"$f":"EXTRA2!$A$2","v":"EXTRA2"},null,{"$f":"EXTRA2!E28","v":0},{"$f":"EXTRA2!H28","v":0}]
[null,null,null,null,null,null,null,null,null,null,null,null,null,null,null,null,null,null,null,null,null,null,27,{"$f":"EXTRA2!B29","v":0},{"$f":"EXTRA2!C29","v":0},{"$f":"EXTRA2!D29","v":0},{"$f":"EXTRA2!F29","v":"00:00:00"},{"$f":"EXTRA2!$A$2","v":"EXTRA2"},null,{"$f":"EXTRA2!E29","v":0},{"$f":"EXTRA2!H29","v":0}]
[null,null,null,null,null,null,null,null,null,null,null,null,null,null,null,null,null,null,null,null,null,null,28,{"$f":"EXTRA2!B30","v":0},{"$f":"EXTRA2!C30","v":0},{"$f":"EXTRA2!D30","v":0},{"$f":"EXTRA2!F30","v":"00:00:00"},{"$f":"EXTRA2!$A$2","v":"EXTRA2"},null,{"$f":"EXTRA2!E30","v":0},{"$f":"EXTRA2!H30","v":0}]
[null,null,null,null,null,null,null,null,null,null,null,null,null,null,null,null,null,null,null,null,null,null,29,{"$f":"EXTRA2!B31","v":0},{"$f":"EXTRA2!C31","v":0},{"$f":"EXTRA2!D31","v":0},{"$f":"EXTRA2!F31","v":"00:00:00"},{"$f":"EXTRA2!$A$2","v":"EXTRA2"},null,{"$f":"EXTRA2!E31","v":0},{"$f":"EXTRA2!H31","v":0}]
[null,null,null,null,null,null,null,null,null,null,null,null,null,null,null,null,null,null,null,null,null,null,30,{"$f":"EXTRA2!B32","v":0},{"$f":"EXTRA2!C32","v":0},{"$f":"EXTRA2!D32","v":0},{"$f":"EXTRA2!F32","v":"00:00:00"},{"$f":"EXTRA2!$A$2","v":"EXTRA2"},null,{"$f":"EXTRA2!E32","v":0},{"$f":"EXTRA2!H32","v":0}]
[null,null,null,null,null,null,null,null,null,null,null,null,null,null,null,null,null,null,null,null,null,null,31,{"$f":"EXTRA2!B33","v":0},{"$f":"EXTRA2!C33","v":0},{"$f":"EXTRA2!D33","v":0},{"$f":"EXTRA2!F33","v":"00:00:00"},{"$f":"EXTRA2!$A$2","v":"EXTRA2"},null,{"$f":"EXTRA2!E33","v":0},{"$f":"EXTRA2!H33","v":0}]
[null,null,null,null,null,null,null,null,null,null,null,null,null,null,null,null,null,null,null,null,null,null,32,{"$f":"EXTRA2!B34","v":0},{"$f":"EXTRA2!C34","v":0},{"$f":"EXTRA2!D34","v":0},{"$f":"EXTRA2!F34","v":"00:00:00"},{"$f":"EXTRA2!$A$2","v":"EXTRA2"},null,{"$f":"EXTRA2!E34","v":0},{"$f":"EXTRA2!H34","v":0}]
[null,null,null,null,null,null,null,null,null,null,null,null,null,null,null,null,null,null,null,null,null,null,33,{"$f":"EXTRA2!B35","v":0},{"$f":"EXTRA2!C35","v":0},{"$f":"EXTRA2!D35","v":0},{"$f":"EXTRA2!F35","v":"00:00:00"},{"$f":"EXTRA2!$A$2","v":"EXTRA2"},null,{"$f":"EXTRA2!E35","v":0},{"$f":"EXTRA2!H35","v":0}]
[null,null,null,null,null,null,null,null,null,null,null,null,null,null,null,null,null,null,null,null,null,null,34,{"$f":"EXTRA2!B36","v":0},{"$f":"EXTRA2!C36","v":0},{"$f":"EXTRA2!D36","v":0},{"$f":"EXTRA2!F36","v":"00:00:00"},{"$f":"EXTRA2!$A$2","v":"EXTRA2"},null,{"$f":"EXTRA2!E36","v":0},{"$f":"EXTRA2!H36","v":0}]
[null,null,null,null,null,null,null,null,null,null,null,null,null,null,null,null,null,null,null,null,null,null,35,{"$f":"EXTRA2!B37","v":0},{"$f":"EXTRA2!C37","v":0},{"$f":"EXTRA2!D37","v":0},{"$f":"EXTRA2!F37","v":"00:00:00"},{"$f":"EXTRA2!$A$2","v":"EXTRA2"},null,{"$f":"EXTRA2!E37","v":0},{"$f":"EXTRA2!H37","v":0}]
[null,null,null,null,null,null,null,null,null,null,null,null,null,null,null,null,null,null,null,null,null,null,36,{"$f":"EXTRA2!B38","v":0},{"$f":"EXTRA2!C38","v":0},{"$f":"EXTRA2!D38","v":0},{"$f":"EXTRA2!F38","v":"00:00:00"},{"$f":"EXTRA2!$A$2","v":"EXTRA2"},null,{"$f":"EXTRA2!E38","v":0},{"$f":"EXTRA2!H38","v":0}]
[null,null,null,null,null,null,null,null,null,null,null,null,null,null,null,null,null,null,null,null,null,null,37,{"$f":"EXTRA2!B39","v":0},{"$f":"EXTRA2!C39","v":0},{"$f":"EXTRA2!D39","v":0},{"$f":"EXTRA2!F39","v":"00:00:00"},{"$f":"EXTRA2!$A$2","v":"EXTRA2"},null,{"$f":"EXTRA2!E39","v":0},{"$f":"EXTRA2!H39","v":0}]
[null,null,null,null,null,null,null,null,null,null,null,null,null,null,null,null,null,null,null,null,null,null,38,{"$f":"EXTRA2!B40","v":0},{"$f":"EXTRA2!C40","v":0},{"$f":"EXTRA2!D40","v":0},{"$f":"EXTRA2!F40","v":"00:00:00"},{"$f":"EXTRA2!$A$2","v":"EXTRA2"},null,{"$f":"EXTRA2!E40","v":0},{"$f":"EXTRA2!H40","v":0}]
[null,null,null,null,null,null,null,null,null,null,null,null,null,null,null,null,null,null,null,null,null,null,39,{"$f":"EXTRA2!B41","v":0},{"$f":"EXTRA2!C41","v":0},{"$f":"EXTRA2!D41","v":0},{"$f":"EXTRA2!F41","v":"00:00:00"},{"$f":"EXTRA2!$A$2","v":"EXTRA2"},null,{"$f":"EXTRA2!E41","v":0},{"$f":"EXTRA2!H41","v":0}]
[null,null,null,null,null,null,null,null,null,null,null,null,null,null,null,null,null,null,null,null,null,null,40,{"$f":"EXTRA2!B42","v":0},{"$f":"EXTRA2!C42","v":0},{"$f":"EXTRA2!D42","v":0},{"$f":"EXTRA2!F42","v":"00:00:00"},{"$f":"EXTRA2!$A$2","v":"EXTRA2"},null,{"$f":"EXTRA2!E42","v":0},{"$f":"EXTRA2!H42","v":0}]
[null,null,null,null,null,null,null,null,null,null,null,null,null,null,null,null,null,null,null,null,null,null,41,{"$f":"EXTRA2!B43","v":0},{"$f":"EXTRA2!C43","v":0},{"$f":"EXTRA2!D43","v":0},{"$f":"EXTRA2!F43","v":"00:00:00"},{"$f":"EXTRA2!$A$2","v":"EXTRA2"},null,{"$f":"EXTRA2!E43","v":0},{"$f":"EXTRA2!H43","v":0}]
[null,null,null,null,null,null,null,null,null,null,null,null,null,null,null,null,null,null,null,null,null,null,42,{"$f":"EXTRA2!B44","v":0},{"$f":"EXTRA2!C44","v":0},{"$f":"EXTRA2!D44","v":0},{"$f":"EXTRA2!F44","v":"00:00:00"},{"$f":"EXTRA2!$A$2","v":"EXTRA2"},null,{"$f":"EXTRA2!E44","v":0},{"$f":"EXTRA2!H44","v":0}]
[null,null,null,null,null,null,null,null,null,null,null,null,null,null,null,null,null,null,null,null,null,null,43,{"$f":"EXTRA2!B45","v":0},{"$f":"EXTRA2!C45","v":0},{"$f":"EXTRA2!D45","v":0},{"$f":"EXTRA2!F45","v":"00:00:00"},{"$f":"EXTRA2!$A$2","v":"EXTRA2"},null,{"$f":"EXTRA2!E45","v":0},{"$f":"EXTRA2!H45","v":0}]
[null,null,null,null,null,null,null,null,null,null,null,null,null,null,null,null,null,null,null,null,null,null,44,{"$f":"EXTRA2!B46","v":0},{"$f":"EXTRA2!C46","v":0},{"$f":"EXTRA2!D46","v":0},{"$f":"EXTRA2!F46","v":"00:00:00"},{"$f":"EXTRA2!$A$2","v":"EXTRA2"},null,{"$f":"EXTRA2!E46","v":0},{"$f":"EXTRA2!H46","v":0}]
[null,null,null,null,null,null,null,null,null,null,null,null,null,null,null,null,null,null,null,null,null,null,45,{"$f":"EXTRA2!B47","v":0},{"$f":"EXTRA2!C47","v":0},{"$f":"EXTRA2!D47","v":0},{"$f":"EXTRA2!F47","v":"00:00:00"},{"$f":"EXTRA2!$A$2","v":"EXTRA2"},null,{"$f":"EXTRA2!E47","v":0},{"$f":"EXTRA2!H47","v":0}]
[null,null,null,null,null,null,null,null,null,null,null,null,null,null,null,null,null,null,null,null,null,null,46,{"$f":"EXTRA2!B48","v":0},{"$f":"EXTRA2!C48","v":0},{"$f":"EXTRA2!D48","v":0},{"$f":"EXTRA2!F48","v":"00:00:00"},{"$f":"EXTRA2!$A$2","v":"EXTRA2"},null,{"$f":"EXTRA2!E48","v":0},{"$f":"EXTRA2!H48","v":0}]
[null,null,null,null,null,null,null,null,null,null,null,null,null,null,null,null,null,null,null,null,null,null,47,{"$f":"EXTRA2!B49","v":0},{"$f":"EXTRA2!C49","v":0},{"$f":"EXTRA2!D49","v":0},{"$f":"EXTRA2!F49","v":"00:00:00"},{"$f":"EXTRA2!$A$2","v":"EXTRA2"},null,{"$f":"EXTRA2!E49","v":0},{"$f":"EXTRA2!H49","v":0}]
[null,null,null,null,null,null,null,null,null,null,null,null,null,null,null,null,null,null,null,null,null,null,48,{"$f":"EXTRA2!B50","v":0},{"$f":"EXTRA2!C50","v":0},{"$f":"EXTRA2!D50","v":0},{"$f":"EXTRA2!F50","v":"00:00:00"},{"$f":"EXTRA2!$A$2","v":"EXTRA2"},null,{"$f":"EXTRA2!E50","v":0},{"$f":"EXTRA2!H50","v":0}]
[null,null,null,null,null,null,null,null,null,null,null,null,null,null,null,null,null,null,null,null,null,null,49,{"$f":"EXTRA2!B51","v":0},{"$f":"EXTRA2!C51","v":0},{"$f":"EXTRA2!D51","v":0},{"$f":"EXTRA2!F51","v":"00:00:00"},{"$f":"EXTRA2!$A$2","v":"EXTRA2"},null,{"$f":"EXTRA2!E51","v":0},{"$f":"EXTRA2!H51","v":0}]
[null,null,null,null,null,null,null,null,null,null,null,null,null,null,null,null,null,null,null,null,null,null,50,{"$f":"EXTRA2!B52","v":0},{"$f":"EXTRA2!C52","v":0},{"$f":"EXTRA2!D52","v":0},{"$f":"EXTRA2!F52","v":"00:00:00"},{"$f":"EXTRA2!$A$2","v":"EXTRA2"},null,{"$f":"EXTRA2!E52","v":0},{"$f":"EXTRA2!H52","v":0}]
[null,null,null,null,null,null,null,null,null,null,null,null,null,null,null,null,null,null,null,null,null,null,51,{"$f":"EXTRA2!B53","v":0},{"$f":"EXTRA2!C53","v":0},{"$f":"EXTRA2!D53","v":0},{"$f":"EXTRA2!F53","v":"00:00:00"},{"$f":"EXTRA2!$A$2","v":"EXTRA2"},null,{"$f":"EXTRA2!E53","v":0},{"$f":"EXTRA2!H53","v":0}]
[null,null,null,null,null,null,null,null,null,null,null,null,null,null,null,null,null,null,null,null,null,null,52,{"$f":"EXTRA2!B54","v":0},{"$f":"EXTRA2!C54","v":0},{"$f":"EXTRA2!D54","v":0},{"$f":"EXTRA2!F54","v":"00:00:00"},{"$f":"EXTRA2!$A$2","v":"EXTRA2"},null,{"$f":"EXTRA2!E54","v":0},{"$f":"EXTRA2!H54","v":0}]
[null,null,null,null,null,null,null,null,null,null,null,null,null,null,null,null,null,null,null,null,null,null,53,{"$f":"EXTRA2!B55","v":0},{"$f":"EXTRA2!C55","v":0},{"$f":"EXTRA2!D55","v":0},{"$f":"EXTRA2!F55","v":"00:00:00"},{"$f":"EXTRA2!$A$2","v":"EXTRA2"},null,{"$f":"EXTRA2!E55","v":0},{"$f":"EXTRA2!H55","v":0}]
[null,null,null,null,null,null,null,null,null,null,null,null,null,null,null,null,null,null,null,null,null,null,54,{"$f":"EXTRA2!B56","v":0},{"$f":"EXTRA2!C56","v":0},{"$f":"EXTRA2!D56","v":0},{"$f":"EXTRA2!F56","v":"00:00:00"},{"$f":"EXTRA2!$A$2","v":"EXTRA2"},null,{"$f":"EXTRA2!E56","v":0},{"$f":"EXTRA2!H56","v":0}]
[null,null,null,null,null,null,null,null,null,null,null,null,null,null,null,null,null,null,null,null,null,null,55,{"$f":"EXTRA2!B57","v":0},{"$f":"EXTRA2!C57","v":0},{"$f":"EXTRA2!D57","v":0},{"$f":"EXTRA2!F57","v":"00:00:00"},{"$f":"EXTRA2!$A$2","v":"EXTRA2"},null,{"$f":"EXTRA2!E57","v":0},{"$f":"EXTRA2!H57","v":0}]
[null,null,null,null,null,null,null,null,null,null,null,null,null,null,null,null,null,null,null,null,null,null,56,{"$f":"EXTRA2!B58","v":0},{"$f":"EXTRA2!C58","v":0},{"$f":"EXTRA2!D58","v":0},{"$f":"EXTRA2!F58","v":"00:00:00"},{"$f":"EXTRA2!$A$2","v":"EXTRA2"},null,{"$f":"EXTRA2!E58","v":0},{"$f":"EXTRA2!H58","v":0}]
[null,null,null,null,null,null,null,null,null,null,null,null,null,null,null,null,null,null,null,null,null,null,57,{"$f":"EXTRA2!B59","v":0},{"$f":"EXTRA2!C59","v":0},{"$f":"EXTRA2!D59","v":0},{"$f":"EXTRA2!F59","v":"00:00:00"},{"$f":"EXTRA2!$A$2","v":"EXTRA2"},null,{"$f":"EXTRA2!E59","v":0},{"$f":"EXTRA2!H59","v":0}]
[null,null,null,null,null,null,null,null,null,null,null,null,null,null,null,null,null,null,null,null,null,null,58,{"$f":"EXTRA2!B60","v":0},{"$f":"EXTRA2!C60","v":0},{"$f":"EXTRA2!D60","v":0},{"$f":"EXTRA2!F60","v":"00:00:00"},{"$f":"EXTRA2!$A$2","v":"EXTRA2"},null,{"$f":"EXTRA2!E60","v":0},{"$f":"EXTRA2!H60","v":0}]
[null,null,null,null,null,null,null,null,null,null,null,null,null,null,null,null,null,null,null,null,null,null,59,{"$f":"EXTRA2!B61","v":0},{"$f":"EXTRA2!C61","v":0},{"$f":"EXTRA2!D61","v":0},{"$f":"EXTRA2!F61","v":"00:00:00"},{"$f":"EXTRA2!$A$2","v":"EXTRA2"},null,{"$f":"EXTRA2!E61","v":0},{"$f":"EXTRA2!H61","v":0}]
[null,null,null,null,null,null,null,null,null,null,null,null,null,null,null,null,null,null,null,null,null,null,60,{"$f":"EXTRA2!B62","v":0},{"$f":"EXTRA2!C62","v":0},{"$f":"EXTRA2!D62","v":0},{"$f":"EXTRA2!F62","v":"00:00:00"},{"$f":"EXTRA2!$A$2","v":"EXTRA2"},null,{"$f":"EXTRA2!E62","v":0},{"$f":"EXTRA2!H62","v":0}]
[null,null,null,null,null,null,null,null,null,null,null,null,null,null,null,null,null,null,null,null,null,null,61,{"$f":"EXTRA2!B63","v":0},{"$f":"EXTRA2!C63","v":0},{"$f":"EXTRA2!D63","v":0},{"$f":"EXTRA2!F63","v":"00:00:00"},{"$f":"EXTRA2!$A$2","v":"EXTRA2"},null,{"$f":"EXTRA2!E63","v":0},{"$f":"EXTRA2!H63","v":0}]
[null,null,null,null,null,null,null,null,null,null,null,null,null,null,null,null,null,null,null,null,null,null,62,{"$f":"EXTRA2!B64","v":0},{"$f":"EXTRA2!C64","v":0},{"$f":"EXTRA2!D64","v":0},{"$f":"EXTRA2!F64","v":"00:00:00"},{"$f":"EXTRA2!$A$2","v":"EXTRA2"},null,{"$f":"EXTRA2!E64","v":0},{"$f":"EXTRA2!H64","v":0}]
[null,null,null,null,null,null,null,null,null,null,null,null,null,null,null,null,null,null,null,null,null,null,63,{"$f":"EXTRA2!B65","v":0},{"$f":"EXTRA2!C65","v":0},{"$f":"EXTRA2!D65","v":0},{"$f":"EXTRA2!F65","v":"00:00:00"},{"$f":"EXTRA2!$A$2","v":"EXTRA2"},null,{"$f":"EXTRA2!E65","v":0},{"$f":"EXTRA2!H65","v":0}]
[null,null,null,null,null,null,null,null,null,null,null,null,null,null,null,null,null,null,null,null,null,null,64,{"$f":"EXTRA2!B66","v":0},{"$f":"EXTRA2!C66","v":0},{"$f":"EXTRA2!D66","v":0},{"$f":"EXTRA2!F66","v":"00:00:00"},{"$f":"EXTRA2!$A$2","v":"EXTRA2"},null,{"$f":"EXTRA2!E66","v":0},{"$f":"EXTRA2!H66","v":0}]
[null,null,null,null,null,null,null,null,null,null,null,null,null,null,null,null,null,null,null,null,null,null,65,{"$f":"EXTRA2!B67","v":0},{"$f":"EXTRA2!C67","v":0},{"$f":"EXTRA2!D67","v":0},{"$f":"EXTRA2!F67","v":"00:00:00"},{"$f":"EXTRA2!$A$2","v":"EXTRA2"},null,{"$f":"EXTRA2!E67","v":0},{"$f":"EXTRA2!H67","v":0}]
[null,null,null,null,null,null,null,null,null,null,null,null,null,null,null,null,null,null,null,null,null,null,66,{"$f":"EXTRA2!B68","v":0},{"$f":"EXTRA2!C68","v":0},{"$f":"EXTRA2!D68","v":0},{"$f":"EXTRA2!F68","v":"00:00:00"},{"$f":"EXTRA2!$A$2","v":"EXTRA2"},null,{"$f":"EXTRA2!E68","v":0},{"$f":"EXTRA2!H68","v":0}]
[null,null,null,null,null,null,null,null,null,null,null,null,null,null,null,null,null,null,null,null,null,null,67,{"$f":"EXTRA2!B69","v":0},{"$f":"EXTRA2!C69","v":0},{"$f":"EXTRA2!D69","v":0},{"$f":"EXTRA2!F69","v":"00:00:00"},{"$f":"EXTRA2!$A$2","v":"EXTRA2"},null,{"$f":"EXTRA2!E69","v":0},{"$f":"EXTRA2!H69","v":0}]
[null,null,null,null,null,null,null,null,null,null,null,null,null,null,null,null,null,null,null,null,null,null,68,{"$f":"EXTRA2!B70","v":0},{"$f":"EXTRA2!C70","v":0},{"$f":"EXTRA2!D70","v":0},{"$f":"EXTRA2!F70","v":"00:00:00"},{"$f":"EXTRA2!$A$2","v":"EXTRA2"},null,{"$f":"EXTRA2!E70","v":0},{"$f":"EXTRA2!H70","v":0}]
[null,null,null,null,null,null,null,null,null,null,null,null,null,null,null,null,null,null,null,null,null,null,69,{"$f":"EXTRA2!B71","v":0},{"$f":"EXTRA2!C71","v":0},{"$f":"EXTRA2!D71","v":0},{"$f":"EXTRA2!F71","v":"00:00:00"},{"$f":"EXTRA2!$A$2","v":"EXTRA2"},null,{"$f":"EXTRA2!E71","v":0},{"$f":"EXTRA2!H71","v":0}]
[null,null,null,null,null,null,null,null,null,null,null,null,null,null,null,null,null,null,null,null,null,null,70,{"$f":"EXTRA2!B72","v":0},{"$f":"EXTRA2!C72","v":0},{"$f":"EXTRA2!D72","v":0},{"$f":"EXTRA2!F72","v":"00:00:00"},{"$f":"EXTRA2!$A$2","v":"EXTRA2"},null,{"$f":"EXTRA2!E72","v":0},{"$f":"EXTRA2!H72","v":0}]
[null,null,null,null,null,null,null,null,null,null,null,null,null,null,null,null,null,null,null,null,null,null,71,{"$f":"EXTRA2!B73","v":0},{"$f":"EXTRA2!C73","v":0},{"$f":"EXTRA2!D73","v":0},{"$f":"EXTRA2!F73","v":"00:00:00"},{"$f":"EXTRA2!$A$2","v":"EXTRA2"},null,{"$f":"EXTRA2!E73","v":0},{"$f":"EXTRA2!H73","v":0}]
[null,null,null,null,null,null,null,null,null,null,null,null,null,null,null,null,null,null,null,null,null,null,72,{"$f":"EXTRA2!B74","v":0},{"$f":"EXTRA2!C74","v":0},{"$f":"EXTRA2!D74","v":0},{"$f":"EXTRA2!F74","v":"00:00:00"},{"$f":"EXTRA2!$A$2","v":"EXTRA2"},null,{"$f":"EXTRA2!E74","v":0},{"$f":"EXTRA2!H74","v":0}]
[null,null,null,null,null,null,null,null,null,null,null,null,null,null,null,null,null,null,null,null,null,null,73,{"$f":"EXTRA2!B75","v":0},{"$f":"EXTRA2!C75","v":0},{"$f":"EXTRA2!D75","v":0},{"$f":"EXTRA2!F75","v":"00:00:00"},{"$f":"EXTRA2!$A$2","v":"EXTRA2"},null,{"$f":"EXTRA2!E75","v":0},{"$f":"EXTRA2!H75","v":0}]
[null,null,null,null,null,null,null,null,null,null,null,null,null,null,null,null,null,null,null,null,null,null,74,{"$f":"EXTRA2!B76","v":0},{"$f":"EXTRA2!C76","v":0},{"$f":"EXTRA2!D76","v":0},{"$f":"EXTRA2!F76","v":"00:00:00"},{"$f":"EXTRA2!$A$2","v":"EXTRA2"},null,{"$f":"EXTRA2!E76","v":0},{"$f":"EXTRA2!H76","v":0}]
[null,null,null,null,null,null,null,null,null,null,null,null,null,null,null,null,null,null,null,null,null,null,75,{"$f":"EXTRA2!B77","v":0},{"$f":"EXTRA2!C77","v":0},{"$f":"EXTRA2!D77","v":0},{"$f":"EXTRA2!F77","v":"00:00:00"},{"$f":"EXTRA2!$A$2","v":"EXTRA2"},null,{"$f":"EXTRA2!E77","v":0},{"$f":"EXTRA2!H77","v":0}]
[null,null,null,null,null,null,null,null,null,null,null,null,null,null,null,null,null,null,null,null,null,null,76,{"$f":"EXTRA2!B78","v":0},{"$f":"EXTRA2!C78","v":0},{"$f":"EXTRA2!D78","v":0},{"$f":"EXTRA2!F78","v":"00:00:00"},{"$f":"EXTRA2!$A$2","v":"EXTRA2"},null,{"$f":"EXTRA2!E78","v":0},{"$f":"EXTRA2!H78","v":0}]
[null,null,null,null,null,null,null,null,null,null,null,null,null,null,null,null,null,null,null,null,null,null,77,{"$f":"EXTRA2!B79","v":0},{"$f":"EXTRA2!C79","v":0},{"$f":"EXTRA2!D79","v":0},{"$f":"EXTRA2!F79","v":"00:00:00"},{"$f":"EXTRA2!$A$2","v":"EXTRA2"},null,{"$f":"EXTRA2!E79","v":0},{"$f":"EXTRA2!H79","v":0}]
[null,null,null,null,null,null,null,null,null,null,null,null,null,null,null,null,null,null,null,null,null,null,78,{"$f":"EXTRA2!B80","v":0},{"$f":"EXTRA2!C80","v":0},{"$f":"EXTRA2!D80","v":0},{"$f":"EXTRA2!F80","v":"00:00:00"},{"$f":"EXTRA2!$A$2","v":"EXTRA2"},null,{"$f":"EXTRA2!E80","v":0},{"$f":"EXTRA2!H80","v":0}]
[null,null,null,null,null,null,null,null,null,null,null,null,null,null,null,null,null,null,null,null,null,null,79,{"$f":"EXTRA2!B81","v":0},{"$f":"EXTRA2!C81","v":0},{"$f":"EXTRA2!D81","v":0},{"$f":"EXTRA2!F81","v":"00:00:00"},{"$f":"EXTRA2!$A$2","v":"EXTRA2"},null,{"$f":"EXTRA2!E81","v":0},{"$f":"EXTRA2!H81","v":0}]
[null,null,null,null,null,null,null,null,null,null,null,null,null,null,null,null,null,null,null,null,null,null,80,{"$f":"EXTRA2!B82","v":0},{"$f":"EXTRA2!C82","v":0},{"$f":"EXTRA2!D82","v":0},{"$f":"EXTRA2!F82","v":"00:00:00"},{"$f":"EXTRA2!$A$2","v":"EXTRA2"},null,{"$f":"EXTRA2!E82","v":0},{"$f":"EXTRA2!H82","v":0}]
[null,null,null,null,null,null,null,null,null,null,null,null,null,null,null,null,null,null,null,null,null,null,81,{"$f":"EXTRA2!B83","v":0},{"$f":"EXTRA2!C83","v":0},{"$f":"EXTRA2!D83","v":0},{"$f":"EXTRA2!F83","v":"00:00:00"},{"$f":"EXTRA2!$A$2","v":"EXTRA2"},null,{"$f":"EXTRA2!E83","v":0},{"$f":"EXTRA2!H83","v":0}]
[null,null,null,null,null,null,null,null,null,null,null,null,null,null,null,null,null,null,null,null,null,null,82,{"$f":"EXTRA2!B84","v":0},{"$f":"EXTRA2!C84","v":0},{"$f":"EXTRA2!D84","v":0},{"$f":"EXTRA2!F84","v":"00:00:00"},{"$f":"EXTRA2!$A$2","v":"EXTRA2"},null,{"$f":"EXTRA2!E84","v":0},{"$f":"EXTRA2!H84","v":0}]
[null,null,null,null,null,null,null,null,null,null,null,null,null,null,null,null,null,null,null,null,null,null,83,{"$f":"EXTRA2!B85","v":0},{"$f":"EXTRA2!C85","v":0},{"$f":"EXTRA2!D85","v":0},{"$f":"EXTRA2!F85","v":"00:00:00"},{"$f":"EXTRA2!$A$2","v":"EXTRA2"},null,{"$f":"EXTRA2!E85","v":0},{"$f":"EXTRA2!H85","v":0}]
[null,null,null,null,null,null,null,null,null,null,null,null,null,null,null,null,null,null,null,null,null,null,84,{"$f":"EXTRA2!B86","v":0},{"$f":"EXTRA2!C86","v":0},{"$f":"EXTRA2!D86","v":0},{"$f":"EXTRA2!F86","v":"00:00:00"},{"$f":"EXTRA2!$A$2","v":"EXTRA2"},null,{"$f":"EXTRA2!E86","v":0},{"$f":"EXTRA2!H86","v":0}]
[null,null,null,null,null,null,null,null,null,null,null,null,null,null,null,null,null,null,null,null,null,null,85,{"$f":"EXTRA2!B87","v":0},{"$f":"EXTRA2!C87","v":0},{"$f":"EXTRA2!D87","v":0},{"$f":"EXTRA2!F87","v":"00:00:00"},{"$f":"EXTRA2!$A$2","v":"EXTRA2"},null,{"$f":"EXTRA2!E87","v":0},{"$f":"EXTRA2!H87","v":0}]
[null,null,null,null,null,null,null,null,null,null,null,null,null,null,null,null,null,null,null,null,null,null,86,{"$f":"EXTRA2!B88","v":0},{"$f":"EXTRA2!C88","v":0},{"$f":"EXTRA2!D88","v":0},{"$f":"EXTRA2!F88","v":"00:00:00"},{"$f":"EXTRA2!$A$2","v":"EXTRA2"},null,{"$f":"EXTRA2!E88","v":0},{"$f":"EXTRA2!H88","v":0}]
[null,null,null,null,null,null,null,null,null,null,null,null,null,null,null,null,null,null,null,null,null,null,87,{"$f":"EXTRA2!B89","v":0},{"$f":"EXTRA2!C89","v":0},{"$f":"EXTRA2!D89","v":0},{"$f":"EXTRA2!F89","v":"00:00:00"},{"$f":"EXTRA2!$A$2","v":"EXTRA2"},null,{"$f":"EXTRA2!E89","v":0},{"$f":"EXTRA2!H89","v":0}]
[null,null,null,null,null,null,null,null,null,null,null,null,null,null,null,null,null,null,null,null,null,null,88,{"$f":"EXTRA2!B90","v":0},{"$f":"EXTRA2!C90","v":0},{"$f":"EXTRA2!D90","v":0},{"$f":"EXTRA2!F90","v":"00:00:00"},{"$f":"EXTRA2!$A$2","v":"EXTRA2"},null,{"$f":"EXTRA2!E90","v":0},{"$f":"EXTRA2!H90","v":0}]
[null,null,null,null,null,null,null,null,null,null,null,null,null,null,null,null,null,null,null,null,null,null,89,{"$f":"EXTRA2!B91","v":0},{"$f":"EXTRA2!C91","v":0},{"$f":"EXTRA2!D91","v":0},{"$f":"EXTRA2!F91","v":"00:00:00"},{"$f":"EXTRA2!$A$2","v":"EXTRA2"},null,{"$f":"EXTRA2!E91","v":0},{"$f":"EXTRA2!H91","v":0}]
[null,null,null,null,null,null,null,null,null,null,null,null,null,null,null,null,null,null,null,null,null,null,90,{"$f":"EXTRA2!B92","v":0},{"$f":"EXTRA2!C92","v":0},{"$f":"EXTRA2!D92","v":0},{"$f":"EXTRA2!F92","v":"00:00:00"},{"$f":"EXTRA2!$A$2","v":"EXTRA2"},null,{"$f":"EXTRA2!E92","v":0},{"$f":"EXTRA2!H92","v":0}]
[null,null,null,null,null,null,null,null,null,null,null,null,null,null,null,null,null,null,null,null,null,null,91,{"$f":"EXTRA2!B93","v":0},{"$f":"EXTRA2!C93","v":0},{"$f":"EXTRA2!D93","v":0},{"$f":"EXTRA2!F93","v":"00:00:00"},{"$f":"EXTRA2!$A$2","v":"EXTRA2"},null,{"$f":"EXTRA2!E93","v":0},{"$f":"EXTRA2!H93","v":0}]
[null,null,null,null,null,null,null,null,null,null,null,null,null,null,null,null,null,null,null,null,null,null,92,{"$f":"EXTRA2!B94","v":0},{"$f":"EXTRA2!C94","v":0},{"$f":"EXTRA2!D94","v":0},{"$f":"EXTRA2!F94","v":"00:00:00"},{"$f":"EXTRA2!$A$2","v":"EXTRA2"},null,{"$f":"EXTRA2!E94","v":0},{"$f":"EXTRA2!H94","v":0}]
[null,null,null,null,null,null,null,null,null,null,null,null,null,null,null,null,null,null,null,null,null,null,93,{"$f":"EXTRA2!B95","v":0},{"$f":"EXTRA2!C95","v":0},{"$f":"EXTRA2!D95","v":0},{"$f":"EXTRA2!F95","v":"00:00:00"},{"$f":"EXTRA2!$A$2","v":"EXTRA2"},null,{"$f":"EXTRA2!E95","v":0},{"$f":"EXTRA2!H95","v":0}]
[null,null,null,null,null,null,null,null,null,null,null,null,null,null,null,null,null,null,null,null,null,null,94,{"$f":"EXTRA2!B96","v":0},{"$f":"EXTRA2!C96","v":0},{"$f":"EXTRA2!D96","v":0},{"$f":"EXTRA2!F96","v":"00:00:00"},{"$f":"EXTRA2!$A$2","v":"EXTRA2"},null,{"$f":"EXTRA2!E96","v":0},{"$f":"EXTRA2!H96","v":0}]
[null,null,null,null,null,null,null,null,null,null,null,null,null,null,null,null,null,null,null,null,null,null,95,{"$f":"EXTRA2!B97","v":0},{"$f":"EXTRA2!C97","v":0},{"$f":"EXTRA2!D97","v":0},{"$f":"EXTRA2!F97","v":"00:00:00"},{"$f":"EXTRA2!$A$2","v":"EXTRA2"},null,{"$f":"EXTRA2!E97","v":0},{"$f":"EXTRA2!H97","v":0}]
[null,null,null,null,null,null,null,null,null,null,null,null,null,null,null,null,null,null,null,null,null,null,96,{"$f":"EXTRA2!B98","v":0},{"$f":"EXTRA2!C98","v":0},{"$f":"EXTRA2!D98","v":0},{"$f":"EXTRA2!F98","v":"00:00:00"},{"$f":"EXTRA2!$A$2","v":"EXTRA2"},null,{"$f":"EXTRA2!E98","v":0},{"$f":"EXTRA2!H98","v":0}]
[null,null,null,null,null,null,null,null,null,null,null,null,null,null,null,null,null,null,null,null,null,null,97,{"$f":"EXTRA2!B99","v":0},{"$f":"EXTRA2!C99","v":0},{"$f":"EXTRA2!D99","v":0},{"$f":"EXTRA2!F99","v":"00:00:00"},{"$f":"EXTRA2!$A$2","v":"EXTRA2"},null,{"$f":"EXTRA2!E99","v":0},{"$f":"EXTRA2!H99","v":0}]
[null,null,null,null,null,null,null,null,null,null,null,null,null,null,null,null,null,null,null,null,null,null,98,{"$f":"EXTRA2!B100","v":0},{"$f":"EXTRA2!C100","v":0},{"$f":"EXTRA2!D100","v":0},{"$f":"EXTRA2!F100","v":"00:00:00"},{"$f":"EXTRA2!$A$2","v":"EXTRA2"},null,{"$f":"EXTRA2!E100","v":0},{"$f":"EXTRA2!H100","v":0}]
[null,null,null,null,null,null,null,null,null,null,null,null,null,null,null,null,null,null,null,null,null,null,99,{"$f":"EXTRA2!B101","v":0},{"$f":"EXTRA2!C101","v":0},{"$f":"EXTRA2!D101","v":0},{"$f":"EXTRA2!F101","v":"00:00:00"},{"$f":"EXTRA2!$A$2","v":"EXTRA2"},null,{"$f":"EXTRA2!E101","v":0},{"$f":"EXTRA2!H101","v":0}]
[null,null,null,null,null,null,null,null,null,null,null,null,null,null,null,null,null,null,null,null,null,null,100,{"$f":"EXTRA2!B102","v":0},{"$f":"EXTRA2!C102","v":0},{"$f":"EXTRA2!D102","v":0},{"$f":"EXTRA2!F102","v":"00:00:00"},{"$f":"EXTRA2!$A$2","v":"EXTRA2"},null,{"$f":"EXTRA2!E102","v":0},{"$f":"EXTRA2!H102","v":0}]
[null,null,null,null,null,null,null,null,null,null,null,null,null,null,null,null,null,null,null,null,null,null,101,{"$f":"EXTRA2!B103","v":0},{"$f":"EXTRA2!C103","v":0},{"$f":"EXTRA2!D103","v":0},{"$f":"EXTRA2!F103","v":"00:00:00"},{"$f":"EXTRA2!$A$2","v":"EXTRA2"},null,{"$f":"EXTRA2!E103","v":0},{"$f":"EXTRA2!H103","v":0}]
[null,null,null,null,null,null,null,null,null,null,null,null,null,null,null,null,null,null,null,null,null,null,102,{"$f":"EXTRA2!B104","v":0},{"$f":"EXTRA2!C104","v":0},{"$f":"EXTRA2!D104","v":0},{"$f":"EXTRA2!F104","v":"00:00:00"},{"$f":"EXTRA2!$A$2","v":"EXTRA2"},null,{"$f":"EXTRA2!E104","v":0},{"$f":"EXTRA2!H104","v":0}]
[null,null,null,null,null,null,null,null,null,null,null,null,null,null,null,null,null,null,null,null,null,null,103,{"$f":"EXTRA2!B105","v":0},{"$f":"EXTRA2!C105","v":0},{"$f":"EXTRA2!D105","v":0},{"$f":"EXTRA2!F105","v":"00:00:00"},{"$f":"EXTRA2!$A$2","v":"EXTRA2"},null,{"$f":"EXTRA2!E105","v":0},{"$f":"EXTRA2!H105","v":0}]
[null,null,null,null,null,null,null,null,null,null,null,null,null,null,null,null,null,null,null,null,null,null,104,{"$f":"EXTRA2!B106","v":0},{"$f":"EXTRA2!C106","v":0},{"$f":"EXTRA2!D106","v":0},{"$f":"EXTRA2!F106","v":"00:00:00"},{"$f":"EXTRA2!$A$2","v":"EXTRA2"},null,{"$f":"EXTRA2!E106","v":0},{"$f":"EXTRA2!H106","v":0}]
[null,null,null,null,null,null,null,null,null,null,null,null,null,null,null,null,null,null,null,null,null,null,105,{"$f":"EXTRA2!B107","v":0},{"$f":"EXTRA2!C107","v":0},{"$f":"EXTRA2!D107","v":0},{"$f":"EXTRA2!F107","v":"00:00:00"},{"$f":"EXTRA2!$A$2","v":"EXTRA2"},null,{"$f":"EXTRA2!E107","v":0},{"$f":"EXTRA2!H107","v":0}]
[null,null,null,null,null,null,null,null,null,null,null,null,null,null,null,null,null,null,null,null,null,null,106,{"$f":"EXTRA2!B108","v":0},{"$f":"EXTRA2!C108","v":0},{"$f":"EXTRA2!D108","v":0},{"$f":"EXTRA2!F108","v":"00:00:00"},{"$f":"EXTRA2!$A$2","v":"EXTRA2"},null,{"$f":"EXTRA2!E108","v":0},{"$f":"EXTRA2!H108","v":0}]
[null,null,null,null,null,null,null,null,null,null,null,null,null,null,null,null,null,null,null,null,null,null,107,{"$f":"EXTRA2!B109","v":0},{"$f":"EXTRA2!C109","v":0},{"$f":"EXTRA2!D109","v":0},{"$f":"EXTRA2!F109","v":"00:00:00"},{"$f":"EXTRA2!$A$2","v":"EXTRA2"},null,{"$f":"EXTRA2!E109","v":0},{"$f":"EXTRA2!H109","v":0}]
[null,null,null,null,null,null,null,null,null,null,null,null,null,null,null,null,null,null,null,null,null,null,108,{"$f":"EXTRA2!B110","v":0},{"$f":"EXTRA2!C110","v":0},{"$f":"EXTRA2!D110","v":0},{"$f":"EXTRA2!F110","v":"00:00:00"},{"$f":"EXTRA2!$A$2","v":"EXTRA2"},null,{"$f":"EXTRA2!E110","v":0},{"$f":"EXTRA2!H110","v":0}]
[null,null,null,null,null,null,null,null,null,null,null,null,null,null,null,null,null,null,null,null,null,null,109,{"$f":"EXTRA2!B111","v":0},{"$f":"EXTRA2!C111","v":0},{"$f":"EXTRA2!D111","v":0},{"$f":"EXTRA2!F111","v":"00:00:00"},{"$f":"EXTRA2!$A$2","v":"EXTRA2"},null,{"$f":"EXTRA2!E111","v":0},{"$f":"EXTRA2!H111","v":0}]
[null,null,null,null,null,null,null,null,null,null,null,null,null,null,null,null,null,null,null,null,null,null,110,{"$f":"EXTRA2!B112","v":0},{"$f":"EXTRA2!C112","v":0},{"$f":"EXTRA2!D112","v":0},{"$f":"EXTRA2!F112","v":"00:00:00"},{"$f":"EXTRA2!$A$2","v":"EXTRA2"},null,{"$f":"EXTRA2!E112","v":0},{"$f":"EXTRA2!H112","v":0}]
[null,null,null,null,null,null,null,null,null,null,null,null,null,null,null,null,null,null,null,null,null,null,111,{"$f":"EXTRA2!B113","v":0},{"$f":"EXTRA2!C113","v":0},{"$f":"EXTRA2!D113","v":0},{"$f":"EXTRA2!F113","v":"00:00:00"},{"$f":"EXTRA2!$A$2","v":"EXTRA2"},null,{"$f":"EXTRA2!E113","v":0},{"$f":"EXTRA2!H113","v":0}]
[null,null,null,null,null,null,null,null,null,null,null,null,null,null,null,null,null,null,null,null,null,null,112,{"$f":"EXTRA2!B114","v":0},{"$f":"EXTRA2!C114","v":0},{"$f":"EXTRA2!D114","v":0},{"$f":"EXTRA2!F114","v":"00:00:00"},{"$f":"EXTRA2!$A$2","v":"EXTRA2"},null,{"$f":"EXTRA2!E114","v":0},{"$f":"EXTRA2!H114","v":0}]
[null,null,null,null,null,null,null,null,null,null,null,null,null,null,null,null,null,null,null,null,null,null,113,{"$f":"EXTRA2!B115","v":0},{"$f":"EXTRA2!C115","v":0},{"$f":"EXTRA2!D115","v":0},{"$f":"EXTRA2!F115","v":"00:00:00"},{"$f":"EXTRA2!$A$2","v":"EXTRA2"},null,{"$f":"EXTRA2!E115","v":0},{"$f":"EXTRA2!H115","v":0}]
[null,null,null,null,null,null,null,null,null,null,null,null,null,null,null,null,null,null,null,null,null,null,114,{"$f":"EXTRA2!B116","v":0},{"$f":"EXTRA2!C116","v":0},{"$f":"EXTRA2!D116","v":0},{"$f":"EXTRA2!F116","v":"00:00:00"},{"$f":"EXTRA2!$A$2","v":"EXTRA2"},null,{"$f":"EXTRA2!E116","v":0},{"$f":"EXTRA2!H116","v":0}]
[null,null,null,null,null,null,null,null,null,null,null,null,null,null,null,null,null,null,null,null,null,null,115,{"$f":"EXTRA2!B117","v":0},{"$f":"EXTRA2!C117","v":0},{"$f":"EXTRA2!D117","v":0},{"$f":"EXTRA2!F117","v":"00:00:00"},{"$f":"EXTRA2!$A$2","v":"EXTRA2"},null,{"$f":"EXTRA2!E117","v":0},{"$f":"EXTRA2!H117","v":0}]
[null,null,null,null,null,null,null,null,null,null,null,null,null,null,null,null,null,null,null,null,null,null,116,{"$f":"EXTRA2!B118","v":0},{"$f":"EXTRA2!C118","v":0},{"$f":"EXTRA2!D118","v":0},{"$f":"EXTRA2!F118","v":"00:00:00"},{"$f":"EXTRA2!$A$2","v":"EXTRA2"},null,{"$f":"EXTRA2!E118","v":0},{"$f":"EXTRA2!H118","v":0}]
[null,null,null,null,null,null,null,null,null,null,null,null,null,null,null,null,null,null,null,null,null,null,117,{"$f":"EXTRA2!B119","v":0},{"$f":"EXTRA2!C119","v":0},{"$f":"EXTRA2!D119","v":0},{"$f":"EXTRA2!F119","v":"00:00:00"},{"$f":"EXTRA2!$A$2","v":"EXTRA2"},null,{"$f":"EXTRA2!E119","v":0},{"$f":"EXTRA2!H119","v":0}]
[null,null,null,null,null,null,null,null,null,null,null,null,null,null,null,null,null,null,null,null,null,null,118,{"$f":"EXTRA2!B120","v":0},{"$f":"EXTRA2!C120","v":0},{"$f":"EXTRA2!D120","v":0},{"$f":"EXTRA2!F120","v":"00:00:00"},{"$f":"EXTRA2!$A$2","v":"EXTRA2"},null,{"$f":"EXTRA2!E120","v":0},{"$f":"EXTRA2!H120","v":0}]
[null,null,null,null,null,null,null,null,null,null,null,null,null,null,null,null,null,null,null,null,null,null,119,{"$f":"EXTRA2!B121","v":0},{"$f":"EXTRA2!C121","v":0},{"$f":"EXTRA2!D121","v":0},{"$f":"EXTRA2!F121","v":"00:00:00"},{"$f":"EXTRA2!$A$2","v":"EXTRA2"},null,{"$f":"EXTRA2!E121","v":0},{"$f":"EXTRA2!H121","v":0}]
[null,null,null,null,null,null,null,null,null,null,null,null,null,null,null,null,null,null,null,null,null,null,120,{"$f":"EXTRA2!B122","v":0},{"$f":"EXTRA2!C122","v":0},{"$f":"EXTRA2!D122","v":0},{"$f":"EXTRA2!F122","v":"00:00:00"},{"$f":"EXTRA2!$A$2","v":"EXTRA2"},null,{"$f":"EXTRA2!E122","v":0},{"$f":"EXTRA2!H122","v":0}]
[null,null,null,null,null,null,null,null,null,null,null,null,null,null,null,null,null,null,null,null,null,null,121,{"$f":"EXTRA2!B123","v":0},{"$f":"EXTRA2!C123","v":0},{"$f":"EXTRA2!D123","v":0},{"$f":"EXTRA2!F123","v":"00:00:00"},{"$f":"EXTRA2!$A$2","v":"EXTRA2"},null,{"$f":"EXTRA2!E123","v":0},{"$f":"EXTRA2!H123","v":0}]
[null,null,null,null,null,null,null,null,null,null,null,null,null,null,null,null,null,null,null,null,null,null,122,{"$f":"EXTRA2!B124","v":0},{"$f":"EXTRA2!C124","v":0},{"$f":"EXTRA2!D124","v":0},{"$f":"EXTRA2!F124","v":"00:00:00"},{"$f":"EXTRA2!$A$2","v":"EXTRA2"},null,{"$f":"EXTRA2!E124","v":0},{"$f":"EXTRA2!H124","v":0}]
[null,null,null,null,null,null,null,null,null,null,null,null,null,null,null,null,null,null,null,null,null,null,123,{"$f":"EXTRA2!B125","v":0},{"$f":"EXTRA2!C125","v":0},{"$f":"EXTRA2!D125","v":0},{"$f":"EXTRA2!F125","v":"00:00:00"},{"$f":"EXTRA2!$A$2","v":"EXTRA2"},null,{"$f":"EXTRA2!E125","v":0},{"$f":"EXTRA2!H125","v":0}]
[null,null,null,null,null,null,null,null,null,null,null,null,null,null,null,null,null,null,null,null,null,null,124,{"$f":"EXTRA2!B126","v":0},{"$f":"EXTRA2!C126","v":0},{"$f":"EXTRA2!D126","v":0},{"$f":"EXTRA2!F126","v":"00:00:00"},{"$f":"EXTRA2!$A$2","v":"EXTRA2"},null,{"$f":"EXTRA2!E126","v":0},{"$f":"EXTRA2!H126","v":0}]
[null,null,null,null,null,null,null,null,null,null,null,null,null,null,null,null,null,null,null,null,null,null,125,{"$f":"EXTRA2!B127","v":0},{"$f":"EXTRA2!C127","v":0},{"$f":"EXTRA2!D127","v":0},{"$f":"EXTRA2!F127","v":"00:00:00"},{"$f":"EXTRA2!$A$2","v":"EXTRA2"},null,{"$f":"EXTRA2!E127","v":0},{"$f":"EXTRA2!H127","v":0}]
[null,null,null,null,null,null,null,null,null,null,null,null,null,null,null,null,null,null,null,null,null,null,126,{"$f":"EXTRA2!B128","v":0},{"$f":"EXTRA2!C128","v":0},{"$f":"EXTRA2!D128","v":0},{"$f":"EXTRA2!F128","v":"00:00:00"},{"$f":"EXTRA2!$A$2","v":"EXTRA2"},null,{"$f":"EXTRA2!E128","v":0},{"$f":"EXTRA2!H128","v":0}]
[null,null,null,null,null,null,null,null,null,null,null,null,null,null,null,null,null,null,null,null,null,null,127,{"$f":"EXTRA2!B129","v":0},{"$f":"EXTRA2!C129","v":0},{"$f":"EXTRA2!D129","v":0},{"$f":"EXTRA2!F129","v":"00:00:00"},{"$f":"EXTRA2!$A$2","v":"EXTRA2"},null,{"$f":"EXTRA2!E129","v":0},{"$f":"EXTRA2!H129","v":0}]
[null,null,null,null,null,null,null,null,null,null,null,null,null,null,null,null,null,null,null,null,null,null,128,{"$f":"EXTRA2!B130","v":0},{"$f":"EXTRA2!C130","v":0},{"$f":"EXTRA2!D130","v":0},{"$f":"EXTRA2!F130","v":"00:00:00"},{"$f":"EXTRA2!$A$2","v":"EXTRA2"},null,{"$f":"EXTRA2!E130","v":0},{"$f":"EXTRA2!H130","v":0}]
[null,null,null,null,null,null,null,null,null,null,null,null,null,null,null,null,null,null,null,null,null,null,129,{"$f":"EXTRA2!B131","v":0},{"$f":"EXTRA2!C131","v":0},{"$f":"EXTRA2!D131","v":0},{"$f":"EXTRA2!F131","v":"00:00:00"},{"$f":"EXTRA2!$A$2","v":"EXTRA2"},null,{"$f":"EXTRA2!E131","v":0},{"$f":"EXTRA2!H131","v":0}]
[null,null,null,null,null,null,null,null,null,null,null,null,null,null,null,null,null,null,null,null,null,null,130,{"$f":"EXTRA2!B132","v":0},{"$f":"EXTRA2!C132","v":0},{"$f":"EXTRA2!D132","v":0},{"$f":"EXTRA2!F132","v":"00:00:00"},{"$f":"EXTRA2!$A$2","v":"EXTRA2"},null,{"$f":"EXTRA2!E132","v":0},{"$f":"EXTRA2!H132","v":0}]
[null,null,null,null,null,null,null,null,null,null,null,null,null,null,null,null,null,null,null,null,null,null,131,{"$f":"EXTRA2!B133","v":0},{"$f":"EXTRA2!C133","v":0},{"$f":"EXTRA2!D133","v":0},{"$f":"EXTRA2!F133","v":"00:00:00"},{"$f":"EXTRA2!$A$2","v":"EXTRA2"},null,{"$f":"EXTRA2!E133","v":0},{"$f":"EXTRA2!H133","v":0}]
[null,null,null,null,null,null,null,null,null,null,null,null,null,null,null,null,null,null,null,null,null,null,132,{"$f":"EXTRA2!B134","v":0},{"$f":"EXTRA2!C134","v":0},{"$f":"EXTRA2!D134","v":0},{"$f":"EXTRA2!F134","v":"00:00:00"},{"$f":"EXTRA2!$A$2","v":"EXTRA2"},null,{"$f":"EXTRA2!E134","v":0},{"$f":"EXTRA2!H134","v":0}]
[null,null,null,null,null,null,null,null,null,null,null,null,null,null,null,null,null,null,null,null,null,null,133,{"$f":"EXTRA2!B135","v":0},{"$f":"EXTRA2!C135","v":0},{"$f":"EXTRA2!D135","v":0},{"$f":"EXTRA2!F135","v":"00:00:00"},{"$f":"EXTRA2!$A$2","v":"EXTRA2"},null,{"$f":"EXTRA2!E135","v":0},{"$f":"EXTRA2!H135","v":0}]
[null,null,null,null,null,null,null,null,null,null,null,null,null,null,null,null,null,null,null,null,null,null,134,{"$f":"EXTRA2!B136","v":0},{"$f":"EXTRA2!C136","v":0},{"$f":"EXTRA2!D136","v":0},{"$f":"EXTRA2!F136","v":"00:00:00"},{"$f":"EXTRA2!$A$2","v":"EXTRA2"},null,{"$f":"EXTRA2!E136","v":0},{"$f":"EXTRA2!H136","v":0}]
[null,null,null,null,null,null,null,null,null,null,null,null,null,null,null,null,null,null,null,null,null,null,135,{"$f":"EXTRA2!B137","v":0},{"$f":"EXTRA2!C137","v":0},{"$f":"EXTRA2!D137","v":0},{"$f":"EXTRA2!F137","v":"00:00:00"},{"$f":"EXTRA2!$A$2","v":"EXTRA2"},null,{"$f":"EXTRA2!E137","v":0},{"$f":"EXTRA2!H137","v":0}]
[null,null,null,null,null,null,null,null,null,null,null,null,null,null,null,null,null,null,null,null,null,null,136,{"$f":"EXTRA2!B138","v":0},{"$f":"EXTRA2!C138","v":0},{"$f":"EXTRA2!D138","v":0},{"$f":"EXTRA2!F138","v":"00:00:00"},{"$f":"EXTRA2!$A$2","v":"EXTRA2"},null,{"$f":"EXTRA2!E138","v":0},{"$f":"EXTRA2!H138","v":0}]
[null,null,null,null,null,null,null,null,null,null,null,null,null,null,null,null,null,null,null,null,null,null,137,{"$f":"EXTRA2!B139","v":0},{"$f":"EXTRA2!C139","v":0},{"$f":"EXTRA2!D139","v":0},{"$f":"EXTRA2!F139","v":"00:00:00"},{"$f":"EXTRA2!$A$2","v":"EXTRA2"},null,{"$f":"EXTRA2!E139","v":0},{"$f":"EXTRA2!H139","v":0}]
[null,null,null,null,null,null,null,null,null,null,null,null,null,null,null,null,null,null,null,null,null,null,138,{"$f":"EXTRA2!B140","v":0},{"$f":"EXTRA2!C140","v":0},{"$f":"EXTRA2!D140","v":0},{"$f":"EXTRA2!F140","v":"00:00:00"},{"$f":"EXTRA2!$A$2","v":"EXTRA2"},null,{"$f":"EXTRA2!E140","v":0},{"$f":"EXTRA2!H140","v":0}]
[null,null,null,null,null,null,null,null,null,null,null,null,null,null,null,null,null,null,null,null,null,null,139,{"$f":"EXTRA2!B141","v":0},{"$f":"EXTRA2!C141","v":0},{"$f":"EXTRA2!D141","v":0},{"$f":"EXTRA2!F141","v":"00:00:00"},{"$f":"EXTRA2!$A$2","v":"EXTRA2"},null,{"$f":"EXTRA2!E141","v":0},{"$f":"EXTRA2!H141","v":0}]
[null,null,null,null,null,null,null,null,null,null,null,null,null,null,null,null,null,null,null,null,null,null,140,{"$f":"EXTRA2!B142","v":0},{"$f":"EXTRA2!C142","v":0},{"$f":"EXTRA2!D142","v":0},{"$f":"EXTRA2!F142","v":"00:00:00"},{"$f":"EXTRA2!$A$2","v":"EXTRA2"},null,{"$f":"EXTRA2!E142","v":0},{"$f":"EXTRA2!H142","v":0}]
[null,null,null,null,null,null,null,null,null,null,null,null,null,null,null,null,null,null,null,null,null,null,141,{"$f":"EXTRA2!B143","v":0},{"$f":"EXTRA2!C143","v":0},{"$f":"EXTRA2!D143","v":0},{"$f":"EXTRA2!F143","v":"00:00:00"},{"$f":"EXTRA2!$A$2","v":"EXTRA2"},null,{"$f":"EXTRA2!E143","v":0},{"$f":"EXTRA2!H143","v":0}]
[null,null,null,null,null,null,null,null,null,null,null,null,null,null,null,null,null,null,null,null,null,null,142,{"$f":"EXTRA2!B144","v":0},{"$f":"EXTRA2!C144","v":0},{"$f":"EXTRA2!D144","v":0},{"$f":"EXTRA2!F144","v":"00:00:00"},{"$f":"EXTRA2!$A$2","v":"EXTRA2"},null,{"$f":"EXTRA2!E144","v":0},{"$f":"EXTRA2!H144","v":0}]
[null,null,null,null,null,null,null,null,null,null,null,null,null,null,null,null,null,null,null,null,null,null,143,{"$f":"EXTRA2!B145","v":0},{"$f":"EXTRA2!C145","v":0},{"$f":"EXTRA2!D145","v":0},{"$f":"EXTRA2!F145","v":"00:00:00"},{"$f":"EXTRA2!$A$2","v":"EXTRA2"},null,{"$f":"EXTRA2!E145","v":0},{"$f":"EXTRA2!H145","v":0}]
[null,null,null,null,null,null,null,null,null,null,null,null,null,null,null,null,null,null,null,null,null,null,144,{"$f":"EXTRA2!B146","v":0},{"$f":"EXTRA2!C146","v":0},{"$f":"EXTRA2!D146","v":0},{"$f":"EXTRA2!F146","v":"00:00:00"},{"$f":"EXTRA2!$A$2","v":"EXTRA2"},null,{"$f":"EXTRA2!E146","v":0},{"$f":"EXTRA2!H146","v":0}]
[null,null,null,null,null,null,null,null,null,null,null,null,null,null,null,null,null,null,null,null,null,null,145,{"$f":"EXTRA2!B147","v":0},{"$f":"EXTRA2!C147","v":0},{"$f":"EXTRA2!D147","v":0},{"$f":"EXTRA2!F147","v":"00:00:00"},{"$f":"EXTRA2!$A$2","v":"EXTRA2"},null,{"$f":"EXTRA2!E147","v":0},{"$f":"EXTRA2!H147","v":0}]
[null,null,null,null,null,null,null,null,null,null,null,null,null,null,null,null,null,null,null,null,null,null,146,{"$f":"EXTRA2!B148","v":0},{"$f":"EXTRA2!C148","v":0},{"$f":"EXTRA2!D148","v":0},{"$f":"EXTRA2!F148","v":"00:00:00"},{"$f":"EXTRA2!$A$2","v":"EXTRA2"},null,{"$f":"EXTRA2!E148","v":0},{"$f":"EXTRA2!H148","v":0}]
[null,null,null,null,null,null,null,null,null,null,null,null,null,null,null,null,null,null,null,null,null,null,147,{"$f":"EXTRA2!B149","v":0},{"$f":"EXTRA2!C149","v":0},{"$f":"EXTRA2!D149","v":0},{"$f":"EXTRA2!F149","v":"00:00:00"},{"$f":"EXTRA2!$A$2","v":"EXTRA2"},null,{"$f":"EXTRA2!E149","v":0},{"$f":"EXTRA2!H149","v":0}]
[null,null,null,null,null,null,null,null,null,null,null,null,null,null,null,null,null,null,null,null,null,null,148,{"$f":"EXTRA2!B150","v":0},{"$f":"EXTRA2!C150","v":0},{"$f":"EXTRA2!D150","v":0},{"$f":"EXTRA2!F150","v":"00:00:00"},{"$f":"EXTRA2!$A$2","v":"EXTRA2"},null,{"$f":"EXTRA2!E150","v":0},{"$f":"EXTRA2!H150","v":0}]
[null,null,null,null,null,null,null,null,null,null,null,null,null,null,null,null,null,null,null,null,null,null,149,{"$f":"EXTRA2!B151","v":0},{"$f":"EXTRA2!C151","v":0},{"$f":"EXTRA2!D151","v":0},{"$f":"EXTRA2!F151","v":"00:00:00"},{"$f":"EXTRA2!$A$2","v":"EXTRA2"},null,{"$f":"EXTRA2!E151","v":0},{"$f":"EXTRA2!H151","v":0}]
[null,null,null,null,null,null,null,null,null,null,null,null,null,null,null,null,null,null,null,null,null,null,150,{"$f":"EXTRA2!B152","v":0},{"$f":"EXTRA2!C152","v":0},{"$f":"EXTRA2!D152","v":0},{"$f":"EXTRA2!F152","v":"00:00:00"},{"$f":"EXTRA2!$A$2","v":"EXTRA2"},null,{"$f":"EXTRA2!E152","v":0},{"$f":"EXTRA2!H152","v":0}]
[null,null,null,null,null,null,null,null,null,null,null,null,null,null,null,null,null,null,null,null,null,null,null,{"$f":"EXTRA2!B153","v":0},{"$f":"EXTRA2!C153","v":0},{"$f":"EXTRA2!D153","v":0},{"$f":"EXTRA2!F153","v":"00:00:00"},{"$f":"EXTRA2!$A$2","v":"EXTRA2"},null,{"$f":"EXTRA2!E153","v":0},{"$f":"EXTRA2!H153","v":0}]
[null,null,null,null,null,null,null,null,null,null,null,null,null,null,null,null,null,null,null,null,null,null,1]
[null,null,null,null,null,null,null,null,null,null,null,null,null,null,null,null,null,null,null,null,null,null,2,{"$f":"EXTRA3!B4","v":0},{"$f":"EXTRA3!C4","v":0},{"$f":"EXTRA3!D4","v":0},{"$f":"EXTRA3!F4","v":"00:00:00"},{"$f":"EXTRA3!$A$2","v":"EXTRA3"},null,{"$f":"EXTRA3!E4","v":0},{"$f":"EXTRA3!H4","v":0}]
[null,null,null,null,null,null,null,null,null,null,null,null,null,null,null,null,null,null,null,null,null,null,3,{"$f":"EXTRA3!B5","v":0},{"$f":"EXTRA3!C5","v":0},{"$f":"EXTRA3!D5","v":0},{"$f":"EXTRA3!F5","v":"00:00:00"},{"$f":"EXTRA3!$A$2","v":"EXTRA3"},null,{"$f":"EXTRA3!E5","v":0},{"$f":"EXTRA3!H5","v":0}]
[null,null,null,null,null,null,null,null,null,null,null,null,null,null,null,null,null,null,null,null,null,null,4,{"$f":"EXTRA3!B6","v":0},{"$f":"EXTRA3!C6","v":0},{"$f":"EXTRA3!D6","v":0},{"$f":"EXTRA3!F6","v":"00:00:00"},{"$f":"EXTRA3!$A$2","v":"EXTRA3"},null,{"$f":"EXTRA3!E6","v":0},{"$f":"EXTRA3!H6","v":0}]
[null,null,null,null,null,null,null,null,null,null,null,null,null,null,null,null,null,null,null,null,null,null,5,{"$f":"EXTRA3!B7","v":0},{"$f":"EXTRA3!C7","v":0},{"$f":"EXTRA3!D7","v":0},{"$f":"EXTRA3!F7","v":"00:00:00"},{"$f":"EXTRA3!$A$2","v":"EXTRA3"},null,{"$f":"EXTRA3!E7","v":0},{"$f":"EXTRA3!H7","v":0}]
[null,null,null,null,null,null,null,null,null,null,null,null,null,null,null,null,null,null,null,null,null,null,6,{"$f":"EXTRA3!B8","v":0},{"$f":"EXTRA3!C8","v":0},{"$f":"EXTRA3!D8","v":0},{"$f":"EXTRA3!F8","v":"00:00:00"},{"$f":"EXTRA3!$A$2","v":"EXTRA3"},null,{"$f":"EXTRA3!E8","v":0},{"$f":"EXTRA3!H8","v":0}]
[null,null,null,null,null,null,null,null,null,null,null,null,null,null,null,null,null,null,null,null,null,null,7,{"$f":"EXTRA3!B9","v":0},{"$f":"EXTRA3!C9","v":0},{"$f":"EXTRA3!D9","v":0},{"$f":"EXTRA3!F9","v":"00:00:00"},{"$f":"EXTRA3!$A$2","v":"EXTRA3"},null,{"$f":"EXTRA3!E9","v":0},{"$f":"EXTRA3!H9","v":0}]
[null,null,null,null,null,null,null,null,null,null,null,null,null,null,null,null,null,null,null,null,null,null,8,{"$f":"EXTRA3!B10","v":0},{"$f":"EXTRA3!C10","v":0},{"$f":"EXTRA3!D10","v":0},{"$f":"EXTRA3!F10","v":"00:00:00"},{"$f":"EXTRA3!$A$2","v":"EXTRA3"},null,{"$f":"EXTRA3!E10","v":0},{"$f":"EXTRA3!H10","v":0}]
[null,null,null,null,null,null,null,null,null,null,null,null,null,null,null,null,null,null,null,null,null,null,9,{"$f":"EXTRA3!B11","v":0},{"$f":"EXTRA3!C11","v":0},{"$f":"EXTRA3!D11","v":0},{"$f":"EXTRA3!F11","v":"00:00:00"},{"$f":"EXTRA3!$A$2","v":"EXTRA3"},null,{"$f":"EXTRA3!E11","v":0},{"$f":"EXTRA3!H11","v":0}]
[null,null,null,null,null,null,null,null,null,null,null,null,null,null,null,null,null,null,null,null,null,null,10,{"$f":"EXTRA3!B12","v":0},{"$f":"EXTRA3!C12","v":0},{"$f":"EXTRA3!D12","v":0},{"$f":"EXTRA3!F12","v":"00:00:00"},{"$f":"EXTRA3!$A$2","v":"EXTRA3"},null,{"$f":"EXTRA3!E12","v":0},{"$f":"EXTRA3!H12","v":0}]
[null,null,null,null,null,null,null,null,null,null,null,null,null,null,null,null,null,null,null,null,null,null,11,{"$f":"EXTRA3!B13","v":0},{"$f":"EXTRA3!C13","v":0},{"$f":"EXTRA3!D13","v":0},{"$f":"EXTRA3!F13","v":"00:00:00"},{"$f":"EXTRA3!$A$2","v":"EXTRA3"},null,{"$f":"EXTRA3!E13","v":0},{"$f":"EXTRA3!H13","v":0}]
[null,null,null,null,null,null,null,null,null,null,null,null,null,null,null,null,null,null,null,null,null,null,12,{"$f":"EXTRA3!B14","v":0},{"$f":"EXTRA3!C14","v":0},{"$f":"EXTRA3!D14","v":0},{"$f":"EXTRA3!F14","v":"00:00:00"},{"$f":"EXTRA3!$A$2","v":"EXTRA3"},null,{"$f":"EXTRA3!E14","v":0},{"$f":"EXTRA3!H14","v":0}]
[null,null,null,null,null,null,null,null,null,null,null,null,null,null,null,null,null,null,null,null,null,null,13,{"$f":"EXTRA3!B15","v":0},{"$f":"EXTRA3!C15","v":0},{"$f":"EXTRA3!D15","v":0},{"$f":"EXTRA3!F15","v":"00:00:00"},{"$f":"EXTRA3!$A$2","v":"EXTRA3"},null,{"$f":"EXTRA3!E15","v":0},{"$f":"EXTRA3!H15","v":0}]
[null,null,null,null,null,null,null,null,null,null,null,null,null,null,null,null,null,null,null,null,null,null,14,{"$f":"EXTRA3!B16","v":0},{"$f":"EXTRA3!C16","v":0},{"$f":"EXTRA3!D16","v":0},{"$f":"EXTRA3!F16","v":"00:00:00"},{"$f":"EXTRA3!$A$2","v":"EXTRA3"},null,{"$f":"EXTRA3!E16","v":0},{"$f":"EXTRA3!H16","v":0}]
[null,null,null,null,null,null,null,null,null,null,null,null,null,null,null,null,null,null,null,null,null,null,15,{"$f":"EXTRA3!B17","v":0},{"$f":"EXTRA3!C17","v":0},{"$f":"EXTRA3!D17","v":0},{"$f":"EXTRA3!F17","v":"00:00:00"},{"$f":"EXTRA3!$A$2","v":"EXTRA3"},null,{"$f":"EXTRA3!E17","v":0},{"$f":"EXTRA3!H17","v":0}]
[null,null,null,null,null,null,null,null,null,null,null,null,null,null,null,null,null,null,null,null,null,null,16,{"$f":"EXTRA3!B18","v":0},{"$f":"EXTRA3!C18","v":0},{"$f":"EXTRA3!D18","v":0},{"$f":"EXTRA3!F18","v":"00:00:00"},{"$f":"EXTRA3!$A$2","v":"EXTRA3"},null,{"$f":"EXTRA3!E18","v":0},{"$f":"EXTRA3!H18","v":0}]
[null,null,null,null,null,null,null,null,null,null,null,null,null,null,null,null,null,null,null,null,null,null,17,{"$f":"EXTRA3!B19","v":0},{"$f":"EXTRA3!C19","v":0},{"$f":"EXTRA3!D19","v":0},{"$f":"EXTRA3!F19","v":"00:00:00"},{"$f":"EXTRA3!$A$2","v":"EXTRA3"},null,{"$f":"EXTRA3!E19","v":0},{"$f":"EXTRA3!H19","v":0}]
[null,null,null,null,null,null,null,null,null,null,null,null,null,null,null,null,null,null,null,null,null,null,18,{"$f":"EXTRA3!B20","v":0},{"$f":"EXTRA3!C20","v":0},{"$f":"EXTRA3!D20","v":0},{"$f":"EXTRA3!F20","v":"00:00:00"},{"$f":"EXTRA3!$A$2","v":"EXTRA3"},null,{"$f":"EXTRA3!E20","v":0},{"$f":"EXTRA3!H20","v":0}]
[null,null,null,null,null,null,null,null,null,null,null,null,null,null,null,null,null,null,null,null,null,null,19,{"$f":"EXTRA3!B21","v":0},{"$f":"EXTRA3!C21","v":0},{"$f":"EXTRA3!D21","v":0},{"$f":"EXTRA3!F21","v":"00:00:00"},{"$f":"EXTRA3!$A$2","v":"EXTRA3"},null,{"$f":"EXTRA3!E21","v":0},{"$f":"EXTRA3!H21","v":0}]
[null,null,null,null,null,null,null,null,null,null,null,null,null,null,null,null,null,null,null,null,null,null,20,{"$f":"EXTRA3!B22","v":0},{"$f":"EXTRA3!C22","v":0},{"$f":"EXTRA3!D22","v":0},{"$f":"EXTRA3!F22","v":"00:00:00"},{"$f":"EXTRA3!$A$2","v":"EXTRA3"},null,{"$f":"EXTRA3!E22","v":0},{"$f":"EXTRA3!H22","v":0}]
[null,null,null,null,null,null,null,null,null,null,null,null,null,null,null,null,null,null,null,null,null,null,21,{"$f":"EXTRA3!B23","v":0},{"$f":"EXTRA3!C23","v":0},{"$f":"EXTRA3!D23","v":0},{"$f":"EXTRA3!F23","v":"00:00:00"},{"$f":"EXTRA3!$A$2","v":"EXTRA3"},null,{"$f":"EXTRA3!E23","v":0},{"$f":"EXTRA3!H23","v":0}]
[null,null,null,null,null,null,null,null,null,null,null,null,null,null,null,null,null,null,null,null,null,null,22,{"$f":"EXTRA3!B24","v":0},{"$f":"EXTRA3!C24","v":0},{"$f":"EXTRA3!D24","v":0},{"$f":"EXTRA3!F24","v":"00:00:00"},{"$f":"EXTRA3!$A$2","v":"EXTRA3"},null,{"$f":"EXTRA3!E24","v":0},{"$f":"EXTRA3!H24","v":0}]
[null,null,null,null,null,null,null,null,null,null,null,null,null,null,null,null,null,null,null,null,null,null,23,{"$f":"EXTRA3!B25","v":0},{"$f":"EXTRA3!C25","v":0},{"$f":"EXTRA3!D25","v":0},{"$f":"EXTRA3!F25","v":"00:00:00"},{"$f":"EXTRA3!$A$2","v":"EXTRA3"},null,{"$f":"EXTRA3!E25","v":0},{"$f":"EXTRA3!H25","v":0}]
[null,null,null,null,null,null,null,null,null,null,null,null,null,null,null,null,null,null,null,null,null,null,24,{"$f":"EXTRA3!B26","v":0},{"$f":"EXTRA3!C26","v":0},{"$f":"EXTRA3!D26","v":0},{"$f":"EXTRA3!F26","v":"00:00:00"},{"$f":"EXTRA3!$A$2","v":"EXTRA3"},null,{"$f":"EXTRA3!E26","v":0},{"$f":"EXTRA3!H26","v":0}]
[null,null,null,null,null,null,null,null,null,null,null,null,null,null,null,null,null,null,null,null,null,null,25,{"$f":"EXTRA3!B27","v":0},{"$f":"EXTRA3!C27","v":0},{"$f":"EXTRA3!D27","v":0},{"$f":"EXTRA3!F27","v":"00:00:00"},{"$f":"EXTRA3!$A$2","v":"EXTRA3"},null,{"$f":"EXTRA3!E27","v":0},{"$f":"EXTRA3!H27","v":0}]
[null,null,null,null,null,null,null,null,null,null,null,null,null,null,null,null,null,null,null,null,null,null,26,{"$f":"EXTRA3!B28","v":0},{"$f":"EXTRA3!C28","v":0},{"$f":"EXTRA3!D28","v":0},{"$f":"EXTRA3!F28","v":"00:00:00"},{"$f":"EXTRA3!$A$2","v":"EXTRA3"},null,{"$f":"EXTRA3!E28","v":0},{"$f":"EXTRA3!H28","v":0}]
[null,null,null,null,null,null,null,null,null,null,null,null,null,null,null,null,null,null,null,null,null,null,27,{"$f":"EXTRA3!B29","v":0},{"$f":"EXTRA3!C29","v":0},{"$f":"EXTRA3!D29","v":0},{"$f":"EXTRA3!F29","v":"00:00:00"},{"$f":"EXTRA3!$A$2","v":"EXTRA3"},null,{"$f":"EXTRA3!E29","v":0},{"$f":"EXTRA3!H29","v":0}]
[null,null,null,null,null,null,null,null,null,null,null,null,null,null,null,null,null,null,null,null,null,null,28,{"$f":"EXTRA3!B30","v":0},{"$f":"EXTRA3!C30","v":0},{"$f":"EXTRA3!D30","v":0},{"$f":"EXTRA3!F30","v":"00:00:00"},{"$f":"EXTRA3!$A$2","v":"EXTRA3"},null,{"$f":"EXTRA3!E30","v":0},{"$f":"EXTRA3!H30","v":0}]
[null,null,null,null,null,null,null,null,null,null,null,null,null,null,null,null,null,null,null,null,null,null,29,{"$f":"EXTRA3!B31","v":0},{"$f":"EXTRA3!C31","v":0},{"$f":"EXTRA3!D31","v":0},{"$f":"EXTRA3!F31","v":"00:00:00"},{"$f":"EXTRA3!$A$2","v":"EXTRA3"},null,{"$f":"EXTRA3!E31","v":0},{"$f":"EXTRA3!H31","v":0}]
[null,null,null,null,null,null,null,null,null,null,null,null,null,null,null,null,null,null,null,null,null,null,30,{"$f":"EXTRA3!B32","v":0},{"$f":"EXTRA3!C32","v":0},{"$f":"EXTRA3!D32","v":0},{"$f":"EXTRA3!F32","v":"00:00:00"},{"$f":"EXTRA3!$A$2","v":"EXTRA3"},null,{"$f":"EXTRA3!E32","v":0},{"$f":"EXTRA3!H32","v":0}]
[null,null,null,null,null,null,null,null,null,null,null,null,null,null,null,null,null,null,null,null,null,null,31,{"$f":"EXTRA3!B33","v":0},{"$f":"EXTRA3!C33","v":0},{"$f":"EXTRA3!D33","v":0},{"$f":"EXTRA3!F33","v":"00:00:00"},{"$f":"EXTRA3!$A$2","v":"EXTRA3"},null,{"$f":"EXTRA3!E33","v":0},{"$f":"EXTRA3!H33","v":0}]
[null,null,null,null,null,null,null,null,null,null,null,null,null,null,null,null,null,null,null,null,null,null,32,{"$f":"EXTRA3!B34","v":0},{"$f":"EXTRA3!C34","v":0},{"$f":"EXTRA3!D34","v":0},{"$f":"EXTRA3!F34","v":"00:00:00"},{"$f":"EXTRA3!$A$2","v":"EXTRA3"},null,{"$f":"EXTRA3!E34","v":0},{"$f":"EXTRA3!H34","v":0}]
[null,null,null,null,null,null,null,null,null,null,null,null,null,null,null,null,null,null,null,null,null,null,33,{"$f":"EXTRA3!B35","v":0},{"$f":"EXTRA3!C35","v":0},{"$f":"EXTRA3!D35","v":0},{"$f":"EXTRA3!F35","v":"00:00:00"},{"$f":"EXTRA3!$A$2","v":"EXTRA3"},null,{"$f":"EXTRA3!E35","v":0},{"$f":"EXTRA3!H35","v":0}]
[null,null,null,null,null,null,null,null,null,null,null,null,null,null,null,null,null,null,null,null,null,null,34,{"$f":"EXTRA3!B36","v":0},{"$f":"EXTRA3!C36","v":0},{"$f":"EXTRA3!D36","v":0},{"$f":"EXTRA3!F36","v":"00:00:00"},{"$f":"EXTRA3!$A$2","v":"EXTRA3"},null,{"$f":"EXTRA3!E36","v":0},{"$f":"EXTRA3!H36","v":0}]
[null,null,null,null,null,null,null,null,null,null,null,null,null,null,null,null,null,null,null,null,null,null,35,{"$f":"EXTRA3!B37","v":0},{"$f":"EXTRA3!C37","v":0},{"$f":"EXTRA3!D37","v":0},{"$f":"EXTRA3!F37","v":"00:00:00"},{"$f":"EXTRA3!$A$2","v":"EXTRA3"},null,{"$f":"EXTRA3!E37","v":0},{"$f":"EXTRA3!H37","v":0}]
[null,null,null,null,null,null,null,null,null,null,null,null,null,null,null,null,null,null,null,null,null,null,36,{"$f":"EXTRA3!B38","v":0},{"$f":"EXTRA3!C38","v":0},{"$f":"EXTRA3!D38","v":0},{"$f":"EXTRA3!F38","v":"00:00:00"},{"$f":"EXTRA3!$A$2","v":"EXTRA3"},null,{"$f":"EXTRA3!E38","v":0},{"$f":"EXTRA3!H38","v":0}]
[null,null,null,null,null,null,null,null,null,null,null,null,null,null,null,null,null,null,null,null,null,null,37,{"$f":"EXTRA3!B39","v":0},{"$f":"EXTRA3!C39","v":0},{"$f":"EXTRA3!D39","v":0},{"$f":"EXTRA3!F39","v":"00:00:00"},{"$f":"EXTRA3!$A$2","v":"EXTRA3"},null,{"$f":"EXTRA3!E39","v":0},{"$f":"EXTRA3!H39","v":0}]
[null,null,null,null,null,null,null,null,null,null,null,null,null,null,null,null,null,null,null,null,null,null,38,{"$f":"EXTRA3!B40","v":0},{"$f":"EXTRA3!C40","v":0},{"$f":"EXTRA3!D40","v":0},{"$f":"EXTRA3!F40","v":"00:00:00"},{"$f":"EXTRA3!$A$2","v":"EXTRA3"},null,{"$f":"EXTRA3!E40","v":0},{"$f":"EXTRA3!H40","v":0}]
[null,null,null,null,null,null,null,null,null,null,null,null,null,null,null,null,null,null,null,null,null,null,39,{"$f":"EXTRA3!B41","v":0},{"$f":"EXTRA3!C41","v":0},{"$f":"EXTRA3!D41","v":0},{"$f":"EXTRA3!F41","v":"00:00:00"},{"$f":"EXTRA3!$A$2","v":"EXTRA3"},null,{"$f":"EXTRA3!E41","v":0},{"$f":"EXTRA3!H41","v":0}]
[null,null,null,null,null,null,null,null,null,null,null,null,null,null,null,null,null,null,null,null,null,null,40,{"$f":"EXTRA3!B42","v":0},{"$f":"EXTRA3!C42","v":0},{"$f":"EXTRA3!D42","v":0},{"$f":"EXTRA3!F42","v":"00:00:00"},{"$f":"EXTRA3!$A$2","v":"EXTRA3"},null,{"$f":"EXTRA3!E42","v":0},{"$f":"EXTRA3!H42","v":0}]
[null,null,null,null,null,null,null,null,null,null,null,null,null,null,null,null,null,null,null,null,null,null,41,{"$f":"EXTRA3!B43","v":0},{"$f":"EXTRA3!C43","v":0},{"$f":"EXTRA3!D43","v":0},{"$f":"EXTRA3!F43","v":"00:00:00"},{"$f":"EXTRA3!$A$2","v":"EXTRA3"},null,{"$f":"EXTRA3!E43","v":0},{"$f":"EXTRA3!H43","v":0}]
[null,null,null,null,null,null,null,null,null,null,null,null,null,null,null,null,null,null,null,null,null,null,42,{"$f":"EXTRA3!B44","v":0},{"$f":"EXTRA3!C44","v":0},{"$f":"EXTRA3!D44","v":0},{"$f":"EXTRA3!F44","v":"00:00:00"},{"$f":"EXTRA3!$A$2","v":"EXTRA3"},null,{"$f":"EXTRA3!E44","v":0},{"$f":"EXTRA3!H44","v":0}]
[null,null,null,null,null,null,null,null,null,null,null,null,null,null,null,null,null,null,null,null,null,null,43,{"$f":"EXTRA3!B45","v":0},{"$f":"EXTRA3!C45","v":0},{"$f":"EXTRA3!D45","v":0},{"$f":"EXTRA3!F45","v":"00:00:00"},{"$f":"EXTRA3!$A$2","v":"EXTRA3"},null,{"$f":"EXTRA3!E45","v":0},{"$f":"EXTRA3!H45","v":0}]
[null,null,null,null,null,null,null,null,null,null,null,null,null,null,null,null,null,null,null,null,null,null,44,{"$f":"EXTRA3!B46","v":0},{"$f":"EXTRA3!C46","v":0},{"$f":"EXTRA3!D46","v":0},{"$f":"EXTRA3!F46","v":"00:00:00"},{"$f":"EXTRA3!$A$2","v":"EXTRA3"},null,{"$f":"EXTRA3!E46","v":0},{"$f":"EXTRA3!H46","v":0}]
[null,null,null,null,null,null,null,null,null,null,null,null,null,null,null,null,null,null,null,null,null,null,45,{"$f":"EXTRA3!B47","v":0},{"$f":"EXTRA3!C47","v":0},{"$f":"EXTRA3!D47","v":0},{"$f":"EXTRA3!F47","v":"00:00:00"},{"$f":"EXTRA3!$A$2","v":"EXTRA3"},null,{"$f":"EXTRA3!E47","v":0},{"$f":"EXTRA3!H47","v":0}]
[null,null,null,null,null,null,null,null,null,null,null,null,null,null,null,null,null,null,null,null,null,null,46,{"$f":"EXTRA3!B48","v":0},{"$f":"EXTRA3!C48","v":0},{"$f":"EXTRA3!D48","v":0},{"$f":"EXTRA3!F48","v":"00:00:00"},{"$f":"EXTRA3!$A$2","v":"EXTRA3"},null,{"$f":"EXTRA3!E48","v":0},{"$f":"EXTRA3!H48","v":0}]
[null,null,null,null,null,null,null,null,null,null,null,null,null,null,null,null,null,null,null,null,null,null,47,{"$f":"EXTRA3!B49","v":0},{"$f":"EXTRA3!C49","v":0},{"$f":"EXTRA3!D49","v":0},{"$f":"EXTRA3!F49","v":"00:00:00"},{"$f":"EXTRA3!$A$2","v":"EXTRA3"},null,{"$f":"EXTRA3!E49","v":0},{"$f":"EXTRA3!H49","v":0}]
[null,null,null,null,null,null,null,null,null,null,null,null,null,null,null,null,null,null,null,null,null,null,48,{"$f":"EXTRA3!B50","v":0},{"$f":"EXTRA3!C50","v":0},{"$f":"EXTRA3!D50","v":0},{"$f":"EXTRA3!F50","v":"00:00:00"},{"$f":"EXTRA3!$A$2","v":"EXTRA3"},null,{"$f":"EXTRA3!E50","v":0},{"$f":"EXTRA3!H50","v":0}]
[null,null,null,null,null,null,null,null,null,null,null,null,null,null,null,null,null,null,null,null,null,null,49,{"$f":"EXTRA3!B51","v":0},{"$f":"EXTRA3!C51","v":0},{"$f":"EXTRA3!D51","v":0},{"$f":"EXTRA3!F51","v":"00:00:00"},{"$f":"EXTRA3!$A$2","v":"EXTRA3"},null,{"$f":"EXTRA3!E51","v":0},{"$f":"EXTRA3!H51","v":0}]
[null,null,null,null,null,null,null,null,null,null,null,null,null,null,null,null,null,null,null,null,null,null,50,{"$f":"EXTRA3!B52","v":0},{"$f":"EXTRA3!C52","v":0},{"$f":"EXTRA3!D52","v":0},{"$f":"EXTRA3!F52","v":"00:00:00"},{"$f":"EXTRA3!$A$2","v":"EXTRA3"},null,{"$f":"EXTRA3!E52","v":0},{"$f":"EXTRA3!H52","v":0}]
[null,null,null,null,null,null,null,null,null,null,null,null,null,null,null,null,null,null,null,null,null,null,51,{"$f":"EXTRA3!B53","v":0},{"$f":"EXTRA3!C53","v":0},{"$f":"EXTRA3!D53","v":0},{"$f":"EXTRA3!F53","v":"00:00:00"},{"$f":"EXTRA3!$A$2","v":"EXTRA3"},null,{"$f":"EXTRA3!E53","v":0},{"$f":"EXTRA3!H53","v":0}]
[null,null,null,null,null,null,null,null,null,null,null,null,null,null,null,null,null,null,null,null,null,null,52,{"$f":"EXTRA3!B54","v":0},{"$f":"EXTRA3!C54","v":0},{"$f":"EXTRA3!D54","v":0},{"$f":"EXTRA3!F54","v":"00:00:00"},{"$f":"EXTRA3!$A$2","v":"EXTRA3"},null,{"$f":"EXTRA3!E54","v":0},{"$f":"EXTRA3!H54","v":0}]
[null,null,null,null,null,null,null,null,null,null,null,null,null,null,null,null,null,null,null,null,null,null,53,{"$f":"EXTRA3!B55","v":0},{"$f":"EXTRA3!C55","v":0},{"$f":"EXTRA3!D55","v":0},{"$f":"EXTRA3!F55","v":"00:00:00"},{"$f":"EXTRA3!$A$2","v":"EXTRA3"},null,{"$f":"EXTRA3!E55","v":0},{"$f":"EXTRA3!H55","v":0}]
[null,null,null,null,null,null,null,null,null,null,null,null,null,null,null,null,null,null,null,null,null,null,54,{"$f":"EXTRA3!B56","v":0},{"$f":"EXTRA3!C56","v":0},{"$f":"EXTRA3!D56","v":0},{"$f":"EXTRA3!F56","v":"00:00:00"},{"$f":"EXTRA3!$A$2","v":"EXTRA3"},null,{"$f":"EXTRA3!E56","v":0},{"$f":"EXTRA3!H56","v":0}]
[null,null,null,null,null,null,null,null,null,null,null,null,null,null,null,null,null,null,null,null,null,null,55,{"$f":"EXTRA3!B57","v":0},{"$f":"EXTRA3!C57","v":0},{"$f":"EXTRA3!D57","v":0},{"$f":"EXTRA3!F57","v":"00:00:00"},{"$f":"EXTRA3!$A$2","v":"EXTRA3"},null,{"$f":"EXTRA3!E57","v":0},{"$f":"EXTRA3!H57","v":0}]
[null,null,null,null,null,null,null,null,null,null,null,null,null,null,null,null,null,null,null,null,null,null,56,{"$f":"EXTRA3!B58","v":0},{"$f":"EXTRA3!C58","v":0},{"$f":"EXTRA3!D58","v":0},{"$f":"EXTRA3!F58","v":"00:00:00"},{"$f":"EXTRA3!$A$2","v":"EXTRA3"},null,{"$f":"EXTRA3!E58","v":0},{"$f":"EXTRA3!H58","v":0}]
[null,null,null,null,null,null,null,null,null,null,null,null,null,null,null,null,null,null,null,null,null,null,57,{"$f":"EXTRA3!B59","v":0},{"$f":"EXTRA3!C59","v":0},{"$f":"EXTRA3!D59","v":0},{"$f":"EXTRA3!F59","v":"00:00:00"},{"$f":"EXTRA3!$A$2","v":"EXTRA3"},null,{"$f":"EXTRA3!E59","v":0},{"$f":"EXTRA3!H59","v":0}]
[null,null,null,null,null,null,null,null,null,null,null,null,null,null,null,null,null,null,null,null,null,null,58,{"$f":"EXTRA3!B60","v":0},{"$f":"EXTRA3!C60","v":0},{"$f":"EXTRA3!D60","v":0},{"$f":"EXTRA3!F60","v":"00:00:00"},{"$f":"EXTRA3!$A$2","v":"EXTRA3"},null,{"$f":"EXTRA3!E60","v":0},{"$f":"EXTRA3!H60","v":0}]
[null,null,null,null,null,null,null,null,null,null,null,null,null,null,null,null,null,null,null,null,null,null,59,{"$f":"EXTRA3!B61","v":0},{"$f":"EXTRA3!C61","v":0},{"$f":"EXTRA3!D61","v":0},{"$f":"EXTRA3!F61","v":"00:00:00"},{"$f":"EXTRA3!$A$2","v":"EXTRA3"},null,{"$f":"EXTRA3!E61","v":0},{"$f":"EXTRA3!H61","v":0}]
[null,null,null,null,null,null,null,null,null,null,null,null,null,null,null,null,null,null,null,null,null,null,60,{"$f":"EXTRA3!B62","v":0},{"$f":"EXTRA3!C62","v":0},{"$f":"EXTRA3!D62","v":0},{"$f":"EXTRA3!F62","v":"00:00:00"},{"$f":"EXTRA3!$A$2","v":"EXTRA3"},null,{"$f":"EXTRA3!E62","v":0},{"$f":"EXTRA3!H62","v":0}]
[null,null,null,null,null,null,null,null,null,null,null,null,null,null,null,null,null,null,null,null,null,null,61,{"$f":"EXTRA3!B63","v":0},{"$f":"EXTRA3!C63","v":0},{"$f":"EXTRA3!D63","v":0},{"$f":"EXTRA3!F63","v":"00:00:00"},{"$f":"EXTRA3!$A$2","v":"EXTRA3"},null,{"$f":"EXTRA3!E63","v":0},{"$f":"EXTRA3!H63","v":0}]
[null,null,null,null,null,null,null,null,null,null,null,null,null,null,null,null,null,null,null,null,null,null,62,{"$f":"EXTRA3!B64","v":0},{"$f":"EXTRA3!C64","v":0},{"$f":"EXTRA3!D64","v":0},{"$f":"EXTRA3!F64","v":"00:00:00"},{"$f":"EXTRA3!$A$2","v":"EXTRA3"},null,{"$f":"EXTRA3!E64","v":0},{"$f":"EXTRA3!H64","v":0}]
[null,null,null,null,null,null,null,null,null,null,null,null,null,null,null,null,null,null,null,null,null,null,63,{"$f":"EXTRA3!B65","v":0},{"$f":"EXTRA3!C65","v":0},{"$f":"EXTRA3!D65","v":0},{"$f":"EXTRA3!F65","v":"00:00:00"},{"$f":"EXTRA3!$A$2","v":"EXTRA3"},null,{"$f":"EXTRA3!E65","v":0},{"$f":"EXTRA3!H65","v":0}]
[null,null,null,null,null,null,null,null,null,null,null,null,null,null,null,null,null,null,null,null,null,null,64,{"$f":"EXTRA3!B66","v":0},{"$f":"EXTRA3!C66","v":0},{"$f":"EXTRA3!D66","v":0},{"$f":"EXTRA3!F66","v":"00:00:00"},{"$f":"EXTRA3!$A$2","v":"EXTRA3"},null,{"$f":"EXTRA3!E66","v":0},{"$f":"EXTRA3!H66","v":0}]
[null,null,null,null,null,null,null,null,null,null,null,null,null,null,null,null,null,null,null,null,null,null,65,{"$f":"EXTRA3!B67","v":0},{"$f":"EXTRA3!C67","v":0},{"$f":"EXTRA3!D67","v":0},{"$f":"EXTRA3!F67","v":"00:00:00"},{"$f":"EXTRA3!$A$2","v":"EXTRA3"},null,{"$f":"EXTRA3!E67","v":0},{"$f":"EXTRA3!H67","v":0}]
[null,null,null,null,null,null,null,null,null,null,null,null,null,null,null,null,null,null,null,null,null,null,66,{"$f":"EXTRA3!B68","v":0},{"$f":"EXTRA3!C68","v":0},{"$f":"EXTRA3!D68","v":0},{"$f":"EXTRA3!F68","v":"00:00:00"},{"$f":"EXTRA3!$A$2","v":"EXTRA3"},null,{"$f":"EXTRA3!E68","v":0},{"$f":"EXTRA3!H68","v":0}]
[null,null,null,null,null,null,null,null,null,null,null,null,null,null,null,null,null,null,null,null,null,null,67,{"$f":"EXTRA3!B69","v":0},{"$f":"EXTRA3!C69","v":0},{"$f":"EXTRA3!D69","v":0},{"$f":"EXTRA3!F69","v":"00:00:00"},{"$f":"EXTRA3!$A$2","v":"EXTRA3"},null,{"$f":"EXTRA3!E69","v":0},{"$f":"EXTRA3!H69","v":0}]
[null,null,null,null,null,null,null,null,null,null,null,null,null,null,null,null,null,null,null,null,null,null,68,{"$f":"EXTRA3!B70","v":0},{"$f":"EXTRA3!C70","v":0},{"$f":"EXTRA3!D70","v":0},{"$f":"EXTRA3!F70","v":"00:00:00"},{"$f":"EXTRA3!$A$2","v":"EXTRA3"},null,{"$f":"EXTRA3!E70","v":0},{"$f":"EXTRA3!H70","v":0}]
[null,null,null,null,null,null,null,null,null,null,null,null,null,null,null,null,null,null,null,null,null,null,69,{"$f":"EXTRA3!B71","v":0},{"$f":"EXTRA3!C71","v":0},{"$f":"EXTRA3!D71","v":0},{"$f":"EXTRA3!F71","v":"00:00:00"},{"$f":"EXTRA3!$A$2","v":"EXTRA3"},null,{"$f":"EXTRA3!E71","v":0},{"$f":"EXTRA3!H71","v":0}]
[null,null,null,null,null,null,null,null,null,null,null,null,null,null,null,null,null,null,null,null,null,null,70,{"$f":"EXTRA3!B72","v":0},{"$f":"EXTRA3!C72","v":0},{"$f":"EXTRA3!D72","v":0},{"$f":"EXTRA3!F72","v":"00:00:00"},{"$f":"EXTRA3!$A$2","v":"EXTRA3"},null,{"$f":"EXTRA3!E72","v":0},{"$f":"EXTRA3!H72","v":0}]
[null,null,null,null,null,null,null,null,null,null,null,null,null,null,null,null,null,null,null,null,null,null,71,{"$f":"EXTRA3!B73","v":0},{"$f":"EXTRA3!C73","v":0},{"$f":"EXTRA3!D73","v":0},{"$f":"EXTRA3!F73","v":"00:00:00"},{"$f":"EXTRA3!$A$2","v":"EXTRA3"},null,{"$f":"EXTRA3!E73","v":0},{"$f":"EXTRA3!H73","v":0}]
[null,null,null,null,null,null,null,null,null,null,null,null,null,null,null,null,null,null,null,null,null,null,72,{"$f":"EXTRA3!B74","v":0},{"$f":"EXTRA3!C74","v":0},{"$f":"EXTRA3!D74","v":0},{"$f":"EXTRA3!F74","v":"00:00:00"},{"$f":"EXTRA3!$A$2","v":"EXTRA3"},null,{"$f":"EXTRA3!E74","v":0},{"$f":"EXTRA3!H74","v":0}]
[null,null,null,null,null,null,null,null,null,null,null,null,null,null,null,null,null,null,null,null,null,null,73,{"$f":"EXTRA3!B75","v":0},{"$f":"EXTRA3!C75","v":0},{"$f":"EXTRA3!D75","v":0},{"$f":"EXTRA3!F75","v":"00:00:00"},{"$f":"EXTRA3!$A$2","v":"EXTRA3"},null,{"$f":"EXTRA3!E75","v":0},{"$f":"EXTRA3!H75","v":0}]
[null,null,null,null,null,null,null,null,null,null,null,null,null,null,null,null,null,null,null,null,null,null,74,{"$f":"EXTRA3!B76","v":0},{"$f":"EXTRA3!C76","v":0},{"$f":"EXTRA3!D76","v":0},{"$f":"EXTRA3!F76","v":"00:00:00"},{"$f":"EXTRA3!$A$2","v":"EXTRA3"},null,{"$f":"EXTRA3!E76","v":0},{"$f":"EXTRA3!H76","v":0}]
[null,null,null,null,null,null,null,null,null,null,null,null,null,null,null,null,null,null,null,null,null,null,75,{"$f":"EXTRA3!B77","v":0},{"$f":"EXTRA3!C77","v":0},{"$f":"EXTRA3!D77","v":0},{"$f":"EXTRA3!F77","v":"00:00:00"},{"$f":"EXTRA3!$A$2","v":"EXTRA3"},null,{"$f":"EXTRA3!E77","v":0},{"$f":"EXTRA3!H77","v":0}]
[null,null,null,null,null,null,null,null,null,null,null,null,null,null,null,null,null,null,null,null,null,null,76,{"$f":"EXTRA3!B78","v":0},{"$f":"EXTRA3!C78","v":0},{"$f":"EXTRA3!D78","v":0},{"$f":"EXTRA3!F78","v":"00:00:00"},{"$f":"EXTRA3!$A$2","v":"EXTRA3"},null,{"$f":"EXTRA3!E78","v":0},{"$f":"EXTRA3!H78","v":0}]
[null,null,null,null,null,null,null,null,null,null,null,null,null,null,null,null,null,null,null,null,null,null,77,{"$f":"EXTRA3!B79","v":0},{"$f":"EXTRA3!C79","v":0},{"$f":"EXTRA3!D79","v":0},{"$f":"EXTRA3!F79","v":"00:00:00"},{"$f":"EXTRA3!$A$2","v":"EXTRA3"},null,{"$f":"EXTRA3!E79","v":0},{"$f":"EXTRA3!H79","v":0}]
[null,null,null,null,null,null,null,null,null,null,null,null,null,null,null,null,null,null,null,null,null,null,78,{"$f":"EXTRA3!B80","v":0},{"$f":"EXTRA3!C80","v":0},{"$f":"EXTRA3!D80","v":0},{"$f":"EXTRA3!F80","v":"00:00:00"},{"$f":"EXTRA3!$A$2","v":"EXTRA3"},null,{"$f":"EXTRA3!E80","v":0},{"$f":"EXTRA3!H80","v":0}]
[null,null,null,null,null,null,null,null,null,null,null,null,null,null,null,null,null,null,null,null,null,null,79,{"$f":"EXTRA3!B81","v":0},{"$f":"EXTRA3!C81","v":0},{"$f":"EXTRA3!D81","v":0},{"$f":"EXTRA3!F81","v":"00:00:00"},{"$f":"EXTRA3!$A$2","v":"EXTRA3"},null,{"$f":"EXTRA3!E81","v":0},{"$f":"EXTRA3!H81","v":0}]
[null,null,null,null,null,null,null,null,null,null,null,null,null,null,null,null,null,null,null,null,null,null,80,{"$f":"EXTRA3!B82","v":0},{"$f":"EXTRA3!C82","v":0},{"$f":"EXTRA3!D82","v":0},{"$f":"EXTRA3!F82","v":"00:00:00"},{"$f":"EXTRA3!$A$2","v":"EXTRA3"},null,{"$f":"EXTRA3!E82","v":0},{"$f":"EXTRA3!H82","v":0}]
[null,null,null,null,null,null,null,null,null,null,null,null,null,null,null,null,null,null,null,null,null,null,81,{"$f":"EXTRA3!B83","v":0},{"$f":"EXTRA3!C83","v":0},{"$f":"EXTRA3!D83","v":0},{"$f":"EXTRA3!F83","v":"00:00:00"},{"$f":"EXTRA3!$A$2","v":"EXTRA3"},null,{"$f":"EXTRA3!E83","v":0},{"$f":"EXTRA3!H83","v":0}]
[null,null,null,null,null,null,null,null,null,null,null,null,null,null,null,null,null,null,null,null,null,null,82,{"$f":"EXTRA3!B84","v":0},{"$f":"EXTRA3!C84","v":0},{"$f":"EXTRA3!D84","v":0},{"$f":"EXTRA3!F84","v":"00:00:00"},{"$f":"EXTRA3!$A$2","v":"EXTRA3"},null,{"$f":"EXTRA3!E84","v":0},{"$f":"EXTRA3!H84","v":0}]
[null,null,null,null,null,null,null,null,null,null,null,null,null,null,null,null,null,null,null,null,null,null,83,{"$f":"EXTRA3!B85","v":0},{"$f":"EXTRA3!C85","v":0},{"$f":"EXTRA3!D85","v":0},{"$f":"EXTRA3!F85","v":"00:00:00"},{"$f":"EXTRA3!$A$2","v":"EXTRA3"},null,{"$f":"EXTRA3!E85","v":0},{"$f":"EXTRA3!H85","v":0}]
[null,null,null,null,null,null,null,null,null,null,null,null,null,null,null,null,null,null,null,null,null,null,84,{"$f":"EXTRA3!B86","v":0},{"$f":"EXTRA3!C86","v":0},{"$f":"EXTRA3!D86","v":0},{"$f":"EXTRA3!F86","v":"00:00:00"},{"$f":"EXTRA3!$A$2","v":"EXTRA3"},null,{"$f":"EXTRA3!E86","v":0},{"$f":"EXTRA3!H86","v":0}]
[null,null,null,null,null,null,null,null,null,null,null,null,null,null,null,null,null,null,null,null,null,null,85,{"$f":"EXTRA3!B87","v":0},{"$f":"EXTRA3!C87","v":0},{"$f":"EXTRA3!D87","v":0},{"$f":"EXTRA3!F87","v":"00:00:00"},{"$f":"EXTRA3!$A$2","v":"EXTRA3"},null,{"$f":"EXTRA3!E87","v":0},{"$f":"EXTRA3!H87","v":0}]
[null,null,null,null,null,null,null,null,null,null,null,null,null,null,null,null,null,null,null,null,null,null,86,{"$f":"EXTRA3!B88","v":0},{"$f":"EXTRA3!C88","v":0},{"$f":"EXTRA3!D88","v":0},{"$f":"EXTRA3!F88","v":"00:00:00"},{"$f":"EXTRA3!$A$2","v":"EXTRA3"},null,{"$f":"EXTRA3!E88","v":0},{"$f":"EXTRA3!H88","v":0}]
[null,null,null,null,null,null,null,null,null,null,null,null,null,null,null,null,null,null,null,null,null,null,87,{"$f":"EXTRA3!B89","v":0},{"$f":"EXTRA3!C89","v":0},{"$f":"EXTRA3!D89","v":0},{"$f":"EXTRA3!F89","v":"00:00:00"},{"$f":"EXTRA3!$A$2","v":"EXTRA3"},null,{"$f":"EXTRA3!E89","v":0},{"$f":"EXTRA3!H89","v":0}]
[null,null,null,null,null,null,null,null,null,null,null,null,null,null,null,null,null,null,null,null,null,null,88,{"$f":"EXTRA3!B90","v":0},{"$f":"EXTRA3!C90","v":0},{"$f":"EXTRA3!D90","v":0},{"$f":"EXTRA3!F90","v":"00:00:00"},{"$f":"EXTRA3!$A$2","v":"EXTRA3"},null,{"$f":"EXTRA3!E90","v":0},{"$f":"EXTRA3!H90","v":0}]
[null,null,null,null,null,null,null,null,null,null,null,null,null,null,null,null,null,null,null,null,null,null,89,{"$f":"EXTRA3!B91","v":0},{"$f":"EXTRA3!C91","v":0},{"$f":"EXTRA3!D91","v":0},{"$f":"EXTRA3!F91","v":"00:00:00"},{"$f":"EXTRA3!$A$2","v":"EXTRA3"},null,{"$f":"EXTRA3!E91","v":0},{"$f":"EXTRA3!H91","v":0}]
[null,null,null,null,null,null,null,null,null,null,null,null,null,null,null,null,null,null,null,null,null,null,90,{"$f":"EXTRA3!B92","v":0},{"$f":"EXTRA3!C92","v":0},{"$f":"EXTRA3!D92","v":0},{"$f":"EXTRA3!F92","v":"00:00:00"},{"$f":"EXTRA3!$A$2","v":"EXTRA3"},null,{"$f":"EXTRA3!E92","v":0},{"$f":"EXTRA3!H92","v":0}]
[null,null,null,null,null,null,null,null,null,null,null,null,null,null,null,null,null,null,null,null,null,null,91,{"$f":"EXTRA3!B93","v":0},{"$f":"EXTRA3!C93","v":0},{"$f":"EXTRA3!D93","v":0},{"$f":"EXTRA3!F93","v":"00:00:00"},{"$f":"EXTRA3!$A$2","v":"EXTRA3"},null,{"$f":"EXTRA3!E93","v":0},{"$f":"EXTRA3!H93","v":0}]
[null,null,null,null,null,null,null,null,null,null,null,null,null,null,null,null,null,null,null,null,null,null,92,{"$f":"EXTRA3!B94","v":0},{"$f":"EXTRA3!C94","v":0},{"$f":"EXTRA3!D94","v":0},{"$f":"EXTRA3!F94","v":"00:00:00"},{"$f":"EXTRA3!$A$2","v":"EXTRA3"},null,{"$f":"EXTRA3!E94","v":0},{"$f":"EXTRA3!H94","v":0}]
[null,null,null,null,null,null,null,null,null,null,null,null,null,null,null,null,null,null,null,null,null,null,93,{"$f":"EXTRA3!B95","v":0},{"$f":"EXTRA3!C95","v":0},{"$f":"EXTRA3!D95","v":0},{"$f":"EXTRA3!F95","v":"00:00:00"},{"$f":"EXTRA3!$A$2","v":"EXTRA3"},null,{"$f":"EXTRA3!E95","v":0},{"$f":"EXTRA3!H95","v":0}]
[null,null,null,null,null,null,null,null,null,null,null,null,null,null,null,null,null,null,null,null,null,null,94,{"$f":"EXTRA3!B96","v":0},{"$f":"EXTRA3!C96","v":0},{"$f":"EXTRA3!D96","v":0},{"$f":"EXTRA3!F96","v":"00:00:00"},{"$f":"EXTRA3!$A$2","v":"EXTRA3"},null,{"$f":"EXTRA3!E96","v":0},{"$f":"EXTRA3!H96","v":0}]
[null,null,null,null,null,null,null,null,null,null,null,null,null,null,null,null,null,null,null,null,null,null,95,{"$f":"EXTRA3!B97","v":0},{"$f":"EXTRA3!C97","v":0},{"$f":"EXTRA3!D97","v":0},{"$f":"EXTRA3!F97","v":"00:00:00"},{"$f":"EXTRA3!$A$2","v":"EXTRA3"},null,{"$f":"EXTRA3!E97","v":0},{"$f":"EXTRA3!H97","v":0}]
[null,null,null,null,null,null,null,null,null,null,null,null,null,null,null,null,null,null,null,null,null,null,96,{"$f":"EXTRA3!B98","v":0},{"$f":"EXTRA3!C98","v":0},{"$f":"EXTRA3!D98","v":0},{"$f":"EXTRA3!F98","v":"00:00:00"},{"$f":"EXTRA3!$A$2","v":"EXTRA3"},null,{"$f":"EXTRA3!E98","v":0},{"$f":"EXTRA3!H98","v":0}]
[null,null,null,null,null,null,null,null,null,null,null,null,null,null,null,null,null,null,null,null,null,null,97,{"$f":"EXTRA3!B99","v":0},{"$f":"EXTRA3!C99","v":0},{"$f":"EXTRA3!D99","v":0},{"$f":"EXTRA3!F99","v":"00:00:00"},{"$f":"EXTRA3!$A$2","v":"EXTRA3"},null,{"$f":"EXTRA3!E99","v":0},{"$f":"EXTRA3!H99","v":0}]
[null,null,null,null,null,null,null,null,null,null,null,null,null,null,null,null,null,null,null,null,null,null,98,{"$f":"EXTRA3!B100","v":0},{"$f":"EXTRA3!C100","v":0},{"$f":"EXTRA3!D100","v":0},{"$f":"EXTRA3!F100","v":"00:00:00"},{"$f":"EXTRA3!$A$2","v":"EXTRA3"},null,{"$f":"EXTRA3!E100","v":0},{"$f":"EXTRA3!H100","v":0}]
[null,null,null,null,null,null,null,null,null,null,null,null,null,null,null,null,null,null,null,null,null,null,99,{"$f":"EXTRA3!B101","v":0},{"$f":"EXTRA3!C101","v":0},{"$f":"EXTRA3!D101","v":0},{"$f":"EXTRA3!F101","v":"00:00:00"},{"$f":"EXTRA3!$A$2","v":"EXTRA3"},null,{"$f":"EXTRA3!E101","v":0},{"$f":"EXTRA3!H101","v":0}]
[null,null,null,null,null,null,null,null,null,null,null,null,null,null,null,null,null,null,null,null,null,null,100,{"$f":"EXTRA3!B102","v":0},{"$f":"EXTRA3!C102","v":0},{"$f":"EXTRA3!D102","v":0},{"$f":"EXTRA3!F102","v":"00:00:00"},{"$f":"EXTRA3!$A$2","v":"EXTRA3"},null,{"$f":"EXTRA3!E102","v":0},{"$f":"EXTRA3!H102","v":0}]
[null,null,null,null,null,null,null,null,null,null,null,null,null,null,null,null,null,null,null,null,null,null,101,{"$f":"EXTRA3!B103","v":0},{"$f":"EXTRA3!C103","v":0},{"$f":"EXTRA3!D103","v":0},{"$f":"EXTRA3!F103","v":"00:00:00"},{"$f":"EXTRA3!$A$2","v":"EXTRA3"},null,{"$f":"EXTRA3!E103","v":0},{"$f":"EXTRA3!H103","v":0}]
[null,null,null,null,null,null,null,null,null,null,null,null,null,null,null,null,null,null,null,null,null,null,102,{"$f":"EXTRA3!B104","v":0},{"$f":"EXTRA3!C104","v":0},{"$f":"EXTRA3!D104","v":0},{"$f":"EXTRA3!F104","v":"00:00:00"},{"$f":"EXTRA3!$A$2","v":"EXTRA3"},null,{"$f":"EXTRA3!E104","v":0},{"$f":"EXTRA3!H104","v":0}]
[null,null,null,null,null,null,null,null,null,null,null,null,null,null,null,null,null,null,null,null,null,null,103,{"$f":"EXTRA3!B105","v":0},{"$f":"EXTRA3!C105","v":0},{"$f":"EXTRA3!D105","v":0},{"$f":"EXTRA3!F105","v":"00:00:00"},{"$f":"EXTRA3!$A$2","v":"EXTRA3"},null,{"$f":"EXTRA3!E105","v":0},{"$f":"EXTRA3!H105","v":0}]
[null,null,null,null,null,null,null,null,null,null,null,null,null,null,null,null,null,null,null,null,null,null,104,{"$f":"EXTRA3!B106","v":0},{"$f":"EXTRA3!C106","v":0},{"$f":"EXTRA3!D106","v":0},{"$f":"EXTRA3!F106","v":"00:00:00"},{"$f":"EXTRA3!$A$2","v":"EXTRA3"},null,{"$f":"EXTRA3!E106","v":0},{"$f":"EXTRA3!H106","v":0}]
[null,null,null,null,null,null,null,null,null,null,null,null,null,null,null,null,null,null,null,null,null,null,105,{"$f":"EXTRA3!B107","v":0},{"$f":"EXTRA3!C107","v":0},{"$f":"EXTRA3!D107","v":0},{"$f":"EXTRA3!F107","v":"00:00:00"},{"$f":"EXTRA3!$A$2","v":"EXTRA3"},null,{"$f":"EXTRA3!E107","v":0},{"$f":"EXTRA3!H107","v":0}]
[null,null,null,null,null,null,null,null,null,null,null,null,null,null,null,null,null,null,null,null,null,null,106,{"$f":"EXTRA3!B108","v":0},{"$f":"EXTRA3!C108","v":0},{"$f":"EXTRA3!D108","v":0},{"$f":"EXTRA3!F108","v":"00:00:00"},{"$f":"EXTRA3!$A$2","v":"EXTRA3"},null,{"$f":"EXTRA3!E108","v":0},{"$f":"EXTRA3!H108","v":0}]
[null,null,null,null,null,null,null,null,null,null,null,null,null,null,null,null,null,null,null,null,null,null,107,{"$f":"EXTRA3!B109","v":0},{"$f":"EXTRA3!C109","v":0},{"$f":"EXTRA3!D109","v":0},{"$f":"EXTRA3!F109","v":"00:00:00"},{"$f":"EXTRA3!$A$2","v":"EXTRA3"},null,{"$f":"EXTRA3!E109","v":0},{"$f":"EXTRA3!H109","v":0}]
[null,null,null,null,null,null,null,null,null,null,null,null,null,null,null,null,null,null,null,null,null,null,108,{"$f":"EXTRA3!B110","v":0},{"$f":"EXTRA3!C110","v":0},{"$f":"EXTRA3!D110","v":0},{"$f":"EXTRA3!F110","v":"00:00:00"},{"$f":"EXTRA3!$A$2","v":"EXTRA3"},null,{"$f":"EXTRA3!E110","v":0},{"$f":"EXTRA3!H110","v":0}]
[null,null,null,null,null,null,null,null,null,null,null,null,null,null,null,null,null,null,null,null,null,null,109,{"$f":"EXTRA3!B111","v":0},{"$f":"EXTRA3!C111","v":0},{"$f":"EXTRA3!D111","v":0},{"$f":"EXTRA3!F111","v":"00:00:00"},{"$f":"EXTRA3!$A$2","v":"EXTRA3"},null,{"$f":"EXTRA3!E111","v":0},{"$f":"EXTRA3!H111","v":0}]
[null,null,null,null,null,null,null,null,null,null,null,null,null,null,null,null,null,null,null,null,null,null,110,{"$f":"EXTRA3!B112","v":0},{"$f":"EXTRA3!C112","v":0},{"$f":"EXTRA3!D112","v":0},{"$f":"EXTRA3!F112","v":"00:00:00"},{"$f":"EXTRA3!$A$2","v":"EXTRA3"},null,{"$f":"EXTRA3!E112","v":0},{"$f":"EXTRA3!H112","v":0}]
[null,null,null,null,null,null,null,null,null,null,null,null,null,null,null,null,null,null,null,null,null,null,111,{"$f":"EXTRA3!B113","v":0},{"$f":"EXTRA3!C113","v":0},{"$f":"EXTRA3!D113","v":0},{"$f":"EXTRA3!F113","v":"00:00:00"},{"$f":"EXTRA3!$A$2","v":"EXTRA3"},null,{"$f":"EXTRA3!E113","v":0},{"$f":"EXTRA3!H113","v":0}]
[null,null,null,null,null,null,null,null,null,null,null,null,null,null,null,null,null,null,null,null,null,null,112,{"$f":"EXTRA3!B114","v":0},{"$f":"EXTRA3!C114","v":0},{"$f":"EXTRA3!D114","v":0},{"$f":"EXTRA3!F114","v":"00:00:00"},{"$f":"EXTRA3!$A$2","v":"EXTRA3"},null,{"$f":"EXTRA3!E114","v":0},{"$f":"EXTRA3!H114","v":0}]
[null,null,null,null,null,null,null,null,null,null,null,null,null,null,null,null,null,null,null,null,null,null,113,{"$f":"EXTRA3!B115","v":0},{"$f":"EXTRA3!C115","v":0},{"$f":"EXTRA3!D115","v":0},{"$f":"EXTRA3!F115","v":"00:00:00"},{"$f":"EXTRA3!$A$2","v":"EXTRA3"},null,{"$f":"EXTRA3!E115","v":0},{"$f":"EXTRA3!H115","v":0}]
[null,null,null,null,null,null,null,null,null,null,null,null,null,null,null,null,null,null,null,null,null,null,114,{"$f":"EXTRA3!B116","v":0},{"$f":"EXTRA3!C116","v":0},{"$f":"EXTRA3!D116","v":0},{"$f":"EXTRA3!F116","v":"00:00:00"},{"$f":"EXTRA3!$A$2","v":"EXTRA3"},null,{"$f":"EXTRA3!E116","v":0},{"$f":"EXTRA3!H116","v":0}]
[null,null,null,null,null,null,null,null,null,null,null,null,null,null,null,null,null,null,null,null,null,null,115,{"$f":"EXTRA3!B117","v":0},{"$f":"EXTRA3!C117","v":0},{"$f":"EXTRA3!D117","v":0},{"$f":"EXTRA3!F117","v":"00:00:00"},{"$f":"EXTRA3!$A$2","v":"EXTRA3"},null,{"$f":"EXTRA3!E117","v":0},{"$f":"EXTRA3!H117","v":0}]
[null,null,null,null,null,null,null,null,null,null,null,null,null,null,null,null,null,null,null,null,null,null,116,{"$f":"EXTRA3!B118","v":0},{"$f":"EXTRA3!C118","v":0},{"$f":"EXTRA3!D118","v":0},{"$f":"EXTRA3!F118","v":"00:00:00"},{"$f":"EXTRA3!$A$2","v":"EXTRA3"},null,{"$f":"EXTRA3!E118","v":0},{"$f":"EXTRA3!H118","v":0}]
[null,null,null,null,null,null,null,null,null,null,null,null,null,null,null,null,null,null,null,null,null,null,117,{"$f":"EXTRA3!B119","v":0},{"$f":"EXTRA3!C119","v":0},{"$f":"EXTRA3!D119","v":0},{"$f":"EXTRA3!F119","v":"00:00:00"},{"$f":"EXTRA3!$A$2","v":"EXTRA3"},null,{"$f":"EXTRA3!E119","v":0},{"$f":"EXTRA3!H119","v":0}]
[null,null,null,null,null,null,null,null,null,null,null,null,null,null,null,null,null,null,null,null,null,null,118,{"$f":"EXTRA3!B120","v":0},{"$f":"EXTRA3!C120","v":0},{"$f":"EXTRA3!D120","v":0},{"$f":"EXTRA3!F120","v":"00:00:00"},{"$f":"EXTRA3!$A$2","v":"EXTRA3"},null,{"$f":"EXTRA3!E120","v":0},{"$f":"EXTRA3!H120","v":0}]
[null,null,null,null,null,null,null,null,null,null,null,null,null,null,null,null,null,null,null,null,null,null,119,{"$f":"EXTRA3!B121","v":0},{"$f":"EXTRA3!C121","v":0},{"$f":"EXTRA3!D121","v":0},{"$f":"EXTRA3!F121","v":"00:00:00"},{"$f":"EXTRA3!$A$2","v":"EXTRA3"},null,{"$f":"EXTRA3!E121","v":0},{"$f":"EXTRA3!H121","v":0}]
[null,null,null,null,null,null,null,null,null,null,null,null,null,null,null,null,null,null,null,null,null,null,120,{"$f":"EXTRA3!B122","v":0},{"$f":"EXTRA3!C122","v":0},{"$f":"EXTRA3!D122","v":0},{"$f":"EXTRA3!F122","v":"00:00:00"},{"$f":"EXTRA3!$A$2","v":"EXTRA3"},null,{"$f":"EXTRA3!E122","v":0},{"$f":"EXTRA3!H122","v":0}]
[null,null,null,null,null,null,null,null,null,null,null,null,null,null,null,null,null,null,null,null,null,null,121,{"$f":"EXTRA3!B123","v":0},{"$f":"EXTRA3!C123","v":0},{"$f":"EXTRA3!D123","v":0},{"$f":"EXTRA3!F123","v":"00:00:00"},{"$f":"EXTRA3!$A$2","v":"EXTRA3"},null,{"$f":"EXTRA3!E123","v":0},{"$f":"EXTRA3!H123","v":0}]
[null,null,null,null,null,null,null,null,null,null,null,null,null,null,null,null,null,null,null,null,null,null,122,{"$f":"EXTRA3!B124","v":0},{"$f":"EXTRA3!C124","v":0},{"$f":"EXTRA3!D124","v":0},{"$f":"EXTRA3!F124","v":"00:00:00"},{"$f":"EXTRA3!$A$2","v":"EXTRA3"},null,{"$f":"EXTRA3!E124","v":0},{"$f":"EXTRA3!H124","v":0}]
[null,null,null,null,null,null,null,null,null,null,null,null,null,null,null,null,null,null,null,null,null,null,123,{"$f":"EXTRA3!B125","v":0},{"$f":"EXTRA3!C125","v":0},{"$f":"EXTRA3!D125","v":0},{"$f":"EXTRA3!F125","v":"00:00:00"},{"$f":"EXTRA3!$A$2","v":"EXTRA3"},null,{"$f":"EXTRA3!E125","v":0},{"$f":"EXTRA3!H125","v":0}]
[null,null,null,null,null,null,null,null,null,null,null,null,null,null,null,null,null,null,null,null,null,null,124,{"$f":"EXTRA3!B126","v":0},{"$f":"EXTRA3!C126","v":0},{"$f":"EXTRA3!D126","v":0},{"$f":"EXTRA3!F126","v":"00:00:00"},{"$f":"EXTRA3!$A$2","v":"EXTRA3"},null,{"$f":"EXTRA3!E126","v":0},{"$f":"EXTRA3!H126","v":0}]
[null,null,null,null,null,null,null,null,null,null,null,null,null,null,null,null,null,null,null,null,null,null,125,{"$f":"EXTRA3!B127","v":0},{"$f":"EXTRA3!C127","v":0},{"$f":"EXTRA3!D127","v":0},{"$f":"EXTRA3!F127","v":"00:00:00"},{"$f":"EXTRA3!$A$2","v":"EXTRA3"},null,{"$f":"EXTRA3!E127","v":0},{"$f":"EXTRA3!H127","v":0}]
[null,null,null,null,null,null,null,null,null,null,null,null,null,null,null,null,null,null,null,null,null,null,126,{"$f":"EXTRA3!B128","v":0},{"$f":"EXTRA3!C128","v":0},{"$f":"EXTRA3!D128","v":0},{"$f":"EXTRA3!F128","v":"00:00:00"},{"$f":"EXTRA3!$A$2","v":"EXTRA3"},null,{"$f":"EXTRA3!E128","v":0},{"$f":"EXTRA3!H128","v":0}]
[null,null,null,null,null,null,null,null,null,null,null,null,null,null,null,null,null,null,null,null,null,null,127,{"$f":"EXTRA3!B129","v":0},{"$f":"EXTRA3!C129","v":0},{"$f":"EXTRA3!D129","v":0},{"$f":"EXTRA3!F129","v":"00:00:00"},{"$f":"EXTRA3!$A$2","v":"EXTRA3"},null,{"$f":"EXTRA3!E129","v":0},{"$f":"EXTRA3!H129","v":0}]
[null,null,null,null,null,null,null,null,null,null,null,null,null,null,null,null,null,null,null,null,null,null,128,{"$f":"EXTRA3!B130","v":0},{"$f":"EXTRA3!C130","v":0},{"$f":"EXTRA3!D130","v":0},{"$f":"EXTRA3!F130","v":"00:00:00"},{"$f":"EXTRA3!$A$2","v":"EXTRA3"},null,{"$f":"EXTRA3!E130","v":0},{"$f":"EXTRA3!H130","v":0}]
[null,null,null,null,null,null,null,null,null,null,null,null,null,null,null,null,null,null,null,null,null,null,129,{"$f":"EXTRA3!B131","v":0},{"$f":"EXTRA3!C131","v":0},{"$f":"EXTRA3!D131","v":0},{"$f":"EXTRA3!F131","v":"00:00:00"},{"$f":"EXTRA3!$A$2","v":"EXTRA3"},null,{"$f":"EXTRA3!E131","v":0},{"$f":"EXTRA3!H131","v":0}]
[null,null,null,null,null,null,null,null,null,null,null,null,null,null,null,null,null,null,null,null,null,null,130,{"$f":"EXTRA3!B132","v":0},{"$f":"EXTRA3!C132","v":0},{"$f":"EXTRA3!D132","v":0},{"$f":"EXTRA3!F132","v":"00:00:00"},{"$f":"EXTRA3!$A$2","v":"EXTRA3"},null,{"$f":"EXTRA3!E132","v":0},{"$f":"EXTRA3!H132","v":0}]
[null,null,null,null,null,null,null,null,null,null,null,null,null,null,null,null,null,null,null,null,null,null,131,{"$f":"EXTRA3!B133","v":0},{"$f":"EXTRA3!C133","v":0},{"$f":"EXTRA3!D133","v":0},{"$f":"EXTRA3!F133","v":"00:00:00"},{"$f":"EXTRA3!$A$2","v":"EXTRA3"},null,{"$f":"EXTRA3!E133","v":0},{"$f":"EXTRA3!H133","v":0}]
[null,null,null,null,null,null,null,null,null,null,null,null,null,null,null,null,null,null,null,null,null,null,132,{"$f":"EXTRA3!B134","v":0},{"$f":"EXTRA3!C134","v":0},{"$f":"EXTRA3!D134","v":0},{"$f":"EXTRA3!F134","v":"00:00:00"},{"$f":"EXTRA3!$A$2","v":"EXTRA3"},null,{"$f":"EXTRA3!E134","v":0},{"$f":"EXTRA3!H134","v":0}]
[null,null,null,null,null,null,null,null,null,null,null,null,null,null,null,null,null,null,null,null,null,null,133,{"$f":"EXTRA3!B135","v":0},{"$f":"EXTRA3!C135","v":0},{"$f":"EXTRA3!D135","v":0},{"$f":"EXTRA3!F135","v":"00:00:00"},{"$f":"EXTRA3!$A$2","v":"EXTRA3"},null,{"$f":"EXTRA3!E135","v":0},{"$f":"EXTRA3!H135","v":0}]
[null,null,null,null,null,null,null,null,null,null,null,null,null,null,null,null,null,null,null,null,null,null,134,{"$f":"EXTRA3!B136","v":0},{"$f":"EXTRA3!C136","v":0},{"$f":"EXTRA3!D136","v":0},{"$f":"EXTRA3!F136","v":"00:00:00"},{"$f":"EXTRA3!$A$2","v":"EXTRA3"},null,{"$f":"EXTRA3!E136","v":0},{"$f":"EXTRA3!H136","v":0}]
[null,null,null,null,null,null,null,null,null,null,null,null,null,null,null,null,null,null,null,null,null,null,135,{"$f":"EXTRA3!B137","v":0},{"$f":"EXTRA3!C137","v":0},{"$f":"EXTRA3!D137","v":0},{"$f":"EXTRA3!F137","v":"00:00:00"},{"$f":"EXTRA3!$A$2","v":"EXTRA3"},null,{"$f":"EXTRA3!E137","v":0},{"$f":"EXTRA3!H137","v":0}]
[null,null,null,null,null,null,null,null,null,null,null,null,null,null,null,null,null,null,null,null,null,null,136,{"$f":"EXTRA3!B138","v":0},{"$f":"EXTRA3!C138","v":0},{"$f":"EXTRA3!D138","v":0},{"$f":"EXTRA3!F138","v":"00:00:00"},{"$f":"EXTRA3!$A$2","v":"EXTRA3"},null,{"$f":"EXTRA3!E138","v":0},{"$f":"EXTRA3!H138","v":0}]
[null,null,null,null,null,null,null,null,null,null,null,null,null,null,null,null,null,null,null,null,null,null,137,{"$f":"EXTRA3!B139","v":0},{"$f":"EXTRA3!C139","v":0},{"$f":"EXTRA3!D139","v":0},{"$f":"EXTRA3!F139","v":"00:00:00"},{"$f":"EXTRA3!$A$2","v":"EXTRA3"},null,{"$f":"EXTRA3!E139","v":0},{"$f":"EXTRA3!H139","v":0}]
[null,null,null,null,null,null,null,null,null,null,null,null,null,null,null,null,null,null,null,null,null,null,138,{"$f":"EXTRA3!B140","v":0},{"$f":"EXTRA3!C140","v":0},{"$f":"EXTRA3!D140","v":0},{"$f":"EXTRA3!F140","v":"00:00:00"},{"$f":"EXTRA3!$A$2","v":"EXTRA3"},null,{"$f":"EXTRA3!E140","v":0},{"$f":"EXTRA3!H140","v":0}]
[null,null,null,null,null,null,null,null,null,null,null,null,null,null,null,null,null,null,null,null,null,null,139,{"$f":"EXTRA3!B141","v":0},{"$f":"EXTRA3!C141","v":0},{"$f":"EXTRA3!D141","v":0},{"$f":"EXTRA3!F141","v":"00:00:00"},{"$f":"EXTRA3!$A$2","v":"EXTRA3"},null,{"$f":"EXTRA3!E141","v":0},{"$f":"EXTRA3!H141","v":0}]
[null,null,null,null,null,null,null,null,null,null,null,null,null,null,null,null,null,null,null,null,null,null,140,{"$f":"EXTRA3!B142","v":0},{"$f":"EXTRA3!C142","v":0},{"$f":"EXTRA3!D142","v":0},{"$f":"EXTRA3!F142","v":"00:00:00"},{"$f":"EXTRA3!$A$2","v":"EXTRA3"},null,{"$f":"EXTRA3!E142","v":0},{"$f":"EXTRA3!H142","v":0}]
[null,null,null,null,null,null,null,null,null,null,null,null,null,null,null,null,null,null,null,null,null,null,141,{"$f":"EXTRA3!B143","v":0},{"$f":"EXTRA3!C143","v":0},{"$f":"EXTRA3!D143","v":0},{"$f":"EXTRA3!F143","v":"00:00:00"},{"$f":"EXTRA3!$A$2","v":"EXTRA3"},null,{"$f":"EXTRA3!E143","v":0},{"$f":"EXTRA3!H143","v":0}]
[null,null,null,null,null,null,null,null,null,null,null,null,null,null,null,null,null,null,null,null,null,null,142,{"$f":"EXTRA3!B144","v":0},{"$f":"EXTRA3!C144","v":0},{"$f":"EXTRA3!D144","v":0},{"$f":"EXTRA3!F144","v":"00:00:00"},{"$f":"EXTRA3!$A$2","v":"EXTRA3"},null,{"$f":"EXTRA3!E144","v":0},{"$f":"EXTRA3!H144","v":0}]
[null,null,null,null,null,null,null,null,null,null,null,null,null,null,null,null,null,null,null,null,null,null,143,{"$f":"EXTRA3!B145","v":0},{"$f":"EXTRA3!C145","v":0},{"$f":"EXTRA3!D145","v":0},{"$f":"EXTRA3!F145","v":"00:00:00"},{"$f":"EXTRA3!$A$2","v":"EXTRA3"},null,{"$f":"EXTRA3!E145","v":0},{"$f":"EXTRA3!H145","v":0}]
[null,null,null,null,null,null,null,null,null,null,null,null,null,null,null,null,null,null,null,null,null,null,144,{"$f":"EXTRA3!B146","v":0},{"$f":"EXTRA3!C146","v":0},{"$f":"EXTRA3!D146","v":0},{"$f":"EXTRA3!F146","v":"00:00:00"},{"$f":"EXTRA3!$A$2","v":"EXTRA3"},null,{"$f":"EXTRA3!E146","v":0},{"$f":"EXTRA3!H146","v":0}]
[null,null,null,null,null,null,null,null,null,null,null,null,null,null,null,null,null,null,null,null,null,null,145,{"$f":"EXTRA3!B147","v":0},{"$f":"EXTRA3!C147","v":0},{"$f":"EXTRA3!D147","v":0},{"$f":"EXTRA3!F147","v":"00:00:00"},{"$f":"EXTRA3!$A$2","v":"EXTRA3"},null,{"$f":"EXTRA3!E147","v":0},{"$f":"EXTRA3!H147","v":0}]
[null,null,null,null,null,null,null,null,null,null,null,null,null,null,null,null,null,null,null,null,null,null,146,{"$f":"EXTRA3!B148","v":0},{"$f":"EXTRA3!C148","v":0},{"$f":"EXTRA3!D148","v":0},{"$f":"EXTRA3!F148","v":"00:00:00"},{"$f":"EXTRA3!$A$2","v":"EXTRA3"},null,{"$f":"EXTRA3!E148","v":0},{"$f":"EXTRA3!H148","v":0}]
[null,null,null,null,null,null,null,null,null,null,null,null,null,null,null,null,null,null,null,null,null,null,147,{"$f":"EXTRA3!B149","v":0},{"$f":"EXTRA3!C149","v":0},{"$f":"EXTRA3!D149","v":0},{"$f":"EXTRA3!F149","v":"00:00:00"},{"$f":"EXTRA3!$A$2","v":"EXTRA3"},null,{"$f":"EXTRA3!E149","v":0},{"$f":"EXTRA3!H149","v":0}]
[null,null,null,null,null,null,null,null,null,null,null,null,null,null,null,null,null,null,null,null,null,null,148,{"$f":"EXTRA3!B150","v":0},{"$f":"EXTRA3!C150","v":0},{"$f":"EXTRA3!D150","v":0},{"$f":"EXTRA3!F150","v":"00:00:00"},{"$f":"EXTRA3!$A$2","v":"EXTRA3"},null,{"$f":"EXTRA3!E150","v":0},{"$f":"EXTRA3!H150","v":0}]
[null,null,null,null,null,null,null,null,null,null,null,null,null,null,null,null,null,null,null,null,null,null,149,{"$f":"EXTRA3!B151","v":0},{"$f":"EXTRA3!C151","v":0},{"$f":"EXTRA3!D151","v":0},{"$f":"EXTRA3!F151","v":"00:00:00"},{"$f":"EXTRA3!$A$2","v":"EXTRA3"},null,{"$f":"EXTRA3!E151","v":0},{"$f":"EXTRA3!H151","v":0}]
[null,null,null,null,null,null,null,null,null,null,null,null,null,null,null,null,null,null,null,null,null,null,150,{"$f":"EXTRA3!B152","v":0},{"$f":"EXTRA3!C152","v":0},{"$f":"EXTRA3!D152","v":0},{"$f":"EXTRA3!F152","v":"00:00:00"},{"$f":"EXTRA3!$A$2","v":"EXTRA3"},null,{"$f":"EXTRA3!E152","v":0},{"$f":"EXTRA3!H152","v":0}]
[null,null,null,null,null,null,null,null,null,null,null,null,null,null,null,null,null,null,null,null,null,null,null,{"$f":"EXTRA3!B153","v":0},{"$f":"EXTRA3!C153","v":0},{"$f":"EXTRA3!D153","v":0},{"$f":"EXTRA3!F153","v":"00:00:00"},{"$f":"EXTRA3!$A$2","v":"EXTRA3"},null,{"$f":"EXTRA3!E153","v":0},{"$f":"EXTRA3!H153","v":0}]
[null,null,null,null,null,null,null,null,null,null,null,null,null,null,null,null,null,null,null,null,null,null,1]
[null,null,null,null,null,null,null,null,null,null,null,null,null,null,null,null,null,null,null,null,null,null,2,{"$f":"EXTRA4!B4","v":0},{"$f":"EXTRA4!C4","v":0},{"$f":"EXTRA4!D4","v":0},{"$f":"EXTRA4!F4","v":"00:00:00"},{"$f":"EXTRA4!$A$2","v":"EXTRA4"},null,{"$f":"EXTRA4!E4","v":0},{"$f":"EXTRA4!H4","v":0}]
[null,null,null,null,null,null,null,null,null,null,null,null,null,null,null,null,null,null,null,null,null,null,3,{"$f":"EXTRA4!B5","v":0},{"$f":"EXTRA4!C5","v":0},{"$f":"EXTRA4!D5","v":0},{"$f":"EXTRA4!F5","v":"00:00:00"},{"$f":"EXTRA4!$A$2","v":"EXTRA4"},null,{"$f":"EXTRA4!E5","v":0},{"$f":"EXTRA4!H5","v":0}]
[null,null,null,null,null,null,null,null,null,null,null,null,null,null,null,null,null,null,null,null,null,null,4,{"$f":"EXTRA4!B6","v":0},{"$f":"EXTRA4!C6","v":0},{"$f":"EXTRA4!D6","v":0},{"$f":"EXTRA4!F6","v":"00:00:00"},{"$f":"EXTRA4!$A$2","v":"EXTRA4"},null,{"$f":"EXTRA4!E6","v":0},{"$f":"EXTRA4!H6","v":0}]
[null,null,null,null,null,null,null,null,null,null,null,null,null,null,null,null,null,null,null,null,null,null,5,{"$f":"EXTRA4!B7","v":0},{"$f":"EXTRA4!C7","v":0},{"$f":"EXTRA4!D7","v":0},{"$f":"EXTRA4!F7","v":"00:00:00"},{"$f":"EXTRA4!$A$2","v":"EXTRA4"},null,{"$f":"EXTRA4!E7","v":0},{"$f":"EXTRA4!H7","v":0}]
[null,null,null,null,null,null,null,null,null,null,null,null,null,null,null,null,null,null,null,null,null,null,6,{"$f":"EXTRA4!B8","v":0},{"$f":"EXTRA4!C8","v":0},{"$f":"EXTRA4!D8","v":0},{"$f":"EXTRA4!F8","v":"00:00:00"},{"$f":"EXTRA4!$A$2","v":"EXTRA4"},null,{"$f":"EXTRA4!E8","v":0},{"$f":"EXTRA4!H8","v":0}]
[null,null,null,null,null,null,null,null,null,null,null,null,null,null,null,null,null,null,null,null,null,null,7,{"$f":"EXTRA4!B9","v":0},{"$f":"EXTRA4!C9","v":0},{"$f":"EXTRA4!D9","v":0},{"$f":"EXTRA4!F9","v":"00:00:00"},{"$f":"EXTRA4!$A$2","v":"EXTRA4"},null,{"$f":"EXTRA4!E9","v":0},{"$f":"EXTRA4!H9","v":0}]
[null,null,null,null,null,null,null,null,null,null,null,null,null,null,null,null,null,null,null,null,null,null,8,{"$f":"EXTRA4!B10","v":0},{"$f":"EXTRA4!C10","v":0},{"$f":"EXTRA4!D10","v":0},{"$f":"EXTRA4!F10","v":"00:00:00"},{"$f":"EXTRA4!$A$2","v":"EXTRA4"},null,{"$f":"EXTRA4!E10","v":0},{"$f":"EXTRA4!H10","v":0}]
[null,null,null,null,null,null,null,null,null,null,null,null,null,null,null,null,null,null,null,null,null,null,9,{"$f":"EXTRA4!B11","v":0},{"$f":"EXTRA4!C11","v":0},{"$f":"EXTRA4!D11","v":0},{"$f":"EXTRA4!F11","v":"00:00:00"},{"$f":"EXTRA4!$A$2","v":"EXTRA4"},null,{"$f":"EXTRA4!E11","v":0},{"$f":"EXTRA4!H11","v":0}]
[null,null,null,null,null,null,null,null,null,null,null,null,null,null,null,null,null,null,null,null,null,null,10,{"$f":"EXTRA4!B12","v":0},{"$f":"EXTRA4!C12","v":0},{"$f":"EXTRA4!D12","v":0},{"$f":"EXTRA4!F12","v":"00:00:00"},{"$f":"EXTRA4!$A$2","v":"EXTRA4"},null,{"$f":"EXTRA4!E12","v":0},{"$f":"EXTRA4!H12","v":0}]
[null,null,null,null,null,null,null,null,null,null,null,null,null,null,null,null,null,null,null,null,null,null,11,{"$f":"EXTRA4!B13","v":0},{"$f":"EXTRA4!C13","v":0},{"$f":"EXTRA4!D13","v":0},{"$f":"EXTRA4!F13","v":"00:00:00"},{"$f":"EXTRA4!$A$2","v":"EXTRA4"},null,{"$f":"EXTRA4!E13","v":0},{"$f":"EXTRA4!H13","v":0}]
[null,null,null,null,null,null,null,null,null,null,null,null,null,null,null,null,null,null,null,null,null,null,12,{"$f":"EXTRA4!B14","v":0},{"$f":"EXTRA4!C14","v":0},{"$f":"EXTRA4!D14","v":0},{"$f":"EXTRA4!F14","v":"00:00:00"},{"$f":"EXTRA4!$A$2","v":"EXTRA4"},null,{"$f":"EXTRA4!E14","v":0},{"$f":"EXTRA4!H14","v":0}]
[null,null,null,null,null,null,null,null,null,null,null,null,null,null,null,null,null,null,null,null,null,null,13,{"$f":"EXTRA4!B15","v":0},{"$f":"EXTRA4!C15","v":0},{"$f":"EXTRA4!D15","v":0},{"$f":"EXTRA4!F15","v":"00:00:00"},{"$f":"EXTRA4!$A$2","v":"EXTRA4"},null,{"$f":"EXTRA4!E15","v":0},{"$f":"EXTRA4!H15","v":0}]
[null,null,null,null,null,null,null,null,null,null,null,null,null,null,null,null,null,null,null,null,null,null,14,{"$f":"EXTRA4!B16","v":0},{"$f":"EXTRA4!C16","v":0},{"$f":"EXTRA4!D16","v":0},{"$f":"EXTRA4!F16","v":"00:00:00"},{"$f":"EXTRA4!$A$2","v":"EXTRA4"},null,{"$f":"EXTRA4!E16","v":0},{"$f":"EXTRA4!H16","v":0}]
[null,null,null,null,null,null,null,null,null,null,null,null,null,null,null,null,null,null,null,null,null,null,15,{"$f":"EXTRA4!B17","v":0},{"$f":"EXTRA4!C17","v":0},{"$f":"EXTRA4!D17","v":0},{"$f":"EXTRA4!F17","v":"00:00:00"},{"$f":"EXTRA4!$A$2","v":"EXTRA4"},null,{"$f":"EXTRA4!E17","v":0},{"$f":"EXTRA4!H17","v":0}]
[null,null,null,null,null,null,null,null,null,null,null,null,null,null,null,null,null,null,null,null,null,null,16,{"$f":"EXTRA4!B18","v":0},{"$f":"EXTRA4!C18","v":0},{"$f":"EXTRA4!D18","v":0},{"$f":"EXTRA4!F18","v":"00:00:00"},{"$f":"EXTRA4!$A$2","v":"EXTRA4"},null,{"$f":"EXTRA4!E18","v":0},{"$f":"EXTRA4!H18","v":0}]
[null,null,null,null,null,null,null,null,null,null,null,null,null,null,null,null,null,null,null,null,null,null,17,{"$f":"EXTRA4!B19","v":0},{"$f":"EXTRA4!C19","v":0},{"$f":"EXTRA4!D19","v":0},{"$f":"EXTRA4!F19","v":"00:00:00"},{"$f":"EXTRA4!$A$2","v":"EXTRA4"},null,{"$f":"EXTRA4!E19","v":0},{"$f":"EXTRA4!H19","v":0}]
[null,null,null,null,null,null,null,null,null,null,null,null,null,null,null,null,null,null,null,null,null,null,18,{"$f":"EXTRA4!B20","v":0},{"$f":"EXTRA4!C20","v":0},{"$f":"EXTRA4!D20","v":0},{"$f":"EXTRA4!F20","v":"00:00:00"},{"$f":"EXTRA4!$A$2","v":"EXTRA4"},null,{"$f":"EXTRA4!E20","v":0},{"$f":"EXTRA4!H20","v":0}]
[null,null,null,null,null,null,null,null,null,null,null,null,null,null,null,null,null,null,null,null,null,null,19,{"$f":"EXTRA4!B21","v":0},{"$f":"EXTRA4!C21","v":0},{"$f":"EXTRA4!D21","v":0},{"$f":"EXTRA4!F21","v":"00:00:00"},{"$f":"EXTRA4!$A$2","v":"EXTRA4"},null,{"$f":"EXTRA4!E21","v":0},{"$f":"EXTRA4!H21","v":0}]
[null,null,null,null,null,null,null,null,null,null,null,null,null,null,null,null,null,null,null,null,null,null,20,{"$f":"EXTRA4!B22","v":0},{"$f":"EXTRA4!C22","v":0},{"$f":"EXTRA4!D22","v":0},{"$f":"EXTRA4!F22","v":"00:00:00"},{"$f":"EXTRA4!$A$2","v":"EXTRA4"},null,{"$f":"EXTRA4!E22","v":0},{"$f":"EXTRA4!H22","v":0}]
[null,null,null,null,null,null,null,null,null,null,null,null,null,null,null,null,null,null,null,null,null,null,21,{"$f":"EXTRA4!B23","v":0},{"$f":"EXTRA4!C23","v":0},{"$f":"EXTRA4!D23","v":0},{"$f":"EXTRA4!F23","v":"00:00:00"},{"$f":"EXTRA4!$A$2","v":"EXTRA4"},null,{"$f":"EXTRA4!E23","v":0},{"$f":"EXTRA4!H23","v":0}]
[null,null,null,null,null,null,null,null,null,null,null,null,null,null,null,null,null,null,null,null,null,null,22,{"$f":"EXTRA4!B24","v":0},{"$f":"EXTRA4!C24","v":0},{"$f":"EXTRA4!D24","v":0},{"$f":"EXTRA4!F24","v":"00:00:00"},{"$f":"EXTRA4!$A$2","v":"EXTRA4"},null,{"$f":"EXTRA4!E24","v":0},{"$f":"EXTRA4!H24","v":0}]
[null,null,null,null,null,null,null,null,null,null,null,null,null,null,null,null,null,null,null,null,null,null,23,{"$f":"EXTRA4!B25","v":0},{"$f":"EXTRA4!C25","v":0},{"$f":"EXTRA4!D25","v":0},{"$f":"EXTRA4!F25","v":"00:00:00"},{"$f":"EXTRA4!$A$2","v":"EXTRA4"},null,{"$f":"EXTRA4!E25","v":0},{"$f":"EXTRA4!H25","v":0}]
[null,null,null,null,null,null,null,null,null,null,null,null,null,null,null,null,null,null,null,null,null,null,24,{"$f":"EXTRA4!B26","v":0},{"$f":"EXTRA4!C26","v":0},{"$f":"EXTRA4!D26","v":0},{"$f":"EXTRA4!F26","v":"00:00:00"},{"$f":"EXTRA4!$A$2","v":"EXTRA4"},null,{"$f":"EXTRA4!E26","v":0},{"$f":"EXTRA4!H26","v":0}]
[null,null,null,null,null,null,null,null,null,null,null,null,null,null,null,null,null,null,null,null,null,null,25,{"$f":"EXTRA4!B27","v":0},{"$f":"EXTRA4!C27","v":0},{"$f":"EXTRA4!D27","v":0},{"$f":"EXTRA4!F27","v":"00:00:00"},{"$f":"EXTRA4!$A$2","v":"EXTRA4"},null,{"$f":"EXTRA4!E27","v":0},{"$f":"EXTRA4!H27","v":0}]
[null,null,null,null,null,null,null,null,null,null,null,null,null,null,null,null,null,null,null,null,null,null,26,{"$f":"EXTRA4!B28","v":0},{"$f":"EXTRA4!C28","v":0},{"$f":"EXTRA4!D28","v":0},{"$f":"EXTRA4!F28","v":"00:00:00"},{"$f":"EXTRA4!$A$2","v":"EXTRA4"},null,{"$f":"EXTRA4!E28","v":0},{"$f":"EXTRA4!H28","v":0}]
[null,null,null,null,null,null,null,null,null,null,null,null,null,null,null,null,null,null,null,null,null,null,27,{"$f":"EXTRA4!B29","v":0},{"$f":"EXTRA4!C29","v":0},{"$f":"EXTRA4!D29","v":0},{"$f":"EXTRA4!F29","v":"00:00:00"},{"$f":"EXTRA4!$A$2","v":"EXTRA4"},null,{"$f":"EXTRA4!E29","v":0},{"$f":"EXTRA4!H29","v":0}]
[null,null,null,null,null,null,null,null,null,null,null,null,null,null,null,null,null,null,null,null,null,null,28,{"$f":"EXTRA4!B30","v":0},{"$f":"EXTRA4!C30","v":0},{"$f":"EXTRA4!D30","v":0},{"$f":"EXTRA4!F30","v":"00:00:00"},{"$f":"EXTRA4!$A$2","v":"EXTRA4"},null,{"$f":"EXTRA4!E30","v":0},{"$f":"EXTRA4!H30","v":0}]
[null,null,null,null,null,null,null,null,null,null,null,null,null,null,null,null,null,null,null,null,null,null,29,{"$f":"EXTRA4!B31","v":0},{"$f":"EXTRA4!C31","v":0},{"$f":"EXTRA4!D31","v":0},{"$f":"EXTRA4!F31","v":"00:00:00"},{"$f":"EXTRA4!$A$2","v":"EXTRA4"},null,{"$f":"EXTRA4!E31","v":0},{"$f":"EXTRA4!H31","v":0}]
[null,null,null,null,null,null,null,null,null,null,null,null,null,null,null,null,null,null,null,null,null,null,30,{"$f":"EXTRA4!B32","v":0},{"$f":"EXTRA4!C32","v":0},{"$f":"EXTRA4!D32","v":0},{"$f":"EXTRA4!F32","v":"00:00:00"},{"$f":"EXTRA4!$A$2","v":"EXTRA4"},null,{"$f":"EXTRA4!E32","v":0},{"$f":"EXTRA4!H32","v":0}]
[null,null,null,null,null,null,null,null,null,null,null,null,null,null,null,null,null,null,null,null,null,null,31,{"$f":"EXTRA4!B33","v":0},{"$f":"EXTRA4!C33","v":0},{"$f":"EXTRA4!D33","v":0},{"$f":"EXTRA4!F33","v":"00:00:00"},{"$f":"EXTRA4!$A$2","v":"EXTRA4"},null,{"$f":"EXTRA4!E33","v":0},{"$f":"EXTRA4!H33","v":0}]
[null,null,null,null,null,null,null,null,null,null,null,null,null,null,null,null,null,null,null,null,null,null,32,{"$f":"EXTRA4!B34","v":0},{"$f":"EXTRA4!C34","v":0},{"$f":"EXTRA4!D34","v":0},{"$f":"EXTRA4!F34","v":"00:00:00"},{"$f":"EXTRA4!$A$2","v":"EXTRA4"},null,{"$f":"EXTRA4!E34","v":0},{"$f":"EXTRA4!H34","v":0}]
[null,null,null,null,null,null,null,null,null,null,null,null,null,null,null,null,null,null,null,null,null,null,33,{"$f":"EXTRA4!B35","v":0},{"$f":"EXTRA4!C35","v":0},{"$f":"EXTRA4!D35","v":0},{"$f":"EXTRA4!F35","v":"00:00:00"},{"$f":"EXTRA4!$A$2","v":"EXTRA4"},null,{"$f":"EXTRA4!E35","v":0},{"$f":"EXTRA4!H35","v":0}]
[null,null,null,null,null,null,null,null,null,null,null,null,null,null,null,null,null,null,null,null,null,null,34,{"$f":"EXTRA4!B36","v":0},{"$f":"EXTRA4!C36","v":0},{"$f":"EXTRA4!D36","v":0},{"$f":"EXTRA4!F36","v":"00:00:00"},{"$f":"EXTRA4!$A$2","v":"EXTRA4"},null,{"$f":"EXTRA4!E36","v":0},{"$f":"EXTRA4!H36","v":0}]
[null,null,null,null,null,null,null,null,null,null,null,null,null,null,null,null,null,null,null,null,null,null,35,{"$f":"EXTRA4!B37","v":0},{"$f":"EXTRA4!C37","v":0},{"$f":"EXTRA4!D37","v":0},{"$f":"EXTRA4!F37","v":"00:00:00"},{"$f":"EXTRA4!$A$2","v":"EXTRA4"},null,{"$f":"EXTRA4!E37","v":0},{"$f":"EXTRA4!H37","v":0}]
[null,null,null,null,null,null,null,null,null,null,null,null,null,null,null,null,null,null,null,null,null,null,36,{"$f":"EXTRA4!B38","v":0},{"$f":"EXTRA4!C38","v":0},{"$f":"EXTRA4!D38","v":0},{"$f":"EXTRA4!F38","v":"00:00:00"},{"$f":"EXTRA4!$A$2","v":"EXTRA4"},null,{"$f":"EXTRA4!E38","v":0},{"$f":"EXTRA4!H38","v":0}]
[null,null,null,null,null,null,null,null,null,null,null,null,null,null,null,null,null,null,null,null,null,null,37,{"$f":"EXTRA4!B39","v":0},{"$f":"EXTRA4!C39","v":0},{"$f":"EXTRA4!D39","v":0},{"$f":"EXTRA4!F39","v":"00:00:00"},{"$f":"EXTRA4!$A$2","v":"EXTRA4"},null,{"$f":"EXTRA4!E39","v":0},{"$f":"EXTRA4!H39","v":0}]
[null,null,null,null,null,null,null,null,null,null,null,null,null,null,null,null,null,null,null,null,null,null,38,{"$f":"EXTRA4!B40","v":0},{"$f":"EXTRA4!C40","v":0},{"$f":"EXTRA4!D40","v":0},{"$f":"EXTRA4!F40","v":"00:00:00"},{"$f":"EXTRA4!$A$2","v":"EXTRA4"},null,{"$f":"EXTRA4!E40","v":0},{"$f":"EXTRA4!H40","v":0}]
[null,null,null,null,null,null,null,null,null,null,null,null,null,null,null,null,null,null,null,null,null,null,39,{"$f":"EXTRA4!B41","v":0},{"$f":"EXTRA4!C41","v":0},{"$f":"EXTRA4!D41","v":0},{"$f":"EXTRA4!F41","v":"00:00:00"},{"$f":"EXTRA4!$A$2","v":"EXTRA4"},null,{"$f":"EXTRA4!E41","v":0},{"$f":"EXTRA4!H41","v":0}]
[null,null,null,null,null,null,null,null,null,null,null,null,null,null,null,null,null,null,null,null,null,null,40,{"$f":"EXTRA4!B42","v":0},{"$f":"EXTRA4!C42","v":0},{"$f":"EXTRA4!D42","v":0},{"$f":"EXTRA4!F42","v":"00:00:00"},{"$f":"EXTRA4!$A$2","v":"EXTRA4"},null,{"$f":"EXTRA4!E42","v":0},{"$f":"EXTRA4!H42","v":0}]
[null,null,null,null,null,null,null,null,null,null,null,null,null,null,null,null,null,null,null,null,null,null,41,{"$f":"EXTRA4!B43","v":0},{"$f":"EXTRA4!C43","v":0},{"$f":"EXTRA4!D43","v":0},{"$f":"EXTRA4!F43","v":"00:00:00"},{"$f":"EXTRA4!$A$2","v":"EXTRA4"},null,{"$f":"EXTRA4!E43","v":0},{"$f":"EXTRA4!H43","v":0}]
[null,null,null,null,null,null,null,null,null,null,null,null,null,null,null,null,null,null,null,null,null,null,42,{"$f":"EXTRA4!B44","v":0},{"$f":"EXTRA4!C44","v":0},{"$f":"EXTRA4!D44","v":0},{"$f":"EXTRA4!F44","v":"00:00:00"},{"$f":"EXTRA4!$A$2","v":"EXTRA4"},null,{"$f":"EXTRA4!E44","v":0},{"$f":"EXTRA4!H44","v":0}]
[null,null,null,null,null,null,null,null,null,null,null,null,null,null,null,null,null,null,null,null,null,null,43,{"$f":"EXTRA4!B45","v":0},{"$f":"EXTRA4!C45","v":0},{"$f":"EXTRA4!D45","v":0},{"$f":"EXTRA4!F45","v":"00:00:00"},{"$f":"EXTRA4!$A$2","v":"EXTRA4"},null,{"$f":"EXTRA4!E45","v":0},{"$f":"EXTRA4!H45","v":0}]
[null,null,null,null,null,null,null,null,null,null,null,null,null,null,null,null,null,null,null,null,null,null,44,{"$f":"EXTRA4!B46","v":0},{"$f":"EXTRA4!C46","v":0},{"$f":"EXTRA4!D46","v":0},{"$f":"EXTRA4!F46","v":"00:00:00"},{"$f":"EXTRA4!$A$2","v":"EXTRA4"},null,{"$f":"EXTRA4!E46","v":0},{"$f":"EXTRA4!H46","v":0}]
[null,null,null,null,null,null,null,null,null,null,null,null,null,null,null,null,null,null,null,null,null,null,45,{"$f":"EXTRA4!B47","v":0},{"$f":"EXTRA4!C47","v":0},{"$f":"EXTRA4!D47","v":0},{"$f":"EXTRA4!F47","v":"00:00:00"},{"$f":"EXTRA4!$A$2","v":"EXTRA4"},null,{"$f":"EXTRA4!E47","v":0},{"$f":"EXTRA4!H47","v":0}]
[null,null,null,null,null,null,null,null,null,null,null,null,null,null,null,null,null,null,null,null,null,null,46,{"$f":"EXTRA4!B48","v":0},{"$f":"EXTRA4!C48","v":0},{"$f":"EXTRA4!D48","v":0},{"$f":"EXTRA4!F48","v":"00:00:00"},{"$f":"EXTRA4!$A$2","v":"EXTRA4"},null,{"$f":"EXTRA4!E48","v":0},{"$f":"EXTRA4!H48","v":0}]
[null,null,null,null,null,null,null,null,null,null,null,null,null,null,null,null,null,null,null,null,null,null,47,{"$f":"EXTRA4!B49","v":0},{"$f":"EXTRA4!C49","v":0},{"$f":"EXTRA4!D49","v":0},{"$f":"EXTRA4!F49","v":"00:00:00"},{"$f":"EXTRA4!$A$2","v":"EXTRA4"},null,{"$f":"EXTRA4!E49","v":0},{"$f":"EXTRA4!H49","v":0}]
[null,null,null,null,null,null,null,null,null,null,null,null,null,null,null,null,null,null,null,null,null,null,48,{"$f":"EXTRA4!B50","v":0},{"$f":"EXTRA4!C50","v":0},{"$f":"EXTRA4!D50","v":0},{"$f":"EXTRA4!F50","v":"00:00:00"},{"$f":"EXTRA4!$A$2","v":"EXTRA4"},null,{"$f":"EXTRA4!E50","v":0},{"$f":"EXTRA4!H50","v":0}]
[null,null,null,null,null,null,null,null,null,null,null,null,null,null,null,null,null,null,null,null,null,null,49,{"$f":"EXTRA4!B51","v":0},{"$f":"EXTRA4!C51","v":0},{"$f":"EXTRA4!D51","v":0},{"$f":"EXTRA4!F51","v":"00:00:00"},{"$f":"EXTRA4!$A$2","v":"EXTRA4"},null,{"$f":"EXTRA4!E51","v":0},{"$f":"EXTRA4!H51","v":0}]
[null,null,null,null,null,null,null,null,null,null,null,null,null,null,null,null,null,null,null,null,null,null,50,{"$f":"EXTRA4!B52","v":0},{"$f":"EXTRA4!C52","v":0},{"$f":"EXTRA4!D52","v":0},{"$f":"EXTRA4!F52","v":"00:00:00"},{"$f":"EXTRA4!$A$2","v":"EXTRA4"},null,{"$f":"EXTRA4!E52","v":0},{"$f":"EXTRA4!H52","v":0}]
[null,null,null,null,null,null,null,null,null,null,null,null,null,null,null,null,null,null,null,null,null,null,51,{"$f":"EXTRA4!B53","v":0},{"$f":"EXTRA4!C53","v":0},{"$f":"EXTRA4!D53","v":0},{"$f":"EXTRA4!F53","v":"00:00:00"},{"$f":"EXTRA4!$A$2","v":"EXTRA4"},null,{"$f":"EXTRA4!E53","v":0},{"$f":"EXTRA4!H53","v":0}]
[null,null,null,null,null,null,null,null,null,null,null,null,null,null,null,null,null,null,null,null,null,null,52,{"$f":"EXTRA4!B54","v":0},{"$f":"EXTRA4!C54","v":0},{"$f":"EXTRA4!D54","v":0},{"$f":"EXTRA4!F54","v":"00:00:00"},{"$f":"EXTRA4!$A$2","v":"EXTRA4"},null,{"$f":"EXTRA4!E54","v":0},{"$f":"EXTRA4!H54","v":0}]
[null,null,null,null,null,null,null,null,null,null,null,null,null,null,null,null,null,null,null,null,null,null,53,{"$f":"EXTRA4!B55","v":0},{"$f":"EXTRA4!C55","v":0},{"$f":"EXTRA4!D55","v":0},{"$f":"EXTRA4!F55","v":"00:00:00"},{"$f":"EXTRA4!$A$2","v":"EXTRA4"},null,{"$f":"EXTRA4!E55","v":0},{"$f":"EXTRA4!H55","v":0}]
[null,null,null,null,null,null,null,null,null,null,null,null,null,null,null,null,null,null,null,null,null,null,54,{"$f":"EXTRA4!B56","v":0},{"$f":"EXTRA4!C56","v":0},{"$f":"EXTRA4!D56","v":0},{"$f":"EXTRA4!F56","v":"00:00:00"},{"$f":"EXTRA4!$A$2","v":"EXTRA4"},null,{"$f":"EXTRA4!E56","v":0},{"$f":"EXTRA4!H56","v":0}]
[null,null,null,null,null,null,null,null,null,null,null,null,null,null,null,null,null,null,null,null,null,null,55,{"$f":"EXTRA4!B57","v":0},{"$f":"EXTRA4!C57","v":0},{"$f":"EXTRA4!D57","v":0},{"$f":"EXTRA4!F57","v":"00:00:00"},{"$f":"EXTRA4!$A$2","v":"EXTRA4"},null,{"$f":"EXTRA4!E57","v":0},{"$f":"EXTRA4!H57","v":0}]
[null,null,null,null,null,null,null,null,null,null,null,null,null,null,null,null,null,null,null,null,null,null,56,{"$f":"EXTRA4!B58","v":0},{"$f":"EXTRA4!C58","v":0},{"$f":"EXTRA4!D58","v":0},{"$f":"EXTRA4!F58","v":"00:00:00"},{"$f":"EXTRA4!$A$2","v":"EXTRA4"},null,{"$f":"EXTRA4!E58","v":0},{"$f":"EXTRA4!H58","v":0}]
[null,null,null,null,null,null,null,null,null,null,null,null,null,null,null,null,null,null,null,null,null,null,57,{"$f":"EXTRA4!B59","v":0},{"$f":"EXTRA4!C59","v":0},{"$f":"EXTRA4!D59","v":0},{"$f":"EXTRA4!F59","v":"00:00:00"},{"$f":"EXTRA4!$A$2","v":"EXTRA4"},null,{"$f":"EXTRA4!E59","v":0},{"$f":"EXTRA4!H59","v":0}]
[null,null,null,null,null,null,null,null,null,null,null,null,null,null,null,null,null,null,null,null,null,null,58,{"$f":"EXTRA4!B60","v":0},{"$f":"EXTRA4!C60","v":0},{"$f":"EXTRA4!D60","v":0},{"$f":"EXTRA4!F60","v":"00:00:00"},{"$f":"EXTRA4!$A$2","v":"EXTRA4"},null,{"$f":"EXTRA4!E60","v":0},{"$f":"EXTRA4!H60","v":0}]
[null,null,null,null,null,null,null,null,null,null,null,null,null,null,null,null,null,null,null,null,null,null,59,{"$f":"EXTRA4!B61","v":0},{"$f":"EXTRA4!C61","v":0},{"$f":"EXTRA4!D61","v":0},{"$f":"EXTRA4!F61","v":"00:00:00"},{"$f":"EXTRA4!$A$2","v":"EXTRA4"},null,{"$f":"EXTRA4!E61","v":0},{"$f":"EXTRA4!H61","v":0}]
[null,null,null,null,null,null,null,null,null,null,null,null,null,null,null,null,null,null,null,null,null,null,60,{"$f":"EXTRA4!B62","v":0},{"$f":"EXTRA4!C62","v":0},{"$f":"EXTRA4!D62","v":0},{"$f":"EXTRA4!F62","v":"00:00:00"},{"$f":"EXTRA4!$A$2","v":"EXTRA4"},null,{"$f":"EXTRA4!E62","v":0},{"$f":"EXTRA4!H62","v":0}]
[null,null,null,null,null,null,null,null,null,null,null,null,null,null,null,null,null,null,null,null,null,null,61,{"$f":"EXTRA4!B63","v":0},{"$f":"EXTRA4!C63","v":0},{"$f":"EXTRA4!D63","v":0},{"$f":"EXTRA4!F63","v":"00:00:00"},{"$f":"EXTRA4!$A$2","v":"EXTRA4"},null,{"$f":"EXTRA4!E63","v":0},{"$f":"EXTRA4!H63","v":0}]
[null,null,null,null,null,null,null,null,null,null,null,null,null,null,null,null,null,null,null,null,null,null,62,{"$f":"EXTRA4!B64","v":0},{"$f":"EXTRA4!C64","v":0},{"$f":"EXTRA4!D64","v":0},{"$f":"EXTRA4!F64","v":"00:00:00"},{"$f":"EXTRA4!$A$2","v":"EXTRA4"},null,{"$f":"EXTRA4!E64","v":0},{"$f":"EXTRA4!H64","v":0}]
[null,null,null,null,null,null,null,null,null,null,null,null,null,null,null,null,null,null,null,null,null,null,63,{"$f":"EXTRA4!B65","v":0},{"$f":"EXTRA4!C65","v":0},{"$f":"EXTRA4!D65","v":0},{"$f":"EXTRA4!F65","v":"00:00:00"},{"$f":"EXTRA4!$A$2","v":"EXTRA4"},null,{"$f":"EXTRA4!E65","v":0},{"$f":"EXTRA4!H65","v":0}]
[null,null,null,null,null,null,null,null,null,null,null,null,null,null,null,null,null,null,null,null,null,null,64,{"$f":"EXTRA4!B66","v":0},{"$f":"EXTRA4!C66","v":0},{"$f":"EXTRA4!D66","v":0},{"$f":"EXTRA4!F66","v":"00:00:00"},{"$f":"EXTRA4!$A$2","v":"EXTRA4"},null,{"$f":"EXTRA4!E66","v":0},{"$f":"EXTRA4!H66","v":0}]
[null,null,null,null,null,null,null,null,null,null,null,null,null,null,null,null,null,null,null,null,null,null,65,{"$f":"EXTRA4!B67","v":0},{"$f":"EXTRA4!C67","v":0},{"$f":"EXTRA4!D67","v":0},{"$f":"EXTRA4!F67","v":"00:00:00"},{"$f":"EXTRA4!$A$2","v":"EXTRA4"},null,{"$f":"EXTRA4!E67","v":0},{"$f":"EXTRA4!H67","v":0}]
[null,null,null,null,null,null,null,null,null,null,null,null,null,null,null,null,null,null,null,null,null,null,66,{"$f":"EXTRA4!B68","v":0},{"$f":"EXTRA4!C68","v":0},{"$f":"EXTRA4!D68","v":0},{"$f":"EXTRA4!F68","v":"00:00:00"},{"$f":"EXTRA4!$A$2","v":"EXTRA4"},null,{"$f":"EXTRA4!E68","v":0},{"$f":"EXTRA4!H68","v":0}]
[null,null,null,null,null,null,null,null,null,null,null,null,null,null,null,null,null,null,null,null,null,null,67,{"$f":"EXTRA4!B69","v":0},{"$f":"EXTRA4!C69","v":0},{"$f":"EXTRA4!D69","v":0},{"$f":"EXTRA4!F69","v":"00:00:00"},{"$f":"EXTRA4!$A$2","v":"EXTRA4"},null,{"$f":"EXTRA4!E69","v":0},{"$f":"EXTRA4!H69","v":0}]
[null,null,null,null,null,null,null,null,null,null,null,null,null,null,null,null,null,null,null,null,null,null,68,{"$f":"EXTRA4!B70","v":0},{"$f":"EXTRA4!C70","v":0},{"$f":"EXTRA4!D70","v":0},{"$f":"EXTRA4!F70","v":"00:00:00"},{"$f":"EXTRA4!$A$2","v":"EXTRA4"},null,{"$f":"EXTRA4!E70","v":0},{"$f":"EXTRA4!H70","v":0}]
[null,null,null,null,null,null,null,null,null,null,null,null,null,null,null,null,null,null,null,null,null,null,69,{"$f":"EXTRA4!B71","v":0},{"$f":"EXTRA4!C71","v":0},{"$f":"EXTRA4!D71","v":0},{"$f":"EXTRA4!F71","v":"00:00:00"},{"$f":"EXTRA4!$A$2","v":"EXTRA4"},null,{"$f":"EXTRA4!E71","v":0},{"$f":"EXTRA4!H71","v":0}]
[null,null,null,null,null,null,null,null,null,null,null,null,null,null,null,null,null,null,null,null,null,null,70,{"$f":"EXTRA4!B72","v":0},{"$f":"EXTRA4!C72","v":0},{"$f":"EXTRA4!D72","v":0},{"$f":"EXTRA4!F72","v":"00:00:00"},{"$f":"EXTRA4!$A$2","v":"EXTRA4"},null,{"$f":"EXTRA4!E72","v":0},{"$f":"EXTRA4!H72","v":0}]
[null,null,null,null,null,null,null,null,null,null,null,null,null,null,null,null,null,null,null,null,null,null,71,{"$f":"EXTRA4!B73","v":0},{"$f":"EXTRA4!C73","v":0},{"$f":"EXTRA4!D73","v":0},{"$f":"EXTRA4!F73","v":"00:00:00"},{"$f":"EXTRA4!$A$2","v":"EXTRA4"},null,{"$f":"EXTRA4!E73","v":0},{"$f":"EXTRA4!H73","v":0}]
[null,null,null,null,null,null,null,null,null,null,null,null,null,null,null,null,null,null,null,null,null,null,72,{"$f":"EXTRA4!B74","v":0},{"$f":"EXTRA4!C74","v":0},{"$f":"EXTRA4!D74","v":0},{"$f":"EXTRA4!F74","v":"00:00:00"},{"$f":"EXTRA4!$A$2","v":"EXTRA4"},null,{"$f":"EXTRA4!E74","v":0},{"$f":"EXTRA4!H74","v":0}]
[null,null,null,null,null,null,null,null,null,null,null,null,null,null,null,null,null,null,null,null,null,null,73,{"$f":"EXTRA4!B75","v":0},{"$f":"EXTRA4!C75","v":0},{"$f":"EXTRA4!D75","v":0},{"$f":"EXTRA4!F75","v":"00:00:00"},{"$f":"EXTRA4!$A$2","v":"EXTRA4"},null,{"$f":"EXTRA4!E75","v":0},{"$f":"EXTRA4!H75","v":0}]
[null,null,null,null,null,null,null,null,null,null,null,null,null,null,null,null,null,null,null,null,null,null,74,{"$f":"EXTRA4!B76","v":0},{"$f":"EXTRA4!C76","v":0},{"$f":"EXTRA4!D76","v":0},{"$f":"EXTRA4!F76","v":"00:00:00"},{"$f":"EXTRA4!$A$2","v":"EXTRA4"},null,{"$f":"EXTRA4!E76","v":0},{"$f":"EXTRA4!H76","v":0}]
[null,null,null,null,null,null,null,null,null,null,null,null,null,null,null,null,null,null,null,null,null,null,75,{"$f":"EXTRA4!B77","v":0},{"$f":"EXTRA4!C77","v":0},{"$f":"EXTRA4!D77","v":0},{"$f":"EXTRA4!F77","v":"00:00:00"},{"$f":"EXTRA4!$A$2","v":"EXTRA4"},null,{"$f":"EXTRA4!E77","v":0},{"$f":"EXTRA4!H77","v":0}]
[null,null,null,null,null,null,null,null,null,null,null,null,null,null,null,null,null,null,null,null,null,null,76,{"$f":"EXTRA4!B78","v":0},{"$f":"EXTRA4!C78","v":0},{"$f":"EXTRA4!D78","v":0},{"$f":"EXTRA4!F78","v":"00:00:00"},{"$f":"EXTRA4!$A$2","v":"EXTRA4"},null,{"$f":"EXTRA4!E78","v":0},{"$f":"EXTRA4!H78","v":0}]
[null,null,null,null,null,null,null,null,null,null,null,null,null,null,null,null,null,null,null,null,null,null,77,{"$f":"EXTRA4!B79","v":0},{"$f":"EXTRA4!C79","v":0},{"$f":"EXTRA4!D79","v":0},{"$f":"EXTRA4!F79","v":"00:00:00"},{"$f":"EXTRA4!$A$2","v":"EXTRA4"},null,{"$f":"EXTRA4!E79","v":0},{"$f":"EXTRA4!H79","v":0}]
[null,null,null,null,null,null,null,null,null,null,null,null,null,null,null,null,null,null,null,null,null,null,78,{"$f":"EXTRA4!B80","v":0},{"$f":"EXTRA4!C80","v":0},{"$f":"EXTRA4!D80","v":0},{"$f":"EXTRA4!F80","v":"00:00:00"},{"$f":"EXTRA4!$A$2","v":"EXTRA4"},null,{"$f":"EXTRA4!E80","v":0},{"$f":"EXTRA4!H80","v":0}]
[null,null,null,null,null,null,null,null,null,null,null,null,null,null,null,null,null,null,null,null,null,null,79,{"$f":"EXTRA4!B81","v":0},{"$f":"EXTRA4!C81","v":0},{"$f":"EXTRA4!D81","v":0},{"$f":"EXTRA4!F81","v":"00:00:00"},{"$f":"EXTRA4!$A$2","v":"EXTRA4"},null,{"$f":"EXTRA4!E81","v":0},{"$f":"EXTRA4!H81","v":0}]
[null,null,null,null,null,null,null,null,null,null,null,null,null,null,null,null,null,null,null,null,null,null,80,{"$f":"EXTRA4!B82","v":0},{"$f":"EXTRA4!C82","v":0},{"$f":"EXTRA4!D82","v":0},{"$f":"EXTRA4!F82","v":"00:00:00"},{"$f":"EXTRA4!$A$2","v":"EXTRA4"},null,{"$f":"EXTRA4!E82","v":0},{"$f":"EXTRA4!H82","v":0}]
[null,null,null,null,null,null,null,null,null,null,null,null,null,null,null,null,null,null,null,null,null,null,81,{"$f":"EXTRA4!B83","v":0},{"$f":"EXTRA4!C83","v":0},{"$f":"EXTRA4!D83","v":0},{"$f":"EXTRA4!F83","v":"00:00:00"},{"$f":"EXTRA4!$A$2","v":"EXTRA4"},null,{"$f":"EXTRA4!E83","v":0},{"$f":"EXTRA4!H83","v":0}]
[null,null,null,null,null,null,null,null,null,null,null,null,null,null,null,null,null,null,null,null,null,null,82,{"$f":"EXTRA4!B84","v":0},{"$f":"EXTRA4!C84","v":0},{"$f":"EXTRA4!D84","v":0},{"$f":"EXTRA4!F84","v":"00:00:00"},{"$f":"EXTRA4!$A$2","v":"EXTRA4"},null,{"$f":"EXTRA4!E84","v":0},{"$f":"EXTRA4!H84","v":0}]
[null,null,null,null,null,null,null,null,null,null,null,null,null,null,null,null,null,null,null,null,null,null,83,{"$f":"EXTRA4!B85","v":0},{"$f":"EXTRA4!C85","v":0},{"$f":"EXTRA4!D85","v":0},{"$f":"EXTRA4!F85","v":"00:00:00"},{"$f":"EXTRA4!$A$2","v":"EXTRA4"},null,{"$f":"EXTRA4!E85","v":0},{"$f":"EXTRA4!H85","v":0}]
[null,null,null,null,null,null,null,null,null,null,null,null,null,null,null,null,null,null,null,null,null,null,84,{"$f":"EXTRA4!B86","v":0},{"$f":"EXTRA4!C86","v":0},{"$f":"EXTRA4!D86","v":0},{"$f":"EXTRA4!F86","v":"00:00:00"},{"$f":"EXTRA4!$A$2","v":"EXTRA4"},null,{"$f":"EXTRA4!E86","v":0},{"$f":"EXTRA4!H86","v":0}]
[null,null,null,null,null,null,null,null,null,null,null,null,null,null,null,null,null,null,null,null,null,null,85,{"$f":"EXTRA4!B87","v":0},{"$f":"EXTRA4!C87","v":0},{"$f":"EXTRA4!D87","v":0},{"$f":"EXTRA4!F87","v":"00:00:00"},{"$f":"EXTRA4!$A$2","v":"EXTRA4"},null,{"$f":"EXTRA4!E87","v":0},{"$f":"EXTRA4!H87","v":0}]
[null,null,null,null,null,null,null,null,null,null,null,null,null,null,null,null,null,null,null,null,null,null,86,{"$f":"EXTRA4!B88","v":0},{"$f":"EXTRA4!C88","v":0},{"$f":"EXTRA4!D88","v":0},{"$f":"EXTRA4!F88","v":"00:00:00"},{"$f":"EXTRA4!$A$2","v":"EXTRA4"},null,{"$f":"EXTRA4!E88","v":0},{"$f":"EXTRA4!H88","v":0}]
[null,null,null,null,null,null,null,null,null,null,null,null,null,null,null,null,null,null,null,null,null,null,87,{"$f":"EXTRA4!B89","v":0},{"$f":"EXTRA4!C89","v":0},{"$f":"EXTRA4!D89","v":0},{"$f":"EXTRA4!F89","v":"00:00:00"},{"$f":"EXTRA4!$A$2","v":"EXTRA4"},null,{"$f":"EXTRA4!E89","v":0},{"$f":"EXTRA4!H89","v":0}]
[null,null,null,null,null,null,null,null,null,null,null,null,null,null,null,null,null,null,null,null,null,null,88,{"$f":"EXTRA4!B90","v":0},{"$f":"EXTRA4!C90","v":0},{"$f":"EXTRA4!D90","v":0},{"$f":"EXTRA4!F90","v":"00:00:00"},{"$f":"EXTRA4!$A$2","v":"EXTRA4"},null,{"$f":"EXTRA4!E90","v":0},{"$f":"EXTRA4!H90","v":0}]
[null,null,null,null,null,null,null,null,null,null,null,null,null,null,null,null,null,null,null,null,null,null,89,{"$f":"EXTRA4!B91","v":0},{"$f":"EXTRA4!C91","v":0},{"$f":"EXTRA4!D91","v":0},{"$f":"EXTRA4!F91","v":"00:00:00"},{"$f":"EXTRA4!$A$2","v":"EXTRA4"},null,{"$f":"EXTRA4!E91","v":0},{"$f":"EXTRA4!H91","v":0}]
[null,null,null,null,null,null,null,null,null,null,null,null,null,null,null,null,null,null,null,null,null,null,90,{"$f":"EXTRA4!B92","v":0},{"$f":"EXTRA4!C92","v":0},{"$f":"EXTRA4!D92","v":0},{"$f":"EXTRA4!F92","v":"00:00:00"},{"$f":"EXTRA4!$A$2","v":"EXTRA4"},null,{"$f":"EXTRA4!E92","v":0},{"$f":"EXTRA4!H92","v":0}]
[null,null,null,null,null,null,null,null,null,null,null,null,null,null,null,null,null,null,null,null,null,null,91,{"$f":"EXTRA4!B93","v":0},{"$f":"EXTRA4!C93","v":0},{"$f":"EXTRA4!D93","v":0},{"$f":"EXTRA4!F93","v":"00:00:00"},{"$f":"EXTRA4!$A$2","v":"EXTRA4"},null,{"$f":"EXTRA4!E93","v":0},{"$f":"EXTRA4!H93","v":0}]
[null,null,null,null,null,null,null,null,null,null,null,null,null,null,null,null,null,null,null,null,null,null,92,{"$f":"EXTRA4!B94","v":0},{"$f":"EXTRA4!C94","v":0},{"$f":"EXTRA4!D94","v":0},{"$f":"EXTRA4!F94","v":"00:00:00"},{"$f":"EXTRA4!$A$2","v":"EXTRA4"},null,{"$f":"EXTRA4!E94","v":0},{"$f":"EXTRA4!H94","v":0}]
[null,null,null,null,null,null,null,null,null,null,null,null,null,null,null,null,null,null,null,null,null,null,93,{"$f":"EXTRA4!B95","v":0},{"$f":"EXTRA4!C95","v":0},{"$f":"EXTRA4!D95","v":0},{"$f":"EXTRA4!F95","v":"00:00:00"},{"$f":"EXTRA4!$A$2","v":"EXTRA4"},null,{"$f":"EXTRA4!E95","v":0},{"$f":"EXTRA4!H95","v":0}]
[null,null,null,null,null,null,null,null,null,null,null,null,null,null,null,null,null,null,null,null,null,null,94,{"$f":"EXTRA4!B96","v":0},{"$f":"EXTRA4!C96","v":0},{"$f":"EXTRA4!D96","v":0},{"$f":"EXTRA4!F96","v":"00:00:00"},{"$f":"EXTRA4!$A$2","v":"EXTRA4"},null,{"$f":"EXTRA4!E96","v":0},{"$f":"EXTRA4!H96","v":0}]
[null,null,null,null,null,null,null,null,null,null,null,null,null,null,null,null,null,null,null,null,null,null,95,{"$f":"EXTRA4!B97","v":0},{"$f":"EXTRA4!C97","v":0},{"$f":"EXTRA4!D97","v":0},{"$f":"EXTRA4!F97","v":"00:00:00"},{"$f":"EXTRA4!$A$2","v":"EXTRA4"},null,{"$f":"EXTRA4!E97","v":0},{"$f":"EXTRA4!H97","v":0}]
[null,null,null,null,null,null,null,null,null,null,null,null,null,null,null,null,null,null,null,null,null,null,96,{"$f":"EXTRA4!B98","v":0},{"$f":"EXTRA4!C98","v":0},{"$f":"EXTRA4!D98","v":0},{"$f":"EXTRA4!F98","v":"00:00:00"},{"$f":"EXTRA4!$A$2","v":"EXTRA4"},null,{"$f":"EXTRA4!E98","v":0},{"$f":"EXTRA4!H98","v":0}]
[null,null,null,null,null,null,null,null,null,null,null,null,null,null,null,null,null,null,null,null,null,null,97,{"$f":"EXTRA4!B99","v":0},{"$f":"EXTRA4!C99","v":0},{"$f":"EXTRA4!D99","v":0},{"$f":"EXTRA4!F99","v":"00:00:00"},{"$f":"EXTRA4!$A$2","v":"EXTRA4"},null,{"$f":"EXTRA4!E99","v":0},{"$f":"EXTRA4!H99","v":0}]
[null,null,null,null,null,null,null,null,null,null,null,null,null,null,null,null,null,null,null,null,null,null,98,{"$f":"EXTRA4!B100","v":0},{"$f":"EXTRA4!C100","v":0},{"$f":"EXTRA4!D100","v":0},{"$f":"EXTRA4!F100","v":"00:00:00"},{"$f":"EXTRA4!$A$2","v":"EXTRA4"},null,{"$f":"EXTRA4!E100","v":0},{"$f":"EXTRA4!H100","v":0}]
[null,null,null,null,null,null,null,null,null,null,null,null,null,null,null,null,null,null,null,null,null,null,99,{"$f":"EXTRA4!B101","v":0},{"$f":"EXTRA4!C101","v":0},{"$f":"EXTRA4!D101","v":0},{"$f":"EXTRA4!F101","v":"00:00:00"},{"$f":"EXTRA4!$A$2","v":"EXTRA4"},null,{"$f":"EXTRA4!E101","v":0},{"$f":"EXTRA4!H101","v":0}]
[null,null,null,null,null,null,null,null,null,null,null,null,null,null,null,null,null,null,null,null,null,null,100,{"$f":"EXTRA4!B102","v":0},{"$f":"EXTRA4!C102","v":0},{"$f":"EXTRA4!D102","v":0},{"$f":"EXTRA4!F102","v":"00:00:00"},{"$f":"EXTRA4!$A$2","v":"EXTRA4"},null,{"$f":"EXTRA4!E102","v":0},{"$f":"EXTRA4!H102","v":0}]
[null,null,null,null,null,null,null,null,null,null,null,null,null,null,null,null,null,null,null,null,null,null,101,{"$f":"EXTRA4!B103","v":0},{"$f":"EXTRA4!C103","v":0},{"$f":"EXTRA4!D103","v":0},{"$f":"EXTRA4!F103","v":"00:00:00"},{"$f":"EXTRA4!$A$2","v":"EXTRA4"},null,{"$f":"EXTRA4!E103","v":0},{"$f":"EXTRA4!H103","v":0}]
[null,null,null,null,null,null,null,null,null,null,null,null,null,null,null,null,null,null,null,null,null,null,102,{"$f":"EXTRA4!B104","v":0},{"$f":"EXTRA4!C104","v":0},{"$f":"EXTRA4!D104","v":0},{"$f":"EXTRA4!F104","v":"00:00:00"},{"$f":"EXTRA4!$A$2","v":"EXTRA4"},null,{"$f":"EXTRA4!E104","v":0},{"$f":"EXTRA4!H104","v":0}]
[null,null,null,null,null,null,null,null,null,null,null,null,null,null,null,null,null,null,null,null,null,null,103,{"$f":"EXTRA4!B105","v":0},{"$f":"EXTRA4!C105","v":0},{"$f":"EXTRA4!D105","v":0},{"$f":"EXTRA4!F105","v":"00:00:00"},{"$f":"EXTRA4!$A$2","v":"EXTRA4"},null,{"$f":"EXTRA4!E105","v":0},{"$f":"EXTRA4!H105","v":0}]
[null,null,null,null,null,null,null,null,null,null,null,null,null,null,null,null,null,null,null,null,null,null,104,{"$f":"EXTRA4!B106","v":0},{"$f":"EXTRA4!C106","v":0},{"$f":"EXTRA4!D106","v":0},{"$f":"EXTRA4!F106","v":"00:00:00"},{"$f":"EXTRA4!$A$2","v":"EXTRA4"},null,{"$f":"EXTRA4!E106","v":0},{"$f":"EXTRA4!H106","v":0}]
[null,null,null,null,null,null,null,null,null,null,null,null,null,null,null,null,null,null,null,null,null,null,105,{"$f":"EXTRA4!B107","v":0},{"$f":"EXTRA4!C107","v":0},{"$f":"EXTRA4!D107","v":0},{"$f":"EXTRA4!F107","v":"00:00:00"},{"$f":"EXTRA4!$A$2","v":"EXTRA4"},null,{"$f":"EXTRA4!E107","v":0},{"$f":"EXTRA4!H107","v":0}]
[null,null,null,null,null,null,null,null,null,null,null,null,null,null,null,null,null,null,null,null,null,null,106,{"$f":"EXTRA4!B108","v":0},{"$f":"EXTRA4!C108","v":0},{"$f":"EXTRA4!D108","v":0},{"$f":"EXTRA4!F108","v":"00:00:00"},{"$f":"EXTRA4!$A$2","v":"EXTRA4"},null,{"$f":"EXTRA4!E108","v":0},{"$f":"EXTRA4!H108","v":0}]
[null,null,null,null,null,null,null,null,null,null,null,null,null,null,null,null,null,null,null,null,null,null,107,{"$f":"EXTRA4!B109","v":0},{"$f":"EXTRA4!C109","v":0},{"$f":"EXTRA4!D109","v":0},{"$f":"EXTRA4!F109","v":"00:00:00"},{"$f":"EXTRA4!$A$2","v":"EXTRA4"},null,{"$f":"EXTRA4!E109","v":0},{"$f":"EXTRA4!H109","v":0}]
[null,null,null,null,null,null,null,null,null,null,null,null,null,null,null,null,null,null,null,null,null,null,108,{"$f":"EXTRA4!B110","v":0},{"$f":"EXTRA4!C110","v":0},{"$f":"EXTRA4!D110","v":0},{"$f":"EXTRA4!F110","v":"00:00:00"},{"$f":"EXTRA4!$A$2","v":"EXTRA4"},null,{"$f":"EXTRA4!E110","v":0},{"$f":"EXTRA4!H110","v":0}]
[null,null,null,null,null,null,null,null,null,null,null,null,null,null,null,null,null,null,null,null,null,null,109,{"$f":"EXTRA4!B111","v":0},{"$f":"EXTRA4!C111","v":0},{"$f":"EXTRA4!D111","v":0},{"$f":"EXTRA4!F111","v":"00:00:00"},{"$f":"EXTRA4!$A$2","v":"EXTRA4"},null,{"$f":"EXTRA4!E111","v":0},{"$f":"EXTRA4!H111","v":0}]
[null,null,null,null,null,null,null,null,null,null,null,null,null,null,null,null,null,null,null,null,null,null,110,{"$f":"EXTRA4!B112","v":0},{"$f":"EXTRA4!C112","v":0},{"$f":"EXTRA4!D112","v":0},{"$f":"EXTRA4!F112","v":"00:00:00"},{"$f":"EXTRA4!$A$2","v":"EXTRA4"},null,{"$f":"EXTRA4!E112","v":0},{"$f":"EXTRA4!H112","v":0}]
[null,null,null,null,null,null,null,null,null,null,null,null,null,null,null,null,null,null,null,null,null,null,111,{"$f":"EXTRA4!B113","v":0},{"$f":"EXTRA4!C113","v":0},{"$f":"EXTRA4!D113","v":0},{"$f":"EXTRA4!F113","v":"00:00:00"},{"$f":"EXTRA4!$A$2","v":"EXTRA4"},null,{"$f":"EXTRA4!E113","v":0},{"$f":"EXTRA4!H113","v":0}]
[null,null,null,null,null,null,null,null,null,null,null,null,null,null,null,null,null,null,null,null,null,null,112,{"$f":"EXTRA4!B114","v":0},{"$f":"EXTRA4!C114","v":0},{"$f":"EXTRA4!D114","v":0},{"$f":"EXTRA4!F114","v":"00:00:00"},{"$f":"EXTRA4!$A$2","v":"EXTRA4"},null,{"$f":"EXTRA4!E114","v":0},{"$f":"EXTRA4!H114","v":0}]
[null,null,null,null,null,null,null,null,null,null,null,null,null,null,null,null,null,null,null,null,null,null,113,{"$f":"EXTRA4!B115","v":0},{"$f":"EXTRA4!C115","v":0},{"$f":"EXTRA4!D115","v":0},{"$f":"EXTRA4!F115","v":"00:00:00"},{"$f":"EXTRA4!$A$2","v":"EXTRA4"},null,{"$f":"EXTRA4!E115","v":0},{"$f":"EXTRA4!H115","v":0}]
[null,null,null,null,null,null,null,null,null,null,null,null,null,null,null,null,null,null,null,null,null,null,114,{"$f":"EXTRA4!B116","v":0},{"$f":"EXTRA4!C116","v":0},{"$f":"EXTRA4!D116","v":0},{"$f":"EXTRA4!F116","v":"00:00:00"},{"$f":"EXTRA4!$A$2","v":"EXTRA4"},null,{"$f":"EXTRA4!E116","v":0},{"$f":"EXTRA4!H116","v":0}]
[null,null,null,null,null,null,null,null,null,null,null,null,null,null,null,null,null,null,null,null,null,null,115,{"$f":"EXTRA4!B117","v":0},{"$f":"EXTRA4!C117","v":0},{"$f":"EXTRA4!D117","v":0},{"$f":"EXTRA4!F117","v":"00:00:00"},{"$f":"EXTRA4!$A$2","v":"EXTRA4"},null,{"$f":"EXTRA4!E117","v":0},{"$f":"EXTRA4!H117","v":0}]
[null,null,null,null,null,null,null,null,null,null,null,null,null,null,null,null,null,null,null,null,null,null,116,{"$f":"EXTRA4!B118","v":0},{"$f":"EXTRA4!C118","v":0},{"$f":"EXTRA4!D118","v":0},{"$f":"EXTRA4!F118","v":"00:00:00"},{"$f":"EXTRA4!$A$2","v":"EXTRA4"},null,{"$f":"EXTRA4!E118","v":0},{"$f":"EXTRA4!H118","v":0}]
[null,null,null,null,null,null,null,null,null,null,null,null,null,null,null,null,null,null,null,null,null,null,117,{"$f":"EXTRA4!B119","v":0},{"$f":"EXTRA4!C119","v":0},{"$f":"EXTRA4!D119","v":0},{"$f":"EXTRA4!F119","v":"00:00:00"},{"$f":"EXTRA4!$A$2","v":"EXTRA4"},null,{"$f":"EXTRA4!E119","v":0},{"$f":"EXTRA4!H119","v":0}]
[null,null,null,null,null,null,null,null,null,null,null,null,null,null,null,null,null,null,null,null,null,null,118,{"$f":"EXTRA4!B120","v":0},{"$f":"EXTRA4!C120","v":0},{"$f":"EXTRA4!D120","v":0},{"$f":"EXTRA4!F120","v":"00:00:00"},{"$f":"EXTRA4!$A$2","v":"EXTRA4"},null,{"$f":"EXTRA4!E120","v":0},{"$f":"EXTRA4!H120","v":0}]
[null,null,null,null,null,null,null,null,null,null,null,null,null,null,null,null,null,null,null,null,null,null,119,{"$f":"EXTRA4!B121","v":0},{"$f":"EXTRA4!C121","v":0},{"$f":"EXTRA4!D121","v":0},{"$f":"EXTRA4!F121","v":"00:00:00"},{"$f":"EXTRA4!$A$2","v":"EXTRA4"},null,{"$f":"EXTRA4!E121","v":0},{"$f":"EXTRA4!H121","v":0}]
[null,null,null,null,null,null,null,null,null,null,null,null,null,null,null,null,null,null,null,null,null,null,120,{"$f":"EXTRA4!B122","v":0},{"$f":"EXTRA4!C122","v":0},{"$f":"EXTRA4!D122","v":0},{"$f":"EXTRA4!F122","v":"00:00:00"},{"$f":"EXTRA4!$A$2","v":"EXTRA4"},null,{"$f":"EXTRA4!E122","v":0},{"$f":"EXTRA4!H122","v":0}]
[null,null,null,null,null,null,null,null,null,null,null,null,null,null,null,null,null,null,null,null,null,null,121,{"$f":"EXTRA4!B123","v":0},{"$f":"EXTRA4!C123","v":0},{"$f":"EXTRA4!D123","v":0},{"$f":"EXTRA4!F123","v":"00:00:00"},{"$f":"EXTRA4!$A$2","v":"EXTRA4"},null,{"$f":"EXTRA4!E123","v":0},{"$f":"EXTRA4!H123","v":0}]
[null,null,null,null,null,null,null,null,null,null,null,null,null,null,null,null,null,null,null,null,null,null,122,{"$f":"EXTRA4!B124","v":0},{"$f":"EXTRA4!C124","v":0},{"$f":"EXTRA4!D124","v":0},{"$f":"EXTRA4!F124","v":"00:00:00"},{"$f":"EXTRA4!$A$2","v":"EXTRA4"},null,{"$f":"EXTRA4!E124","v":0},{"$f":"EXTRA4!H124","v":0}]
[null,null,null,null,null,null,null,null,null,null,null,null,null,null,null,null,null,null,null,null,null,null,123,{"$f":"EXTRA4!B125","v":0},{"$f":"EXTRA4!C125","v":0},{"$f":"EXTRA4!D125","v":0},{"$f":"EXTRA4!F125","v":"00:00:00"},{"$f":"EXTRA4!$A$2","v":"EXTRA4"},null,{"$f":"EXTRA4!E125","v":0},{"$f":"EXTRA4!H125","v":0}]
[null,null,null,null,null,null,null,null,null,null,null,null,null,null,null,null,null,null,null,null,null,null,124,{"$f":"EXTRA4!B126","v":0},{"$f":"EXTRA4!C126","v":0},{"$f":"EXTRA4!D126","v":0},{"$f":"EXTRA4!F126","v":"00:00:00"},{"$f":"EXTRA4!$A$2","v":"EXTRA4"},null,{"$f":"EXTRA4!E126","v":0},{"$f":"EXTRA4!H126","v":0}]
[null,null,null,null,null,null,null,null,null,null,null,null,null,null,null,null,null,null,null,null,null,null,125,{"$f":"EXTRA4!B127","v":0},{"$f":"EXTRA4!C127","v":0},{"$f":"EXTRA4!D127","v":0},{"$f":"EXTRA4!F127","v":"00:00:00"},{"$f":"EXTRA4!$A$2","v":"EXTRA4"},null,{"$f":"EXTRA4!E127","v":0},{"$f":"EXTRA4!H127","v":0}]
[null,null,null,null,null,null,null,null,null,null,null,null,null,null,null,null,null,null,null,null,null,null,126,{"$f":"EXTRA4!B128","v":0},{"$f":"EXTRA4!C128","v":0},{"$f":"EXTRA4!D128","v":0},{"$f":"EXTRA4!F128","v":"00:00:00"},{"$f":"EXTRA4!$A$2","v":"EXTRA4"},null,{"$f":"EXTRA4!E128","v":0},{"$f":"EXTRA4!H128","v":0}]
[null,null,null,null,null,null,null,null,null,null,null,null,null,null,null,null,null,null,null,null,null,null,127,{"$f":"EXTRA4!B129","v":0},{"$f":"EXTRA4!C129","v":0},{"$f":"EXTRA4!D129","v":0},{"$f":"EXTRA4!F129","v":"00:00:00"},{"$f":"EXTRA4!$A$2","v":"EXTRA4"},null,{"$f":"EXTRA4!E129","v":0},{"$f":"EXTRA4!H129","v":0}]
[null,null,null,null,null,null,null,null,null,null,null,null,null,null,null,null,null,null,null,null,null,null,128,{"$f":"EXTRA4!B130","v":0},{"$f":"EXTRA4!C130","v":0},{"$f":"EXTRA4!D130","v":0},{"$f":"EXTRA4!F130","v":"00:00:00"},{"$f":"EXTRA4!$A$2","v":"EXTRA4"},null,{"$f":"EXTRA4!E130","v":0},{"$f":"EXTRA4!H130","v":0}]
[null,null,null,null,null,null,null,null,null,null,null,null,null,null,null,null,null,null,null,null,null,null,129,{"$f":"EXTRA4!B131","v":0},{"$f":"EXTRA4!C131","v":0},{"$f":"EXTRA4!D131","v":0},{"$f":"EXTRA4!F131","v":"00:00:00"},{"$f":"EXTRA4!$A$2","v":"EXTRA4"},null,{"$f":"EXTRA4!E131","v":0},{"$f":"EXTRA4!H131","v":0}]
[null,null,null,null,null,null,null,null,null,null,null,null,null,null,null,null,null,null,null,null,null,null,130,{"$f":"EXTRA4!B132","v":0},{"$f":"EXTRA4!C132","v":0},{"$f":"EXTRA4!D132","v":0},{"$f":"EXTRA4!F132","v":"00:00:00"},{"$f":"EXTRA4!$A$2","v":"EXTRA4"},null,{"$f":"EXTRA4!E132","v":0},{"$f":"EXTRA4!H132","v":0}]
[null,null,null,null,null,null,null,null,null,null,null,null,null,null,null,null,null,null,null,null,null,null,131,{"$f":"EXTRA4!B133","v":0},{"$f":"EXTRA4!C133","v":0},{"$f":"EXTRA4!D133","v":0},{"$f":"EXTRA4!F133","v":"00:00:00"},{"$f":"EXTRA4!$A$2","v":"EXTRA4"},null,{"$f":"EXTRA4!E133","v":0},{"$f":"EXTRA4!H133","v":0}]
[null,null,null,null,null,null,null,null,null,null,null,null,null,null,null,null,null,null,null,null,null,null,132,{"$f":"EXTRA4!B134","v":0},{"$f":"EXTRA4!C134","v":0},{"$f":"EXTRA4!D134","v":0},{"$f":"EXTRA4!F134","v":"00:00:00"},{"$f":"EXTRA4!$A$2","v":"EXTRA4"},null,{"$f":"EXTRA4!E134","v":0},{"$f":"EXTRA4!H134","v":0}]
[null,null,null,null,null,null,null,null,null,null,null,null,null,null,null,null,null,null,null,null,null,null,133,{"$f":"EXTRA4!B135","v":0},{"$f":"EXTRA4!C135","v":0},{"$f":"EXTRA4!D135","v":0},{"$f":"EXTRA4!F135","v":"00:00:00"},{"$f":"EXTRA4!$A$2","v":"EXTRA4"},null,{"$f":"EXTRA4!E135","v":0},{"$f":"EXTRA4!H135","v":0}]
[null,null,null,null,null,null,null,null,null,null,null,null,null,null,null,null,null,null,null,null,null,null,134,{"$f":"EXTRA4!B136","v":0},{"$f":"EXTRA4!C136","v":0},{"$f":"EXTRA4!D136","v":0},{"$f":"EXTRA4!F136","v":"00:00:00"},{"$f":"EXTRA4!$A$2","v":"EXTRA4"},null,{"$f":"EXTRA4!E136","v":0},{"$f":"EXTRA4!H136","v":0}]
[null,null,null,null,null,null,null,null,null,null,null,null,null,null,null,null,null,null,null,null,null,null,135,{"$f":"EXTRA4!B137","v":0},{"$f":"EXTRA4!C137","v":0},{"$f":"EXTRA4!D137","v":0},{"$f":"EXTRA4!F137","v":"00:00:00"},{"$f":"EXTRA4!$A$2","v":"EXTRA4"},null,{"$f":"EXTRA4!E137","v":0},{"$f":"EXTRA4!H137","v":0}]
[null,null,null,null,null,null,null,null,null,null,null,null,null,null,null,null,null,null,null,null,null,null,136,{"$f":"EXTRA4!B138","v":0},{"$f":"EXTRA4!C138","v":0},{"$f":"EXTRA4!D138","v":0},{"$f":"EXTRA4!F138","v":"00:00:00"},{"$f":"EXTRA4!$A$2","v":"EXTRA4"},null,{"$f":"EXTRA4!E138","v":0},{"$f":"EXTRA4!H138","v":0}]
[null,null,null,null,null,null,null,null,null,null,null,null,null,null,null,null,null,null,null,null,null,null,137,{"$f":"EXTRA4!B139","v":0},{"$f":"EXTRA4!C139","v":0},{"$f":"EXTRA4!D139","v":0},{"$f":"EXTRA4!F139","v":"00:00:00"},{"$f":"EXTRA4!$A$2","v":"EXTRA4"},null,{"$f":"EXTRA4!E139","v":0},{"$f":"EXTRA4!H139","v":0}]
[null,null,null,null,null,null,null,null,null,null,null,null,null,null,null,null,null,null,null,null,null,null,138,{"$f":"EXTRA4!B140","v":0},{"$f":"EXTRA4!C140","v":0},{"$f":"EXTRA4!D140","v":0},{"$f":"EXTRA4!F140","v":"00:00:00"},{"$f":"EXTRA4!$A$2","v":"EXTRA4"},null,{"$f":"EXTRA4!E140","v":0},{"$f":"EXTRA4!H140","v":0}]
[null,null,null,null,null,null,null,null,null,null,null,null,null,null,null,null,null,null,null,null,null,null,139,{"$f":"EXTRA4!B141","v":0},{"$f":"EXTRA4!C141","v":0},{"$f":"EXTRA4!D141","v":0},{"$f":"EXTRA4!F141","v":"00:00:00"},{"$f":"EXTRA4!$A$2","v":"EXTRA4"},null,{"$f":"EXTRA4!E141","v":0},{"$f":"EXTRA4!H141","v":0}]
[null,null,null,null,null,null,null,null,null,null,null,null,null,null,null,null,null,null,null,null,null,null,140,{"$f":"EXTRA4!B142","v":0},{"$f":"EXTRA4!C142","v":0},{"$f":"EXTRA4!D142","v":0},{"$f":"EXTRA4!F142","v":"00:00:00"},{"$f":"EXTRA4!$A$2","v":"EXTRA4"},null,{"$f":"EXTRA4!E142","v":0},{"$f":"EXTRA4!H142","v":0}]
[null,null,null,null,null,null,null,null,null,null,null,null,null,null,null,null,null,null,null,null,null,null,141,{"$f":"EXTRA4!B143","v":0},{"$f":"EXTRA4!C143","v":0},{"$f":"EXTRA4!D143","v":0},{"$f":"EXTRA4!F143","v":"00:00:00"},{"$f":"EXTRA4!$A$2","v":"EXTRA4"},null,{"$f":"EXTRA4!E143","v":0},{"$f":"EXTRA4!H143","v":0}]
[null,null,null,null,null,null,null,null,null,null,null,null,null,null,null,null,null,null,null,null,null,null,142,{"$f":"EXTRA4!B144","v":0},{"$f":"EXTRA4!C144","v":0},{"$f":"EXTRA4!D144","v":0},{"$f":"EXTRA4!F144","v":"00:00:00"},{"$f":"EXTRA4!$A$2","v":"EXTRA4"},null,{"$f":"EXTRA4!E144","v":0},{"$f":"EXTRA4!H144","v":0}]
[null,null,null,null,null,null,null,null,null,null,null,null,null,null,null,null,null,null,null,null,null,null,143,{"$f":"EXTRA4!B145","v":0},{"$f":"EXTRA4!C145","v":0},{"$f":"EXTRA4!D145","v":0},{"$f":"EXTRA4!F145","v":"00:00:00"},{"$f":"EXTRA4!$A$2","v":"EXTRA4"},null,{"$f":"EXTRA4!E145","v":0},{"$f":"EXTRA4!H145","v":0}]
[null,null,null,null,null,null,null,null,null,null,null,null,null,null,null,null,null,null,null,null,null,null,144,{"$f":"EXTRA4!B146","v":0},{"$f":"EXTRA4!C146","v":0},{"$f":"EXTRA4!D146","v":0},{"$f":"EXTRA4!F146","v":"00:00:00"},{"$f":"EXTRA4!$A$2","v":"EXTRA4"},null,{"$f":"EXTRA4!E146","v":0},{"$f":"EXTRA4!H146","v":0}]
[null,null,null,null,null,null,null,null,null,null,null,null,null,null,null,null,null,null,null,null,null,null,145,{"$f":"EXTRA4!B147","v":0},{"$f":"EXTRA4!C147","v":0},{"$f":"EXTRA4!D147","v":0},{"$f":"EXTRA4!F147","v":"00:00:00"},{"$f":"EXTRA4!$A$2","v":"EXTRA4"},null,{"$f":"EXTRA4!E147","v":0},{"$f":"EXTRA4!H147","v":0}]
[null,null,null,null,null,null,null,null,null,null,null,null,null,null,null,null,null,null,null,null,null,null,146,{"$f":"EXTRA4!B148","v":0},{"$f":"EXTRA4!C148","v":0},{"$f":"EXTRA4!D148","v":0},{"$f":"EXTRA4!F148","v":"00:00:00"},{"$f":"EXTRA4!$A$2","v":"EXTRA4"},null,{"$f":"EXTRA4!E148","v":0},{"$f":"EXTRA4!H148","v":0}]
[null,null,null,null,null,null,null,null,null,null,null,null,null,null,null,null,null,null,null,null,null,null,147,{"$f":"EXTRA4!B149","v":0},{"$f":"EXTRA4!C149","v":0},{"$f":"EXTRA4!D149","v":0},{"$f":"EXTRA4!F149","v":"00:00:00"},{"$f":"EXTRA4!$A$2","v":"EXTRA4"},null,{"$f":"EXTRA4!E149","v":0},{"$f":"EXTRA4!H149","v":0}]
[null,null,null,null,null,null,null,null,null,null,null,null,null,null,null,null,null,null,null,null,null,null,148,{"$f":"EXTRA4!B150","v":0},{"$f":"EXTRA4!C150","v":0},{"$f":"EXTRA4!D150","v":0},{"$f":"EXTRA4!F150","v":"00:00:00"},{"$f":"EXTRA4!$A$2","v":"EXTRA4"},null,{"$f":"EXTRA4!E150","v":0},{"$f":"EXTRA4!H150","v":0}]
[null,null,null,null,null,null,null,null,null,null,null,null,null,null,null,null,null,null,null,null,null,null,149,{"$f":"EXTRA4!B151","v":0},{"$f":"EXTRA4!C151","v":0},{"$f":"EXTRA4!D151","v":0},{"$f":"EXTRA4!F151","v":"00:00:00"},{"$f":"EXTRA4!$A$2","v":"EXTRA4"},null,{"$f":"EXTRA4!E151","v":0},{"$f":"EXTRA4!H151","v":0}]
[null,null,null,null,null,null,null,null,null,null,null,null,null,null,null,null,null,null,null,null,null,null,150,{"$f":"EXTRA4!B152","v":0},{"$f":"EXTRA4!C152","v":0},{"$f":"EXTRA4!D152","v":0},{"$f":"EXTRA4!F152","v":"00:00:00"},{"$f":"EXTRA4!$A$2","v":"EXTRA4"},null,{"$f":"EXTRA4!E152","v":0},{"$f":"EXTRA4!H152","v":0}]
[null,null,null,null,null,null,null,null,null,null,null,null,null,null,null,null,null,null,null,null,null,null,null,{"$f":"EXTRA4!B153","v":0},{"$f":"EXTRA4!C153","v":0},{"$f":"EXTRA4!D153","v":0},{"$f":"EXTRA4!F153","v":"00:00:00"},{"$f":"EXTRA4!$A$2","v":"EXTRA4"},null,{"$f":"EXTRA4!E153","v":0},{"$f":"EXTRA4!H153","v":0}]
[null,null,null,null,null,null,null,null,null,null,null,null,null,null,null,null,null,null,null,null,null,null,1,{"$f":"EXTRA5!B4","v":9999},{"$f":"EXTRA5!C4","v":"gv"},{"$f":"EXTRA5!D4","v":"ggg"},{"$f":"EXTRA5!F4","v":"1976-03-07"},{"$f":"EXTRA5!$A$2","v":"EXTRA5"},null,{"$f":"EXTRA5!E4","v":"sc"},{"$f":"EXTRA5!H4","v":"B"}]
[null,null,null,null,null,null,null,null,null,null,null,null,null,null,null,null,null,null,null,null,null,null,2,{"$f":"EXTRA5!B5","v":0},{"$f":"EXTRA5!C5","v":0},{"$f":"EXTRA5!D5","v":0},{"$f":"EXTRA5!F5","v":"00:00:00"},{"$f":"EXTRA5!$A$2","v":"EXTRA5"},null,{"$f":"EXTRA5!E5","v":0},{"$f":"EXTRA5!H5","v":0}]
[null,null,null,null,null,null,null,null,null,null,null,null,null,null,null,null,null,null,null,null,null,null,3,{"$f":"EXTRA5!B6","v":0},{"$f":"EXTRA5!C6","v":0},{"$f":"EXTRA5!D6","v":0},{"$f":"EXTRA5!F6","v":"00:00:00"},{"$f":"EXTRA5!$A$2","v":"EXTRA5"},null,{"$f":"EXTRA5!E6","v":0},{"$f":"EXTRA5!H6","v":0}]
[null,null,null,null,null,null,null,null,null,null,null,null,null,null,null,null,null,null,null,null,null,null,4,{"$f":"EXTRA5!B7","v":0},{"$f":"EXTRA5!C7","v":0},{"$f":"EXTRA5!D7","v":0},{"$f":"EXTRA5!F7","v":"00:00:00"},{"$f":"EXTRA5!$A$2","v":"EXTRA5"},null,{"$f":"EXTRA5!E7","v":0},{"$f":"EXTRA5!H7","v":0}]
[null,null,null,null,null,null,null,null,null,null,null,null,null,null,null,null,null,null,null,null,null,null,5,{"$f":"EXTRA5!B8","v":0},{"$f":"EXTRA5!C8","v":0},{"$f":"EXTRA5!D8","v":0},{"$f":"EXTRA5!F8","v":"00:00:00"},{"$f":"EXTRA5!$A$2","v":"EXTRA5"},null,{"$f":"EXTRA5!E8","v":0},{"$f":"EXTRA5!H8","v":0}]
[null,null,null,null,null,null,null,null,null,null,null,null,null,null,null,null,null,null,null,null,null,null,6,{"$f":"EXTRA5!B9","v":0},{"$f":"EXTRA5!C9","v":0},{"$f":"EXTRA5!D9","v":0},{"$f":"EXTRA5!F9","v":"00:00:00"},{"$f":"EXTRA5!$A$2","v":"EXTRA5"},null,{"$f":"EXTRA5!E9","v":0},{"$f":"EXTRA5!H9","v":0}]
[null,null,null,null,null,null,null,null,null,null,null,null,null,null,null,null,null,null,null,null,null,null,7,{"$f":"EXTRA5!B10","v":0},{"$f":"EXTRA5!C10","v":0},{"$f":"EXTRA5!D10","v":0},{"$f":"EXTRA5!F10","v":"00:00:00"},{"$f":"EXTRA5!$A$2","v":"EXTRA5"},null,{"$f":"EXTRA5!E10","v":0},{"$f":"EXTRA5!H10","v":0}]
[null,null,null,null,null,null,null,null,null,null,null,null,null,null,null,null,null,null,null,null,null,null,8,{"$f":"EXTRA5!B11","v":0},{"$f":"EXTRA5!C11","v":0},{"$f":"EXTRA5!D11","v":0},{"$f":"EXTRA5!F11","v":"00:00:00"},{"$f":"EXTRA5!$A$2","v":"EXTRA5"},null,{"$f":"EXTRA5!E11","v":0},{"$f":"EXTRA5!H11","v":0}]
[null,null,null,null,null,null,null,null,null,null,null,null,null,null,null,null,null,null,null,null,null,null,9,{"$f":"EXTRA5!B12","v":0},{"$f":"EXTRA5!C12","v":0},{"$f":"EXTRA5!D12","v":0},{"$f":"EXTRA5!F12","v":"00:00:00"},{"$f":"EXTRA5!$A$2","v":"EXTRA5"},null,{"$f":"EXTRA5!E12","v":0},{"$f":"EXTRA5!H12","v":0}]
[null,null,null,null,null,null,null,null,null,null,null,null,null,null,null,null,null,null,null,null,null,null,10,{"$f":"EXTRA5!B13","v":0},{"$f":"EXTRA5!C13","v":0},{"$f":"EXTRA5!D13","v":0},{"$f":"EXTRA5!F13","v":"00:00:00"},{"$f":"EXTRA5!$A$2","v":"EXTRA5"},null,{"$f":"EXTRA5!E13","v":0},{"$f":"EXTRA5!H13","v":0}]
[null,null,null,null,null,null,null,null,null,null,null,null,null,null,null,null,null,null,null,null,null,null,11,{"$f":"EXTRA5!B14","v":0},{"$f":"EXTRA5!C14","v":0},{"$f":"EXTRA5!D14","v":0},{"$f":"EXTRA5!F14","v":"00:00:00"},{"$f":"EXTRA5!$A$2","v":"EXTRA5"},null,{"$f":"EXTRA5!E14","v":0},{"$f":"EXTRA5!H14","v":0}]
[null,null,null,null,null,null,null,null,null,null,null,null,null,null,null,null,null,null,null,null,null,null,12,{"$f":"EXTRA5!B15","v":0},{"$f":"EXTRA5!C15","v":0},{"$f":"EXTRA5!D15","v":0},{"$f":"EXTRA5!F15","v":"00:00:00"},{"$f":"EXTRA5!$A$2","v":"EXTRA5"},null,{"$f":"EXTRA5!E15","v":0},{"$f":"EXTRA5!H15","v":0}]
[null,null,null,null,null,null,null,null,null,null,null,null,null,null,null,null,null,null,null,null,null,null,13,{"$f":"EXTRA5!B16","v":0},{"$f":"EXTRA5!C16","v":0},{"$f":"EXTRA5!D16","v":0},{"$f":"EXTRA5!F16","v":"00:00:00"},{"$f":"EXTRA5!$A$2","v":"EXTRA5"},null,{"$f":"EXTRA5!E16","v":0},{"$f":"EXTRA5!H16","v":0}]
[null,null,null,null,null,null,null,null,null,null,null,null,null,null,null,null,null,null,null,null,null,null,14,{"$f":"EXTRA5!B17","v":0},{"$f":"EXTRA5!C17","v":0},{"$f":"EXTRA5!D17","v":0},{"$f":"EXTRA5!F17","v":"00:00:00"},{"$f":"EXTRA5!$A$2","v":"EXTRA5"},null,{"$f":"EXTRA5!E17","v":0},{"$f":"EXTRA5!H17","v":0}]
[null,null,null,null,null,null,null,null,null,null,null,null,null,null,null,null,null,null,null,null,null,null,15,{"$f":"EXTRA5!B18","v":0},{"$f":"EXTRA5!C18","v":0},{"$f":"EXTRA5!D18","v":0},{"$f":"EXTRA5!F18","v":"00:00:00"},{"$f":"EXTRA5!$A$2","v":"EXTRA5"},null,{"$f":"EXTRA5!E18","v":0},{"$f":"EXTRA5!H18","v":0}]
[null,null,null,null,null,null,null,null,null,null,null,null,null,null,null,null,null,null,null,null,null,null,16,{"$f":"EXTRA5!B19","v":0},{"$f":"EXTRA5!C19","v":0},{"$f":"EXTRA5!D19","v":0},{"$f":"EXTRA5!F19","v":"00:00:00"},{"$f":"EXTRA5!$A$2","v":"EXTRA5"},null,{"$f":"EXTRA5!E19","v":0},{"$f":"EXTRA5!H19","v":0}]
[null,null,null,null,null,null,null,null,null,null,null,null,null,null,null,null,null,null,null,null,null,null,17,{"$f":"EXTRA5!B20","v":0},{"$f":"EXTRA5!C20","v":0},{"$f":"EXTRA5!D20","v":0},{"$f":"EXTRA5!F20","v":"00:00:00"},{"$f":"EXTRA5!$A$2","v":"EXTRA5"},null,{"$f":"EXTRA5!E20","v":0},{"$f":"EXTRA5!H20","v":0}]
[null,null,null,null,null,null,null,null,null,null,null,null,null,null,null,null,null,null,null,null,null,null,18,{"$f":"EXTRA5!B21","v":0},{"$f":"EXTRA5!C21","v":0},{"$f":"EXTRA5!D21","v":0},{"$f":"EXTRA5!F21","v":"00:00:00"},{"$f":"EXTRA5!$A$2","v":"EXTRA5"},null,{"$f":"EXTRA5!E21","v":0},{"$f":"EXTRA5!H21","v":0}]
[null,null,null,null,null,null,null,null,null,null,null,null,null,null,null,null,null,null,null,null,null,null,19,{"$f":"EXTRA5!B22","v":0},{"$f":"EXTRA5!C22","v":0},{"$f":"EXTRA5!D22","v":0},{"$f":"EXTRA5!F22","v":"00:00:00"},{"$f":"EXTRA5!$A$2","v":"EXTRA5"},null,{"$f":"EXTRA5!E22","v":0},{"$f":"EXTRA5!H22","v":0}]
[null,null,null,null,null,null,null,null,null,null,null,null,null,null,null,null,null,null,null,null,null,null,20,{"$f":"EXTRA5!B23","v":0},{"$f":"EXTRA5!C23","v":0},{"$f":"EXTRA5!D23","v":0},{"$f":"EXTRA5!F23","v":"00:00:00"},{"$f":"EXTRA5!$A$2","v":"EXTRA5"},null,{"$f":"EXTRA5!E23","v":0},{"$f":"EXTRA5!H23","v":0}]
[null,null,null,null,null,null,null,null,null,null,null,null,null,null,null,null,null,null,null,null,null,null,21,{"$f":"EXTRA5!B24","v":0},{"$f":"EXTRA5!C24","v":0},{"$f":"EXTRA5!D24","v":0},{"$f":"EXTRA5!F24","v":"00:00:00"},{"$f":"EXTRA5!$A$2","v":"EXTRA5"},null,{"$f":"EXTRA5!E24","v":0},{"$f":"EXTRA5!H24","v":0}]
[null,null,null,null,null,null,null,null,null,null,null,null,null,null,null,null,null,null,null,null,null,null,22,{"$f":"EXTRA5!B25","v":0},{"$f":"EXTRA5!C25","v":0},{"$f":"EXTRA5!D25","v":0},{"$f":"EXTRA5!F25","v":"00:00:00"},{"$f":"EXTRA5!$A$2","v":"EXTRA5"},null,{"$f":"EXTRA5!E25","v":0},{"$f":"EXTRA5!H25","v":0}]
[null,null,null,null,null,null,null,null,null,null,null,null,null,null,null,null,null,null,null,null,null,null,23,{"$f":"EXTRA5!B26","v":0},{"$f":"EXTRA5!C26","v":0},{"$f":"EXTRA5!D26","v":0},{"$f":"EXTRA5!F26","v":"00:00:00"},{"$f":"EXTRA5!$A$2","v":"EXTRA5"},null,{"$f":"EXTRA5!E26","v":0},{"$f":"EXTRA5!H26","v":0}]
[null,null,null,null,null,null,null,null,null,null,null,null,null,null,null,null,null,null,null,null,null,null,24,{"$f":"EXTRA5!B27","v":0},{"$f":"EXTRA5!C27","v":0},{"$f":"EXTRA5!D27","v":0},{"$f":"EXTRA5!F27","v":"00:00:00"},{"$f":"EXTRA5!$A$2","v":"EXTRA5"},null,{"$f":"EXTRA5!E27","v":0},{"$f":"EXTRA5!H27","v":0}]
[null,null,null,null,null,null,null,null,null,null,null,null,null,null,null,null,null,null,null,null,null,null,25,{"$f":"EXTRA5!B28","v":0},{"$f":"EXTRA5!C28","v":0},{"$f":"EXTRA5!D28","v":0},{"$f":"EXTRA5!F28","v":"00:00:00"},{"$f":"EXTRA5!$A$2","v":"EXTRA5"},null,{"$f":"EXTRA5!E28","v":0},{"$f":"EXTRA5!H28","v":0}]
[null,null,null,null,null,null,null,null,null,null,null,null,null,null,null,null,null,null,null,null,null,null,26,{"$f":"EXTRA5!B29","v":0},{"$f":"EXTRA5!C29","v":0},{"$f":"EXTRA5!D29","v":0},{"$f":"EXTRA5!F29","v":"00:00:00"},{"$f":"EXTRA5!$A$2","v":"EXTRA5"},null,{"$f":"EXTRA5!E29","v":0},{"$f":"EXTRA5!H29","v":0}]
[null,null,null,null,null,null,null,null,null,null,null,null,null,null,null,null,null,null,null,null,null,null,27,{"$f":"EXTRA5!B30","v":0},{"$f":"EXTRA5!C30","v":0},{"$f":"EXTRA5!D30","v":0},{"$f":"EXTRA5!F30","v":"00:00:00"},{"$f":"EXTRA5!$A$2","v":"EXTRA5"},null,{"$f":"EXTRA5!E30","v":0},{"$f":"EXTRA5!H30","v":0}]
[null,null,null,null,null,null,null,null,null,null,null,null,null,null,null,null,null,null,null,null,null,null,28,{"$f":"EXTRA5!B31","v":0},{"$f":"EXTRA5!C31","v":0},{"$f":"EXTRA5!D31","v":0},{"$f":"EXTRA5!F31","v":"00:00:00"},{"$f":"EXTRA5!$A$2","v":"EXTRA5"},null,{"$f":"EXTRA5!E31","v":0},{"$f":"EXTRA5!H31","v":0}]
[null,null,null,null,null,null,null,null,null,null,null,null,null,null,null,null,null,null,null,null,null,null,29,{"$f":"EXTRA5!B32","v":0},{"$f":"EXTRA5!C32","v":0},{"$f":"EXTRA5!D32","v":0},{"$f":"EXTRA5!F32","v":"00:00:00"},{"$f":"EXTRA5!$A$2","v":"EXTRA5"},null,{"$f":"EXTRA5!E32","v":0},{"$f":"EXTRA5!H32","v":0}]
[null,null,null,null,null,null,null,null,null,null,null,null,null,null,null,null,null,null,null,null,null,null,30,{"$f":"EXTRA5!B33","v":0},{"$f":"EXTRA5!C33","v":0},{"$f":"EXTRA5!D33","v":0},{"$f":"EXTRA5!F33","v":"00:00:00"},{"$f":"EXTRA5!$A$2","v":"EXTRA5"},null,{"$f":"EXTRA5!E33","v":0},{"$f":"EXTRA5!H33","v":0}]
[null,null,null,null,null,null,null,null,null,null,null,null,null,null,null,null,null,null,null,null,null,null,31,{"$f":"EXTRA5!B34","v":0},{"$f":"EXTRA5!C34","v":0},{"$f":"EXTRA5!D34","v":0},{"$f":"EXTRA5!F34","v":"00:00:00"},{"$f":"EXTRA5!$A$2","v":"EXTRA5"},null,{"$f":"EXTRA5!E34","v":0},{"$f":"EXTRA5!H34","v":0}]
[null,null,null,null,null,null,null,null,null,null,null,null,null,null,null,null,null,null,null,null,null,null,32,{"$f":"EXTRA5!B35","v":0},{"$f":"EXTRA5!C35","v":0},{"$f":"EXTRA5!D35","v":0},{"$f":"EXTRA5!F35","v":"00:00:00"},{"$f":"EXTRA5!$A$2","v":"EXTRA5"},null,{"$f":"EXTRA5!E35","v":0},{"$f":"EXTRA5!H35","v":0}]
[null,null,null,null,null,null,null,null,null,null,null,null,null,null,null,null,null,null,null,null,null,null,33,{"$f":"EXTRA5!B36","v":0},{"$f":"EXTRA5!C36","v":0},{"$f":"EXTRA5!D36","v":0},{"$f":"EXTRA5!F36","v":"00:00:00"},{"$f":"EXTRA5!$A$2","v":"EXTRA5"},null,{"$f":"EXTRA5!E36","v":0},{"$f":"EXTRA5!H36","v":0}]
[null,null,null,null,null,null,null,null,null,null,null,null,null,null,null,null,null,null,null,null,null,null,34,{"$f":"EXTRA5!B37","v":0},{"$f":"EXTRA5!C37","v":0},{"$f":"EXTRA5!D37","v":0},{"$f":"EXTRA5!F37","v":"00:00:00"},{"$f":"EXTRA5!$A$2","v":"EXTRA5"},null,{"$f":"EXTRA5!E37","v":0},{"$f":"EXTRA5!H37","v":0}]
[null,null,null,null,null,null,null,null,null,null,null,null,null,null,null,null,null,null,null,null,null,null,35,{"$f":"EXTRA5!B38","v":0},{"$f":"EXTRA5!C38","v":0},{"$f":"EXTRA5!D38","v":0},{"$f":"EXTRA5!F38","v":"00:00:00"},{"$f":"EXTRA5!$A$2","v":"EXTRA5"},null,{"$f":"EXTRA5!E38","v":0},{"$f":"EXTRA5!H38","v":0}]
[null,null,null,null,null,null,null,null,null,null,null,null,null,null,null,null,null,null,null,null,null,null,36,{"$f":"EXTRA5!B39","v":0},{"$f":"EXTRA5!C39","v":0},{"$f":"EXTRA5!D39","v":0},{"$f":"EXTRA5!F39","v":"00:00:00"},{"$f":"EXTRA5!$A$2","v":"EXTRA5"},null,{"$f":"EXTRA5!E39","v":0},{"$f":"EXTRA5!H39","v":0}]
[null,null,null,null,null,null,null,null,null,null,null,null,null,null,null,null,null,null,null,null,null,null,37,{"$f":"EXTRA5!B40","v":0},{"$f":"EXTRA5!C40","v":0},{"$f":"EXTRA5!D40","v":0},{"$f":"EXTRA5!F40","v":"00:00:00"},{"$f":"EXTRA5!$A$2","v":"EXTRA5"},null,{"$f":"EXTRA5!E40","v":0},{"$f":"EXTRA5!H40","v":0}]
[null,null,null,null,null,null,null,null,null,null,null,null,null,null,null,null,null,null,null,null,null,null,38,{"$f":"EXTRA5!B41","v":0},{"$f":"EXTRA5!C41","v":0},{"$f":"EXTRA5!D41","v":0},{"$f":"EXTRA5!F41","v":"00:00:00"},{"$f":"EXTRA5!$A$2","v":"EXTRA5"},null,{"$f":"EXTRA5!E41","v":0},{"$f":"EXTRA5!H41","v":0}]
[null,null,null,null,null,null,null,null,null,null,null,null,null,null,null,null,null,null,null,null,null,null,39,{"$f":"EXTRA5!B42","v":0},{"$f":"EXTRA5!C42","v":0},{"$f":"EXTRA5!D42","v":0},{"$f":"EXTRA5!F42","v":"00:00:00"},{"$f":"EXTRA5!$A$2","v":"EXTRA5"},null,{"$f":"EXTRA5!E42","v":0},{"$f":"EXTRA5!H42","v":0}]
[null,null,null,null,null,null,null,null,null,null,null,null,null,null,null,null,null,null,null,null,null,null,40,{"$f":"EXTRA5!B43","v":0},{"$f":"EXTRA5!C43","v":0},{"$f":"EXTRA5!D43","v":0},{"$f":"EXTRA5!F43","v":"00:00:00"},{"$f":"EXTRA5!$A$2","v":"EXTRA5"},null,{"$f":"EXTRA5!E43","v":0},{"$f":"EXTRA5!H43","v":0}]
[null,null,null,null,null,null,null,null,null,null,null,null,null,null,null,null,null,null,null,null,null,null,41,{"$f":"EXTRA5!B44","v":0},{"$f":"EXTRA5!C44","v":0},{"$f":"EXTRA5!D44","v":0},{"$f":"EXTRA5!F44","v":"00:00:00"},{"$f":"EXTRA5!$A$2","v":"EXTRA5"},null,{"$f":"EXTRA5!E44","v":0},{"$f":"EXTRA5!H44","v":0}]
[null,null,null,null,null,null,null,null,null,null,null,null,null,null,null,null,null,null,null,null,null,null,42,{"$f":"EXTRA5!B45","v":0},{"$f":"EXTRA5!C45","v":0},{"$f":"EXTRA5!D45","v":0},{"$f":"EXTRA5!F45","v":"00:00:00"},{"$f":"EXTRA5!$A$2","v":"EXTRA5"},null,{"$f":"EXTRA5!E45","v":0},{"$f":"EXTRA5!H45","v":0}]
[null,null,null,null,null,null,null,null,null,null,null,null,null,null,null,null,null,null,null,null,null,null,43,{"$f":"EXTRA5!B46","v":0},{"$f":"EXTRA5!C46","v":0},{"$f":"EXTRA5!D46","v":0},{"$f":"EXTRA5!F46","v":"00:00:00"},{"$f":"EXTRA5!$A$2","v":"EXTRA5"},null,{"$f":"EXTRA5!E46","v":0},{"$f":"EXTRA5!H46","v":0}]
[null,null,null,null,null,null,null,null,null,null,null,null,null,null,null,null,null,null,null,null,null,null,44,{"$f":"EXTRA5!B47","v":0},{"$f":"EXTRA5!C47","v":0},{"$f":"EXTRA5!D47","v":0},{"$f":"EXTRA5!F47","v":"00:00:00"},{"$f":"EXTRA5!$A$2","v":"EXTRA5"},null,{"$f":"EXTRA5!E47","v":0},{"$f":"EXTRA5!H47","v":0}]
[null,null,null,null,null,null,null,null,null,null,null,null,null,null,null,null,null,null,null,null,null,null,45,{"$f":"EXTRA5!B48","v":0},{"$f":"EXTRA5!C48","v":0},{"$f":"EXTRA5!D48","v":0},{"$f":"EXTRA5!F48","v":"00:00:00"},{"$f":"EXTRA5!$A$2","v":"EXTRA5"},null,{"$f":"EXTRA5!E48","v":0},{"$f":"EXTRA5!H48","v":0}]
[null,null,null,null,null,null,null,null,null,null,null,null,null,null,null,null,null,null,null,null,null,null,46,{"$f":"EXTRA5!B49","v":0},{"$f":"EXTRA5!C49","v":0},{"$f":"EXTRA5!D49","v":0},{"$f":"EXTRA5!F49","v":"00:00:00"},{"$f":"EXTRA5!$A$2","v":"EXTRA5"},null,{"$f":"EXTRA5!E49","v":0},{"$f":"EXTRA5!H49","v":0}]
[null,null,null,null,null,null,null,null,null,null,null,null,null,null,null,null,null,null,null,null,null,null,47,{"$f":"EXTRA5!B50","v":0},{"$f":"EXTRA5!C50","v":0},{"$f":"EXTRA5!D50","v":0},{"$f":"EXTRA5!F50","v":"00:00:00"},{"$f":"EXTRA5!$A$2","v":"EXTRA5"},null,{"$f":"EXTRA5!E50","v":0},{"$f":"EXTRA5!H50","v":0}]
[null,null,null,null,null,null,null,null,null,null,null,null,null,null,null,null,null,null,null,null,null,null,48,{"$f":"EXTRA5!B51","v":0},{"$f":"EXTRA5!C51","v":0},{"$f":"EXTRA5!D51","v":0},{"$f":"EXTRA5!F51","v":"00:00:00"},{"$f":"EXTRA5!$A$2","v":"EXTRA5"},null,{"$f":"EXTRA5!E51","v":0},{"$f":"EXTRA5!H51","v":0}]
[null,null,null,null,null,null,null,null,null,null,null,null,null,null,null,null,null,null,null,null,null,null,49,{"$f":"EXTRA5!B52","v":0},{"$f":"EXTRA5!C52","v":0},{"$f":"EXTRA5!D52","v":0},{"$f":"EXTRA5!F52","v":"00:00:00"},{"$f":"EXTRA5!$A$2","v":"EXTRA5"},null,{"$f":"EXTRA5!E52","v":0},{"$f":"EXTRA5!H52","v":0}]
[null,null,null,null,null,null,null,null,null,null,null,null,null,null,null,null,null,null,null,null,null,null,50,{"$f":"EXTRA5!B53","v":0},{"$f":"EXTRA5!C53","v":0},{"$f":"EXTRA5!D53","v":0},{"$f":"EXTRA5!F53","v":"00:00:00"},{"$f":"EXTRA5!$A$2","v":"EXTRA5"},null,{"$f":"EXTRA5!E53","v":0},{"$f":"EXTRA5!H53","v":0}]
[null,null,null,null,null,null,null,null,null,null,null,null,null,null,null,null,null,null,null,null,null,null,51,{"$f":"EXTRA5!B54","v":0},{"$f":"EXTRA5!C54","v":0},{"$f":"EXTRA5!D54","v":0},{"$f":"EXTRA5!F54","v":"00:00:00"},{"$f":"EXTRA5!$A$2","v":"EXTRA5"},null,{"$f":"EXTRA5!E54","v":0},{"$f":"EXTRA5!H54","v":0}]
[null,null,null,null,null,null,null,null,null,null,null,null,null,null,null,null,null,null,null,null,null,null,52,{"$f":"EXTRA5!B55","v":0},{"$f":"EXTRA5!C55","v":0},{"$f":"EXTRA5!D55","v":0},{"$f":"EXTRA5!F55","v":"00:00:00"},{"$f":"EXTRA5!$A$2","v":"EXTRA5"},null,{"$f":"EXTRA5!E55","v":0},{"$f":"EXTRA5!H55","v":0}]
[null,null,null,null,null,null,null,null,null,null,null,null,null,null,null,null,null,null,null,null,null,null,53,{"$f":"EXTRA5!B56","v":0},{"$f":"EXTRA5!C56","v":0},{"$f":"EXTRA5!D56","v":0},{"$f":"EXTRA5!F56","v":"00:00:00"},{"$f":"EXTRA5!$A$2","v":"EXTRA5"},null,{"$f":"EXTRA5!E56","v":0},{"$f":"EXTRA5!H56","v":0}]
[null,null,null,null,null,null,null,null,null,null,null,null,null,null,null,null,null,null,null,null,null,null,54,{"$f":"EXTRA5!B57","v":0},{"$f":"EXTRA5!C57","v":0},{"$f":"EXTRA5!D57","v":0},{"$f":"EXTRA5!F57","v":"00:00:00"},{"$f":"EXTRA5!$A$2","v":"EXTRA5"},null,{"$f":"EXTRA5!E57","v":0},{"$f":"EXTRA5!H57","v":0}]
[null,null,null,null,null,null,null,null,null,null,null,null,null,null,null,null,null,null,null,null,null,null,55,{"$f":"EXTRA5!B58","v":0},{"$f":"EXTRA5!C58","v":0},{"$f":"EXTRA5!D58","v":0},{"$f":"EXTRA5!F58","v":"00:00:00"},{"$f":"EXTRA5!$A$2","v":"EXTRA5"},null,{"$f":"EXTRA5!E58","v":0},{"$f":"EXTRA5!H58","v":0}]
[null,null,null,null,null,null,null,null,null,null,null,null,null,null,null,null,null,null,null,null,null,null,56,{"$f":"EXTRA5!B59","v":0},{"$f":"EXTRA5!C59","v":0},{"$f":"EXTRA5!D59","v":0},{"$f":"EXTRA5!F59","v":"00:00:00"},{"$f":"EXTRA5!$A$2","v":"EXTRA5"},null,{"$f":"EXTRA5!E59","v":0},{"$f":"EXTRA5!H59","v":0}]
[null,null,null,null,null,null,null,null,null,null,null,null,null,null,null,null,null,null,null,null,null,null,57,{"$f":"EXTRA5!B60","v":0},{"$f":"EXTRA5!C60","v":0},{"$f":"EXTRA5!D60","v":0},{"$f":"EXTRA5!F60","v":"00:00:00"},{"$f":"EXTRA5!$A$2","v":"EXTRA5"},null,{"$f":"EXTRA5!E60","v":0},{"$f":"EXTRA5!H60","v":0}]
[null,null,null,null,null,null,null,null,null,null,null,null,null,null,null,null,null,null,null,null,null,null,58,{"$f":"EXTRA5!B61","v":0},{"$f":"EXTRA5!C61","v":0},{"$f":"EXTRA5!D61","v":0},{"$f":"EXTRA5!F61","v":"00:00:00"},{"$f":"EXTRA5!$A$2","v":"EXTRA5"},null,{"$f":"EXTRA5!E61","v":0},{"$f":"EXTRA5!H61","v":0}]
[null,null,null,null,null,null,null,null,null,null,null,null,null,null,null,null,null,null,null,null,null,null,59,{"$f":"EXTRA5!B62","v":0},{"$f":"EXTRA5!C62","v":0},{"$f":"EXTRA5!D62","v":0},{"$f":"EXTRA5!F62","v":"00:00:00"},{"$f":"EXTRA5!$A$2","v":"EXTRA5"},null,{"$f":"EXTRA5!E62","v":0},{"$f":"EXTRA5!H62","v":0}]
[null,null,null,null,null,null,null,null,null,null,null,null,null,null,null,null,null,null,null,null,null,null,60,{"$f":"EXTRA5!B63","v":0},{"$f":"EXTRA5!C63","v":0},{"$f":"EXTRA5!D63","v":0},{"$f":"EXTRA5!F63","v":"00:00:00"},{"$f":"EXTRA5!$A$2","v":"EXTRA5"},null,{"$f":"EXTRA5!E63","v":0},{"$f":"EXTRA5!H63","v":0}]
[null,null,null,null,null,null,null,null,null,null,null,null,null,null,null,null,null,null,null,null,null,null,61,{"$f":"EXTRA5!B64","v":0},{"$f":"EXTRA5!C64","v":0},{"$f":"EXTRA5!D64","v":0},{"$f":"EXTRA5!F64","v":"00:00:00"},{"$f":"EXTRA5!$A$2","v":"EXTRA5"},null,{"$f":"EXTRA5!E64","v":0},{"$f":"EXTRA5!H64","v":0}]
[null,null,null,null,null,null,null,null,null,null,null,null,null,null,null,null,null,null,null,null,null,null,62,{"$f":"EXTRA5!B65","v":0},{"$f":"EXTRA5!C65","v":0},{"$f":"EXTRA5!D65","v":0},{"$f":"EXTRA5!F65","v":"00:00:00"},{"$f":"EXTRA5!$A$2","v":"EXTRA5"},null,{"$f":"EXTRA5!E65","v":0},{"$f":"EXTRA5!H65","v":0}]
[null,null,null,null,null,null,null,null,null,null,null,null,null,null,null,null,null,null,null,null,null,null,63,{"$f":"EXTRA5!B66","v":0},{"$f":"EXTRA5!C66","v":0},{"$f":"EXTRA5!D66","v":0},{"$f":"EXTRA5!F66","v":"00:00:00"},{"$f":"EXTRA5!$A$2","v":"EXTRA5"},null,{"$f":"EXTRA5!E66","v":0},{"$f":"EXTRA5!H66","v":0}]
[null,null,null,null,null,null,null,null,null,null,null,null,null,null,null,null,null,null,null,null,null,null,64,{"$f":"EXTRA5!B67","v":0},{"$f":"EXTRA5!C67","v":0},{"$f":"EXTRA5!D67","v":0},{"$f":"EXTRA5!F67","v":"00:00:00"},{"$f":"EXTRA5!$A$2","v":"EXTRA5"},null,{"$f":"EXTRA5!E67","v":0},{"$f":"EXTRA5!H67","v":0}]
[null,null,null,null,null,null,null,null,null,null,null,null,null,null,null,null,null,null,null,null,null,null,65,{"$f":"EXTRA5!B68","v":0},{"$f":"EXTRA5!C68","v":0},{"$f":"EXTRA5!D68","v":0},{"$f":"EXTRA5!F68","v":"00:00:00"},{"$f":"EXTRA5!$A$2","v":"EXTRA5"},null,{"$f":"EXTRA5!E68","v":0},{"$f":"EXTRA5!H68","v":0}]
[null,null,null,null,null,null,null,null,null,null,null,null,null,null,null,null,null,null,null,null,null,null,66,{"$f":"EXTRA5!B69","v":0},{"$f":"EXTRA5!C69","v":0},{"$f":"EXTRA5!D69","v":0},{"$f":"EXTRA5!F69","v":"00:00:00"},{"$f":"EXTRA5!$A$2","v":"EXTRA5"},null,{"$f":"EXTRA5!E69","v":0},{"$f":"EXTRA5!H69","v":0}]
[null,null,null,null,null,null,null,null,null,null,null,null,null,null,null,null,null,null,null,null,null,null,67,{"$f":"EXTRA5!B70","v":0},{"$f":"EXTRA5!C70","v":0},{"$f":"EXTRA5!D70","v":0},{"$f":"EXTRA5!F70","v":"00:00:00"},{"$f":"EXTRA5!$A$2","v":"EXTRA5"},null,{"$f":"EXTRA5!E70","v":0},{"$f":"EXTRA5!H70","v":0}]
[null,null,null,null,null,null,null,null,null,null,null,null,null,null,null,null,null,null,null,null,null,null,68,{"$f":"EXTRA5!B71","v":0},{"$f":"EXTRA5!C71","v":0},{"$f":"EXTRA5!D71","v":0},{"$f":"EXTRA5!F71","v":"00:00:00"},{"$f":"EXTRA5!$A$2","v":"EXTRA5"},null,{"$f":"EXTRA5!E71","v":0},{"$f":"EXTRA5!H71","v":0}]
[null,null,null,null,null,null,null,null,null,null,null,null,null,null,null,null,null,null,null,null,null,null,69,{"$f":"EXTRA5!B72","v":0},{"$f":"EXTRA5!C72","v":0},{"$f":"EXTRA5!D72","v":0},{"$f":"EXTRA5!F72","v":"00:00:00"},{"$f":"EXTRA5!$A$2","v":"EXTRA5"},null,{"$f":"EXTRA5!E72","v":0},{"$f":"EXTRA5!H72","v":0}]
[null,null,null,null,null,null,null,null,null,null,null,null,null,null,null,null,null,null,null,null,null,null,70,{"$f":"EXTRA5!B73","v":0},{"$f":"EXTRA5!C73","v":0},{"$f":"EXTRA5!D73","v":0},{"$f":"EXTRA5!F73","v":"00:00:00"},{"$f":"EXTRA5!$A$2","v":"EXTRA5"},null,{"$f":"EXTRA5!E73","v":0},{"$f":"EXTRA5!H73","v":0}]
[null,null,null,null,null,null,null,null,null,null,null,null,null,null,null,null,null,null,null,null,null,null,71,{"$f":"EXTRA5!B74","v":0},{"$f":"EXTRA5!C74","v":0},{"$f":"EXTRA5!D74","v":0},{"$f":"EXTRA5!F74","v":"00:00:00"},{"$f":"EXTRA5!$A$2","v":"EXTRA5"},null,{"$f":"EXTRA5!E74","v":0},{"$f":"EXTRA5!H74","v":0}]
[null,null,null,null,null,null,null,null,null,null,null,null,null,null,null,null,null,null,null,null,null,null,72,{"$f":"EXTRA5!B75","v":0},{"$f":"EXTRA5!C75","v":0},{"$f":"EXTRA5!D75","v":0},{"$f":"EXTRA5!F75","v":"00:00:00"},{"$f":"EXTRA5!$A$2","v":"EXTRA5"},null,{"$f":"EXTRA5!E75","v":0},{"$f":"EXTRA5!H75","v":0}]
[null,null,null,null,null,null,null,null,null,null,null,null,null,null,null,null,null,null,null,null,null,null,73,{"$f":"EXTRA5!B76","v":0},{"$f":"EXTRA5!C76","v":0},{"$f":"EXTRA5!D76","v":0},{"$f":"EXTRA5!F76","v":"00:00:00"},{"$f":"EXTRA5!$A$2","v":"EXTRA5"},null,{"$f":"EXTRA5!E76","v":0},{"$f":"EXTRA5!H76","v":0}]
[null,null,null,null,null,null,null,null,null,null,null,null,null,null,null,null,null,null,null,null,null,null,74,{"$f":"EXTRA5!B77","v":0},{"$f":"EXTRA5!C77","v":0},{"$f":"EXTRA5!D77","v":0},{"$f":"EXTRA5!F77","v":"00:00:00"},{"$f":"EXTRA5!$A$2","v":"EXTRA5"},null,{"$f":"EXTRA5!E77","v":0},{"$f":"EXTRA5!H77","v":0}]
[null,null,null,null,null,null,null,null,null,null,null,null,null,null,null,null,null,null,null,null,null,null,75,{"$f":"EXTRA5!B78","v":0},{"$f":"EXTRA5!C78","v":0},{"$f":"EXTRA5!D78","v":0},{"$f":"EXTRA5!F78","v":"00:00:00"},{"$f":"EXTRA5!$A$2","v":"EXTRA5"},null,{"$f":"EXTRA5!E78","v":0},{"$f":"EXTRA5!H78","v":0}]
[null,null,null,null,null,null,null,null,null,null,null,null,null,null,null,null,null,null,null,null,null,null,76,{"$f":"EXTRA5!B79","v":0},{"$f":"EXTRA5!C79","v":0},{"$f":"EXTRA5!D79","v":0},{"$f":"EXTRA5!F79","v":"00:00:00"},{"$f":"EXTRA5!$A$2","v":"EXTRA5"},null,{"$f":"EXTRA5!E79","v":0},{"$f":"EXTRA5!H79","v":0}]
[null,null,null,null,null,null,null,null,null,null,null,null,null,null,null,null,null,null,null,null,null,null,77,{"$f":"EXTRA5!B80","v":0},{"$f":"EXTRA5!C80","v":0},{"$f":"EXTRA5!D80","v":0},{"$f":"EXTRA5!F80","v":"00:00:00"},{"$f":"EXTRA5!$A$2","v":"EXTRA5"},null,{"$f":"EXTRA5!E80","v":0},{"$f":"EXTRA5!H80","v":0}]
[null,null,null,null,null,null,null,null,null,null,null,null,null,null,null,null,null,null,null,null,null,null,78,{"$f":"EXTRA5!B81","v":0},{"$f":"EXTRA5!C81","v":0},{"$f":"EXTRA5!D81","v":0},{"$f":"EXTRA5!F81","v":"00:00:00"},{"$f":"EXTRA5!$A$2","v":"EXTRA5"},null,{"$f":"EXTRA5!E81","v":0},{"$f":"EXTRA5!H81","v":0}]
[null,null,null,null,null,null,null,null,null,null,null,null,null,null,null,null,null,null,null,null,null,null,79,{"$f":"EXTRA5!B82","v":0},{"$f":"EXTRA5!C82","v":0},{"$f":"EXTRA5!D82","v":0},{"$f":"EXTRA5!F82","v":"00:00:00"},{"$f":"EXTRA5!$A$2","v":"EXTRA5"},null,{"$f":"EXTRA5!E82","v":0},{"$f":"EXTRA5!H82","v":0}]
[null,null,null,null,null,null,null,null,null,null,null,null,null,null,null,null,null,null,null,null,null,null,80,{"$f":"EXTRA5!B83","v":0},{"$f":"EXTRA5!C83","v":0},{"$f":"EXTRA5!D83","v":0},{"$f":"EXTRA5!F83","v":"00:00:00"},{"$f":"EXTRA5!$A$2","v":"EXTRA5"},null,{"$f":"EXTRA5!E83","v":0},{"$f":"EXTRA5!H83","v":0}]
[null,null,null,null,null,null,null,null,null,null,null,null,null,null,null,null,null,null,null,null,null,null,81,{"$f":"EXTRA5!B84","v":0},{"$f":"EXTRA5!C84","v":0},{"$f":"EXTRA5!D84","v":0},{"$f":"EXTRA5!F84","v":"00:00:00"},{"$f":"EXTRA5!$A$2","v":"EXTRA5"},null,{"$f":"EXTRA5!E84","v":0},{"$f":"EXTRA5!H84","v":0}]
[null,null,null,null,null,null,null,null,null,null,null,null,null,null,null,null,null,null,null,null,null,null,82,{"$f":"EXTRA5!B85","v":0},{"$f":"EXTRA5!C85","v":0},{"$f":"EXTRA5!D85","v":0},{"$f":"EXTRA5!F85","v":"00:00:00"},{"$f":"EXTRA5!$A$2","v":"EXTRA5"},null,{"$f":"EXTRA5!E85","v":0},{"$f":"EXTRA5!H85","v":0}]
[null,null,null,null,null,null,null,null,null,null,null,null,null,null,null,null,null,null,null,null,null,null,83,{"$f":"EXTRA5!B86","v":0},{"$f":"EXTRA5!C86","v":0},{"$f":"EXTRA5!D86","v":0},{"$f":"EXTRA5!F86","v":"00:00:00"},{"$f":"EXTRA5!$A$2","v":"EXTRA5"},null,{"$f":"EXTRA5!E86","v":0},{"$f":"EXTRA5!H86","v":0}]
[null,null,null,null,null,null,null,null,null,null,null,null,null,null,null,null,null,null,null,null,null,null,84,{"$f":"EXTRA5!B87","v":0},{"$f":"EXTRA5!C87","v":0},{"$f":"EXTRA5!D87","v":0},{"$f":"EXTRA5!F87","v":"00:00:00"},{"$f":"EXTRA5!$A$2","v":"EXTRA5"},null,{"$f":"EXTRA5!E87","v":0},{"$f":"EXTRA5!H87","v":0}]
[null,null,null,null,null,null,null,null,null,null,null,null,null,null,null,null,null,null,null,null,null,null,85,{"$f":"EXTRA5!B88","v":0},{"$f":"EXTRA5!C88","v":0},{"$f":"EXTRA5!D88","v":0},{"$f":"EXTRA5!F88","v":"00:00:00"},{"$f":"EXTRA5!$A$2","v":"EXTRA5"},null,{"$f":"EXTRA5!E88","v":0},{"$f":"EXTRA5!H88","v":0}]
[null,null,null,null,null,null,null,null,null,null,null,null,null,null,null,null,null,null,null,null,null,null,86,{"$f":"EXTRA5!B89","v":0},{"$f":"EXTRA5!C89","v":0},{"$f":"EXTRA5!D89","v":0},{"$f":"EXTRA5!F89","v":"00:00:00"},{"$f":"EXTRA5!$A$2","v":"EXTRA5"},null,{"$f":"EXTRA5!E89","v":0},{"$f":"EXTRA5!H89","v":0}]
[null,null,null,null,null,null,null,null,null,null,null,null,null,null,null,null,null,null,null,null,null,null,87,{"$f":"EXTRA5!B90","v":0},{"$f":"EXTRA5!C90","v":0},{"$f":"EXTRA5!D90","v":0},{"$f":"EXTRA5!F90","v":"00:00:00"},{"$f":"EXTRA5!$A$2","v":"EXTRA5"},null,{"$f":"EXTRA5!E90","v":0},{"$f":"EXTRA5!H90","v":0}]
[null,null,null,null,null,null,null,null,null,null,null,null,null,null,null,null,null,null,null,null,null,null,88,{"$f":"EXTRA5!B91","v":0},{"$f":"EXTRA5!C91","v":0},{"$f":"EXTRA5!D91","v":0},{"$f":"EXTRA5!F91","v":"00:00:00"},{"$f":"EXTRA5!$A$2","v":"EXTRA5"},null,{"$f":"EXTRA5!E91","v":0},{"$f":"EXTRA5!H91","v":0}]
[null,null,null,null,null,null,null,null,null,null,null,null,null,null,null,null,null,null,null,null,null,null,89,{"$f":"EXTRA5!B92","v":0},{"$f":"EXTRA5!C92","v":0},{"$f":"EXTRA5!D92","v":0},{"$f":"EXTRA5!F92","v":"00:00:00"},{"$f":"EXTRA5!$A$2","v":"EXTRA5"},null,{"$f":"EXTRA5!E92","v":0},{"$f":"EXTRA5!H92","v":0}]
[null,null,null,null,null,null,null,null,null,null,null,null,null,null,null,null,null,null,null,null,null,null,90,{"$f":"EXTRA5!B93","v":0},{"$f":"EXTRA5!C93","v":0},{"$f":"EXTRA5!D93","v":0},{"$f":"EXTRA5!F93","v":"00:00:00"},{"$f":"EXTRA5!$A$2","v":"EXTRA5"},null,{"$f":"EXTRA5!E93","v":0},{"$f":"EXTRA5!H93","v":0}]
[null,null,null,null,null,null,null,null,null,null,null,null,null,null,null,null,null,null,null,null,null,null,91,{"$f":"EXTRA5!B94","v":0},{"$f":"EXTRA5!C94","v":0},{"$f":"EXTRA5!D94","v":0},{"$f":"EXTRA5!F94","v":"00:00:00"},{"$f":"EXTRA5!$A$2","v":"EXTRA5"},null,{"$f":"EXTRA5!E94","v":0},{"$f":"EXTRA5!H94","v":0}]
[null,null,null,null,null,null,null,null,null,null,null,null,null,null,null,null,null,null,null,null,null,null,92,{"$f":"EXTRA5!B95","v":0},{"$f":"EXTRA5!C95","v":0},{"$f":"EXTRA5!D95","v":0},{"$f":"EXTRA5!F95","v":"00:00:00"},{"$f":"EXTRA5!$A$2","v":"EXTRA5"},null,{"$f":"EXTRA5!E95","v":0},{"$f":"EXTRA5!H95","v":0}]
[null,null,null,null,null,null,null,null,null,null,null,null,null,null,null,null,null,null,null,null,null,null,93,{"$f":"EXTRA5!B96","v":0},{"$f":"EXTRA5!C96","v":0},{"$f":"EXTRA5!D96","v":0},{"$f":"EXTRA5!F96","v":"00:00:00"},{"$f":"EXTRA5!$A$2","v":"EXTRA5"},null,{"$f":"EXTRA5!E96","v":0},{"$f":"EXTRA5!H96","v":0}]
[null,null,null,null,null,null,null,null,null,null,null,null,null,null,null,null,null,null,null,null,null,null,94,{"$f":"EXTRA5!B97","v":0},{"$f":"EXTRA5!C97","v":0},{"$f":"EXTRA5!D97","v":0},{"$f":"EXTRA5!F97","v":"00:00:00"},{"$f":"EXTRA5!$A$2","v":"EXTRA5"},null,{"$f":"EXTRA5!E97","v":0},{"$f":"EXTRA5!H97","v":0}]
[null,null,null,null,null,null,null,null,null,null,null,null,null,null,null,null,null,null,null,null,null,null,95,{"$f":"EXTRA5!B98","v":0},{"$f":"EXTRA5!C98","v":0},{"$f":"EXTRA5!D98","v":0},{"$f":"EXTRA5!F98","v":"00:00:00"},{"$f":"EXTRA5!$A$2","v":"EXTRA5"},null,{"$f":"EXTRA5!E98","v":0},{"$f":"EXTRA5!H98","v":0}]
[null,null,null,null,null,null,null,null,null,null,null,null,null,null,null,null,null,null,null,null,null,null,96,{"$f":"EXTRA5!B99","v":0},{"$f":"EXTRA5!C99","v":0},{"$f":"EXTRA5!D99","v":0},{"$f":"EXTRA5!F99","v":"00:00:00"},{"$f":"EXTRA5!$A$2","v":"EXTRA5"},null,{"$f":"EXTRA5!E99","v":0},{"$f":"EXTRA5!H99","v":0}]
[null,null,null,null,null,null,null,null,null,null,null,null,null,null,null,null,null,null,null,null,null,null,97,{"$f":"EXTRA5!B100","v":0},{"$f":"EXTRA5!C100","v":0},{"$f":"EXTRA5!D100","v":0},{"$f":"EXTRA5!F100","v":"00:00:00"},{"$f":"EXTRA5!$A$2","v":"EXTRA5"},null,{"$f":"EXTRA5!E100","v":0},{"$f":"EXTRA5!H100","v":0}]
[null,null,null,null,null,null,null,null,null,null,null,null,null,null,null,null,null,null,null,null,null,null,98,{"$f":"EXTRA5!B101","v":0},{"$f":"EXTRA5!C101","v":0},{"$f":"EXTRA5!D101","v":0},{"$f":"EXTRA5!F101","v":"00:00:00"},{"$f":"EXTRA5!$A$2","v":"EXTRA5"},null,{"$f":"EXTRA5!E101","v":0},{"$f":"EXTRA5!H101","v":0}]
[null,null,null,null,null,null,null,null,null,null,null,null,null,null,null,null,null,null,null,null,null,null,99,{"$f":"EXTRA5!B102","v":0},{"$f":"EXTRA5!C102","v":0},{"$f":"EXTRA5!D102","v":0},{"$f":"EXTRA5!F102","v":"00:00:00"},{"$f":"EXTRA5!$A$2","v":"EXTRA5"},null,{"$f":"EXTRA5!E102","v":0},{"$f":"EXTRA5!H102","v":0}]
[null,null,null,null,null,null,null,null,null,null,null,null,null,null,null,null,null,null,null,null,null,null,100,{"$f":"EXTRA5!B103","v":0},{"$f":"EXTRA5!C103","v":0},{"$f":"EXTRA5!D103","v":0},{"$f":"EXTRA5!F103","v":"00:00:00"},{"$f":"EXTRA5!$A$2","v":"EXTRA5"},null,{"$f":"EXTRA5!E103","v":0},{"$f":"EXTRA5!H103","v":0}]
[null,null,null,null,null,null,null,null,null,null,null,null,null,null,null,null,null,null,null,null,null,null,101,{"$f":"EXTRA5!B104","v":0},{"$f":"EXTRA5!C104","v":0},{"$f":"EXTRA5!D104","v":0},{"$f":"EXTRA5!F104","v":"00:00:00"},{"$f":"EXTRA5!$A$2","v":"EXTRA5"},null,{"$f":"EXTRA5!E104","v":0},{"$f":"EXTRA5!H104","v":0}]
[null,null,null,null,null,null,null,null,null,null,null,null,null,null,null,null,null,null,null,null,null,null,102,{"$f":"EXTRA5!B105","v":0},{"$f":"EXTRA5!C105","v":0},{"$f":"EXTRA5!D105","v":0},{"$f":"EXTRA5!F105","v":"00:00:00"},{"$f":"EXTRA5!$A$2","v":"EXTRA5"},null,{"$f":"EXTRA5!E105","v":0},{"$f":"EXTRA5!H105","v":0}]
[null,null,null,null,null,null,null,null,null,null,null,null,null,null,null,null,null,null,null,null,null,null,103,{"$f":"EXTRA5!B106","v":0},{"$f":"EXTRA5!C106","v":0},{"$f":"EXTRA5!D106","v":0},{"$f":"EXTRA5!F106","v":"00:00:00"},{"$f":"EXTRA5!$A$2","v":"EXTRA5"},null,{"$f":"EXTRA5!E106","v":0},{"$f":"EXTRA5!H106","v":0}]
[null,null,null,null,null,null,null,null,null,null,null,null,null,null,null,null,null,null,null,null,null,null,104,{"$f":"EXTRA5!B107","v":0},{"$f":"EXTRA5!C107","v":0},{"$f":"EXTRA5!D107","v":0},{"$f":"EXTRA5!F107","v":"00:00:00"},{"$f":"EXTRA5!$A$2","v":"EXTRA5"},null,{"$f":"EXTRA5!E107","v":0},{"$f":"EXTRA5!H107","v":0}]
[null,null,null,null,null,null,null,null,null,null,null,null,null,null,null,null,null,null,null,null,null,null,105,{"$f":"EXTRA5!B108","v":0},{"$f":"EXTRA5!C108","v":0},{"$f":"EXTRA5!D108","v":0},{"$f":"EXTRA5!F108","v":"00:00:00"},{"$f":"EXTRA5!$A$2","v":"EXTRA5"},null,{"$f":"EXTRA5!E108","v":0},{"$f":"EXTRA5!H108","v":0}]
[null,null,null,null,null,null,null,null,null,null,null,null,null,null,null,null,null,null,null,null,null,null,106,{"$f":"EXTRA5!B109","v":0},{"$f":"EXTRA5!C109","v":0},{"$f":"EXTRA5!D109","v":0},{"$f":"EXTRA5!F109","v":"00:00:00"},{"$f":"EXTRA5!$A$2","v":"EXTRA5"},null,{"$f":"EXTRA5!E109","v":0},{"$f":"EXTRA5!H109","v":0}]
[null,null,null,null,null,null,null,null,null,null,null,null,null,null,null,null,null,null,null,null,null,null,107,{"$f":"EXTRA5!B110","v":0},{"$f":"EXTRA5!C110","v":0},{"$f":"EXTRA5!D110","v":0},{"$f":"EXTRA5!F110","v":"00:00:00"},{"$f":"EXTRA5!$A$2","v":"EXTRA5"},null,{"$f":"EXTRA5!E110","v":0},{"$f":"EXTRA5!H110","v":0}]
[null,null,null,null,null,null,null,null,null,null,null,null,null,null,null,null,null,null,null,null,null,null,108,{"$f":"EXTRA5!B111","v":0},{"$f":"EXTRA5!C111","v":0},{"$f":"EXTRA5!D111","v":0},{"$f":"EXTRA5!F111","v":"00:00:00"},{"$f":"EXTRA5!$A$2","v":"EXTRA5"},null,{"$f":"EXTRA5!E111","v":0},{"$f":"EXTRA5!H111","v":0}]
[null,null,null,null,null,null,null,null,null,null,null,null,null,null,null,null,null,null,null,null,null,null,109,{"$f":"EXTRA5!B112","v":0},{"$f":"EXTRA5!C112","v":0},{"$f":"EXTRA5!D112","v":0},{"$f":"EXTRA5!F112","v":"00:00:00"},{"$f":"EXTRA5!$A$2","v":"EXTRA5"},null,{"$f":"EXTRA5!E112","v":0},{"$f":"EXTRA5!H112","v":0}]
[null,null,null,null,null,null,null,null,null,null,null,null,null,null,null,null,null,null,null,null,null,null,110,{"$f":"EXTRA5!B113","v":0},{"$f":"EXTRA5!C113","v":0},{"$f":"EXTRA5!D113","v":0},{"$f":"EXTRA5!F113","v":"00:00:00"},{"$f":"EXTRA5!$A$2","v":"EXTRA5"},null,{"$f":"EXTRA5!E113","v":0},{"$f":"EXTRA5!H113","v":0}]
[null,null,null,null,null,null,null,null,null,null,null,null,null,null,null,null,null,null,null,null,null,null,111,{"$f":"EXTRA5!B114","v":0},{"$f":"EXTRA5!C114","v":0},{"$f":"EXTRA5!D114","v":0},{"$f":"EXTRA5!F114","v":"00:00:00"},{"$f":"EXTRA5!$A$2","v":"EXTRA5"},null,{"$f":"EXTRA5!E114","v":0},{"$f":"EXTRA5!H114","v":0}]
[null,null,null,null,null,null,null,null,null,null,null,null,null,null,null,null,null,null,null,null,null,null,112,{"$f":"EXTRA5!B115","v":0},{"$f":"EXTRA5!C115","v":0},{"$f":"EXTRA5!D115","v":0},{"$f":"EXTRA5!F115","v":"00:00:00"},{"$f":"EXTRA5!$A$2","v":"EXTRA5"},null,{"$f":"EXTRA5!E115","v":0},{"$f":"EXTRA5!H115","v":0}]
[null,null,null,null,null,null,null,null,null,null,null,null,null,null,null,null,null,null,null,null,null,null,113,{"$f":"EXTRA5!B116","v":0},{"$f":"EXTRA5!C116","v":0},{"$f":"EXTRA5!D116","v":0},{"$f":"EXTRA5!F116","v":"00:00:00"},{"$f":"EXTRA5!$A$2","v":"EXTRA5"},null,{"$f":"EXTRA5!E116","v":0},{"$f":"EXTRA5!H116","v":0}]
[null,null,null,null,null,null,null,null,null,null,null,null,null,null,null,null,null,null,null,null,null,null,114,{"$f":"EXTRA5!B117","v":0},{"$f":"EXTRA5!C117","v":0},{"$f":"EXTRA5!D117","v":0},{"$f":"EXTRA5!F117","v":"00:00:00"},{"$f":"EXTRA5!$A$2","v":"EXTRA5"},null,{"$f":"EXTRA5!E117","v":0},{"$f":"EXTRA5!H117","v":0}]
[null,null,null,null,null,null,null,null,null,null,null,null,null,null,null,null,null,null,null,null,null,null,115,{"$f":"EXTRA5!B118","v":0},{"$f":"EXTRA5!C118","v":0},{"$f":"EXTRA5!D118","v":0},{"$f":"EXTRA5!F118","v":"00:00:00"},{"$f":"EXTRA5!$A$2","v":"EXTRA5"},null,{"$f":"EXTRA5!E118","v":0},{"$f":"EXTRA5!H118","v":0}]
[null,null,null,null,null,null,null,null,null,null,null,null,null,null,null,null,null,null,null,null,null,null,116,{"$f":"EXTRA5!B119","v":0},{"$f":"EXTRA5!C119","v":0},{"$f":"EXTRA5!D119","v":0},{"$f":"EXTRA5!F119","v":"00:00:00"},{"$f":"EXTRA5!$A$2","v":"EXTRA5"},null,{"$f":"EXTRA5!E119","v":0},{"$f":"EXTRA5!H119","v":0}]
[null,null,null,null,null,null,null,null,null,null,null,null,null,null,null,null,null,null,null,null,null,null,117,{"$f":"EXTRA5!B120","v":0},{"$f":"EXTRA5!C120","v":0},{"$f":"EXTRA5!D120","v":0},{"$f":"EXTRA5!F120","v":"00:00:00"},{"$f":"EXTRA5!$A$2","v":"EXTRA5"},null,{"$f":"EXTRA5!E120","v":0},{"$f":"EXTRA5!H120","v":0}]
[null,null,null,null,null,null,null,null,null,null,null,null,null,null,null,null,null,null,null,null,null,null,118,{"$f":"EXTRA5!B121","v":0},{"$f":"EXTRA5!C121","v":0},{"$f":"EXTRA5!D121","v":0},{"$f":"EXTRA5!F121","v":"00:00:00"},{"$f":"EXTRA5!$A$2","v":"EXTRA5"},null,{"$f":"EXTRA5!E121","v":0},{"$f":"EXTRA5!H121","v":0}]
[null,null,null,null,null,null,null,null,null,null,null,null,null,null,null,null,null,null,null,null,null,null,119,{"$f":"EXTRA5!B122","v":0},{"$f":"EXTRA5!C122","v":0},{"$f":"EXTRA5!D122","v":0},{"$f":"EXTRA5!F122","v":"00:00:00"},{"$f":"EXTRA5!$A$2","v":"EXTRA5"},null,{"$f":"EXTRA5!E122","v":0},{"$f":"EXTRA5!H122","v":0}]
[null,null,null,null,null,null,null,null,null,null,null,null,null,null,null,null,null,null,null,null,null,null,120,{"$f":"EXTRA5!B123","v":0},{"$f":"EXTRA5!C123","v":0},{"$f":"EXTRA5!D123","v":0},{"$f":"EXTRA5!F123","v":"00:00:00"},{"$f":"EXTRA5!$A$2","v":"EXTRA5"},null,{"$f":"EXTRA5!E123","v":0},{"$f":"EXTRA5!H123","v":0}]
[null,null,null,null,null,null,null,null,null,null,null,null,null,null,null,null,null,null,null,null,null,null,121,{"$f":"EXTRA5!B124","v":0},{"$f":"EXTRA5!C124","v":0},{"$f":"EXTRA5!D124","v":0},{"$f":"EXTRA5!F124","v":"00:00:00"},{"$f":"EXTRA5!$A$2","v":"EXTRA5"},null,{"$f":"EXTRA5!E124","v":0},{"$f":"EXTRA5!H124","v":0}]
[null,null,null,null,null,null,null,null,null,null,null,null,null,null,null,null,null,null,null,null,null,null,122,{"$f":"EXTRA5!B125","v":0},{"$f":"EXTRA5!C125","v":0},{"$f":"EXTRA5!D125","v":0},{"$f":"EXTRA5!F125","v":"00:00:00"},{"$f":"EXTRA5!$A$2","v":"EXTRA5"},null,{"$f":"EXTRA5!E125","v":0},{"$f":"EXTRA5!H125","v":0}]
[null,null,null,null,null,null,null,null,null,null,null,null,null,null,null,null,null,null,null,null,null,null,123,{"$f":"EXTRA5!B126","v":0},{"$f":"EXTRA5!C126","v":0},{"$f":"EXTRA5!D126","v":0},{"$f":"EXTRA5!F126","v":"00:00:00"},{"$f":"EXTRA5!$A$2","v":"EXTRA5"},null,{"$f":"EXTRA5!E126","v":0},{"$f":"EXTRA5!H126","v":0}]
[null,null,null,null,null,null,null,null,null,null,null,null,null,null,null,null,null,null,null,null,null,null,124,{"$f":"EXTRA5!B127","v":0},{"$f":"EXTRA5!C127","v":0},{"$f":"EXTRA5!D127","v":0},{"$f":"EXTRA5!F127","v":"00:00:00"},{"$f":"EXTRA5!$A$2","v":"EXTRA5"},null,{"$f":"EXTRA5!E127","v":0},{"$f":"EXTRA5!H127","v":0}]
[null,null,null,null,null,null,null,null,null,null,null,null,null,null,null,null,null,null,null,null,null,null,125,{"$f":"EXTRA5!B128","v":0},{"$f":"EXTRA5!C128","v":0},{"$f":"EXTRA5!D128","v":0},{"$f":"EXTRA5!F128","v":"00:00:00"},{"$f":"EXTRA5!$A$2","v":"EXTRA5"},null,{"$f":"EXTRA5!E128","v":0},{"$f":"EXTRA5!H128","v":0}]
[null,null,null,null,null,null,null,null,null,null,null,null,null,null,null,null,null,null,null,null,null,null,126,{"$f":"EXTRA5!B129","v":0},{"$f":"EXTRA5!C129","v":0},{"$f":"EXTRA5!D129","v":0},{"$f":"EXTRA5!F129","v":"00:00:00"},{"$f":"EXTRA5!$A$2","v":"EXTRA5"},null,{"$f":"EXTRA5!E129","v":0},{"$f":"EXTRA5!H129","v":0}]
[null,null,null,null,null,null,null,null,null,null,null,null,null,null,null,null,null,null,null,null,null,null,127,{"$f":"EXTRA5!B130","v":0},{"$f":"EXTRA5!C130","v":0},{"$f":"EXTRA5!D130","v":0},{"$f":"EXTRA5!F130","v":"00:00:00"},{"$f":"EXTRA5!$A$2","v":"EXTRA5"},null,{"$f":"EXTRA5!E130","v":0},{"$f":"EXTRA5!H130","v":0}]
[null,null,null,null,null,null,null,null,null,null,null,null,null,null,null,null,null,null,null,null,null,null,128,{"$f":"EXTRA5!B131","v":0},{"$f":"EXTRA5!C131","v":0},{"$f":"EXTRA5!D131","v":0},{"$f":"EXTRA5!F131","v":"00:00:00"},{"$f":"EXTRA5!$A$2","v":"EXTRA5"},null,{"$f":"EXTRA5!E131","v":0},{"$f":"EXTRA5!H131","v":0}]
[null,null,null,null,null,null,null,null,null,null,null,null,null,null,null,null,null,null,null,null,null,null,129,{"$f":"EXTRA5!B132","v":0},{"$f":"EXTRA5!C132","v":0},{"$f":"EXTRA5!D132","v":0},{"$f":"EXTRA5!F132","v":"00:00:00"},{"$f":"EXTRA5!$A$2","v":"EXTRA5"},null,{"$f":"EXTRA5!E132","v":0},{"$f":"EXTRA5!H132","v":0}]
[null,null,null,null,null,null,null,null,null,null,null,null,null,null,null,null,null,null,null,null,null,null,130,{"$f":"EXTRA5!B133","v":0},{"$f":"EXTRA5!C133","v":0},{"$f":"EXTRA5!D133","v":0},{"$f":"EXTRA5!F133","v":"00:00:00"},{"$f":"EXTRA5!$A$2","v":"EXTRA5"},null,{"$f":"EXTRA5!E133","v":0},{"$f":"EXTRA5!H133","v":0}]
[null,null,null,null,null,null,null,null,null,null,null,null,null,null,null,null,null,null,null,null,null,null,131,{"$f":"EXTRA5!B134","v":0},{"$f":"EXTRA5!C134","v":0},{"$f":"EXTRA5!D134","v":0},{"$f":"EXTRA5!F134","v":"00:00:00"},{"$f":"EXTRA5!$A$2","v":"EXTRA5"},null,{"$f":"EXTRA5!E134","v":0},{"$f":"EXTRA5!H134","v":0}]
[null,null,null,null,null,null,null,null,null,null,null,null,null,null,null,null,null,null,null,null,null,null,132,{"$f":"EXTRA5!B135","v":0},{"$f":"EXTRA5!C135","v":0},{"$f":"EXTRA5!D135","v":0},{"$f":"EXTRA5!F135","v":"00:00:00"},{"$f":"EXTRA5!$A$2","v":"EXTRA5"},null,{"$f":"EXTRA5!E135","v":0},{"$f":"EXTRA5!H135","v":0}]
[null,null,null,null,null,null,null,null,null,null,null,null,null,null,null,null,null,null,null,null,null,null,133,{"$f":"EXTRA5!B136","v":0},{"$f":"EXTRA5!C136","v":0},{"$f":"EXTRA5!D136","v":0},{"$f":"EXTRA5!F136","v":"00:00:00"},{"$f":"EXTRA5!$A$2","v":"EXTRA5"},null,{"$f":"EXTRA5!E136","v":0},{"$f":"EXTRA5!H136","v":0}]
[null,null,null,null,null,null,null,null,null,null,null,null,null,null,null,null,null,null,null,null,null,null,134,{"$f":"EXTRA5!B137","v":0},{"$f":"EXTRA5!C137","v":0},{"$f":"EXTRA5!D137","v":0},{"$f":"EXTRA5!F137","v":"00:00:00"},{"$f":"EXTRA5!$A$2","v":"EXTRA5"},null,{"$f":"EXTRA5!E137","v":0},{"$f":"EXTRA5!H137","v":0}]
[null,null,null,null,null,null,null,null,null,null,null,null,null,null,null,null,null,null,null,null,null,null,135,{"$f":"EXTRA5!B138","v":0},{"$f":"EXTRA5!C138","v":0},{"$f":"EXTRA5!D138","v":0},{"$f":"EXTRA5!F138","v":"00:00:00"},{"$f":"EXTRA5!$A$2","v":"EXTRA5"},null,{"$f":"EXTRA5!E138","v":0},{"$f":"EXTRA5!H138","v":0}]
[null,null,null,null,null,null,null,null,null,null,null,null,null,null,null,null,null,null,null,null,null,null,136,{"$f":"EXTRA5!B139","v":0},{"$f":"EXTRA5!C139","v":0},{"$f":"EXTRA5!D139","v":0},{"$f":"EXTRA5!F139","v":"00:00:00"},{"$f":"EXTRA5!$A$2","v":"EXTRA5"},null,{"$f":"EXTRA5!E139","v":0},{"$f":"EXTRA5!H139","v":0}]
[null,null,null,null,null,null,null,null,null,null,null,null,null,null,null,null,null,null,null,null,null,null,137,{"$f":"EXTRA5!B140","v":0},{"$f":"EXTRA5!C140","v":0},{"$f":"EXTRA5!D140","v":0},{"$f":"EXTRA5!F140","v":"00:00:00"},{"$f":"EXTRA5!$A$2","v":"EXTRA5"},null,{"$f":"EXTRA5!E140","v":0},{"$f":"EXTRA5!H140","v":0}]
[null,null,null,null,null,null,null,null,null,null,null,null,null,null,null,null,null,null,null,null,null,null,138,{"$f":"EXTRA5!B141","v":0},{"$f":"EXTRA5!C141","v":0},{"$f":"EXTRA5!D141","v":0},{"$f":"EXTRA5!F141","v":"00:00:00"},{"$f":"EXTRA5!$A$2","v":"EXTRA5"},null,{"$f":"EXTRA5!E141","v":0},{"$f":"EXTRA5!H141","v":0}]
[null,null,null,null,null,null,null,null,null,null,null,null,null,null,null,null,null,null,null,null,null,null,139,{"$f":"EXTRA5!B142","v":0},{"$f":"EXTRA5!C142","v":0},{"$f":"EXTRA5!D142","v":0},{"$f":"EXTRA5!F142","v":"00:00:00"},{"$f":"EXTRA5!$A$2","v":"EXTRA5"},null,{"$f":"EXTRA5!E142","v":0},{"$f":"EXTRA5!H142","v":0}]
[null,null,null,null,null,null,null,null,null,null,null,null,null,null,null,null,null,null,null,null,null,null,140,{"$f":"EXTRA5!B143","v":0},{"$f":"EXTRA5!C143","v":0},{"$f":"EXTRA5!D143","v":0},{"$f":"EXTRA5!F143","v":"00:00:00"},{"$f":"EXTRA5!$A$2","v":"EXTRA5"},null,{"$f":"EXTRA5!E143","v":0},{"$f":"EXTRA5!H143","v":0}]
[null,null,null,null,null,null,null,null,null,null,null,null,null,null,null,null,null,null,null,null,null,null,141,{"$f":"EXTRA5!B144","v":0},{"$f":"EXTRA5!C144","v":0},{"$f":"EXTRA5!D144","v":0},{"$f":"EXTRA5!F144","v":"00:00:00"},{"$f":"EXTRA5!$A$2","v":"EXTRA5"},null,{"$f":"EXTRA5!E144","v":0},{"$f":"EXTRA5!H144","v":0}]
[null,null,null,null,null,null,null,null,null,null,null,null,null,null,null,null,null,null,null,null,null,null,142,{"$f":"EXTRA5!B145","v":0},{"$f":"EXTRA5!C145","v":0},{"$f":"EXTRA5!D145","v":0},{"$f":"EXTRA5!F145","v":"00:00:00"},{"$f":"EXTRA5!$A$2","v":"EXTRA5"},null,{"$f":"EXTRA5!E145","v":0},{"$f":"EXTRA5!H145","v":0}]
[null,null,null,null,null,null,null,null,null,null,null,null,null,null,null,null,null,null,null,null,null,null,143,{"$f":"EXTRA5!B146","v":0},{"$f":"EXTRA5!C146","v":0},{"$f":"EXTRA5!D146","v":0},{"$f":"EXTRA5!F146","v":"00:00:00"},{"$f":"EXTRA5!$A$2","v":"EXTRA5"},null,{"$f":"EXTRA5!E146","v":0},{"$f":"EXTRA5!H146","v":0}]
[null,null,null,null,null,null,null,null,null,null,null,null,null,null,null,null,null,null,null,null,null,null,144,{"$f":"EXTRA5!B147","v":0},{"$f":"EXTRA5!C147","v":0},{"$f":"EXTRA5!D147","v":0},{"$f":"EXTRA5!F147","v":"00:00:00"},{"$f":"EXTRA5!$A$2","v":"EXTRA5"},null,{"$f":"EXTRA5!E147","v":0},{"$f":"EXTRA5!H147","v":0}]
[null,null,null,null,null,null,null,null,null,null,null,null,null,null,null,null,null,null,null,null,null,null,145,{"$f":"EXTRA5!B148","v":0},{"$f":"EXTRA5!C148","v":0},{"$f":"EXTRA5!D148","v":0},{"$f":"EXTRA5!F148","v":"00:00:00"},{"$f":"EXTRA5!$A$2","v":"EXTRA5"},null,{"$f":"EXTRA5!E148","v":0},{"$f":"EXTRA5!H148","v":0}]
[null,null,null,null,null,null,null,null,null,null,null,null,null,null,null,null,null,null,null,null,null,null,146,{"$f":"EXTRA5!B149","v":0},{"$f":"EXTRA5!C149","v":0},{"$f":"EXTRA5!D149","v":0},{"$f":"EXTRA5!F149","v":"00:00:00"},{"$f":"EXTRA5!$A$2","v":"EXTRA5"},null,{"$f":"EXTRA5!E149","v":0},{"$f":"EXTRA5!H149","v":0}]
[null,null,null,null,null,null,null,null,null,null,null,null,null,null,null,null,null,null,null,null,null,null,147,{"$f":"EXTRA5!B150","v":0},{"$f":"EXTRA5!C150","v":0},{"$f":"EXTRA5!D150","v":0},{"$f":"EXTRA5!F150","v":"00:00:00"},{"$f":"EXTRA5!$A$2","v":"EXTRA5"},null,{"$f":"EXTRA5!E150","v":0},{"$f":"EXTRA5!H150","v":0}]
[null,null,null,null,null,null,null,null,null,null,null,null,null,null,null,null,null,null,null,null,null,null,148,{"$f":"EXTRA5!B151","v":0},{"$f":"EXTRA5!C151","v":0},{"$f":"EXTRA5!D151","v":0},{"$f":"EXTRA5!F151","v":"00:00:00"},{"$f":"EXTRA5!$A$2","v":"EXTRA5"},null,{"$f":"EXTRA5!E151","v":0},{"$f":"EXTRA5!H151","v":0}]
[null,null,null,null,null,null,null,null,null,null,null,null,null,null,null,null,null,null,null,null,null,null,149,{"$f":"EXTRA5!B152","v":0},{"$f":"EXTRA5!C152","v":0},{"$f":"EXTRA5!D152","v":0},{"$f":"EXTRA5!F152","v":"00:00:00"},{"$f":"EXTRA5!$A$2","v":"EXTRA5"},null,{"$f":"EXTRA5!E152","v":0},{"$f":"EXTRA5!H152","v":0}]
[null,null,null,null,null,null,null,null,null,null,null,null,null,null,null,null,null,null,null,null,null,null,150,{"$f":"EXTRA5!B153","v":0},{"$f":"EXTRA5!C153","v":0},{"$f":"EXTRA5!D153","v":0},{"$f":"EXTRA5!F153","v":"00:00:00"},{"$f":"EXTRA5!$A$2","v":"EXTRA5"},null,{"$f":"EXTRA5!E153","v":0},{"$f":"EXTRA5!H153","v":0}]

{"sheet":"U-DISE","index":2,"n_rows":2115,"n_cols":41,"rows_kept":2115,"cut":false,"hidden":false,"merged":[[6,40,6,42],[5,40,5,42],[66,16,66,33],[56,16,56,33],[57,15,57,33],[58,16,58,17],[58,20,58,21],[58,24,58,25],[58,28,58,29],[58,32,58,33],[45,16,45,33],[47,15,47,33],[48,16,48,17],[48,20,48,21],[48,24,48,25],[48,28,48,29],[48,32,48,33],[29,36,29,37],[37,16,37,33],[39,15,39,38],[40,16,40,17],[40,20,40,21],[40,24,40,25],[40,28,40,29],[40,32,40,33],[17,16,17,33],[20,15,20,38],[21,16,21,17],[21,20,21,21],[21,24,21,25],[21,28,21,29],[21,32,21,33],[10,36,10,37],[2,16,2,17],[2,20,2,21],[2,24,2,25],[2,28,2,29],[2,32,2,33],[4,16,5,16],[4,17,5,17],[4,20,6,20],[4,21,6,21],[4,24,7,24],[4,25,7,25],[4,28,8,28],[4,29,8,29],[4,32,9,32],[4,33,9,33]]}
[null,null,"U-DISE",null,null,null,null,null,null,null,null,null,null,null,null,null,"U-DISE AGEWISE/CASTEWISE",null,null,null,null,null,null,null,null,null,null,null,null,null,null,"SELECT CASTE :",null,null,null,null,"BC"]
["CLASS","SEX","RNO","ANO","NAME","FNAME","CASTE","DOB","AGE",null,null,null,null,null,null,null,"STUDENTS TABLES"]
[{"$f":"BONAFIDE.!AB6","v":"VITM"},{"$f":"BONAFIDE.!AE6","v":0},1,{"$f":"BONAFIDE.!X6","v":0},{"$f":"BONAFIDE.!Y6","v":0},{"$f":"BONAFIDE.!Z6","v":0},{"$f":"BONAFIDE.!AD6","v":0},{"$f":"BONAFIDE.!AA6","v":"00:00:00"},{"$f":"DATEDIF(H3,CUTOFFDT,\"Y\")","v":119},{"$f":"fillno(I3)","v":"119"},{"$f":"MID(A3,1,LEN(A3)-2)","v":"VI"},{"$f":"B3&J3&G3&K3","v":"01190VI"},{"$f":"B3&G3&MID(A3,1,LEN(A3)-2)&\" \" & RIGHT(A3,2)","v":"00VI TM"},null,null,null,"VI",null,null,null,"VII",null,null,null,"VIII",null,null,null,"IX",null,null,null,"X"]
[{"$f":"BONAFIDE.!AB7","v":"VITM"},{"$f":"BONAFIDE.!AE7","v":0},2,{"$f":"BONAFIDE.!X7","v":0},{"$f":"BONAFIDE.!Y7","v":0},{"$f":"BONAFIDE.!Z7","v":0},{"$f":"BONAFIDE.!AD7","v":0},{"$f":"BONAFIDE.!AA7","v":"00:00:00"},{"$f":"DATEDIF(H4,CUTOFFDT,\"Y\")","v":119},{"$f":"fillno(I4)","v":"119"},{"$f":"MID(A4,1,LEN(A4)-2)","v":"VI"},{"$f":"B4&J4&G4&K4","v":"01190VI"},{"$f":"B4&G4&MID(A4,1,LEN(A4)-2)&\" \" & RIGHT(A4,2)","v":"00VI TM"},null,null,null,"B","G",null,null,"B","G",null,null,"B","G",null,null,"B","G",null,null,"B","G"]
[{"$f":"BONAFIDE.!AB8","v":"VITM"},{"$f":"BONAFIDE.!AE8","v":0},3,{"$f":"BONAFIDE.!X8","v":0},{"$f":"BONAFIDE.!Y8","v":0},{"$f":"BONAFIDE.!Z8","v":0},{"$f":"BONAFIDE.!AD8","v":0},{"$f":"BONAFIDE.!AA8","v":"00:00:00"},119,"119","VI","01190VI","00VI TM",null,{"$f":"$AK$1","v":"BC"},"09",{"$f":"COUNTIF($L$3:$L$2115,\"B\"&P5&O5&\"VI\")+COUNTIF($L$3:$L$2115,\"B\"&P6&O6&\"VI\")","v":0},{"$f":"COUNTIF($L$3:$L$2115,\"G\"&P5&O5&\"VI\")+COUNTIF($L$3:$L$2115,\"G\"&P6&O6&\"VI\")","v":0},{"$f":"$AK$1","v":"BC"},"09",{"$f":"COUNTIF($L$3:$L$2115,\"B\"&T5&S5&\"VII\")+COUNTIF($L$3:$L$2115,\"B\"&T6&S6&\"VII\")+COUNTIF($L$3:$L$2115,\"B\"&T7&S7&\"VII\")","v":0},{"$f":"COUNTIF($L$3:$L$2115,\"G\"&T5&S5&\"VII\")+COUNTIF($L$3:$L$2115,\"G\"&T6&S6&\"VII\")+COUNTIF($L$3:$L$2115,\"G\"&T7&S7&\"VII\")","v":0},{"$f":"$AK$1","v":"BC"},"09",{"$f":"COUNTIF($L$3:$L$2115,\"B\"&X5&W5&\"VIII\")+COUNTIF($L$3:$L$2115,\"B\"&X6&W6&\"VIII\")+COUNTIF($L$3:$L$2115,\"B\"&X7&W7&\"VIII\")+COUNTIF($L$3:$L$2115,\"B\"&X8&W8&\"VIII\")","v":0},{"$f":"COUNTIF($L$3:$L$2115,\"G\"&X5&W5&\"VIII\")+COUNTIF($L$3:$L$2115,\"G\"&X6&W6&\"VIII\")+COUNTIF($L$3:$L$2115,\"G\"&X7&W7&\"VIII\")+COUNTIF($L$3:$L$2115,\"G\"&X8&W8&\"VIII\")","v":0},{"$f":"$AK$1","v":"BC"},"09",{"$f":"COUNTIF($L$3:$L$2115,\"B\"&AB5&AA5&\"IX\")+COUNTIF($L$3:$L$2115,\"B\"&AB6&AA6&\"IX\")+COUNTIF($L$3:$L$2115,\"B\"&AB7&AA7&\"IX\")+COUNTIF($L$3:$L$2115,\"B\"&AB8&AA8&\"IX\")+COUNTIF($L$3:$L$2115,\"B\"&AB9&AA9&\"IX\")","v":0},{"$f":"COUNTIF($L$3:$L$2115,\"G\"&AB5&AA5&\"IX\")+COUNTIF($L$3:$L$2115,\"G\"&AB6&AA6&\"IX\")+COUNTIF($L$3:$L$2115,\"G\"&AB7&AA7&\"IX\")+COUNTIF($L$3:$L$2115,\"G\"&AB8&AA8&\"IX\")+COUNTIF($L$3:$L$2115,\"G\"&AB9&AA9&\"IX\")","v":0},{"$f":"$AK$1","v":"BC"},"09",{"$f":"COUNTIF($L$3:$L$2115,\"B\"&AF5&AE5&\"X\")+COUNTIF($L$3:$L$2115,\"B\"&AF6&AE6&\"X\")+COUNTIF($L$3:$L$2115,\"B\"&AF7&AE7&\"X\")+COUNTIF($L$3:$L$2115,\"B\"&AF8&AE8&\"X\")+COUNTIF($L$3:$L$2115,\"B\"&AF9&AE9&\"X\")+COUNTIF($L$3:$L$2115,\"B\"&AF10&AE10&\"X\")","v":0},{"$f":"COUNTIF($L$3:$L$2115,\"G\"&AF5&AE5&\"X\")+COUNTIF($L$3:$L$2115,\"G\"&AF6&AE6&\"X\")+COUNTIF($L$3:$L$2115,\"G\"&AF7&AE7&\"X\")+COUNTIF($L$3:$L$2115,\"G\"&AF8&AE8&\"X\")+COUNTIF($L$3:$L$2115,\"G\"&AF9&AE9&\"X\")+COUNTIF($L$3:$L$2115,\"G\"&AF10&AE10&\"X\")","v":0},null,null,"BOYS","GIRLS","T"]
[{"$f":"BONAFIDE.!AB9","v":"VITM"},{"$f":"BONAFIDE.!AE9","v":0},4,{"$f":"BONAFIDE.!X9","v":0},{"$f":"BONAFIDE.!Y9","v":0},{"$f":"BONAFIDE.!Z9","v":0},{"$f":"BONAFIDE.!AD9","v":0},{"$f":"BONAFIDE.!AA9","v":"00:00:00"},119,"119","VI","01190VI","00VI TM",null,{"$f":"$AK$1","v":"BC"},"10",null,null,{"$f":"$AK$1","v":"BC"},"10",null,null,"BC","10",null,null,"BC","10",null,null,"BC","10",null,null,null,"OC",{"$f":"COUNTIF($L$3:$L$2115,\"B??\"&AJ6&\"*\")","v":0},{"$f":"COUNTIF($L$3:$L$2115,\"G??\"&AJ6&\"*\")","v":0},{"$f":"SUM(AK6:AL6)","v":0},null,"CUTOFF DATE"]
[{"$f":"BONAFIDE.!AB10","v":"VITM"},{"$f":"BONAFIDE.!AE10","v":0},5,{"$f":"BONAFIDE.!X10","v":0},{"$f":"BONAFIDE.!Y10","v":0},{"$f":"BONAFIDE.!Z10","v":0},{"$f":"BONAFIDE.!AD10","v":0},{"$f":"BONAFIDE.!AA10","v":"00:00:00"},119,"119","VI","01190VI","00VI TM",null,"BC","11",{"$f":"COUNTIF($L$3:$L$2115,\"B\"&P7&O7&\"VI\")","v":0},{"$f":"COUNTIF($L$3:$L$2115,\"G\"&P7&O7&\"VI\")","v":0},"BC","11",null,null,"BC","11",null,null,"BC","11",null,null,"BC","11",null,null,null,"SC",{"$f":"COUNTIF($L$3:$L$2115,\"B??\"&AJ7&\"*\")","v":0},{"$f":"COUNTIF($L$3:$L$2115,\"G??\"&AJ7&\"*\")","v":0},{"$f":"SUM(AK7:AL7)","v":0},null,"2019-08-31"]
[{"$f":"BONAFIDE.!AB11","v":"VITM"},{"$f":"BONAFIDE.!AE11","v":0},6,{"$f":"BONAFIDE.!X11","v":0},{"$f":"BONAFIDE.!Y11","v":0},{"$f":"BONAFIDE.!Z11","v":0},{"$f":"BONAFIDE.!AD11","v":0},{"$f":"BONAFIDE.!AA11","v":"00:00:00"},119,"119","VI","01190VI","00VI TM",null,"BC","12",0,0,"BC","12",{"$f":"COUNTIF($L$3:$L$2115,\"B\"&T8&S8&\"VII\")","v":0},{"$f":"COUNTIF($L$3:$L$2115,\"G\"&T8&S8&\"VII\")","v":0},"BC","12",null,null,"BC","12",null,null,"BC","12",null,null,null,"ST",{"$f":"COUNTIF($L$3:$L$2115,\"B??\"&AJ8&\"*\")","v":0},{"$f":"COUNTIF($L$3:$L$2115,\"G??\"&AJ8&\"*\")","v":0},{"$f":"SUM(AK8:AL8)","v":0}]
[{"$f":"BONAFIDE.!AB12","v":"VITM"},{"$f":"BONAFIDE.!AE12","v":0},7,{"$f":"BONAFIDE.!X12","v":0},{"$f":"BONAFIDE.!Y12","v":0},{"$f":"BONAFIDE.!Z12","v":0},{"$f":"BONAFIDE.!AD12","v":0},{"$f":"BONAFIDE.!AA12","v":"00:00:00"},119,"119","VI","01190VI","00VI TM",null,"BC","13",0,0,"BC","13",0,0,"BC","13",{"$f":"COUNTIF($L$3:$L$2115,\"B\"&X9&W9&\"VIII\")","v":0},{"$f":"COUNTIF($L$3:$L$2115,\"G\"&X9&W9&\"VIII\")","v":0},"BC","13",null,null,"BC","13",null,null,null,"BC",{"$f":"COUNTIF($L$3:$L$2115,\"B??\"&AJ9&\"*\")","v":0},{"$f":"COUNTIF($L$3:$L$2115,\"G??\"&AJ9&\"*\")","v":0},{"$f":"SUM(AK9:AL9)","v":0}]
[{"$f":"BONAFIDE.!AB13","v":"VITM"},{"$f":"BONAFIDE.!AE13","v":0},8,{"$f":"BONAFIDE.!X13","v":0},{"$f":"BONAFIDE.!Y13","v":0},{"$f":"BONAFIDE.!Z13","v":0},{"$f":"BONAFIDE.!AD13","v":0},{"$f":"BONAFIDE.!AA13","v":"00:00:00"},119,"119","VI","01190VI","00VI TM",null,"BC","14",0,0,"BC","14",0,0,"BC","14",0,0,"BC","14",{"$f":"COUNTIF($L$3:$L$2115,\"B\"&AB10&AA10&\"IX\")","v":0},{"$f":"COUNTIF($L$3:$L$2115,\"G\"&AB10&AA10&\"IX\")","v":0},"BC","14",null,null,null,"T",{"$f":"SUM(AK6:AK9)","v":0},{"$f":"SUM(AL6:AL9)","v":0},{"$f":"SUM(AK10:AL10)","v":0}]
[{"$f":"BONAFIDE.!AB14","v":"VITM"},{"$f":"BONAFIDE.!AE14","v":0},9,{"$f":"BONAFIDE.!X14","v":0},{"$f":"BONAFIDE.!Y14","v":0},{"$f":"BONAFIDE.!Z14","v":0},{"$f":"BONAFIDE.!AD14","v":0},{"$f":"BONAFIDE.!AA14","v":"00:00:00"},119,"119","VI","01190VI","00VI TM",null,"BC","15",0,0,"BC","15",0,0,"BC","15",0,0,"BC","15",0,0,"BC","15",{"$f":"COUNTIF($L$3:$L$2115,\"B\"&AF11&AE11&\"X\")","v":0},{"$f":"COUNTIF($L$3:$L$2115,\"G\"&AF11&AE11&\"X\")","v":0},null,"GT",{"$f":"SUM(AK10:AL10)","v":0}]
[{"$f":"BONAFIDE.!AB15","v":"VITM"},{"$f":"BONAFIDE.!AE15","v":0},10,{"$f":"BONAFIDE.!X15","v":0},{"$f":"BONAFIDE.!Y15","v":0},{"$f":"BONAFIDE.!Z15","v":0},{"$f":"BONAFIDE.!AD15","v":0},{"$f":"BONAFIDE.!AA15","v":"00:00:00"},119,"119","VI","01190VI","00VI TM",null,"BC","16",0,0,"BC","16",0,0,"BC","16",0,0,"BC","16",0,0,"BC","16",0,0]
[{"$f":"BONAFIDE.!AB16","v":"VITM"},{"$f":"BONAFIDE.!AE16","v":0},11,{"$f":"BONAFIDE.!X16","v":0},{"$f":"BONAFIDE.!Y16","v":0},{"$f":"BONAFIDE.!Z16","v":0},{"$f":"BONAFIDE.!AD16","v":0},{"$f":"BONAFIDE.!AA16","v":"00:00:00"},119,"119","VI","01190VI","00VI TM",null,"BC","17",0,0,"BC","17",0,0,"BC","17",0,0,"BC","17",0,0,"BC","17",0,0]
[{"$f":"BONAFIDE.!AB17","v":"VITM"},{"$f":"BONAFIDE.!AE17","v":0},12,{"$f":"BONAFIDE.!X17","v":0},{"$f":"BONAFIDE.!Y17","v":0},{"$f":"BONAFIDE.!Z17","v":0},{"$f":"BONAFIDE.!AD17","v":0},{"$f":"BONAFIDE.!AA17","v":"00:00:00"},119,"119","VI","01190VI","00VI TM",null,"BC","18",0,0,"BC","18",0,0,"BC","18",0,0,"BC","18",0,0,"BC","18",0,0]
[{"$f":"BONAFIDE.!AB18","v":"VITM"},{"$f":"BONAFIDE.!AE18","v":0},13,{"$f":"BONAFIDE.!X18","v":0},{"$f":"BONAFIDE.!Y18","v":0},{"$f":"BONAFIDE.!Z18","v":0},{"$f":"BONAFIDE.!AD18","v":0},{"$f":"BONAFIDE.!AA18","v":"00:00:00"},119,"119","VI","01190VI","00VI TM",null,"BC","19",0,0,"BC","19",0,0,"BC","19",0,0,"BC","19",0,0,"BC","19",0,0]
[{"$f":"BONAFIDE.!AB19","v":"VITM"},{"$f":"BONAFIDE.!AE19","v":0},14,{"$f":"BONAFIDE.!X19","v":0},{"$f":"BONAFIDE.!Y19","v":0},{"$f":"BONAFIDE.!Z19","v":0},{"$f":"BONAFIDE.!AD19","v":0},{"$f":"BONAFIDE.!AA19","v":"00:00:00"},119,"119","VI","01190VI","00VI TM",null,"BC","20",0,0,"BC","20",0,0,"BC","20",0,0,"BC","20",0,0,"BC","20",0,0]
[{"$f":"BONAFIDE.!AB20","v":"VITM"},{"$f":"BONAFIDE.!AE20","v":0},15,{"$f":"BONAFIDE.!X20","v":0},{"$f":"BONAFIDE.!Y20","v":0},{"$f":"BONAFIDE.!Z20","v":0},{"$f":"BONAFIDE.!AD20","v":0},{"$f":"BONAFIDE.!AA20","v":"00:00:00"},119,"119","VI","01190VI","00VI TM",null,null,null,{"$f":"SUM(Q5:Q16)","v":0},{"$f":"SUM(R5:R16)","v":0},null,null,{"$f":"SUM(U5:U16)","v":0},{"$f":"SUM(V5:V16)","v":0},null,null,{"$f":"SUM(Y5:Y16)","v":0},{"$f":"SUM(Z5:Z16)","v":0},null,null,{"$f":"SUM(AC5:AC16)","v":0},{"$f":"SUM(AD5:AD16)","v":0},null,null,{"$f":"SUM(AG5:AG16)","v":0},{"$f":"SUM(AH5:AH16)","v":0}]
[{"$f":"BONAFIDE.!AB21","v":"VITM"},{"$f":"BONAFIDE.!AE21","v":0},16,{"$f":"BONAFIDE.!X21","v":0},{"$f":"BONAFIDE.!Y21","v":0},{"$f":"BONAFIDE.!Z21","v":0},{"$f":"BONAFIDE.!AD21","v":0},{"$f":"BONAFIDE.!AA21","v":"00:00:00"},119,"119","VI","01190VI","00VI TM",null,null,null,{"$f":"SUM(Q17:AH17)","v":0}]
[{"$f":"BONAFIDE.!AB22","v":"VITM"},{"$f":"BONAFIDE.!AE22","v":0},17,{"$f":"BONAFIDE.!X22","v":0},{"$f":"BONAFIDE.!Y22","v":0},{"$f":"BONAFIDE.!Z22","v":0},{"$f":"BONAFIDE.!AD22","v":0},{"$f":"BONAFIDE.!AA22","v":"00:00:00"},119,"119","VI","01190VI","00VI TM"]
[{"$f":"BONAFIDE.!AB23","v":"VITM"},{"$f":"BONAFIDE.!AE23","v":0},18,{"$f":"BONAFIDE.!X23","v":0},{"$f":"BONAFIDE.!Y23","v":0},{"$f":"BONAFIDE.!Z23","v":0},{"$f":"BONAFIDE.!AD23","v":0},{"$f":"BONAFIDE.!AA23","v":"00:00:00"},119,"119","VI","01190VI","00VI TM"]
[{"$f":"BONAFIDE.!AB24","v":"VITM"},{"$f":"BONAFIDE.!AE24","v":0},19,{"$f":"BONAFIDE.!X24","v":0},{"$f":"BONAFIDE.!Y24","v":0},{"$f":"BONAFIDE.!Z24","v":0},{"$f":"BONAFIDE.!AD24","v":0},{"$f":"BONAFIDE.!AA24","v":"00:00:00"},119,"119","VI","01190VI","00VI TM",null,null,"AGE WISE"]
[{"$f":"BONAFIDE.!AB25","v":"VITM"},{"$f":"BONAFIDE.!AE25","v":0},20,{"$f":"BONAFIDE.!X25","v":0},{"$f":"BONAFIDE.!Y25","v":0},{"$f":"BONAFIDE.!Z25","v":0},{"$f":"BONAFIDE.!AD25","v":0},{"$f":"BONAFIDE.!AA25","v":"00:00:00"},119,"119","VI","01190VI","00VI TM",null,null,null,"VI",null,null,null,"VII",null,null,null,"VIII",null,null,null,"IX",null,null,null,"X"]
[{"$f":"BONAFIDE.!AB26","v":"VITM"},{"$f":"BONAFIDE.!AE26","v":0},21,{"$f":"BONAFIDE.!X26","v":0},{"$f":"BONAFIDE.!Y26","v":0},{"$f":"BONAFIDE.!Z26","v":0},{"$f":"BONAFIDE.!AD26","v":0},{"$f":"BONAFIDE.!AA26","v":"00:00:00"},119,"119","VI","01190VI","00VI TM",null,null,null,"B","G",null,null,"B","G",null,null,"B","G",null,null,"B","G",null,null,"B","G",null,null,"BOYS","GIRLS"]
[{"$f":"BONAFIDE.!AB27","v":"VITM"},{"$f":"BONAFIDE.!AE27","v":0},22,{"$f":"BONAFIDE.!X27","v":0},{"$f":"BONAFIDE.!Y27","v":0},{"$f":"BONAFIDE.!Z27","v":0},{"$f":"BONAFIDE.!AD27","v":0},{"$f":"BONAFIDE.!AA27","v":"00:00:00"},119,"119","VI","01190VI","00VI TM",null,null,"09",{"$f":"COUNTIF($L$3:$L$2115,\"B\"&P24&\"??\"&\"VI\")","v":0},{"$f":"COUNTIF($L$3:$L$2115,\"G\"&P24&\"??\"&\"VI\")","v":0},null,"09",{"$f":"COUNTIF($L$3:$L$2115,\"B\"&T24&\"??\"&\"VII\")","v":0},{"$f":"COUNTIF($L$3:$L$2115,\"G\"&T24&\"??\"&\"VII\")","v":0},null,"09",{"$f":"COUNTIF($L$3:$L$2115,\"B\"&X24&\"??\"&\"VIII\")","v":0},{"$f":"COUNTIF($L$3:$L$2115,\"G\"&X24&\"??\"&\"VIII\")","v":0},null,"09",{"$f":"COUNTIF($L$3:$L$2115,\"B\"&AB24&\"??\"&\"IX\")","v":0},{"$f":"COUNTIF($L$3:$L$2115,\"G\"&AB24&\"??\"&\"IX\")","v":0},null,"09",{"$f":"COUNTIF($L$3:$L$2115,\"B\"&AF24&\"??\"&\"X\")","v":0},{"$f":"COUNTIF($L$3:$L$2115,\"G\"&AF24&\"??\"&\"X\")","v":0},null,"VI",{"$f":"COUNTIF($L$3:$L$2115,\"B????\" &AJ24)","v":0},{"$f":"COUNTIF($L$3:$L$2115,\"G????\" &AJ24)","v":0}]
[{"$f":"BONAFIDE.!AB28","v":"VITM"},{"$f":"BONAFIDE.!AE28","v":0},23,{"$f":"BONAFIDE.!X28","v":0},{"$f":"BONAFIDE.!Y28","v":0},{"$f":"BONAFIDE.!Z28","v":0},{"$f":"BONAFIDE.!AD28","v":0},{"$f":"BONAFIDE.!AA28","v":"00:00:00"},119,"119","VI","01190VI","00VI TM",null,null,"10",0,0,null,"10",0,0,null,"10",0,0,null,"10",0,0,null,"10",0,0,null,"VII",{"$f":"COUNTIF($L$3:$L$2115,\"B????\" &AJ25)","v":0},{"$f":"COUNTIF($L$3:$L$2115,\"G????\" &AJ25)","v":0}]
[{"$f":"BONAFIDE.!AB29","v":"VITM"},{"$f":"BONAFIDE.!AE29","v":0},24,{"$f":"BONAFIDE.!X29","v":0},{"$f":"BONAFIDE.!Y29","v":0},{"$f":"BONAFIDE.!Z29","v":0},{"$f":"BONAFIDE.!AD29","v":0},{"$f":"BONAFIDE.!AA29","v":"00:00:00"},119,"119","VI","01190VI","00VI TM",null,null,"11",0,0,null,"11",0,0,null,"11",0,0,null,"11",0,0,null,"11",0,0,null,"VIII",{"$f":"COUNTIF($L$3:$L$2115,\"B????\" &AJ26)","v":0},{"$f":"COUNTIF($L$3:$L$2115,\"G????\" &AJ26)","v":0}]
[{"$f":"BONAFIDE.!AB30","v":"VITM"},{"$f":"BONAFIDE.!AE30","v":0},25,{"$f":"BONAFIDE.!X30","v":0},{"$f":"BONAFIDE.!Y30","v":0},{"$f":"BONAFIDE.!Z30","v":0},{"$f":"BONAFIDE.!AD30","v":0},{"$f":"BONAFIDE.!AA30","v":"00:00:00"},119,"119","VI","01190VI","00VI TM",null,null,"12",0,0,null,"12",0,0,null,"12",0,0,null,"12",0,0,null,"12",0,0,null,"IX",{"$f":"COUNTIF($L$3:$L$2115,\"B*\" &AJ27)","v":0},{"$f":"COUNTIF($L$3:$L$2115,\"G????\" &AJ27)","v":0}]
[{"$f":"BONAFIDE.!AB31","v":"VITM"},{"$f":"BONAFIDE.!AE31","v":0},26,{"$f":"BONAFIDE.!X31","v":0},{"$f":"BONAFIDE.!Y31","v":0},{"$f":"BONAFIDE.!Z31","v":0},{"$f":"BONAFIDE.!AD31","v":0},{"$f":"BONAFIDE.!AA31","v":"00:00:00"},119,"119","VI","01190VI","00VI TM",null,null,"13",0,0,null,"13",0,0,null,"13",0,0,null,"13",0,0,null,"13",0,0,null,"X",{"$f":"COUNTIF($L$3:$L$2115,\"B????\" &AJ28)","v":0},{"$f":"COUNTIF($L$3:$L$2115,\"G????\" &AJ28)","v":0}]
[{"$f":"BONAFIDE.!AB32","v":"VITM"},{"$f":"BONAFIDE.!AE32","v":0},27,{"$f":"BONAFIDE.!X32","v":0},{"$f":"BONAFIDE.!Y32","v":0},{"$f":"BONAFIDE.!Z32","v":0},{"$f":"BONAFIDE.!AD32","v":0},{"$f":"BONAFIDE.!AA32","v":"00:00:00"},119,"119","VI","01190VI","00VI TM",null,null,"14",0,0,null,"14",0,0,null,"14",0,0,null,"14",0,0,null,"14",0,0,null,"T",{"$f":"SUM(AK24:AK28)","v":0},{"$f":"SUM(AL24:AL28)","v":0}]
[{"$f":"BONAFIDE.!AB33","v":"VITM"},{"$f":"BONAFIDE.!AE33","v":0},28,{"$f":"BONAFIDE.!X33","v":0},{"$f":"BONAFIDE.!Y33","v":0},{"$f":"BONAFIDE.!Z33","v":0},{"$f":"BONAFIDE.!AD33","v":0},{"$f":"BONAFIDE.!AA33","v":"00:00:00"},119,"119","VI","01190VI","00VI TM",null,null,"15",0,0,null,"15",0,0,null,"15",0,0,null,"15",0,0,null,"15",0,0,null,"GT",{"$f":"SUM(AK29:AL29)","v":0}]
[{"$f":"BONAFIDE.!AB34","v":"VITM"},{"$f":"BONAFIDE.!AE34","v":0},29,{"$f":"BONAFIDE.!X34","v":0},{"$f":"BONAFIDE.!Y34","v":0},{"$f":"BONAFIDE.!Z34","v":0},{"$f":"BONAFIDE.!AD34","v":0},{"$f":"BONAFIDE.!AA34","v":"00:00:00"},119,"119","VI","01190VI","00VI TM",null,null,"16",0,0,null,"16",0,0,null,"16",0,0,null,"16",0,0,null,"16",0,0]
[{"$f":"BONAFIDE.!AB35","v":"VITM"},{"$f":"BONAFIDE.!AE35","v":0},30,{"$f":"BONAFIDE.!X35","v":0},{"$f":"BONAFIDE.!Y35","v":0},{"$f":"BONAFIDE.!Z35","v":0},{"$f":"BONAFIDE.!AD35","v":0},{"$f":"BONAFIDE.!AA35","v":"00:00:00"},119,"119","VI","01190VI","00VI TM",null,null,"17",0,0,null,"17",0,0,null,"17",0,0,null,"17",0,0,null,"17",0,0]
[{"$f":"BONAFIDE.!AB36","v":"VITM"},{"$f":"BONAFIDE.!AE36","v":0},31,{"$f":"BONAFIDE.!X36","v":0},{"$f":"BONAFIDE.!Y36","v":0},{"$f":"BONAFIDE.!Z36","v":0},{"$f":"BONAFIDE.!AD36","v":0},{"$f":"BONAFIDE.!AA36","v":"00:00:00"},119,"119","VI","01190VI","00VI TM",null,null,"18",0,0,null,"18",0,0,null,"18",0,0,null,"18",0,0,null,"18",0,0]
[{"$f":"BONAFIDE.!AB37","v":"VITM"},{"$f":"BONAFIDE.!AE37","v":0},32,{"$f":"BONAFIDE.!X37","v":0},{"$f":"BONAFIDE.!Y37","v":0},{"$f":"BONAFIDE.!Z37","v":0},{"$f":"BONAFIDE.!AD37","v":0},{"$f":"BONAFIDE.!AA37","v":"00:00:00"},119,"119","VI","01190VI","00VI TM",null,null,"19",0,0,null,"19",0,0,null,"19",0,0,null,"19",0,0,null,"19",0,0]
[{"$f":"BONAFIDE.!AB38","v":"VITM"},{"$f":"BONAFIDE.!AE38","v":0},33,{"$f":"BONAFIDE.!X38","v":0},{"$f":"BONAFIDE.!Y38","v":0},{"$f":"BONAFIDE.!Z38","v":0},{"$f":"BONAFIDE.!AD38","v":0},{"$f":"BONAFIDE.!AA38","v":"00:00:00"},119,"119","VI","01190VI","00VI TM",null,null,"20",0,0,null,"20",0,0,null,"20",0,0,null,"20",0,0,null,"20",0,0]
[{"$f":"BONAFIDE.!AB39","v":"VITM"},{"$f":"BONAFIDE.!AE39","v":0},34,{"$f":"BONAFIDE.!X39","v":0},{"$f":"BONAFIDE.!Y39","v":0},{"$f":"BONAFIDE.!Z39","v":0},{"$f":"BONAFIDE.!AD39","v":0},{"$f":"BONAFIDE.!AA39","v":"00:00:00"},119,"119","VI","01190VI","00VI TM",null,null,21,0,0,null,21,0,0,null,21,0,0,null,21,0,0,null,113,0,0]
[{"$f":"BONAFIDE.!AB40","v":"VITM"},{"$f":"BONAFIDE.!AE40","v":0},35,{"$f":"BONAFIDE.!X40","v":0},{"$f":"BONAFIDE.!Y40","v":0},{"$f":"BONAFIDE.!Z40","v":0},{"$f":"BONAFIDE.!AD40","v":0},{"$f":"BONAFIDE.!AA40","v":"00:00:00"},119,"119","VI","01190VI","00VI TM",null,null,null,{"$f":"SUM(Q24:Q36)","v":0},{"$f":"SUM(R24:R36)","v":0},null,null,{"$f":"SUM(U24:U36)","v":0},{"$f":"SUM(V24:V36)","v":0},null,null,{"$f":"SUM(Y24:Y36)","v":0},{"$f":"SUM(Z24:Z36)","v":0},null,null,{"$f":"SUM(AC24:AC36)","v":0},{"$f":"SUM(AD24:AD36)","v":0},null,null,{"$f":"SUM(AG24:AG36)","v":0},{"$f":"SUM(AH24:AH36)","v":0}]
[{"$f":"BONAFIDE.!AB41","v":"VITM"},{"$f":"BONAFIDE.!AE41","v":0},36,{"$f":"BONAFIDE.!X41","v":0},{"$f":"BONAFIDE.!Y41","v":0},{"$f":"BONAFIDE.!Z41","v":0},{"$f":"BONAFIDE.!AD41","v":0},{"$f":"BONAFIDE.!AA41","v":"00:00:00"},119,"119","VI","01190VI","00VI TM",null,null,null,{"$f":"SUM(Q37:AH37)","v":0}]
[{"$f":"BONAFIDE.!AB42","v":"VITM"},{"$f":"BONAFIDE.!AE42","v":0},37,{"$f":"BONAFIDE.!X42","v":0},{"$f":"BONAFIDE.!Y42","v":0},{"$f":"BONAFIDE.!Z42","v":0},{"$f":"BONAFIDE.!AD42","v":0},{"$f":"BONAFIDE.!AA42","v":"00:00:00"},119,"119","VI","01190VI","00VI TM"]
[{"$f":"BONAFIDE.!AB43","v":"VITM"},{"$f":"BONAFIDE.!AE43","v":0},38,{"$f":"BONAFIDE.!X43","v":0},{"$f":"BONAFIDE.!Y43","v":0},{"$f":"BONAFIDE.!Z43","v":0},{"$f":"BONAFIDE.!AD43","v":0},{"$f":"BONAFIDE.!AA43","v":"00:00:00"},119,"119","VI","01190VI","00VI TM",null,null,"G.Enrolement in Current Academic Session (By Medium of Instruction)"]
[{"$f":"BONAFIDE.!AB44","v":"VITM"},{"$f":"BONAFIDE.!AE44","v":0},39,{"$f":"BONAFIDE.!X44","v":0},{"$f":"BONAFIDE.!Y44","v":0},{"$f":"BONAFIDE.!Z44","v":0},{"$f":"BONAFIDE.!AD44","v":0},{"$f":"BONAFIDE.!AA44","v":"00:00:00"},119,"119","VI","01190VI","00VI TM",null,null,null,"VI",null,null,null,"VII",null,null,null,"VIII",null,null,null,"IX",null,null,null,"X"]
[{"$f":"BONAFIDE.!AB45","v":"VITM"},{"$f":"BONAFIDE.!AE45","v":0},40,{"$f":"BONAFIDE.!X45","v":0},{"$f":"BONAFIDE.!Y45","v":0},{"$f":"BONAFIDE.!Z45","v":0},{"$f":"BONAFIDE.!AD45","v":0},{"$f":"BONAFIDE.!AA45","v":"00:00:00"},119,"119","VI","01190VI","00VI TM",null,null,null,"B","G",null,null,"B","G",null,null,"B","G",null,null,"B","G",null,null,"B","G"]
[{"$f":"BONAFIDE.!AB46","v":"VITM"},{"$f":"BONAFIDE.!AE46","v":0},41,{"$f":"BONAFIDE.!X46","v":0},{"$f":"BONAFIDE.!Y46","v":0},{"$f":"BONAFIDE.!Z46","v":0},{"$f":"BONAFIDE.!AD46","v":0},{"$f":"BONAFIDE.!AA46","v":"00:00:00"},119,"119","VI","01190VI","00VI TM",null,null,"17-TEL",{"$f":"AG51","v":0},0,null,null,{"$f":"AG52","v":0},0,null,null,{"$f":"AG53","v":0},0,null,null,{"$f":"AG54","v":0},0,null,null,{"$f":"AG55","v":0},0]
[{"$f":"BONAFIDE.!AB47","v":"VITM"},{"$f":"BONAFIDE.!AE47","v":0},42,{"$f":"BONAFIDE.!X47","v":0},{"$f":"BONAFIDE.!Y47","v":0},{"$f":"BONAFIDE.!Z47","v":0},{"$f":"BONAFIDE.!AD47","v":0},{"$f":"BONAFIDE.!AA47","v":"00:00:00"},119,"119","VI","01190VI","00VI TM",null,null,"19-ENG",{"$f":"AG61","v":0},0,null,null,{"$f":"AG62","v":0},0,null,null,{"$f":"AG63","v":0},0,null,null,{"$f":"AG64","v":0},0,null,null,{"$f":"AG65","v":0},0]
[{"$f":"BONAFIDE.!AB48","v":"VITM"},{"$f":"BONAFIDE.!AE48","v":0},43,{"$f":"BONAFIDE.!X48","v":0},{"$f":"BONAFIDE.!Y48","v":0},{"$f":"BONAFIDE.!Z48","v":0},{"$f":"BONAFIDE.!AD48","v":0},{"$f":"BONAFIDE.!AA48","v":"00:00:00"},119,"119","VI","01190VI","00VI TM",null,null,null,{"$f":"SUM(Q43:Q44)","v":0},{"$f":"SUM(R43:R44)","v":0},null,null,{"$f":"SUM(U43:U44)","v":0},{"$f":"SUM(V43:V44)","v":0},null,null,{"$f":"SUM(Y43:Y44)","v":0},{"$f":"SUM(Z43:Z44)","v":0},null,null,{"$f":"SUM(AC43:AC44)","v":0},{"$f":"SUM(AD43:AD44)","v":0},null,null,{"$f":"SUM(AG43:AG44)","v":0},{"$f":"SUM(AH43:AH44)","v":0}]
[{"$f":"BONAFIDE.!AB49","v":"VITM"},{"$f":"BONAFIDE.!AE49","v":0},44,{"$f":"BONAFIDE.!X49","v":0},{"$f":"BONAFIDE.!Y49","v":0},{"$f":"BONAFIDE.!Z49","v":0},{"$f":"BONAFIDE.!AD49","v":0},{"$f":"BONAFIDE.!AA49","v":"00:00:00"},119,"119","VI","01190VI","00VI TM",null,null,null,{"$f":"SUM(Q45:AH45)","v":0}]
[{"$f":"BONAFIDE.!AB50","v":"VITM"},{"$f":"BONAFIDE.!AE50","v":0},45,{"$f":"BONAFIDE.!X50","v":0},{"$f":"BONAFIDE.!Y50","v":0},{"$f":"BONAFIDE.!Z50","v":0},{"$f":"BONAFIDE.!AD50","v":0},{"$f":"BONAFIDE.!AA50","v":"00:00:00"},119,"119","VI","01190VI","00VI TM"]
[{"$f":"BONAFIDE.!AB51","v":"VITM"},{"$f":"BONAFIDE.!AE51","v":0},{"$error":"#REF!"},{"$f":"BONAFIDE.!X51","v":0},{"$f":"BONAFIDE.!Y51","v":0},{"$f":"BONAFIDE.!Z51","v":0},{"$f":"BONAFIDE.!AD51","v":0},{"$f":"BONAFIDE.!AA51","v":"00:00:00"},119,"119","VI","01190VI","00VI TM",null,null,"R1 : Enrolment Medium : TELUGU"]
[{"$f":"BONAFIDE.!AB52","v":"VITM"},{"$f":"BONAFIDE.!AE52","v":0},{"$error":"#REF!"},{"$f":"BONAFIDE.!X52","v":0},{"$f":"BONAFIDE.!Y52","v":0},{"$f":"BONAFIDE.!Z52","v":0},{"$f":"BONAFIDE.!AD52","v":0},{"$f":"BONAFIDE.!AA52","v":"00:00:00"},119,"119","VI","01190VI","00VI TM",null,null,null,"OC",null,null,null,"SC",null,null,null,"ST",null,null,null,"BC",null,null,null,"TOTAL"]
[{"$f":"BONAFIDE.!AB53","v":"VITM"},{"$f":"BONAFIDE.!AE53","v":0},{"$error":"#REF!"},{"$f":"BONAFIDE.!X53","v":0},{"$f":"BONAFIDE.!Y53","v":0},{"$f":"BONAFIDE.!Z53","v":0},{"$f":"BONAFIDE.!AD53","v":0},{"$f":"BONAFIDE.!AA53","v":"00:00:00"},119,"119","VI","01190VI","00VI TM",null,null,null,"B","G",null,null,"B","G",null,null,"B","G",null,null,"B","G",null,null,"B","G"]
[{"$f":"BONAFIDE.!AB54","v":"VITM"},{"$f":"BONAFIDE.!AE54","v":0},{"$error":"#REF!"},{"$f":"BONAFIDE.!X54","v":0},{"$f":"BONAFIDE.!Y54","v":0},{"$f":"BONAFIDE.!Z54","v":0},{"$f":"BONAFIDE.!AD54","v":0},{"$f":"BONAFIDE.!AA54","v":"00:00:00"},119,"119","VI","01190VI","00VI TM",null,null,"VI TM",{"$f":"COUNTIF($M$3:$M$2115,\"BOCVI TM\")","v":0},{"$f":"COUNTIF($M$3:$M$2115,\"GOCVI TM\")","v":0},null,null,{"$f":"COUNTIF($M$3:$M$2115,\"BSCVI TM\")","v":0},{"$f":"COUNTIF($M$3:$M$2115,\"GSCVI TM\")","v":0},null,null,{"$f":"COUNTIF($M$3:$M$2115,\"BSTVI TM\")","v":0},{"$f":"COUNTIF($M$3:$M$2115,\"GSTVI TM\")","v":0},null,null,{"$f":"COUNTIF($M$3:$M$2115,\"BBCVI TM\")","v":0},{"$f":"COUNTIF($M$3:$M$2115,\"GBCVI TM\")","v":0},null,null,{"$f":"Q51+U51+Y51+AC51","v":0},0]
[{"$f":"BONAFIDE.!AB55","v":"VITM"},{"$f":"BONAFIDE.!AE55","v":0},{"$error":"#REF!"},{"$f":"BONAFIDE.!X55","v":0},{"$f":"BONAFIDE.!Y55","v":0},{"$f":"BONAFIDE.!Z55","v":0},{"$f":"BONAFIDE.!AD55","v":0},{"$f":"BONAFIDE.!AA55","v":"00:00:00"},119,"119","VI","01190VI","00VI TM",null,null,"VII TM",{"$f":"COUNTIF($M$3:$M$2115,\"BOCVII TM\")","v":0},{"$f":"COUNTIF($M$3:$M$2115,\"GOCVII TM\")","v":0},null,null,{"$f":"COUNTIF($M$3:$M$2115,\"BSCVII TM\")","v":0},{"$f":"COUNTIF($M$3:$M$2115,\"GSCVII TM\")","v":0},null,null,{"$f":"COUNTIF($M$3:$M$2115,\"BSTVII TM\")","v":0},{"$f":"COUNTIF($M$3:$M$2115,\"GSTVII TM\")","v":0},null,null,{"$f":"COUNTIF($M$3:$M$2115,\"BBCVII TM\")","v":0},{"$f":"COUNTIF($M$3:$M$2115,\"GBCVII TM\")","v":0},null,null,0,0]
[{"$f":"BONAFIDE.!AB56","v":"VITM"},{"$f":"BONAFIDE.!AE56","v":0},{"$error":"#REF!"},{"$f":"BONAFIDE.!X56","v":0},{"$f":"BONAFIDE.!Y56","v":0},{"$f":"BONAFIDE.!Z56","v":0},{"$f":"BONAFIDE.!AD56","v":0},{"$f":"BONAFIDE.!AA56","v":"00:00:00"},119,"119","VI","01190VI","00VI TM",null,null,"VIII TM",{"$f":"COUNTIF($M$3:$M$2115,\"BOCVIII TM\")","v":0},{"$f":"COUNTIF($M$3:$M$2115,\"GOCVIII TM\")","v":0},null,null,{"$f":"COUNTIF($M$3:$M$2115,\"BSCVIII TM\")","v":0},{"$f":"COUNTIF($M$3:$M$2115,\"GSCVIII TM\")","v":0},null,null,{"$f":"COUNTIF($M$3:$M$2115,\"BSTVIII TM\")","v":0},{"$f":"COUNTIF($M$3:$M$2115,\"GSTVIII TM\")","v":0},null,null,{"$f":"COUNTIF($M$3:$M$2115,\"BBCVIII TM\")","v":0},{"$f":"COUNTIF($M$3:$M$2115,\"GBCVIII TM\")","v":0},null,null,0,0]
[{"$f":"BONAFIDE.!AB57","v":"VITM"},{"$f":"BONAFIDE.!AE57","v":0},null,{"$f":"BONAFIDE.!X57","v":0},{"$f":"BONAFIDE.!Y57","v":0},{"$f":"BONAFIDE.!Z57","v":0},{"$f":"BONAFIDE.!AD57","v":0},{"$f":"BONAFIDE.!AA57","v":"00:00:00"},119,"119","VI","01190VI","00VI TM",null,null,"IX TM",{"$f":"COUNTIF($M$3:$M$2115,\"BOCIX TM\")","v":0},{"$f":"COUNTIF($M$3:$M$2115,\"GOCIX TM\")","v":0},null,null,{"$f":"COUNTIF($M$3:$M$2115,\"BSCIX TM\")","v":0},{"$f":"COUNTIF($M$3:$M$2115,\"GSCIX TM\")","v":0},null,null,{"$f":"COUNTIF($M$3:$M$2115,\"BSTIX TM\")","v":0},{"$f":"COUNTIF($M$3:$M$2115,\"GSTIX TM\")","v":0},null,null,{"$f":"COUNTIF($M$3:$M$2115,\"BBCIX TM\")","v":0},{"$f":"COUNTIF($M$3:$M$2115,\"GBCIX TM\")","v":0},null,null,0,0]
[{"$f":"BONAFIDE.!AB58","v":"VITM"},{"$f":"BONAFIDE.!AE58","v":0},null,{"$f":"BONAFIDE.!X58","v":0},{"$f":"BONAFIDE.!Y58","v":0},{"$f":"BONAFIDE.!Z58","v":0},{"$f":"BONAFIDE.!AD58","v":0},{"$f":"BONAFIDE.!AA58","v":"00:00:00"},119,"119","VI","01190VI","00VI TM",null,null,"X TM",{"$f":"COUNTIF($M$3:$M$2115,\"BOCX TM\")","v":0},{"$f":"COUNTIF($M$3:$M$2115,\"GOCX TM\")","v":0},null,null,{"$f":"COUNTIF($M$3:$M$2115,\"BSCX TM\")","v":0},{"$f":"COUNTIF($M$3:$M$2115,\"GSCX TM\")","v":0},null,null,{"$f":"COUNTIF($M$3:$M$2115,\"BSTX TM\")","v":0},{"$f":"COUNTIF($M$3:$M$2115,\"GSTX TM\")","v":0},null,null,{"$f":"COUNTIF($M$3:$M$2115,\"BBCX TM\")","v":0},{"$f":"COUNTIF($M$3:$M$2115,\"GBCX TM\")","v":0},null,null,0,0]
[{"$f":"BONAFIDE.!AB59","v":"VITM"},{"$f":"BONAFIDE.!AE59","v":0},1,{"$f":"BONAFIDE.!X59","v":0},{"$f":"BONAFIDE.!Y59","v":0},{"$f":"BONAFIDE.!Z59","v":0},{"$f":"BONAFIDE.!AD59","v":0},{"$f":"BONAFIDE.!AA59","v":"00:00:00"},119,"119","VI","01190VI","00VI TM",null,null,null,{"$f":"SUM(Q51:Q55)","v":0},{"$f":"SUM(R51:R55)","v":0},null,null,{"$f":"SUM(U51:U55)","v":0},{"$f":"SUM(V51:V55)","v":0},null,null,{"$f":"SUM(Y51:Y55)","v":0},{"$f":"SUM(Z51:Z55)","v":0},null,null,{"$f":"SUM(AC51:AC55)","v":0},{"$f":"SUM(AD51:AD55)","v":0},null,null,{"$f":"SUM(AG51:AG55)","v":0},{"$f":"SUM(AH51:AH55)","v":0},null,null,"TM",{"$f":"SUM(AG56:AH56)","v":0}]
[{"$f":"BONAFIDE.!AB60","v":"VITM"},{"$f":"BONAFIDE.!AE60","v":0},2,{"$f":"BONAFIDE.!X60","v":0},{"$f":"BONAFIDE.!Y60","v":0},{"$f":"BONAFIDE.!Z60","v":0},{"$f":"BONAFIDE.!AD60","v":0},{"$f":"BONAFIDE.!AA60","v":"00:00:00"},119,"119","VI","01190VI","00VI TM",null,null,null,{"$f":"\"TM TOTAL  :   \" & SUM(Q56:AD56)","v":"TM TOTAL  :   0"},null,null,null,null,null,null,null,null,null,null,null,null,null,null,null,null,null,null,null,"EM",{"$f":"SUM(AG66:AH66)","v":0}]
[{"$f":"BONAFIDE.!AB61","v":"VITM"},{"$f":"BONAFIDE.!AE61","v":0},3,{"$f":"BONAFIDE.!X61","v":0},{"$f":"BONAFIDE.!Y61","v":0},{"$f":"BONAFIDE.!Z61","v":0},{"$f":"BONAFIDE.!AD61","v":0},{"$f":"BONAFIDE.!AA61","v":"00:00:00"},119,"119","VI","01190VI","00VI TM",null,null,"R2 : Enrolment Medium : ENGLISH",null,null,null,null,null,null,null,null,null,null,null,null,null,null,null,null,null,null,null,null,"TOTAL",{"$f":"SUM(AL56:AL57)","v":0}]
[{"$f":"BONAFIDE.!AB62","v":"VITM"},{"$f":"BONAFIDE.!AE62","v":0},4,{"$f":"BONAFIDE.!X62","v":0},{"$f":"BONAFIDE.!Y62","v":0},{"$f":"BONAFIDE.!Z62","v":0},{"$f":"BONAFIDE.!AD62","v":0},{"$f":"BONAFIDE.!AA62","v":"00:00:00"},119,"119","VI","01190VI","00VI TM",null,null,null,"OC",null,null,null,"SC",null,null,null,"ST",null,null,null,"BC",null,null,null,"TOTAL"]
[{"$f":"BONAFIDE.!AB63","v":"VITM"},{"$f":"BONAFIDE.!AE63","v":0},5,{"$f":"BONAFIDE.!X63","v":0},{"$f":"BONAFIDE.!Y63","v":0},{"$f":"BONAFIDE.!Z63","v":0},{"$f":"BONAFIDE.!AD63","v":0},{"$f":"BONAFIDE.!AA63","v":"00:00:00"},119,"119","VI","01190VI","00VI TM",null,null,null,"B","G",null,null,"B","G",null,null,"B","G",null,null,"B","G",null,null,"B","G",null,null,"BOYS",{"$f":"AG56+AG66","v":0}]
[{"$f":"BONAFIDE.!AB64","v":"VITM"},{"$f":"BONAFIDE.!AE64","v":0},6,{"$f":"BONAFIDE.!X64","v":0},{"$f":"BONAFIDE.!Y64","v":0},{"$f":"BONAFIDE.!Z64","v":0},{"$f":"BONAFIDE.!AD64","v":0},{"$f":"BONAFIDE.!AA64","v":"00:00:00"},119,"119","VI","01190VI","00VI TM",null,null,"VI EM",{"$f":"COUNTIF($M$3:$M$2115,\"BOCVI EM\")","v":0},{"$f":"COUNTIF($M$3:$M$2115,\"GOCVI EM\")","v":0},null,null,{"$f":"COUNTIF($M$3:$M$2115,\"BSCVI EM\")","v":0},{"$f":"COUNTIF($M$3:$M$2115,\"GSCVI EM\")","v":0},null,null,{"$f":"COUNTIF($M$3:$M$2115,\"BSTVI EM\")","v":0},{"$f":"COUNTIF($M$3:$M$2115,\"GSTVI EM\")","v":0},null,null,{"$f":"COUNTIF($M$3:$M$2115,\"BBCVI EM\")","v":0},{"$f":"COUNTIF($M$3:$M$2115,\"GBCVI EM\")","v":0},null,null,{"$f":"Q61+U61+Y61+AC61","v":0},0,null,null,"GIRLS",{"$f":"AH56+AH66","v":0}]
[{"$f":"BONAFIDE.!AB65","v":"VITM"},{"$f":"BONAFIDE.!AE65","v":0},7,{"$f":"BONAFIDE.!X65","v":0},{"$f":"BONAFIDE.!Y65","v":0},{"$f":"BONAFIDE.!Z65","v":0},{"$f":"BONAFIDE.!AD65","v":0},{"$f":"BONAFIDE.!AA65","v":"00:00:00"},119,"119","VI","01190VI","00VI TM",null,null,"VII EM",{"$f":"COUNTIF($M$3:$M$2115,\"BOCVII EM\")","v":0},{"$f":"COUNTIF($M$3:$M$2115,\"GOCVII EM\")","v":0},null,null,{"$f":"COUNTIF($M$3:$M$2115,\"BSCVII EM\")","v":0},{"$f":"COUNTIF($M$3:$M$2115,\"GSCVII EM\")","v":0},null,null,{"$f":"COUNTIF($M$3:$M$2115,\"BSTVII EM\")","v":0},{"$f":"COUNTIF($M$3:$M$2115,\"GSTVII EM\")","v":0},null,null,{"$f":"COUNTIF($M$3:$M$2115,\"BBCVII EM\")","v":0},{"$f":"COUNTIF($M$3:$M$2115,\"GBCVII EM\")","v":0},null,null,0,0,null,null,"TOTAL",{"$f":"SUM(AL60:AL61)","v":0}]
[{"$f":"BONAFIDE.!AB66","v":"VITM"},{"$f":"BONAFIDE.!AE66","v":0},8,{"$f":"BONAFIDE.!X66","v":0},{"$f":"BONAFIDE.!Y66","v":0},{"$f":"BONAFIDE.!Z66","v":0},{"$f":"BONAFIDE.!AD66","v":0},{"$f":"BONAFIDE.!AA66","v":"00:00:00"},119,"119","VI","01190VI","00VI TM",null,null,"VIII EM",{"$f":"COUNTIF($M$3:$M$2115,\"BOCVIII EM\")","v":0},{"$f":"COUNTIF($M$3:$M$2115,\"GOCVIII EM\")","v":0},null,null,{"$f":"COUNTIF($M$3:$M$2115,\"BSCVIII EM\")","v":0},{"$f":"COUNTIF($M$3:$M$2115,\"GSCVIII EM\")","v":0},null,null,{"$f":"COUNTIF($M$3:$M$2115,\"BSTVIII EM\")","v":0},{"$f":"COUNTIF($M$3:$M$2115,\"GSTVIII EM\")","v":0},null,null,{"$f":"COUNTIF($M$3:$M$2115,\"BBCVIII EM\")","v":0},{"$f":"COUNTIF($M$3:$M$2115,\"GBCVIII EM\")","v":0},null,null,0,0]
[{"$f":"BONAFIDE.!AB67","v":"VITM"},{"$f":"BONAFIDE.!AE67","v":0},9,{"$f":"BONAFIDE.!X67","v":0},{"$f":"BONAFIDE.!Y67","v":0},{"$f":"BONAFIDE.!Z67","v":0},{"$f":"BONAFIDE.!AD67","v":0},{"$f":"BONAFIDE.!AA67","v":"00:00:00"},119,"119","VI","01190VI","00VI TM",null,null,"IX EM",{"$f":"COUNTIF($M$3:$M$2115,\"BOCIX EM\")","v":0},{"$f":"COUNTIF($M$3:$M$2115,\"GOCIX EM\")","v":0},null,null,{"$f":"COUNTIF($M$3:$M$2115,\"BSCIX EM\")","v":0},{"$f":"COUNTIF($M$3:$M$2115,\"GSCIX EM\")","v":0},null,null,{"$f":"COUNTIF($M$3:$M$2115,\"BSTIX EM\")","v":0},{"$f":"COUNTIF($M$3:$M$2115,\"GSTIX EM\")","v":0},null,null,{"$f":"COUNTIF($M$3:$M$2115,\"BBCIX EM\")","v":0},{"$f":"COUNTIF($M$3:$M$2115,\"GBCIX EM\")","v":0},null,null,0,0]
[{"$f":"BONAFIDE.!AB68","v":"VITM"},{"$f":"BONAFIDE.!AE68","v":0},10,{"$f":"BONAFIDE.!X68","v":0},{"$f":"BONAFIDE.!Y68","v":0},{"$f":"BONAFIDE.!Z68","v":0},{"$f":"BONAFIDE.!AD68","v":0},{"$f":"BONAFIDE.!AA68","v":"00:00:00"},119,"119","VI","01190VI","00VI TM",null,null,"X EM",{"$f":"COUNTIF($M$3:$M$2115,\"BOCX EM\")","v":0},{"$f":"COUNTIF($M$3:$M$2115,\"GOCX EM\")","v":0},null,null,{"$f":"COUNTIF($M$3:$M$2115,\"BSCX EM\")","v":0},{"$f":"COUNTIF($M$3:$M$2115,\"GSCX EM\")","v":0},null,null,{"$f":"COUNTIF($M$3:$M$2115,\"BSTX EM\")","v":0},{"$f":"COUNTIF($M$3:$M$2115,\"GSTX EM\")","v":0},null,null,{"$f":"COUNTIF($M$3:$M$2115,\"BBCX EM\")","v":0},{"$f":"COUNTIF($M$3:$M$2115,\"GBCX EM\")","v":0},null,null,0,0]
[{"$f":"BONAFIDE.!AB69","v":"VITM"},{"$f":"BONAFIDE.!AE69","v":0},11,{"$f":"BONAFIDE.!X69","v":0},{"$f":"BONAFIDE.!Y69","v":0},{"$f":"BONAFIDE.!Z69","v":0},{"$f":"BONAFIDE.!AD69","v":0},{"$f":"BONAFIDE.!AA69","v":"00:00:00"},119,"119","VI","01190VI","00VI TM",null,null,null,{"$f":"SUM(Q61:Q65)","v":0},{"$f":"SUM(R61:R65)","v":0},null,null,{"$f":"SUM(U61:U65)","v":0},{"$f":"SUM(V61:V65)","v":0},null,null,{"$f":"SUM(Y61:Y65)","v":0},{"$f":"SUM(Z61:Z65)","v":0},null,null,{"$f":"SUM(AC61:AC65)","v":0},{"$f":"SUM(AD61:AD65)","v":0},null,null,{"$f":"SUM(AG61:AG65)","v":0},{"$f":"SUM(AH61:AH65)","v":0}]
[{"$f":"BONAFIDE.!AB70","v":"VITM"},{"$f":"BONAFIDE.!AE70","v":0},12,{"$f":"BONAFIDE.!X70","v":0},{"$f":"BONAFIDE.!Y70","v":0},{"$f":"BONAFIDE.!Z70","v":0},{"$f":"BONAFIDE.!AD70","v":0},{"$f":"BONAFIDE.!AA70","v":"00:00:00"},119,"119","VI","01190VI","00VI TM",null,null,null,{"$f":"\"EM TOTAL  :   \" & SUM(Q66:AD66)","v":"EM TOTAL  :   0"}]
[{"$f":"BONAFIDE.!AB71","v":"VITM"},{"$f":"BONAFIDE.!AE71","v":0},13,{"$f":"BONAFIDE.!X71","v":0},{"$f":"BONAFIDE.!Y71","v":0},{"$f":"BONAFIDE.!Z71","v":0},{"$f":"BONAFIDE.!AD71","v":0},{"$f":"BONAFIDE.!AA71","v":"00:00:00"},{"$f":"DATEDIF(H68,CUTOFFDT,\"Y\")","v":119},{"$f":"fillno(I68)","v":"119"},{"$f":"MID(A68,1,LEN(A68)-2)","v":"VI"},{"$f":"B68&J68&G68&K68","v":"01190VI"},{"$f":"B68&G68&MID(A68,1,LEN(A68)-2)&\" \" & RIGHT(A68,2)","v":"00VI TM"}]
[{"$f":"BONAFIDE.!AB72","v":"VITM"},{"$f":"BONAFIDE.!AE72","v":0},14,{"$f":"BONAFIDE.!X72","v":0},{"$f":"BONAFIDE.!Y72","v":0},{"$f":"BONAFIDE.!Z72","v":0},{"$f":"BONAFIDE.!AD72","v":0},{"$f":"BONAFIDE.!AA72","v":"00:00:00"},119,"119","VI","01190VI","00VI TM"]
[{"$f":"BONAFIDE.!AB73","v":"VITM"},{"$f":"BONAFIDE.!AE73","v":0},15,{"$f":"BONAFIDE.!X73","v":0},{"$f":"BONAFIDE.!Y73","v":0},{"$f":"BONAFIDE.!Z73","v":0},{"$f":"BONAFIDE.!AD73","v":0},{"$f":"BONAFIDE.!AA73","v":"00:00:00"},119,"119","VI","01190VI","00VI TM"]
[{"$f":"BONAFIDE.!AB74","v":"VITM"},{"$f":"BONAFIDE.!AE74","v":0},16,{"$f":"BONAFIDE.!X74","v":0},{"$f":"BONAFIDE.!Y74","v":0},{"$f":"BONAFIDE.!Z74","v":0},{"$f":"BONAFIDE.!AD74","v":0},{"$f":"BONAFIDE.!AA74","v":"00:00:00"},119,"119","VI","01190VI","00VI TM"]
[{"$f":"BONAFIDE.!AB75","v":"VITM"},{"$f":"BONAFIDE.!AE75","v":0},17,{"$f":"BONAFIDE.!X75","v":0},{"$f":"BONAFIDE.!Y75","v":0},{"$f":"BONAFIDE.!Z75","v":0},{"$f":"BONAFIDE.!AD75","v":0},{"$f":"BONAFIDE.!AA75","v":"00:00:00"},119,"119","VI","01190VI","00VI TM"]
[{"$f":"BONAFIDE.!AB76","v":"VITM"},{"$f":"BONAFIDE.!AE76","v":0},18,{"$f":"BONAFIDE.!X76","v":0},{"$f":"BONAFIDE.!Y76","v":0},{"$f":"BONAFIDE.!Z76","v":0},{"$f":"BONAFIDE.!AD76","v":0},{"$f":"BONAFIDE.!AA76","v":"00:00:00"},119,"119","VI","01190VI","00VI TM"]
[{"$f":"BONAFIDE.!AB77","v":"VITM"},{"$f":"BONAFIDE.!AE77","v":0},19,{"$f":"BONAFIDE.!X77","v":0},{"$f":"BONAFIDE.!Y77","v":0},{"$f":"BONAFIDE.!Z77","v":0},{"$f":"BONAFIDE.!AD77","v":0},{"$f":"BONAFIDE.!AA77","v":"00:00:00"},119,"119","VI","01190VI","00VI TM"]
[{"$f":"BONAFIDE.!AB78","v":"VITM"},{"$f":"BONAFIDE.!AE78","v":0},20,{"$f":"BONAFIDE.!X78","v":0},{"$f":"BONAFIDE.!Y78","v":0},{"$f":"BONAFIDE.!Z78","v":0},{"$f":"BONAFIDE.!AD78","v":0},{"$f":"BONAFIDE.!AA78","v":"00:00:00"},119,"119","VI","01190VI","00VI TM"]
[{"$f":"BONAFIDE.!AB79","v":"VITM"},{"$f":"BONAFIDE.!AE79","v":0},21,{"$f":"BONAFIDE.!X79","v":0},{"$f":"BONAFIDE.!Y79","v":0},{"$f":"BONAFIDE.!Z79","v":0},{"$f":"BONAFIDE.!AD79","v":0},{"$f":"BONAFIDE.!AA79","v":"00:00:00"},119,"119","VI","01190VI","00VI TM"]
[{"$f":"BONAFIDE.!AB80","v":"VITM"},{"$f":"BONAFIDE.!AE80","v":0},22,{"$f":"BONAFIDE.!X80","v":0},{"$f":"BONAFIDE.!Y80","v":0},{"$f":"BONAFIDE.!Z80","v":0},{"$f":"BONAFIDE.!AD80","v":0},{"$f":"BONAFIDE.!AA80","v":"00:00:00"},119,"119","VI","01190VI","00VI TM"]
[{"$f":"BONAFIDE.!AB81","v":"VITM"},{"$f":"BONAFIDE.!AE81","v":0},23,{"$f":"BONAFIDE.!X81","v":0},{"$f":"BONAFIDE.!Y81","v":0},{"$f":"BONAFIDE.!Z81","v":0},{"$f":"BONAFIDE.!AD81","v":0},{"$f":"BONAFIDE.!AA81","v":"00:00:00"},119,"119","VI","01190VI","00VI TM"]
[{"$f":"BONAFIDE.!AB82","v":"VITM"},{"$f":"BONAFIDE.!AE82","v":0},24,{"$f":"BONAFIDE.!X82","v":0},{"$f":"BONAFIDE.!Y82","v":0},{"$f":"BONAFIDE.!Z82","v":0},{"$f":"BONAFIDE.!AD82","v":0},{"$f":"BONAFIDE.!AA82","v":"00:00:00"},119,"119","VI","01190VI","00VI TM"]
[{"$f":"BONAFIDE.!AB83","v":"VITM"},{"$f":"BONAFIDE.!AE83","v":0},25,{"$f":"BONAFIDE.!X83","v":0},{"$f":"BONAFIDE.!Y83","v":0},{"$f":"BONAFIDE.!Z83","v":0},{"$f":"BONAFIDE.!AD83","v":0},{"$f":"BONAFIDE.!AA83","v":"00:00:00"},119,"119","VI","01190VI","00VI TM"]
[{"$f":"BONAFIDE.!AB84","v":"VITM"},{"$f":"BONAFIDE.!AE84","v":0},26,{"$f":"BONAFIDE.!X84","v":0},{"$f":"BONAFIDE.!Y84","v":0},{"$f":"BONAFIDE.!Z84","v":0},{"$f":"BONAFIDE.!AD84","v":0},{"$f":"BONAFIDE.!AA84","v":"00:00:00"},119,"119","VI","01190VI","00VI TM"]
[{"$f":"BONAFIDE.!AB85","v":"VITM"},{"$f":"BONAFIDE.!AE85","v":0},27,{"$f":"BONAFIDE.!X85","v":0},{"$f":"BONAFIDE.!Y85","v":0},{"$f":"BONAFIDE.!Z85","v":0},{"$f":"BONAFIDE.!AD85","v":0},{"$f":"BONAFIDE.!AA85","v":"00:00:00"},119,"119","VI","01190VI","00VI TM"]
[{"$f":"BONAFIDE.!AB86","v":"VITM"},{"$f":"BONAFIDE.!AE86","v":0},28,{"$f":"BONAFIDE.!X86","v":0},{"$f":"BONAFIDE.!Y86","v":0},{"$f":"BONAFIDE.!Z86","v":0},{"$f":"BONAFIDE.!AD86","v":0},{"$f":"BONAFIDE.!AA86","v":"00:00:00"},119,"119","VI","01190VI","00VI TM"]
[{"$f":"BONAFIDE.!AB87","v":"VITM"},{"$f":"BONAFIDE.!AE87","v":0},29,{"$f":"BONAFIDE.!X87","v":0},{"$f":"BONAFIDE.!Y87","v":0},{"$f":"BONAFIDE.!Z87","v":0},{"$f":"BONAFIDE.!AD87","v":0},{"$f":"BONAFIDE.!AA87","v":"00:00:00"},119,"119","VI","01190VI","00VI TM"]
[{"$f":"BONAFIDE.!AB88","v":"VITM"},{"$f":"BONAFIDE.!AE88","v":0},30,{"$f":"BONAFIDE.!X88","v":0},{"$f":"BONAFIDE.!Y88","v":0},{"$f":"BONAFIDE.!Z88","v":0},{"$f":"BONAFIDE.!AD88","v":0},{"$f":"BONAFIDE.!AA88","v":"00:00:00"},119,"119","VI","01190VI","00VI TM"]
[{"$f":"BONAFIDE.!AB89","v":"VITM"},{"$f":"BONAFIDE.!AE89","v":0},31,{"$f":"BONAFIDE.!X89","v":0},{"$f":"BONAFIDE.!Y89","v":0},{"$f":"BONAFIDE.!Z89","v":0},{"$f":"BONAFIDE.!AD89","v":0},{"$f":"BONAFIDE.!AA89","v":"00:00:00"},119,"119","VI","01190VI","00VI TM"]
[{"$f":"BONAFIDE.!AB90","v":"VITM"},{"$f":"BONAFIDE.!AE90","v":0},32,{"$f":"BONAFIDE.!X90","v":0},{"$f":"BONAFIDE.!Y90","v":0},{"$f":"BONAFIDE.!Z90","v":0},{"$f":"BONAFIDE.!AD90","v":0},{"$f":"BONAFIDE.!AA90","v":"00:00:00"},119,"119","VI","01190VI","00VI TM"]
[{"$f":"BONAFIDE.!AB91","v":"VITM"},{"$f":"BONAFIDE.!AE91","v":0},33,{"$f":"BONAFIDE.!X91","v":0},{"$f":"BONAFIDE.!Y91","v":0},{"$f":"BONAFIDE.!Z91","v":0},{"$f":"BONAFIDE.!AD91","v":0},{"$f":"BONAFIDE.!AA91","v":"00:00:00"},119,"119","VI","01190VI","00VI TM"]
[{"$f":"BONAFIDE.!AB92","v":"VITM"},{"$f":"BONAFIDE.!AE92","v":0},34,{"$f":"BONAFIDE.!X92","v":0},{"$f":"BONAFIDE.!Y92","v":0},{"$f":"BONAFIDE.!Z92","v":0},{"$f":"BONAFIDE.!AD92","v":0},{"$f":"BONAFIDE.!AA92","v":"00:00:00"},119,"119","VI","01190VI","00VI TM"]
[{"$f":"BONAFIDE.!AB93","v":"VITM"},{"$f":"BONAFIDE.!AE93","v":0},35,{"$f":"BONAFIDE.!X93","v":0},{"$f":"BONAFIDE.!Y93","v":0},{"$f":"BONAFIDE.!Z93","v":0},{"$f":"BONAFIDE.!AD93","v":0},{"$f":"BONAFIDE.!AA93","v":"00:00:00"},119,"119","VI","01190VI","00VI TM"]
[{"$f":"BONAFIDE.!AB94","v":"VITM"},{"$f":"BONAFIDE.!AE94","v":0},36,{"$f":"BONAFIDE.!X94","v":0},{"$f":"BONAFIDE.!Y94","v":0},{"$f":"BONAFIDE.!Z94","v":0},{"$f":"BONAFIDE.!AD94","v":0},{"$f":"BONAFIDE.!AA94","v":"00:00:00"},119,"119","VI","01190VI","00VI TM"]
[{"$f":"BONAFIDE.!AB95","v":"VITM"},{"$f":"BONAFIDE.!AE95","v":0},{"$error":"#REF!"},{"$f":"BONAFIDE.!X95","v":0},{"$f":"BONAFIDE.!Y95","v":0},{"$f":"BONAFIDE.!Z95","v":0},{"$f":"BONAFIDE.!AD95","v":0},{"$f":"BONAFIDE.!AA95","v":"00:00:00"},119,"119","VI","01190VI","00VI TM"]
[{"$f":"BONAFIDE.!AB96","v":"VITM"},{"$f":"BONAFIDE.!AE96","v":0},{"$error":"#REF!"},{"$f":"BONAFIDE.!X96","v":0},{"$f":"BONAFIDE.!Y96","v":0},{"$f":"BONAFIDE.!Z96","v":0},{"$f":"BONAFIDE.!AD96","v":0},{"$f":"BONAFIDE.!AA96","v":"00:00:00"},119,"119","VI","01190VI","00VI TM"]
[{"$f":"BONAFIDE.!AB97","v":"VITM"},{"$f":"BONAFIDE.!AE97","v":0},{"$error":"#REF!"},{"$f":"BONAFIDE.!X97","v":0},{"$f":"BONAFIDE.!Y97","v":0},{"$f":"BONAFIDE.!Z97","v":0},{"$f":"BONAFIDE.!AD97","v":0},{"$f":"BONAFIDE.!AA97","v":"00:00:00"},119,"119","VI","01190VI","00VI TM"]
[{"$f":"BONAFIDE.!AB98","v":"VITM"},{"$f":"BONAFIDE.!AE98","v":0},{"$error":"#REF!"},{"$f":"BONAFIDE.!X98","v":0},{"$f":"BONAFIDE.!Y98","v":0},{"$f":"BONAFIDE.!Z98","v":0},{"$f":"BONAFIDE.!AD98","v":0},{"$f":"BONAFIDE.!AA98","v":"00:00:00"},119,"119","VI","01190VI","00VI TM"]
[{"$f":"BONAFIDE.!AB99","v":"VITM"},{"$f":"BONAFIDE.!AE99","v":0},{"$error":"#REF!"},{"$f":"BONAFIDE.!X99","v":0},{"$f":"BONAFIDE.!Y99","v":0},{"$f":"BONAFIDE.!Z99","v":0},{"$f":"BONAFIDE.!AD99","v":0},{"$f":"BONAFIDE.!AA99","v":"00:00:00"},119,"119","VI","01190VI","00VI TM"]
[{"$f":"BONAFIDE.!AB100","v":"VITM"},{"$f":"BONAFIDE.!AE100","v":0},{"$error":"#REF!"},{"$f":"BONAFIDE.!X100","v":0},{"$f":"BONAFIDE.!Y100","v":0},{"$f":"BONAFIDE.!Z100","v":0},{"$f":"BONAFIDE.!AD100","v":0},{"$f":"BONAFIDE.!AA100","v":"00:00:00"},119,"119","VI","01190VI","00VI TM"]
[{"$f":"BONAFIDE.!AB101","v":"VITM"},{"$f":"BONAFIDE.!AE101","v":0},{"$error":"#REF!"},{"$f":"BONAFIDE.!X101","v":0},{"$f":"BONAFIDE.!Y101","v":0},{"$f":"BONAFIDE.!Z101","v":0},{"$f":"BONAFIDE.!AD101","v":0},{"$f":"BONAFIDE.!AA101","v":"00:00:00"},119,"119","VI","01190VI","00VI TM"]
[{"$f":"BONAFIDE.!AB102","v":"VITM"},{"$f":"BONAFIDE.!AE102","v":0},{"$error":"#REF!"},{"$f":"BONAFIDE.!X102","v":0},{"$f":"BONAFIDE.!Y102","v":0},{"$f":"BONAFIDE.!Z102","v":0},{"$f":"BONAFIDE.!AD102","v":0},{"$f":"BONAFIDE.!AA102","v":"00:00:00"},119,"119","VI","01190VI","00VI TM"]
[{"$f":"BONAFIDE.!AB103","v":"VITM"},{"$f":"BONAFIDE.!AE103","v":0},{"$error":"#REF!"},{"$f":"BONAFIDE.!X103","v":0},{"$f":"BONAFIDE.!Y103","v":0},{"$f":"BONAFIDE.!Z103","v":0},{"$f":"BONAFIDE.!AD103","v":0},{"$f":"BONAFIDE.!AA103","v":"00:00:00"},119,"119","VI","01190VI","00VI TM"]
[{"$f":"BONAFIDE.!AB104","v":"VITM"},{"$f":"BONAFIDE.!AE104","v":0},{"$error":"#REF!"},{"$f":"BONAFIDE.!X104","v":0},{"$f":"BONAFIDE.!Y104","v":0},{"$f":"BONAFIDE.!Z104","v":0},{"$f":"BONAFIDE.!AD104","v":0},{"$f":"BONAFIDE.!AA104","v":"00:00:00"},119,"119","VI","01190VI","00VI TM"]
[{"$f":"BONAFIDE.!AB105","v":"VITM"},{"$f":"BONAFIDE.!AE105","v":0},{"$error":"#REF!"},{"$f":"BONAFIDE.!X105","v":0},{"$f":"BONAFIDE.!Y105","v":0},{"$f":"BONAFIDE.!Z105","v":0},{"$f":"BONAFIDE.!AD105","v":0},{"$f":"BONAFIDE.!AA105","v":"00:00:00"},119,"119","VI","01190VI","00VI TM"]
[{"$f":"BONAFIDE.!AB106","v":"VITM"},{"$f":"BONAFIDE.!AE106","v":0},{"$error":"#REF!"},{"$f":"BONAFIDE.!X106","v":0},{"$f":"BONAFIDE.!Y106","v":0},{"$f":"BONAFIDE.!Z106","v":0},{"$f":"BONAFIDE.!AD106","v":0},{"$f":"BONAFIDE.!AA106","v":"00:00:00"},119,"119","VI","01190VI","00VI TM"]
[{"$f":"BONAFIDE.!AB107","v":"VITM"},{"$f":"BONAFIDE.!AE107","v":0},{"$error":"#REF!"},{"$f":"BONAFIDE.!X107","v":0},{"$f":"BONAFIDE.!Y107","v":0},{"$f":"BONAFIDE.!Z107","v":0},{"$f":"BONAFIDE.!AD107","v":0},{"$f":"BONAFIDE.!AA107","v":"00:00:00"},119,"119","VI","01190VI","00VI TM"]
[{"$f":"BONAFIDE.!AB108","v":"VITM"},{"$f":"BONAFIDE.!AE108","v":0},{"$error":"#REF!"},{"$f":"BONAFIDE.!X108","v":0},{"$f":"BONAFIDE.!Y108","v":0},{"$f":"BONAFIDE.!Z108","v":0},{"$f":"BONAFIDE.!AD108","v":0},{"$f":"BONAFIDE.!AA108","v":"00:00:00"},119,"119","VI","01190VI","00VI TM"]
[{"$f":"BONAFIDE.!AB109","v":"VITM"},{"$f":"BONAFIDE.!AE109","v":0},{"$error":"#REF!"},{"$f":"BONAFIDE.!X109","v":0},{"$f":"BONAFIDE.!Y109","v":0},{"$f":"BONAFIDE.!Z109","v":0},{"$f":"BONAFIDE.!AD109","v":0},{"$f":"BONAFIDE.!AA109","v":"00:00:00"},119,"119","VI","01190VI","00VI TM"]
[{"$f":"BONAFIDE.!AB110","v":"VITM"},{"$f":"BONAFIDE.!AE110","v":0},{"$error":"#REF!"},{"$f":"BONAFIDE.!X110","v":0},{"$f":"BONAFIDE.!Y110","v":0},{"$f":"BONAFIDE.!Z110","v":0},{"$f":"BONAFIDE.!AD110","v":0},{"$f":"BONAFIDE.!AA110","v":"00:00:00"},119,"119","VI","01190VI","00VI TM"]
[{"$f":"BONAFIDE.!AB111","v":"VITM"},{"$f":"BONAFIDE.!AE111","v":0},{"$error":"#REF!"},{"$f":"BONAFIDE.!X111","v":0},{"$f":"BONAFIDE.!Y111","v":0},{"$f":"BONAFIDE.!Z111","v":0},{"$f":"BONAFIDE.!AD111","v":0},{"$f":"BONAFIDE.!AA111","v":"00:00:00"},119,"119","VI","01190VI","00VI TM"]
[{"$f":"BONAFIDE.!AB112","v":"VITM"},{"$f":"BONAFIDE.!AE112","v":0},{"$error":"#REF!"},{"$f":"BONAFIDE.!X112","v":0},{"$f":"BONAFIDE.!Y112","v":0},{"$f":"BONAFIDE.!Z112","v":0},{"$f":"BONAFIDE.!AD112","v":0},{"$f":"BONAFIDE.!AA112","v":"00:00:00"},119,"119","VI","01190VI","00VI TM"]
[{"$f":"BONAFIDE.!AB113","v":"VITM"},{"$f":"BONAFIDE.!AE113","v":0},{"$error":"#REF!"},{"$f":"BONAFIDE.!X113","v":0},{"$f":"BONAFIDE.!Y113","v":0},{"$f":"BONAFIDE.!Z113","v":0},{"$f":"BONAFIDE.!AD113","v":0},{"$f":"BONAFIDE.!AA113","v":"00:00:00"},119,"119","VI","01190VI","00VI TM"]
[{"$f":"BONAFIDE.!AB114","v":"VITM"},{"$f":"BONAFIDE.!AE114","v":0},null,{"$f":"BONAFIDE.!X114","v":0},{"$f":"BONAFIDE.!Y114","v":0},{"$f":"BONAFIDE.!Z114","v":0},{"$f":"BONAFIDE.!AD114","v":0},{"$f":"BONAFIDE.!AA114","v":"00:00:00"},119,"119","VI","01190VI","00VI TM"]
[{"$f":"BONAFIDE.!AB115","v":"VITM"},{"$f":"BONAFIDE.!AE115","v":0},1,{"$f":"BONAFIDE.!X115","v":0},{"$f":"BONAFIDE.!Y115","v":0},{"$f":"BONAFIDE.!Z115","v":0},{"$f":"BONAFIDE.!AD115","v":0},{"$f":"BONAFIDE.!AA115","v":"00:00:00"},119,"119","VI","01190VI","00VI TM"]
[{"$f":"BONAFIDE.!AB116","v":"VITM"},{"$f":"BONAFIDE.!AE116","v":0},2,{"$f":"BONAFIDE.!X116","v":0},{"$f":"BONAFIDE.!Y116","v":0},{"$f":"BONAFIDE.!Z116","v":0},{"$f":"BONAFIDE.!AD116","v":0},{"$f":"BONAFIDE.!AA116","v":"00:00:00"},119,"119","VI","01190VI","00VI TM"]
[{"$f":"BONAFIDE.!AB117","v":"VITM"},{"$f":"BONAFIDE.!AE117","v":0},3,{"$f":"BONAFIDE.!X117","v":0},{"$f":"BONAFIDE.!Y117","v":0},{"$f":"BONAFIDE.!Z117","v":0},{"$f":"BONAFIDE.!AD117","v":0},{"$f":"BONAFIDE.!AA117","v":"00:00:00"},119,"119","VI","01190VI","00VI TM"]
[{"$f":"BONAFIDE.!AB118","v":"VITM"},{"$f":"BONAFIDE.!AE118","v":0},4,{"$f":"BONAFIDE.!X118","v":0},{"$f":"BONAFIDE.!Y118","v":0},{"$f":"BONAFIDE.!Z118","v":0},{"$f":"BONAFIDE.!AD118","v":0},{"$f":"BONAFIDE.!AA118","v":"00:00:00"},119,"119","VI","01190VI","00VI TM"]
[{"$f":"BONAFIDE.!AB119","v":"VITM"},{"$f":"BONAFIDE.!AE119","v":0},5,{"$f":"BONAFIDE.!X119","v":0},{"$f":"BONAFIDE.!Y119","v":0},{"$f":"BONAFIDE.!Z119","v":0},{"$f":"BONAFIDE.!AD119","v":0},{"$f":"BONAFIDE.!AA119","v":"00:00:00"},119,"119","VI","01190VI","00VI TM"]
[{"$f":"BONAFIDE.!AB120","v":"VITM"},{"$f":"BONAFIDE.!AE120","v":0},6,{"$f":"BONAFIDE.!X120","v":0},{"$f":"BONAFIDE.!Y120","v":0},{"$f":"BONAFIDE.!Z120","v":0},{"$f":"BONAFIDE.!AD120","v":0},{"$f":"BONAFIDE.!AA120","v":"00:00:00"},119,"119","VI","01190VI","00VI TM"]
[{"$f":"BONAFIDE.!AB121","v":"VITM"},{"$f":"BONAFIDE.!AE121","v":0},7,{"$f":"BONAFIDE.!X121","v":0},{"$f":"BONAFIDE.!Y121","v":0},{"$f":"BONAFIDE.!Z121","v":0},{"$f":"BONAFIDE.!AD121","v":0},{"$f":"BONAFIDE.!AA121","v":"00:00:00"},119,"119","VI","01190VI","00VI TM"]
[{"$f":"BONAFIDE.!AB122","v":"VITM"},{"$f":"BONAFIDE.!AE122","v":0},8,{"$f":"BONAFIDE.!X122","v":0},{"$f":"BONAFIDE.!Y122","v":0},{"$f":"BONAFIDE.!Z122","v":0},{"$f":"BONAFIDE.!AD122","v":0},{"$f":"BONAFIDE.!AA122","v":"00:00:00"},119,"119","VI","01190VI","00VI TM"]
[{"$f":"BONAFIDE.!AB123","v":"VITM"},{"$f":"BONAFIDE.!AE123","v":0},9,{"$f":"BONAFIDE.!X123","v":0},{"$f":"BONAFIDE.!Y123","v":0},{"$f":"BONAFIDE.!Z123","v":0},{"$f":"BONAFIDE.!AD123","v":0},{"$f":"BONAFIDE.!AA123","v":"00:00:00"},119,"119","VI","01190VI","00VI TM"]
[{"$f":"BONAFIDE.!AB124","v":"VITM"},{"$f":"BONAFIDE.!AE124","v":0},10,{"$f":"BONAFIDE.!X124","v":0},{"$f":"BONAFIDE.!Y124","v":0},{"$f":"BONAFIDE.!Z124","v":0},{"$f":"BONAFIDE.!AD124","v":0},{"$f":"BONAFIDE.!AA124","v":"00:00:00"},119,"119","VI","01190VI","00VI TM"]
[{"$f":"BONAFIDE.!AB125","v":"VITM"},{"$f":"BONAFIDE.!AE125","v":0},11,{"$f":"BONAFIDE.!X125","v":0},{"$f":"BONAFIDE.!Y125","v":0},{"$f":"BONAFIDE.!Z125","v":0},{"$f":"BONAFIDE.!AD125","v":0},{"$f":"BONAFIDE.!AA125","v":"00:00:00"},119,"119","VI","01190VI","00VI TM"]
[{"$f":"BONAFIDE.!AB126","v":"VITM"},{"$f":"BONAFIDE.!AE126","v":0},12,{"$f":"BONAFIDE.!X126","v":0},{"$f":"BONAFIDE.!Y126","v":0},{"$f":"BONAFIDE.!Z126","v":0},{"$f":"BONAFIDE.!AD126","v":0},{"$f":"BONAFIDE.!AA126","v":"00:00:00"},119,"119","VI","01190VI","00VI TM"]
[{"$f":"BONAFIDE.!AB127","v":"VITM"},{"$f":"BONAFIDE.!AE127","v":0},13,{"$f":"BONAFIDE.!X127","v":0},{"$f":"BONAFIDE.!Y127","v":0},{"$f":"BONAFIDE.!Z127","v":0},{"$f":"BONAFIDE.!AD127","v":0},{"$f":"BONAFIDE.!AA127","v":"00:00:00"},119,"119","VI","01190VI","00VI TM"]
[{"$f":"BONAFIDE.!AB128","v":"VITM"},{"$f":"BONAFIDE.!AE128","v":0},14,{"$f":"BONAFIDE.!X128","v":0},{"$f":"BONAFIDE.!Y128","v":0},{"$f":"BONAFIDE.!Z128","v":0},{"$f":"BONAFIDE.!AD128","v":0},{"$f":"BONAFIDE.!AA128","v":"00:00:00"},119,"119","VI","01190VI","00VI TM"]
[{"$f":"BONAFIDE.!AB129","v":"VITM"},{"$f":"BONAFIDE.!AE129","v":0},15,{"$f":"BONAFIDE.!X129","v":0},{"$f":"BONAFIDE.!Y129","v":0},{"$f":"BONAFIDE.!Z129","v":0},{"$f":"BONAFIDE.!AD129","v":0},{"$f":"BONAFIDE.!AA129","v":"00:00:00"},119,"119","VI","01190VI","00VI TM"]
[{"$f":"BONAFIDE.!AB130","v":"VITM"},{"$f":"BONAFIDE.!AE130","v":0},16,{"$f":"BONAFIDE.!X130","v":0},{"$f":"BONAFIDE.!Y130","v":0},{"$f":"BONAFIDE.!Z130","v":0},{"$f":"BONAFIDE.!AD130","v":0},{"$f":"BONAFIDE.!AA130","v":"00:00:00"},119,"119","VI","01190VI","00VI TM"]
[{"$f":"BONAFIDE.!AB131","v":"VITM"},{"$f":"BONAFIDE.!AE131","v":0},17,{"$f":"BONAFIDE.!X131","v":0},{"$f":"BONAFIDE.!Y131","v":0},{"$f":"BONAFIDE.!Z131","v":0},{"$f":"BONAFIDE.!AD131","v":0},{"$f":"BONAFIDE.!AA131","v":"00:00:00"},119,"119","VI","01190VI","00VI TM"]
[{"$f":"BONAFIDE.!AB132","v":"VITM"},{"$f":"BONAFIDE.!AE132","v":0},18,{"$f":"BONAFIDE.!X132","v":0},{"$f":"BONAFIDE.!Y132","v":0},{"$f":"BONAFIDE.!Z132","v":0},{"$f":"BONAFIDE.!AD132","v":0},{"$f":"BONAFIDE.!AA132","v":"00:00:00"},119,"119","VI","01190VI","00VI TM"]
[{"$f":"BONAFIDE.!AB133","v":"VITM"},{"$f":"BONAFIDE.!AE133","v":0},19,{"$f":"BONAFIDE.!X133","v":0},{"$f":"BONAFIDE.!Y133","v":0},{"$f":"BONAFIDE.!Z133","v":0},{"$f":"BONAFIDE.!AD133","v":0},{"$f":"BONAFIDE.!AA133","v":"00:00:00"},119,"119","VI","01190VI","00VI TM"]
[{"$f":"BONAFIDE.!AB134","v":"VITM"},{"$f":"BONAFIDE.!AE134","v":0},20,{"$f":"BONAFIDE.!X134","v":0},{"$f":"BONAFIDE.!Y134","v":0},{"$f":"BONAFIDE.!Z134","v":0},{"$f":"BONAFIDE.!AD134","v":0},{"$f":"BONAFIDE.!AA134","v":"00:00:00"},119,"119","VI","01190VI","00VI TM"]
[{"$f":"BONAFIDE.!AB135","v":"VITM"},{"$f":"BONAFIDE.!AE135","v":0},21,{"$f":"BONAFIDE.!X135","v":0},{"$f":"BONAFIDE.!Y135","v":0},{"$f":"BONAFIDE.!Z135","v":0},{"$f":"BONAFIDE.!AD135","v":0},{"$f":"BONAFIDE.!AA135","v":"00:00:00"},{"$f":"DATEDIF(H132,CUTOFFDT,\"Y\")","v":119},{"$f":"fillno(I132)","v":"119"},{"$f":"MID(A132,1,LEN(A132)-2)","v":"VI"},{"$f":"B132&J132&G132&K132","v":"01190VI"},{"$f":"B132&G132&MID(A132,1,LEN(A132)-2)&\" \" & RIGHT(A132,2)","v":"00VI TM"}]
[{"$f":"BONAFIDE.!AB136","v":"VITM"},{"$f":"BONAFIDE.!AE136","v":0},22,{"$f":"BONAFIDE.!X136","v":0},{"$f":"BONAFIDE.!Y136","v":0},{"$f":"BONAFIDE.!Z136","v":0},{"$f":"BONAFIDE.!AD136","v":0},{"$f":"BONAFIDE.!AA136","v":"00:00:00"},119,"119","VI","01190VI","00VI TM"]
[{"$f":"BONAFIDE.!AB137","v":"VITM"},{"$f":"BONAFIDE.!AE137","v":0},23,{"$f":"BONAFIDE.!X137","v":0},{"$f":"BONAFIDE.!Y137","v":0},{"$f":"BONAFIDE.!Z137","v":0},{"$f":"BONAFIDE.!AD137","v":0},{"$f":"BONAFIDE.!AA137","v":"00:00:00"},119,"119","VI","01190VI","00VI TM"]
[{"$f":"BONAFIDE.!AB138","v":"VITM"},{"$f":"BONAFIDE.!AE138","v":0},24,{"$f":"BONAFIDE.!X138","v":0},{"$f":"BONAFIDE.!Y138","v":0},{"$f":"BONAFIDE.!Z138","v":0},{"$f":"BONAFIDE.!AD138","v":0},{"$f":"BONAFIDE.!AA138","v":"00:00:00"},119,"119","VI","01190VI","00VI TM"]
[{"$f":"BONAFIDE.!AB139","v":"VITM"},{"$f":"BONAFIDE.!AE139","v":0},25,{"$f":"BONAFIDE.!X139","v":0},{"$f":"BONAFIDE.!Y139","v":0},{"$f":"BONAFIDE.!Z139","v":0},{"$f":"BONAFIDE.!AD139","v":0},{"$f":"BONAFIDE.!AA139","v":"00:00:00"},119,"119","VI","01190VI","00VI TM"]
[{"$f":"BONAFIDE.!AB140","v":"VITM"},{"$f":"BONAFIDE.!AE140","v":0},26,{"$f":"BONAFIDE.!X140","v":0},{"$f":"BONAFIDE.!Y140","v":0},{"$f":"BONAFIDE.!Z140","v":0},{"$f":"BONAFIDE.!AD140","v":0},{"$f":"BONAFIDE.!AA140","v":"00:00:00"},119,"119","VI","01190VI","00VI TM"]
[{"$f":"BONAFIDE.!AB141","v":"VITM"},{"$f":"BONAFIDE.!AE141","v":0},27,{"$f":"BONAFIDE.!X141","v":0},{"$f":"BONAFIDE.!Y141","v":0},{"$f":"BONAFIDE.!Z141","v":0},{"$f":"BONAFIDE.!AD141","v":0},{"$f":"BONAFIDE.!AA141","v":"00:00:00"},119,"119","VI","01190VI","00VI TM"]
[{"$f":"BONAFIDE.!AB142","v":"VITM"},{"$f":"BONAFIDE.!AE142","v":0},28,{"$f":"BONAFIDE.!X142","v":0},{"$f":"BONAFIDE.!Y142","v":0},{"$f":"BONAFIDE.!Z142","v":0},{"$f":"BONAFIDE.!AD142","v":0},{"$f":"BONAFIDE.!AA142","v":"00:00:00"},119,"119","VI","01190VI","00VI TM"]
[{"$f":"BONAFIDE.!AB143","v":"VITM"},{"$f":"BONAFIDE.!AE143","v":0},29,{"$f":"BONAFIDE.!X143","v":0},{"$f":"BONAFIDE.!Y143","v":0},{"$f":"BONAFIDE.!Z143","v":0},{"$f":"BONAFIDE.!AD143","v":0},{"$f":"BONAFIDE.!AA143","v":"00:00:00"},119,"119","VI","01190VI","00VI TM"]
[{"$f":"BONAFIDE.!AB144","v":"VITM"},{"$f":"BONAFIDE.!AE144","v":0},30,{"$f":"BONAFIDE.!X144","v":0},{"$f":"BONAFIDE.!Y144","v":0},{"$f":"BONAFIDE.!Z144","v":0},{"$f":"BONAFIDE.!AD144","v":0},{"$f":"BONAFIDE.!AA144","v":"00:00:00"},119,"119","VI","01190VI","00VI TM"]
[{"$f":"BONAFIDE.!AB145","v":"VITM"},{"$f":"BONAFIDE.!AE145","v":0},31,{"$f":"BONAFIDE.!X145","v":0},{"$f":"BONAFIDE.!Y145","v":0},{"$f":"BONAFIDE.!Z145","v":0},{"$f":"BONAFIDE.!AD145","v":0},{"$f":"BONAFIDE.!AA145","v":"00:00:00"},119,"119","VI","01190VI","00VI TM"]
[{"$f":"BONAFIDE.!AB146","v":"VITM"},{"$f":"BONAFIDE.!AE146","v":0},32,{"$f":"BONAFIDE.!X146","v":0},{"$f":"BONAFIDE.!Y146","v":0},{"$f":"BONAFIDE.!Z146","v":0},{"$f":"BONAFIDE.!AD146","v":0},{"$f":"BONAFIDE.!AA146","v":"00:00:00"},119,"119","VI","01190VI","00VI TM"]
[{"$f":"BONAFIDE.!AB147","v":"VITM"},{"$f":"BONAFIDE.!AE147","v":0},33,{"$f":"BONAFIDE.!X147","v":0},{"$f":"BONAFIDE.!Y147","v":0},{"$f":"BONAFIDE.!Z147","v":0},{"$f":"BONAFIDE.!AD147","v":0},{"$f":"BONAFIDE.!AA147","v":"00:00:00"},119,"119","VI","01190VI","00VI TM"]
[{"$f":"BONAFIDE.!AB148","v":"VITM"},{"$f":"BONAFIDE.!AE148","v":0},34,{"$f":"BONAFIDE.!X148","v":0},{"$f":"BONAFIDE.!Y148","v":0},{"$f":"BONAFIDE.!Z148","v":0},{"$f":"BONAFIDE.!AD148","v":0},{"$f":"BONAFIDE.!AA148","v":"00:00:00"},119,"119","VI","01190VI","00VI TM"]
[{"$f":"BONAFIDE.!AB149","v":"VITM"},{"$f":"BONAFIDE.!AE149","v":0},35,{"$f":"BONAFIDE.!X149","v":0},{"$f":"BONAFIDE.!Y149","v":0},{"$f":"BONAFIDE.!Z149","v":0},{"$f":"BONAFIDE.!AD149","v":0},{"$f":"BONAFIDE.!AA149","v":"00:00:00"},119,"119","VI","01190VI","00VI TM"]
[{"$f":"BONAFIDE.!AB150","v":"VITM"},{"$f":"BONAFIDE.!AE150","v":0},36,{"$f":"BONAFIDE.!X150","v":0},{"$f":"BONAFIDE.!Y150","v":0},{"$f":"BONAFIDE.!Z150","v":0},{"$f":"BONAFIDE.!AD150","v":0},{"$f":"BONAFIDE.!AA150","v":"00:00:00"},119,"119","VI","01190VI","00VI TM"]
[{"$f":"BONAFIDE.!AB151","v":"VITM"},{"$f":"BONAFIDE.!AE151","v":0},37,{"$f":"BONAFIDE.!X151","v":0},{"$f":"BONAFIDE.!Y151","v":0},{"$f":"BONAFIDE.!Z151","v":0},{"$f":"BONAFIDE.!AD151","v":0},{"$f":"BONAFIDE.!AA151","v":"00:00:00"},119,"119","VI","01190VI","00VI TM"]
[{"$f":"BONAFIDE.!AB152","v":"VITM"},{"$f":"BONAFIDE.!AE152","v":0},38,{"$f":"BONAFIDE.!X152","v":0},{"$f":"BONAFIDE.!Y152","v":0},{"$f":"BONAFIDE.!Z152","v":0},{"$f":"BONAFIDE.!AD152","v":0},{"$f":"BONAFIDE.!AA152","v":"00:00:00"},119,"119","VI","01190VI","00VI TM"]
[{"$f":"BONAFIDE.!AB153","v":"VITM"},{"$f":"BONAFIDE.!AE153","v":0},39,{"$f":"BONAFIDE.!X153","v":0},{"$f":"BONAFIDE.!Y153","v":0},{"$f":"BONAFIDE.!Z153","v":0},{"$f":"BONAFIDE.!AD153","v":0},{"$f":"BONAFIDE.!AA153","v":"00:00:00"},119,"119","VI","01190VI","00VI TM"]
[{"$f":"BONAFIDE.!AB154","v":"VITM"},{"$f":"BONAFIDE.!AE154","v":0},40,{"$f":"BONAFIDE.!X154","v":0},{"$f":"BONAFIDE.!Y154","v":0},{"$f":"BONAFIDE.!Z154","v":0},{"$f":"BONAFIDE.!AD154","v":0},{"$f":"BONAFIDE.!AA154","v":"00:00:00"},119,"119","VI","01190VI","00VI TM"]
[{"$f":"BONAFIDE.!AB155","v":"VITM"},{"$f":"BONAFIDE.!AE155","v":0},41,{"$f":"BONAFIDE.!X155","v":0},{"$f":"BONAFIDE.!Y155","v":0},{"$f":"BONAFIDE.!Z155","v":0},{"$f":"BONAFIDE.!AD155","v":0},{"$f":"BONAFIDE.!AA155","v":"00:00:00"},119,"119","VI","01190VI","00VI TM"]
[{"$f":"BONAFIDE.!AB156","v":"00:00:00"},{"$f":"BONAFIDE.!AE156","v":0},42,{"$f":"BONAFIDE.!X156","v":0},{"$f":"BONAFIDE.!Y156","v":0},{"$f":"BONAFIDE.!Z156","v":0},{"$f":"BONAFIDE.!AD156","v":0},{"$f":"BONAFIDE.!AA156","v":"00:00:00"},119,"119",{"$error":"#VALUE!"},{"$error":"#VALUE!"},{"$error":"#VALUE!"}]
[{"$f":"BONAFIDE.!AB157","v":"VIITM"},{"$f":"BONAFIDE.!AE157","v":0},43,{"$f":"BONAFIDE.!X157","v":0},{"$f":"BONAFIDE.!Y157","v":0},{"$f":"BONAFIDE.!Z157","v":0},{"$f":"BONAFIDE.!AD157","v":0},{"$f":"BONAFIDE.!AA157","v":"00:00:00"},119,"119","VII","01190VII","00VII TM"]
[{"$f":"BONAFIDE.!AB158","v":"VIITM"},{"$f":"BONAFIDE.!AE158","v":0},44,{"$f":"BONAFIDE.!X158","v":0},{"$f":"BONAFIDE.!Y158","v":0},{"$f":"BONAFIDE.!Z158","v":0},{"$f":"BONAFIDE.!AD158","v":0},{"$f":"BONAFIDE.!AA158","v":"00:00:00"},119,"119","VII","01190VII","00VII TM"]
[{"$f":"BONAFIDE.!AB159","v":"VIITM"},{"$f":"BONAFIDE.!AE159","v":0},45,{"$f":"BONAFIDE.!X159","v":0},{"$f":"BONAFIDE.!Y159","v":0},{"$f":"BONAFIDE.!Z159","v":0},{"$f":"BONAFIDE.!AD159","v":0},{"$f":"BONAFIDE.!AA159","v":"00:00:00"},119,"119","VII","01190VII","00VII TM"]
[{"$f":"BONAFIDE.!AB160","v":"VIITM"},{"$f":"BONAFIDE.!AE160","v":0},46,{"$f":"BONAFIDE.!X160","v":0},{"$f":"BONAFIDE.!Y160","v":0},{"$f":"BONAFIDE.!Z160","v":0},{"$f":"BONAFIDE.!AD160","v":0},{"$f":"BONAFIDE.!AA160","v":"00:00:00"},119,"119","VII","01190VII","00VII TM"]
[{"$f":"BONAFIDE.!AB161","v":"VIITM"},{"$f":"BONAFIDE.!AE161","v":0},47,{"$f":"BONAFIDE.!X161","v":0},{"$f":"BONAFIDE.!Y161","v":0},{"$f":"BONAFIDE.!Z161","v":0},{"$f":"BONAFIDE.!AD161","v":0},{"$f":"BONAFIDE.!AA161","v":"00:00:00"},119,"119","VII","01190VII","00VII TM"]
[{"$f":"BONAFIDE.!AB162","v":"VIITM"},{"$f":"BONAFIDE.!AE162","v":0},48,{"$f":"BONAFIDE.!X162","v":0},{"$f":"BONAFIDE.!Y162","v":0},{"$f":"BONAFIDE.!Z162","v":0},{"$f":"BONAFIDE.!AD162","v":0},{"$f":"BONAFIDE.!AA162","v":"00:00:00"},119,"119","VII","01190VII","00VII TM"]
[{"$f":"BONAFIDE.!AB163","v":"VIITM"},{"$f":"BONAFIDE.!AE163","v":0},49,{"$f":"BONAFIDE.!X163","v":0},{"$f":"BONAFIDE.!Y163","v":0},{"$f":"BONAFIDE.!Z163","v":0},{"$f":"BONAFIDE.!AD163","v":0},{"$f":"BONAFIDE.!AA163","v":"00:00:00"},119,"119","VII","01190VII","00VII TM"]
[{"$f":"BONAFIDE.!AB164","v":"VIITM"},{"$f":"BONAFIDE.!AE164","v":0},50,{"$f":"BONAFIDE.!X164","v":0},{"$f":"BONAFIDE.!Y164","v":0},{"$f":"BONAFIDE.!Z164","v":0},{"$f":"BONAFIDE.!AD164","v":0},{"$f":"BONAFIDE.!AA164","v":"00:00:00"},119,"119","VII","01190VII","00VII TM"]
[{"$f":"BONAFIDE.!AB165","v":"VIITM"},{"$f":"BONAFIDE.!AE165","v":0},51,{"$f":"BONAFIDE.!X165","v":0},{"$f":"BONAFIDE.!Y165","v":0},{"$f":"BONAFIDE.!Z165","v":0},{"$f":"BONAFIDE.!AD165","v":0},{"$f":"BONAFIDE.!AA165","v":"00:00:00"},119,"119","VII","01190VII","00VII TM"]
[{"$f":"BONAFIDE.!AB166","v":"VIITM"},{"$f":"BONAFIDE.!AE166","v":0},52,{"$f":"BONAFIDE.!X166","v":0},{"$f":"BONAFIDE.!Y166","v":0},{"$f":"BONAFIDE.!Z166","v":0},{"$f":"BONAFIDE.!AD166","v":0},{"$f":"BONAFIDE.!AA166","v":"00:00:00"},119,"119","VII","01190VII","00VII TM"]
[{"$f":"BONAFIDE.!AB167","v":"VIITM"},{"$f":"BONAFIDE.!AE167","v":0},53,{"$f":"BONAFIDE.!X167","v":0},{"$f":"BONAFIDE.!Y167","v":0},{"$f":"BONAFIDE.!Z167","v":0},{"$f":"BONAFIDE.!AD167","v":0},{"$f":"BONAFIDE.!AA167","v":"00:00:00"},119,"119","VII","01190VII","00VII TM"]
[{"$f":"BONAFIDE.!AB168","v":"VIITM"},{"$f":"BONAFIDE.!AE168","v":0},54,{"$f":"BONAFIDE.!X168","v":0},{"$f":"BONAFIDE.!Y168","v":0},{"$f":"BONAFIDE.!Z168","v":0},{"$f":"BONAFIDE.!AD168","v":0},{"$f":"BONAFIDE.!AA168","v":"00:00:00"},119,"119","VII","01190VII","00VII TM"]
[{"$f":"BONAFIDE.!AB169","v":"VIITM"},{"$f":"BONAFIDE.!AE169","v":0},{"$error":"#REF!"},{"$f":"BONAFIDE.!X169","v":0},{"$f":"BONAFIDE.!Y169","v":0},{"$f":"BONAFIDE.!Z169","v":0},{"$f":"BONAFIDE.!AD169","v":0},{"$f":"BONAFIDE.!AA169","v":"00:00:00"},119,"119","VII","01190VII","00VII TM"]
[{"$f":"BONAFIDE.!AB170","v":"VIITM"},{"$f":"BONAFIDE.!AE170","v":0},null,{"$f":"BONAFIDE.!X170","v":0},{"$f":"BONAFIDE.!Y170","v":0},{"$f":"BONAFIDE.!Z170","v":0},{"$f":"BONAFIDE.!AD170","v":0},{"$f":"BONAFIDE.!AA170","v":"00:00:00"},119,"119","VII","01190VII","00VII TM"]
[{"$f":"BONAFIDE.!AB171","v":"VIITM"},{"$f":"BONAFIDE.!AE171","v":0},1,{"$f":"BONAFIDE.!X171","v":0},{"$f":"BONAFIDE.!Y171","v":0},{"$f":"BONAFIDE.!Z171","v":0},{"$f":"BONAFIDE.!AD171","v":0},{"$f":"BONAFIDE.!AA171","v":"00:00:00"},119,"119","VII","01190VII","00VII TM"]
[{"$f":"BONAFIDE.!AB172","v":"VIITM"},{"$f":"BONAFIDE.!AE172","v":0},2,{"$f":"BONAFIDE.!X172","v":0},{"$f":"BONAFIDE.!Y172","v":0},{"$f":"BONAFIDE.!Z172","v":0},{"$f":"BONAFIDE.!AD172","v":0},{"$f":"BONAFIDE.!AA172","v":"00:00:00"},119,"119","VII","01190VII","00VII TM"]
[{"$f":"BONAFIDE.!AB173","v":"VIITM"},{"$f":"BONAFIDE.!AE173","v":0},3,{"$f":"BONAFIDE.!X173","v":0},{"$f":"BONAFIDE.!Y173","v":0},{"$f":"BONAFIDE.!Z173","v":0},{"$f":"BONAFIDE.!AD173","v":0},{"$f":"BONAFIDE.!AA173","v":"00:00:00"},119,"119","VII","01190VII","00VII TM"]
[{"$f":"BONAFIDE.!AB174","v":"VIITM"},{"$f":"BONAFIDE.!AE174","v":0},4,{"$f":"BONAFIDE.!X174","v":0},{"$f":"BONAFIDE.!Y174","v":0},{"$f":"BONAFIDE.!Z174","v":0},{"$f":"BONAFIDE.!AD174","v":0},{"$f":"BONAFIDE.!AA174","v":"00:00:00"},119,"119","VII","01190VII","00VII TM"]
[{"$f":"BONAFIDE.!AB175","v":"VIITM"},{"$f":"BONAFIDE.!AE175","v":0},5,{"$f":"BONAFIDE.!X175","v":0},{"$f":"BONAFIDE.!Y175","v":0},{"$f":"BONAFIDE.!Z175","v":0},{"$f":"BONAFIDE.!AD175","v":0},{"$f":"BONAFIDE.!AA175","v":"00:00:00"},119,"119","VII","01190VII","00VII TM"]
[{"$f":"BONAFIDE.!AB176","v":"VIITM"},{"$f":"BONAFIDE.!AE176","v":0},6,{"$f":"BONAFIDE.!X176","v":0},{"$f":"BONAFIDE.!Y176","v":0},{"$f":"BONAFIDE.!Z176","v":0},{"$f":"BONAFIDE.!AD176","v":0},{"$f":"BONAFIDE.!AA176","v":"00:00:00"},119,"119","VII","01190VII","00VII TM"]
[{"$f":"BONAFIDE.!AB177","v":"VIITM"},{"$f":"BONAFIDE.!AE177","v":0},7,{"$f":"BONAFIDE.!X177","v":0},{"$f":"BONAFIDE.!Y177","v":0},{"$f":"BONAFIDE.!Z177","v":0},{"$f":"BONAFIDE.!AD177","v":0},{"$f":"BONAFIDE.!AA177","v":"00:00:00"},119,"119","VII","01190VII","00VII TM"]
[{"$f":"BONAFIDE.!AB178","v":"VIITM"},{"$f":"BONAFIDE.!AE178","v":0},8,{"$f":"BONAFIDE.!X178","v":0},{"$f":"BONAFIDE.!Y178","v":0},{"$f":"BONAFIDE.!Z178","v":0},{"$f":"BONAFIDE.!AD178","v":0},{"$f":"BONAFIDE.!AA178","v":"00:00:00"},119,"119","VII","01190VII","00VII TM"]
[{"$f":"BONAFIDE.!AB179","v":"VIITM"},{"$f":"BONAFIDE.!AE179","v":0},9,{"$f":"BONAFIDE.!X179","v":0},{"$f":"BONAFIDE.!Y179","v":0},{"$f":"BONAFIDE.!Z179","v":0},{"$f":"BONAFIDE.!AD179","v":0},{"$f":"BONAFIDE.!AA179","v":"00:00:00"},119,"119","VII","01190VII","00VII TM"]
[{"$f":"BONAFIDE.!AB180","v":"VIITM"},{"$f":"BONAFIDE.!AE180","v":0},10,{"$f":"BONAFIDE.!X180","v":0},{"$f":"BONAFIDE.!Y180","v":0},{"$f":"BONAFIDE.!Z180","v":0},{"$f":"BONAFIDE.!AD180","v":0},{"$f":"BONAFIDE.!AA180","v":"00:00:00"},119,"119","VII","01190VII","00VII TM"]
[{"$f":"BONAFIDE.!AB181","v":"VIITM"},{"$f":"BONAFIDE.!AE181","v":0},11,{"$f":"BONAFIDE.!X181","v":0},{"$f":"BONAFIDE.!Y181","v":0},{"$f":"BONAFIDE.!Z181","v":0},{"$f":"BONAFIDE.!AD181","v":0},{"$f":"BONAFIDE.!AA181","v":"00:00:00"},119,"119","VII","01190VII","00VII TM"]
[{"$f":"BONAFIDE.!AB182","v":"VIITM"},{"$f":"BONAFIDE.!AE182","v":0},12,{"$f":"BONAFIDE.!X182","v":0},{"$f":"BONAFIDE.!Y182","v":0},{"$f":"BONAFIDE.!Z182","v":0},{"$f":"BONAFIDE.!AD182","v":0},{"$f":"BONAFIDE.!AA182","v":"00:00:00"},119,"119","VII","01190VII","00VII TM"]
[{"$f":"BONAFIDE.!AB183","v":"VIITM"},{"$f":"BONAFIDE.!AE183","v":0},13,{"$f":"BONAFIDE.!X183","v":0},{"$f":"BONAFIDE.!Y183","v":0},{"$f":"BONAFIDE.!Z183","v":0},{"$f":"BONAFIDE.!AD183","v":0},{"$f":"BONAFIDE.!AA183","v":"00:00:00"},119,"119","VII","01190VII","00VII TM"]
[{"$f":"BONAFIDE.!AB184","v":"VIITM"},{"$f":"BONAFIDE.!AE184","v":0},14,{"$f":"BONAFIDE.!X184","v":0},{"$f":"BONAFIDE.!Y184","v":0},{"$f":"BONAFIDE.!Z184","v":0},{"$f":"BONAFIDE.!AD184","v":0},{"$f":"BONAFIDE.!AA184","v":"00:00:00"},119,"119","VII","01190VII","00VII TM"]
[{"$f":"BONAFIDE.!AB185","v":"VIITM"},{"$f":"BONAFIDE.!AE185","v":0},15,{"$f":"BONAFIDE.!X185","v":0},{"$f":"BONAFIDE.!Y185","v":0},{"$f":"BONAFIDE.!Z185","v":0},{"$f":"BONAFIDE.!AD185","v":0},{"$f":"BONAFIDE.!AA185","v":"00:00:00"},119,"119","VII","01190VII","00VII TM"]
[{"$f":"BONAFIDE.!AB186","v":"VIITM"},{"$f":"BONAFIDE.!AE186","v":0},16,{"$f":"BONAFIDE.!X186","v":0},{"$f":"BONAFIDE.!Y186","v":0},{"$f":"BONAFIDE.!Z186","v":0},{"$f":"BONAFIDE.!AD186","v":0},{"$f":"BONAFIDE.!AA186","v":"00:00:00"},119,"119","VII","01190VII","00VII TM"]
[{"$f":"BONAFIDE.!AB187","v":"VIITM"},{"$f":"BONAFIDE.!AE187","v":0},17,{"$f":"BONAFIDE.!X187","v":0},{"$f":"BONAFIDE.!Y187","v":0},{"$f":"BONAFIDE.!Z187","v":0},{"$f":"BONAFIDE.!AD187","v":0},{"$f":"BONAFIDE.!AA187","v":"00:00:00"},119,"119","VII","01190VII","00VII TM"]
[{"$f":"BONAFIDE.!AB188","v":"VIITM"},{"$f":"BONAFIDE.!AE188","v":0},18,{"$f":"BONAFIDE.!X188","v":0},{"$f":"BONAFIDE.!Y188","v":0},{"$f":"BONAFIDE.!Z188","v":0},{"$f":"BONAFIDE.!AD188","v":0},{"$f":"BONAFIDE.!AA188","v":"00:00:00"},119,"119","VII","01190VII","00VII TM"]
[{"$f":"BONAFIDE.!AB189","v":"VIITM"},{"$f":"BONAFIDE.!AE189","v":0},19,{"$f":"BONAFIDE.!X189","v":0},{"$f":"BONAFIDE.!Y189","v":0},{"$f":"BONAFIDE.!Z189","v":0},{"$f":"BONAFIDE.!AD189","v":0},{"$f":"BONAFIDE.!AA189","v":"00:00:00"},119,"119","VII","01190VII","00VII TM"]
[{"$f":"BONAFIDE.!AB190","v":"VIITM"},{"$f":"BONAFIDE.!AE190","v":0},20,{"$f":"BONAFIDE.!X190","v":0},{"$f":"BONAFIDE.!Y190","v":0},{"$f":"BONAFIDE.!Z190","v":0},{"$f":"BONAFIDE.!AD190","v":0},{"$f":"BONAFIDE.!AA190","v":"00:00:00"},119,"119","VII","01190VII","00VII TM"]
[{"$f":"BONAFIDE.!AB191","v":"VIITM"},{"$f":"BONAFIDE.!AE191","v":0},21,{"$f":"BONAFIDE.!X191","v":0},{"$f":"BONAFIDE.!Y191","v":0},{"$f":"BONAFIDE.!Z191","v":0},{"$f":"BONAFIDE.!AD191","v":0},{"$f":"BONAFIDE.!AA191","v":"00:00:00"},119,"119","VII","01190VII","00VII TM"]
[{"$f":"BONAFIDE.!AB192","v":"VIITM"},{"$f":"BONAFIDE.!AE192","v":0},22,{"$f":"BONAFIDE.!X192","v":0},{"$f":"BONAFIDE.!Y192","v":0},{"$f":"BONAFIDE.!Z192","v":0},{"$f":"BONAFIDE.!AD192","v":0},{"$f":"BONAFIDE.!AA192","v":"00:00:00"},119,"119","VII","01190VII","00VII TM"]
[{"$f":"BONAFIDE.!AB193","v":"VIITM"},{"$f":"BONAFIDE.!AE193","v":0},23,{"$f":"BONAFIDE.!X193","v":0},{"$f":"BONAFIDE.!Y193","v":0},{"$f":"BONAFIDE.!Z193","v":0},{"$f":"BONAFIDE.!AD193","v":0},{"$f":"BONAFIDE.!AA193","v":"00:00:00"},119,"119","VII","01190VII","00VII TM"]
[{"$f":"BONAFIDE.!AB194","v":"VIITM"},{"$f":"BONAFIDE.!AE194","v":0},24,{"$f":"BONAFIDE.!X194","v":0},{"$f":"BONAFIDE.!Y194","v":0},{"$f":"BONAFIDE.!Z194","v":0},{"$f":"BONAFIDE.!AD194","v":0},{"$f":"BONAFIDE.!AA194","v":"00:00:00"},119,"119","VII","01190VII","00VII TM"]
[{"$f":"BONAFIDE.!AB195","v":"VIITM"},{"$f":"BONAFIDE.!AE195","v":0},25,{"$f":"BONAFIDE.!X195","v":0},{"$f":"BONAFIDE.!Y195","v":0},{"$f":"BONAFIDE.!Z195","v":0},{"$f":"BONAFIDE.!AD195","v":0},{"$f":"BONAFIDE.!AA195","v":"00:00:00"},119,"119","VII","01190VII","00VII TM"]
[{"$f":"BONAFIDE.!AB196","v":"VIITM"},{"$f":"BONAFIDE.!AE196","v":0},26,{"$f":"BONAFIDE.!X196","v":0},{"$f":"BONAFIDE.!Y196","v":0},{"$f":"BONAFIDE.!Z196","v":0},{"$f":"BONAFIDE.!AD196","v":0},{"$f":"BONAFIDE.!AA196","v":"00:00:00"},119,"119","VII","01190VII","00VII TM"]
[{"$f":"BONAFIDE.!AB197","v":"VIITM"},{"$f":"BONAFIDE.!AE197","v":0},27,{"$f":"BONAFIDE.!X197","v":0},{"$f":"BONAFIDE.!Y197","v":0},{"$f":"BONAFIDE.!Z197","v":0},{"$f":"BONAFIDE.!AD197","v":0},{"$f":"BONAFIDE.!AA197","v":"00:00:00"},119,"119","VII","01190VII","00VII TM"]
[{"$f":"BONAFIDE.!AB198","v":"VIITM"},{"$f":"BONAFIDE.!AE198","v":0},28,{"$f":"BONAFIDE.!X198","v":0},{"$f":"BONAFIDE.!Y198","v":0},{"$f":"BONAFIDE.!Z198","v":0},{"$f":"BONAFIDE.!AD198","v":0},{"$f":"BONAFIDE.!AA198","v":"00:00:00"},119,"119","VII","01190VII","00VII TM"]
[{"$f":"BONAFIDE.!AB199","v":"VIITM"},{"$f":"BONAFIDE.!AE199","v":0},29,{"$f":"BONAFIDE.!X199","v":0},{"$f":"BONAFIDE.!Y199","v":0},{"$f":"BONAFIDE.!Z199","v":0},{"$f":"BONAFIDE.!AD199","v":0},{"$f":"BONAFIDE.!AA199","v":"00:00:00"},{"$f":"DATEDIF(H196,CUTOFFDT,\"Y\")","v":119},{"$f":"fillno(I196)","v":"119"},{"$f":"MID(A196,1,LEN(A196)-2)","v":"VII"},{"$f":"B196&J196&G196&K196","v":"01190VII"},{"$f":"B196&G196&MID(A196,1,LEN(A196)-2)&\" \" & RIGHT(A196,2)","v":"00VII TM"}]
[{"$f":"BONAFIDE.!AB200","v":"VIITM"},{"$f":"BONAFIDE.!AE200","v":0},30,{"$f":"BONAFIDE.!X200","v":0},{"$f":"BONAFIDE.!Y200","v":0},{"$f":"BONAFIDE.!Z200","v":0},{"$f":"BONAFIDE.!AD200","v":0},{"$f":"BONAFIDE.!AA200","v":"00:00:00"},119,"119","VII","01190VII","00VII TM"]
[{"$f":"BONAFIDE.!AB201","v":"VIITM"},{"$f":"BONAFIDE.!AE201","v":0},31,{"$f":"BONAFIDE.!X201","v":0},{"$f":"BONAFIDE.!Y201","v":0},{"$f":"BONAFIDE.!Z201","v":0},{"$f":"BONAFIDE.!AD201","v":0},{"$f":"BONAFIDE.!AA201","v":"00:00:00"},119,"119","VII","01190VII","00VII TM"]
[{"$f":"BONAFIDE.!AB202","v":"VIITM"},{"$f":"BONAFIDE.!AE202","v":0},32,{"$f":"BONAFIDE.!X202","v":0},{"$f":"BONAFIDE.!Y202","v":0},{"$f":"BONAFIDE.!Z202","v":0},{"$f":"BONAFIDE.!AD202","v":0},{"$f":"BONAFIDE.!AA202","v":"00:00:00"},119,"119","VII","01190VII","00VII TM"]
[{"$f":"BONAFIDE.!AB203","v":"VIITM"},{"$f":"BONAFIDE.!AE203","v":0},33,{"$f":"BONAFIDE.!X203","v":0},{"$f":"BONAFIDE.!Y203","v":0},{"$f":"BONAFIDE.!Z203","v":0},{"$f":"BONAFIDE.!AD203","v":0},{"$f":"BONAFIDE.!AA203","v":"00:00:00"},119,"119","VII","01190VII","00VII TM"]
[{"$f":"BONAFIDE.!AB204","v":"VIITM"},{"$f":"BONAFIDE.!AE204","v":0},34,{"$f":"BONAFIDE.!X204","v":0},{"$f":"BONAFIDE.!Y204","v":0},{"$f":"BONAFIDE.!Z204","v":0},{"$f":"BONAFIDE.!AD204","v":0},{"$f":"BONAFIDE.!AA204","v":"00:00:00"},119,"119","VII","01190VII","00VII TM"]
[{"$f":"BONAFIDE.!AB205","v":"VIITM"},{"$f":"BONAFIDE.!AE205","v":0},35,{"$f":"BONAFIDE.!X205","v":0},{"$f":"BONAFIDE.!Y205","v":0},{"$f":"BONAFIDE.!Z205","v":0},{"$f":"BONAFIDE.!AD205","v":0},{"$f":"BONAFIDE.!AA205","v":"00:00:00"},119,"119","VII","01190VII","00VII TM"]
[{"$f":"BONAFIDE.!AB206","v":"VIITM"},{"$f":"BONAFIDE.!AE206","v":0},36,{"$f":"BONAFIDE.!X206","v":0},{"$f":"BONAFIDE.!Y206","v":0},{"$f":"BONAFIDE.!Z206","v":0},{"$f":"BONAFIDE.!AD206","v":0},{"$f":"BONAFIDE.!AA206","v":"00:00:00"},119,"119","VII","01190VII","00VII TM"]
[{"$f":"BONAFIDE.!AB207","v":"VIITM"},{"$f":"BONAFIDE.!AE207","v":0},37,{"$f":"BONAFIDE.!X207","v":0},{"$f":"BONAFIDE.!Y207","v":0},{"$f":"BONAFIDE.!Z207","v":0},{"$f":"BONAFIDE.!AD207","v":0},{"$f":"BONAFIDE.!AA207","v":"00:00:00"},119,"119","VII","01190VII","00VII TM"]
[{"$f":"BONAFIDE.!AB208","v":"VIITM"},{"$f":"BONAFIDE.!AE208","v":0},38,{"$f":"BONAFIDE.!X208","v":0},{"$f":"BONAFIDE.!Y208","v":0},{"$f":"BONAFIDE.!Z208","v":0},{"$f":"BONAFIDE.!AD208","v":0},{"$f":"BONAFIDE.!AA208","v":"00:00:00"},119,"119","VII","01190VII","00VII TM"]
[{"$f":"BONAFIDE.!AB209","v":"VIITM"},{"$f":"BONAFIDE.!AE209","v":0},39,{"$f":"BONAFIDE.!X209","v":0},{"$f":"BONAFIDE.!Y209","v":0},{"$f":"BONAFIDE.!Z209","v":0},{"$f":"BONAFIDE.!AD209","v":0},{"$f":"BONAFIDE.!AA209","v":"00:00:00"},119,"119","VII","01190VII","00VII TM"]
[{"$f":"BONAFIDE.!AB210","v":"VIITM"},{"$f":"BONAFIDE.!AE210","v":0},40,{"$f":"BONAFIDE.!X210","v":0},{"$f":"BONAFIDE.!Y210","v":0},{"$f":"BONAFIDE.!Z210","v":0},{"$f":"BONAFIDE.!AD210","v":0},{"$f":"BONAFIDE.!AA210","v":"00:00:00"},119,"119","VII","01190VII","00VII TM"]
[{"$f":"BONAFIDE.!AB211","v":"VIITM"},{"$f":"BONAFIDE.!AE211","v":0},41,{"$f":"BONAFIDE.!X211","v":0},{"$f":"BONAFIDE.!Y211","v":0},{"$f":"BONAFIDE.!Z211","v":0},{"$f":"BONAFIDE.!AD211","v":0},{"$f":"BONAFIDE.!AA211","v":"00:00:00"},119,"119","VII","01190VII","00VII TM"]
[{"$f":"BONAFIDE.!AB212","v":"VIITM"},{"$f":"BONAFIDE.!AE212","v":0},42,{"$f":"BONAFIDE.!X212","v":0},{"$f":"BONAFIDE.!Y212","v":0},{"$f":"BONAFIDE.!Z212","v":0},{"$f":"BONAFIDE.!AD212","v":0},{"$f":"BONAFIDE.!AA212","v":"00:00:00"},119,"119","VII","01190VII","00VII TM"]
[{"$f":"BONAFIDE.!AB213","v":"VIITM"},{"$f":"BONAFIDE.!AE213","v":0},43,{"$f":"BONAFIDE.!X213","v":0},{"$f":"BONAFIDE.!Y213","v":0},{"$f":"BONAFIDE.!Z213","v":0},{"$f":"BONAFIDE.!AD213","v":0},{"$f":"BONAFIDE.!AA213","v":"00:00:00"},119,"119","VII","01190VII","00VII TM"]
[{"$f":"BONAFIDE.!AB214","v":"VIITM"},{"$f":"BONAFIDE.!AE214","v":0},44,{"$f":"BONAFIDE.!X214","v":0},{"$f":"BONAFIDE.!Y214","v":0},{"$f":"BONAFIDE.!Z214","v":0},{"$f":"BONAFIDE.!AD214","v":0},{"$f":"BONAFIDE.!AA214","v":"00:00:00"},119,"119","VII","01190VII","00VII TM"]
[{"$f":"BONAFIDE.!AB215","v":"VIITM"},{"$f":"BONAFIDE.!AE215","v":0},45,{"$f":"BONAFIDE.!X215","v":0},{"$f":"BONAFIDE.!Y215","v":0},{"$f":"BONAFIDE.!Z215","v":0},{"$f":"BONAFIDE.!AD215","v":0},{"$f":"BONAFIDE.!AA215","v":"00:00:00"},119,"119","VII","01190VII","00VII TM"]
[{"$f":"BONAFIDE.!AB216","v":"VIITM"},{"$f":"BONAFIDE.!AE216","v":0},46,{"$f":"BONAFIDE.!X216","v":0},{"$f":"BONAFIDE.!Y216","v":0},{"$f":"BONAFIDE.!Z216","v":0},{"$f":"BONAFIDE.!AD216","v":0},{"$f":"BONAFIDE.!AA216","v":"00:00:00"},119,"119","VII","01190VII","00VII TM"]
[{"$f":"BONAFIDE.!AB217","v":"VIITM"},{"$f":"BONAFIDE.!AE217","v":0},{"$error":"#REF!"},{"$f":"BONAFIDE.!X217","v":0},{"$f":"BONAFIDE.!Y217","v":0},{"$f":"BONAFIDE.!Z217","v":0},{"$f":"BONAFIDE.!AD217","v":0},{"$f":"BONAFIDE.!AA217","v":"00:00:00"},119,"119","VII","01190VII","00VII TM"]
[{"$f":"BONAFIDE.!AB218","v":"VIITM"},{"$f":"BONAFIDE.!AE218","v":0},{"$error":"#REF!"},{"$f":"BONAFIDE.!X218","v":0},{"$f":"BONAFIDE.!Y218","v":0},{"$f":"BONAFIDE.!Z218","v":0},{"$f":"BONAFIDE.!AD218","v":0},{"$f":"BONAFIDE.!AA218","v":"00:00:00"},119,"119","VII","01190VII","00VII TM"]
[{"$f":"BONAFIDE.!AB219","v":"VIITM"},{"$f":"BONAFIDE.!AE219","v":0},{"$error":"#REF!"},{"$f":"BONAFIDE.!X219","v":0},{"$f":"BONAFIDE.!Y219","v":0},{"$f":"BONAFIDE.!Z219","v":0},{"$f":"BONAFIDE.!AD219","v":0},{"$f":"BONAFIDE.!AA219","v":"00:00:00"},119,"119","VII","01190VII","00VII TM"]
[{"$f":"BONAFIDE.!AB220","v":"VIITM"},{"$f":"BONAFIDE.!AE220","v":0},{"$error":"#REF!"},{"$f":"BONAFIDE.!X220","v":0},{"$f":"BONAFIDE.!Y220","v":0},{"$f":"BONAFIDE.!Z220","v":0},{"$f":"BONAFIDE.!AD220","v":0},{"$f":"BONAFIDE.!AA220","v":"00:00:00"},119,"119","VII","01190VII","00VII TM"]
[{"$f":"BONAFIDE.!AB221","v":"VIITM"},{"$f":"BONAFIDE.!AE221","v":0},{"$error":"#REF!"},{"$f":"BONAFIDE.!X221","v":0},{"$f":"BONAFIDE.!Y221","v":0},{"$f":"BONAFIDE.!Z221","v":0},{"$f":"BONAFIDE.!AD221","v":0},{"$f":"BONAFIDE.!AA221","v":"00:00:00"},119,"119","VII","01190VII","00VII TM"]
[{"$f":"BONAFIDE.!AB222","v":"VIITM"},{"$f":"BONAFIDE.!AE222","v":0},{"$error":"#REF!"},{"$f":"BONAFIDE.!X222","v":0},{"$f":"BONAFIDE.!Y222","v":0},{"$f":"BONAFIDE.!Z222","v":0},{"$f":"BONAFIDE.!AD222","v":0},{"$f":"BONAFIDE.!AA222","v":"00:00:00"},119,"119","VII","01190VII","00VII TM"]
[{"$f":"BONAFIDE.!AB223","v":"VIITM"},{"$f":"BONAFIDE.!AE223","v":0},{"$error":"#REF!"},{"$f":"BONAFIDE.!X223","v":0},{"$f":"BONAFIDE.!Y223","v":0},{"$f":"BONAFIDE.!Z223","v":0},{"$f":"BONAFIDE.!AD223","v":0},{"$f":"BONAFIDE.!AA223","v":"00:00:00"},119,"119","VII","01190VII","00VII TM"]
[{"$f":"BONAFIDE.!AB224","v":"VIITM"},{"$f":"BONAFIDE.!AE224","v":0},{"$error":"#REF!"},{"$f":"BONAFIDE.!X224","v":0},{"$f":"BONAFIDE.!Y224","v":0},{"$f":"BONAFIDE.!Z224","v":0},{"$f":"BONAFIDE.!AD224","v":0},{"$f":"BONAFIDE.!AA224","v":"00:00:00"},119,"119","VII","01190VII","00VII TM"]
[{"$f":"BONAFIDE.!AB225","v":"VIITM"},{"$f":"BONAFIDE.!AE225","v":0},{"$error":"#REF!"},{"$f":"BONAFIDE.!X225","v":0},{"$f":"BONAFIDE.!Y225","v":0},{"$f":"BONAFIDE.!Z225","v":0},{"$f":"BONAFIDE.!AD225","v":0},{"$f":"BONAFIDE.!AA225","v":"00:00:00"},119,"119","VII","01190VII","00VII TM"]
[{"$f":"BONAFIDE.!AB226","v":"VIITM"},{"$f":"BONAFIDE.!AE226","v":0},55,{"$f":"BONAFIDE.!X226","v":0},{"$f":"BONAFIDE.!Y226","v":0},{"$f":"BONAFIDE.!Z226","v":0},{"$f":"BONAFIDE.!AD226","v":0},{"$f":"BONAFIDE.!AA226","v":"00:00:00"},119,"119","VII","01190VII","00VII TM"]
[{"$f":"BONAFIDE.!AB227","v":"VIITM"},{"$f":"BONAFIDE.!AE227","v":0},56,{"$f":"BONAFIDE.!X227","v":0},{"$f":"BONAFIDE.!Y227","v":0},{"$f":"BONAFIDE.!Z227","v":0},{"$f":"BONAFIDE.!AD227","v":0},{"$f":"BONAFIDE.!AA227","v":"00:00:00"},119,"119","VII","01190VII","00VII TM"]
[{"$f":"BONAFIDE.!AB228","v":"VIITM"},{"$f":"BONAFIDE.!AE228","v":0},57,{"$f":"BONAFIDE.!X228","v":0},{"$f":"BONAFIDE.!Y228","v":0},{"$f":"BONAFIDE.!Z228","v":0},{"$f":"BONAFIDE.!AD228","v":0},{"$f":"BONAFIDE.!AA228","v":"00:00:00"},119,"119","VII","01190VII","00VII TM"]
[{"$f":"BONAFIDE.!AB229","v":"VIITM"},{"$f":"BONAFIDE.!AE229","v":0},58,{"$f":"BONAFIDE.!X229","v":0},{"$f":"BONAFIDE.!Y229","v":0},{"$f":"BONAFIDE.!Z229","v":0},{"$f":"BONAFIDE.!AD229","v":0},{"$f":"BONAFIDE.!AA229","v":"00:00:00"},119,"119","VII","01190VII","00VII TM"]
[{"$f":"BONAFIDE.!AB230","v":"VIITM"},{"$f":"BONAFIDE.!AE230","v":0},59,{"$f":"BONAFIDE.!X230","v":0},{"$f":"BONAFIDE.!Y230","v":0},{"$f":"BONAFIDE.!Z230","v":0},{"$f":"BONAFIDE.!AD230","v":0},{"$f":"BONAFIDE.!AA230","v":"00:00:00"},119,"119","VII","01190VII","00VII TM"]
[{"$f":"BONAFIDE.!AB231","v":"VIITM"},{"$f":"BONAFIDE.!AE231","v":0},60,{"$f":"BONAFIDE.!X231","v":0},{"$f":"BONAFIDE.!Y231","v":0},{"$f":"BONAFIDE.!Z231","v":0},{"$f":"BONAFIDE.!AD231","v":0},{"$f":"BONAFIDE.!AA231","v":"00:00:00"},119,"119","VII","01190VII","00VII TM"]
[{"$f":"BONAFIDE.!AB232","v":"VIITM"},{"$f":"BONAFIDE.!AE232","v":0},61,{"$f":"BONAFIDE.!X232","v":0},{"$f":"BONAFIDE.!Y232","v":0},{"$f":"BONAFIDE.!Z232","v":0},{"$f":"BONAFIDE.!AD232","v":0},{"$f":"BONAFIDE.!AA232","v":"00:00:00"},119,"119","VII","01190VII","00VII TM"]
[{"$f":"BONAFIDE.!AB233","v":"VIITM"},{"$f":"BONAFIDE.!AE233","v":0},62,{"$f":"BONAFIDE.!X233","v":0},{"$f":"BONAFIDE.!Y233","v":0},{"$f":"BONAFIDE.!Z233","v":0},{"$f":"BONAFIDE.!AD233","v":0},{"$f":"BONAFIDE.!AA233","v":"00:00:00"},119,"119","VII","01190VII","00VII TM"]
[{"$f":"BONAFIDE.!AB234","v":"VIITM"},{"$f":"BONAFIDE.!AE234","v":0},63,{"$f":"BONAFIDE.!X234","v":0},{"$f":"BONAFIDE.!Y234","v":0},{"$f":"BONAFIDE.!Z234","v":0},{"$f":"BONAFIDE.!AD234","v":0},{"$f":"BONAFIDE.!AA234","v":"00:00:00"},119,"119","VII","01190VII","00VII TM"]
[{"$f":"BONAFIDE.!AB235","v":"VIITM"},{"$f":"BONAFIDE.!AE235","v":0},64,{"$f":"BONAFIDE.!X235","v":0},{"$f":"BONAFIDE.!Y235","v":0},{"$f":"BONAFIDE.!Z235","v":0},{"$f":"BONAFIDE.!AD235","v":0},{"$f":"BONAFIDE.!AA235","v":"00:00:00"},119,"119","VII","01190VII","00VII TM"]
[{"$f":"BONAFIDE.!AB236","v":"VIITM"},{"$f":"BONAFIDE.!AE236","v":0},65,{"$f":"BONAFIDE.!X236","v":0},{"$f":"BONAFIDE.!Y236","v":0},{"$f":"BONAFIDE.!Z236","v":0},{"$f":"BONAFIDE.!AD236","v":0},{"$f":"BONAFIDE.!AA236","v":"00:00:00"},119,"119","VII","01190VII","00VII TM"]
[{"$f":"BONAFIDE.!AB237","v":"VIITM"},{"$f":"BONAFIDE.!AE237","v":0},66,{"$f":"BONAFIDE.!X237","v":0},{"$f":"BONAFIDE.!Y237","v":0},{"$f":"BONAFIDE.!Z237","v":0},{"$f":"BONAFIDE.!AD237","v":0},{"$f":"BONAFIDE.!AA237","v":"00:00:00"},119,"119","VII","01190VII","00VII TM"]
[{"$f":"BONAFIDE.!AB238","v":"VIITM"},{"$f":"BONAFIDE.!AE238","v":0},67,{"$f":"BONAFIDE.!X238","v":0},{"$f":"BONAFIDE.!Y238","v":0},{"$f":"BONAFIDE.!Z238","v":0},{"$f":"BONAFIDE.!AD238","v":0},{"$f":"BONAFIDE.!AA238","v":"00:00:00"},119,"119","VII","01190VII","00VII TM"]
[{"$f":"BONAFIDE.!AB239","v":"VIITM"},{"$f":"BONAFIDE.!AE239","v":0},68,{"$f":"BONAFIDE.!X239","v":0},{"$f":"BONAFIDE.!Y239","v":0},{"$f":"BONAFIDE.!Z239","v":0},{"$f":"BONAFIDE.!AD239","v":0},{"$f":"BONAFIDE.!AA239","v":"00:00:00"},119,"119","VII","01190VII","00VII TM"]
[{"$f":"BONAFIDE.!AB240","v":"VIITM"},{"$f":"BONAFIDE.!AE240","v":0},69,{"$f":"BONAFIDE.!X240","v":0},{"$f":"BONAFIDE.!Y240","v":0},{"$f":"BONAFIDE.!Z240","v":0},{"$f":"BONAFIDE.!AD240","v":0},{"$f":"BONAFIDE.!AA240","v":"00:00:00"},119,"119","VII","01190VII","00VII TM"]
[{"$f":"BONAFIDE.!AB241","v":"VIITM"},{"$f":"BONAFIDE.!AE241","v":0},null,{"$f":"BONAFIDE.!X241","v":0},{"$f":"BONAFIDE.!Y241","v":0},{"$f":"BONAFIDE.!Z241","v":0},{"$f":"BONAFIDE.!AD241","v":0},{"$f":"BONAFIDE.!AA241","v":"00:00:00"},119,"119","VII","01190VII","00VII TM"]
[{"$f":"BONAFIDE.!AB242","v":"VIITM"},{"$f":"BONAFIDE.!AE242","v":0},1,{"$f":"BONAFIDE.!X242","v":0},{"$f":"BONAFIDE.!Y242","v":0},{"$f":"BONAFIDE.!Z242","v":0},{"$f":"BONAFIDE.!AD242","v":0},{"$f":"BONAFIDE.!AA242","v":"00:00:00"},119,"119","VII","01190VII","00VII TM"]
[{"$f":"BONAFIDE.!AB243","v":"VIITM"},{"$f":"BONAFIDE.!AE243","v":0},2,{"$f":"BONAFIDE.!X243","v":0},{"$f":"BONAFIDE.!Y243","v":0},{"$f":"BONAFIDE.!Z243","v":0},{"$f":"BONAFIDE.!AD243","v":0},{"$f":"BONAFIDE.!AA243","v":"00:00:00"},119,"119","VII","01190VII","00VII TM"]
[{"$f":"BONAFIDE.!AB244","v":"VIITM"},{"$f":"BONAFIDE.!AE244","v":0},3,{"$f":"BONAFIDE.!X244","v":0},{"$f":"BONAFIDE.!Y244","v":0},{"$f":"BONAFIDE.!Z244","v":0},{"$f":"BONAFIDE.!AD244","v":0},{"$f":"BONAFIDE.!AA244","v":"00:00:00"},119,"119","VII","01190VII","00VII TM"]
[{"$f":"BONAFIDE.!AB245","v":"VIITM"},{"$f":"BONAFIDE.!AE245","v":0},4,{"$f":"BONAFIDE.!X245","v":0},{"$f":"BONAFIDE.!Y245","v":0},{"$f":"BONAFIDE.!Z245","v":0},{"$f":"BONAFIDE.!AD245","v":0},{"$f":"BONAFIDE.!AA245","v":"00:00:00"},119,"119","VII","01190VII","00VII TM"]
[{"$f":"BONAFIDE.!AB246","v":"VIITM"},{"$f":"BONAFIDE.!AE246","v":0},5,{"$f":"BONAFIDE.!X246","v":0},{"$f":"BONAFIDE.!Y246","v":0},{"$f":"BONAFIDE.!Z246","v":0},{"$f":"BONAFIDE.!AD246","v":0},{"$f":"BONAFIDE.!AA246","v":"00:00:00"},119,"119","VII","01190VII","00VII TM"]
[{"$f":"BONAFIDE.!AB247","v":"VIITM"},{"$f":"BONAFIDE.!AE247","v":0},6,{"$f":"BONAFIDE.!X247","v":0},{"$f":"BONAFIDE.!Y247","v":0},{"$f":"BONAFIDE.!Z247","v":0},{"$f":"BONAFIDE.!AD247","v":0},{"$f":"BONAFIDE.!AA247","v":"00:00:00"},119,"119","VII","01190VII","00VII TM"]
[{"$f":"BONAFIDE.!AB248","v":"VIITM"},{"$f":"BONAFIDE.!AE248","v":0},7,{"$f":"BONAFIDE.!X248","v":0},{"$f":"BONAFIDE.!Y248","v":0},{"$f":"BONAFIDE.!Z248","v":0},{"$f":"BONAFIDE.!AD248","v":0},{"$f":"BONAFIDE.!AA248","v":"00:00:00"},119,"119","VII","01190VII","00VII TM"]
[{"$f":"BONAFIDE.!AB249","v":"VIITM"},{"$f":"BONAFIDE.!AE249","v":0},8,{"$f":"BONAFIDE.!X249","v":0},{"$f":"BONAFIDE.!Y249","v":0},{"$f":"BONAFIDE.!Z249","v":0},{"$f":"BONAFIDE.!AD249","v":0},{"$f":"BONAFIDE.!AA249","v":"00:00:00"},119,"119","VII","01190VII","00VII TM"]
[{"$f":"BONAFIDE.!AB250","v":"VIITM"},{"$f":"BONAFIDE.!AE250","v":0},9,{"$f":"BONAFIDE.!X250","v":0},{"$f":"BONAFIDE.!Y250","v":0},{"$f":"BONAFIDE.!Z250","v":0},{"$f":"BONAFIDE.!AD250","v":0},{"$f":"BONAFIDE.!AA250","v":"00:00:00"},119,"119","VII","01190VII","00VII TM"]
[{"$f":"BONAFIDE.!AB251","v":"VIITM"},{"$f":"BONAFIDE.!AE251","v":0},10,{"$f":"BONAFIDE.!X251","v":0},{"$f":"BONAFIDE.!Y251","v":0},{"$f":"BONAFIDE.!Z251","v":0},{"$f":"BONAFIDE.!AD251","v":0},{"$f":"BONAFIDE.!AA251","v":"00:00:00"},119,"119","VII","01190VII","00VII TM"]
[{"$f":"BONAFIDE.!AB252","v":"VIITM"},{"$f":"BONAFIDE.!AE252","v":0},11,{"$f":"BONAFIDE.!X252","v":0},{"$f":"BONAFIDE.!Y252","v":0},{"$f":"BONAFIDE.!Z252","v":0},{"$f":"BONAFIDE.!AD252","v":0},{"$f":"BONAFIDE.!AA252","v":"00:00:00"},119,"119","VII","01190VII","00VII TM"]
[{"$f":"BONAFIDE.!AB253","v":"VIITM"},{"$f":"BONAFIDE.!AE253","v":0},12,{"$f":"BONAFIDE.!X253","v":0},{"$f":"BONAFIDE.!Y253","v":0},{"$f":"BONAFIDE.!Z253","v":0},{"$f":"BONAFIDE.!AD253","v":0},{"$f":"BONAFIDE.!AA253","v":"00:00:00"},119,"119","VII","01190VII","00VII TM"]
[{"$f":"BONAFIDE.!AB254","v":"VIITM"},{"$f":"BONAFIDE.!AE254","v":0},13,{"$f":"BONAFIDE.!X254","v":0},{"$f":"BONAFIDE.!Y254","v":0},{"$f":"BONAFIDE.!Z254","v":0},{"$f":"BONAFIDE.!AD254","v":0},{"$f":"BONAFIDE.!AA254","v":"00:00:00"},119,"119","VII","01190VII","00VII TM"]
[{"$f":"BONAFIDE.!AB255","v":"VIITM"},{"$f":"BONAFIDE.!AE255","v":0},14,{"$f":"BONAFIDE.!X255","v":0},{"$f":"BONAFIDE.!Y255","v":0},{"$f":"BONAFIDE.!Z255","v":0},{"$f":"BONAFIDE.!AD255","v":0},{"$f":"BONAFIDE.!AA255","v":"00:00:00"},119,"119","VII","01190VII","00VII TM"]
[{"$f":"BONAFIDE.!AB256","v":"VIITM"},{"$f":"BONAFIDE.!AE256","v":0},15,{"$f":"BONAFIDE.!X256","v":0},{"$f":"BONAFIDE.!Y256","v":0},{"$f":"BONAFIDE.!Z256","v":0},{"$f":"BONAFIDE.!AD256","v":0},{"$f":"BONAFIDE.!AA256","v":"00:00:00"},119,"119","VII","01190VII","00VII TM"]
[{"$f":"BONAFIDE.!AB257","v":"VIITM"},{"$f":"BONAFIDE.!AE257","v":0},16,{"$f":"BONAFIDE.!X257","v":0},{"$f":"BONAFIDE.!Y257","v":0},{"$f":"BONAFIDE.!Z257","v":0},{"$f":"BONAFIDE.!AD257","v":0},{"$f":"BONAFIDE.!AA257","v":"00:00:00"},119,"119","VII","01190VII","00VII TM"]
[{"$f":"BONAFIDE.!AB258","v":"VIITM"},{"$f":"BONAFIDE.!AE258","v":0},17,{"$f":"BONAFIDE.!X258","v":0},{"$f":"BONAFIDE.!Y258","v":0},{"$f":"BONAFIDE.!Z258","v":0},{"$f":"BONAFIDE.!AD258","v":0},{"$f":"BONAFIDE.!AA258","v":"00:00:00"},119,"119","VII","01190VII","00VII TM"]
[{"$f":"BONAFIDE.!AB259","v":"VIITM"},{"$f":"BONAFIDE.!AE259","v":0},18,{"$f":"BONAFIDE.!X259","v":0},{"$f":"BONAFIDE.!Y259","v":0},{"$f":"BONAFIDE.!Z259","v":0},{"$f":"BONAFIDE.!AD259","v":0},{"$f":"BONAFIDE.!AA259","v":"00:00:00"},119,"119","VII","01190VII","00VII TM"]
[{"$f":"BONAFIDE.!AB260","v":"VIITM"},{"$f":"BONAFIDE.!AE260","v":0},19,{"$f":"BONAFIDE.!X260","v":0},{"$f":"BONAFIDE.!Y260","v":0},{"$f":"BONAFIDE.!Z260","v":0},{"$f":"BONAFIDE.!AD260","v":0},{"$f":"BONAFIDE.!AA260","v":"00:00:00"},119,"119","VII","01190VII","00VII TM"]
[{"$f":"BONAFIDE.!AB261","v":"VIITM"},{"$f":"BONAFIDE.!AE261","v":0},20,{"$f":"BONAFIDE.!X261","v":0},{"$f":"BONAFIDE.!Y261","v":0},{"$f":"BONAFIDE.!Z261","v":0},{"$f":"BONAFIDE.!AD261","v":0},{"$f":"BONAFIDE.!AA261","v":"00:00:00"},119,"119","VII","01190VII","00VII TM"]
[{"$f":"BONAFIDE.!AB262","v":"VIITM"},{"$f":"BONAFIDE.!AE262","v":0},21,{"$f":"BONAFIDE.!X262","v":0},{"$f":"BONAFIDE.!Y262","v":0},{"$f":"BONAFIDE.!Z262","v":0},{"$f":"BONAFIDE.!AD262","v":0},{"$f":"BONAFIDE.!AA262","v":"00:00:00"},119,"119","VII","01190VII","00VII TM"]
[{"$f":"BONAFIDE.!AB263","v":"VIITM"},{"$f":"BONAFIDE.!AE263","v":0},22,{"$f":"BONAFIDE.!X263","v":0},{"$f":"BONAFIDE.!Y263","v":0},{"$f":"BONAFIDE.!Z263","v":0},{"$f":"BONAFIDE.!AD263","v":0},{"$f":"BONAFIDE.!AA263","v":"00:00:00"},{"$f":"DATEDIF(H260,CUTOFFDT,\"Y\")","v":119},{"$f":"fillno(I260)","v":"119"},{"$f":"MID(A260,1,LEN(A260)-2)","v":"VII"},{"$f":"B260&J260&G260&K260","v":"01190VII"},{"$f":"B260&G260&MID(A260,1,LEN(A260)-2)&\" \" & RIGHT(A260,2)","v":"00VII TM"}]
[{"$f":"BONAFIDE.!AB264","v":"VIITM"},{"$f":"BONAFIDE.!AE264","v":0},23,{"$f":"BONAFIDE.!X264","v":0},{"$f":"BONAFIDE.!Y264","v":0},{"$f":"BONAFIDE.!Z264","v":0},{"$f":"BONAFIDE.!AD264","v":0},{"$f":"BONAFIDE.!AA264","v":"00:00:00"},119,"119","VII","01190VII","00VII TM"]
[{"$f":"BONAFIDE.!AB265","v":"VIITM"},{"$f":"BONAFIDE.!AE265","v":0},24,{"$f":"BONAFIDE.!X265","v":0},{"$f":"BONAFIDE.!Y265","v":0},{"$f":"BONAFIDE.!Z265","v":0},{"$f":"BONAFIDE.!AD265","v":0},{"$f":"BONAFIDE.!AA265","v":"00:00:00"},119,"119","VII","01190VII","00VII TM"]
[{"$f":"BONAFIDE.!AB266","v":"VIITM"},{"$f":"BONAFIDE.!AE266","v":0},25,{"$f":"BONAFIDE.!X266","v":0},{"$f":"BONAFIDE.!Y266","v":0},{"$f":"BONAFIDE.!Z266","v":0},{"$f":"BONAFIDE.!AD266","v":0},{"$f":"BONAFIDE.!AA266","v":"00:00:00"},119,"119","VII","01190VII","00VII TM"]
[{"$f":"BONAFIDE.!AB267","v":"VIITM"},{"$f":"BONAFIDE.!AE267","v":0},26,{"$f":"BONAFIDE.!X267","v":0},{"$f":"BONAFIDE.!Y267","v":0},{"$f":"BONAFIDE.!Z267","v":0},{"$f":"BONAFIDE.!AD267","v":0},{"$f":"BONAFIDE.!AA267","v":"00:00:00"},119,"119","VII","01190VII","00VII TM"]
[{"$f":"BONAFIDE.!AB268","v":"VIITM"},{"$f":"BONAFIDE.!AE268","v":0},27,{"$f":"BONAFIDE.!X268","v":0},{"$f":"BONAFIDE.!Y268","v":0},{"$f":"BONAFIDE.!Z268","v":0},{"$f":"BONAFIDE.!AD268","v":0},{"$f":"BONAFIDE.!AA268","v":"00:00:00"},119,"119","VII","01190VII","00VII TM"]
[{"$f":"BONAFIDE.!AB269","v":"VIITM"},{"$f":"BONAFIDE.!AE269","v":0},28,{"$f":"BONAFIDE.!X269","v":0},{"$f":"BONAFIDE.!Y269","v":0},{"$f":"BONAFIDE.!Z269","v":0},{"$f":"BONAFIDE.!AD269","v":0},{"$f":"BONAFIDE.!AA269","v":"00:00:00"},119,"119","VII","01190VII","00VII TM"]
[{"$f":"BONAFIDE.!AB270","v":"VIITM"},{"$f":"BONAFIDE.!AE270","v":0},29,{"$f":"BONAFIDE.!X270","v":0},{"$f":"BONAFIDE.!Y270","v":0},{"$f":"BONAFIDE.!Z270","v":0},{"$f":"BONAFIDE.!AD270","v":0},{"$f":"BONAFIDE.!AA270","v":"00:00:00"},119,"119","VII","01190VII","00VII TM"]
[{"$f":"BONAFIDE.!AB271","v":"VIITM"},{"$f":"BONAFIDE.!AE271","v":0},30,{"$f":"BONAFIDE.!X271","v":0},{"$f":"BONAFIDE.!Y271","v":0},{"$f":"BONAFIDE.!Z271","v":0},{"$f":"BONAFIDE.!AD271","v":0},{"$f":"BONAFIDE.!AA271","v":"00:00:00"},119,"119","VII","01190VII","00VII TM"]
[{"$f":"BONAFIDE.!AB272","v":"VIITM"},{"$f":"BONAFIDE.!AE272","v":0},31,{"$f":"BONAFIDE.!X272","v":0},{"$f":"BONAFIDE.!Y272","v":0},{"$f":"BONAFIDE.!Z272","v":0},{"$f":"BONAFIDE.!AD272","v":0},{"$f":"BONAFIDE.!AA272","v":"00:00:00"},119,"119","VII","01190VII","00VII TM"]
[{"$f":"BONAFIDE.!AB273","v":"VIITM"},{"$f":"BONAFIDE.!AE273","v":0},32,{"$f":"BONAFIDE.!X273","v":0},{"$f":"BONAFIDE.!Y273","v":0},{"$f":"BONAFIDE.!Z273","v":0},{"$f":"BONAFIDE.!AD273","v":0},{"$f":"BONAFIDE.!AA273","v":"00:00:00"},119,"119","VII","01190VII","00VII TM"]
[{"$f":"BONAFIDE.!AB274","v":"VIITM"},{"$f":"BONAFIDE.!AE274","v":0},33,{"$f":"BONAFIDE.!X274","v":0},{"$f":"BONAFIDE.!Y274","v":0},{"$f":"BONAFIDE.!Z274","v":0},{"$f":"BONAFIDE.!AD274","v":0},{"$f":"BONAFIDE.!AA274","v":"00:00:00"},119,"119","VII","01190VII","00VII TM"]
[{"$f":"BONAFIDE.!AB275","v":"VIITM"},{"$f":"BONAFIDE.!AE275","v":0},34,{"$f":"BONAFIDE.!X275","v":0},{"$f":"BONAFIDE.!Y275","v":0},{"$f":"BONAFIDE.!Z275","v":0},{"$f":"BONAFIDE.!AD275","v":0},{"$f":"BONAFIDE.!AA275","v":"00:00:00"},119,"119","VII","01190VII","00VII TM"]
[{"$f":"BONAFIDE.!AB276","v":"VIITM"},{"$f":"BONAFIDE.!AE276","v":0},35,{"$f":"BONAFIDE.!X276","v":0},{"$f":"BONAFIDE.!Y276","v":0},{"$f":"BONAFIDE.!Z276","v":0},{"$f":"BONAFIDE.!AD276","v":0},{"$f":"BONAFIDE.!AA276","v":"00:00:00"},119,"119","VII","01190VII","00VII TM"]
[{"$f":"BONAFIDE.!AB277","v":"VIITM"},{"$f":"BONAFIDE.!AE277","v":0},36,{"$f":"BONAFIDE.!X277","v":0},{"$f":"BONAFIDE.!Y277","v":0},{"$f":"BONAFIDE.!Z277","v":0},{"$f":"BONAFIDE.!AD277","v":0},{"$f":"BONAFIDE.!AA277","v":"00:00:00"},119,"119","VII","01190VII","00VII TM"]
[{"$f":"BONAFIDE.!AB278","v":"VIITM"},{"$f":"BONAFIDE.!AE278","v":0},37,{"$f":"BONAFIDE.!X278","v":0},{"$f":"BONAFIDE.!Y278","v":0},{"$f":"BONAFIDE.!Z278","v":0},{"$f":"BONAFIDE.!AD278","v":0},{"$f":"BONAFIDE.!AA278","v":"00:00:00"},119,"119","VII","01190VII","00VII TM"]
[{"$f":"BONAFIDE.!AB279","v":"VIITM"},{"$f":"BONAFIDE.!AE279","v":0},38,{"$f":"BONAFIDE.!X279","v":0},{"$f":"BONAFIDE.!Y279","v":0},{"$f":"BONAFIDE.!Z279","v":0},{"$f":"BONAFIDE.!AD279","v":0},{"$f":"BONAFIDE.!AA279","v":"00:00:00"},119,"119","VII","01190VII","00VII TM"]
[{"$f":"BONAFIDE.!AB280","v":"VIITM"},{"$f":"BONAFIDE.!AE280","v":0},39,{"$f":"BONAFIDE.!X280","v":0},{"$f":"BONAFIDE.!Y280","v":0},{"$f":"BONAFIDE.!Z280","v":0},{"$f":"BONAFIDE.!AD280","v":0},{"$f":"BONAFIDE.!AA280","v":"00:00:00"},119,"119","VII","01190VII","00VII TM"]
[{"$f":"BONAFIDE.!AB281","v":"VIITM"},{"$f":"BONAFIDE.!AE281","v":0},40,{"$f":"BONAFIDE.!X281","v":0},{"$f":"BONAFIDE.!Y281","v":0},{"$f":"BONAFIDE.!Z281","v":0},{"$f":"BONAFIDE.!AD281","v":0},{"$f":"BONAFIDE.!AA281","v":"00:00:00"},119,"119","VII","01190VII","00VII TM"]
[{"$f":"BONAFIDE.!AB282","v":"VIITM"},{"$f":"BONAFIDE.!AE282","v":0},41,{"$f":"BONAFIDE.!X282","v":0},{"$f":"BONAFIDE.!Y282","v":0},{"$f":"BONAFIDE.!Z282","v":0},{"$f":"BONAFIDE.!AD282","v":0},{"$f":"BONAFIDE.!AA282","v":"00:00:00"},119,"119","VII","01190VII","00VII TM"]
[{"$f":"BONAFIDE.!AB283","v":"VIITM"},{"$f":"BONAFIDE.!AE283","v":0},42,{"$f":"BONAFIDE.!X283","v":0},{"$f":"BONAFIDE.!Y283","v":0},{"$f":"BONAFIDE.!Z283","v":0},{"$f":"BONAFIDE.!AD283","v":0},{"$f":"BONAFIDE.!AA283","v":"00:00:00"},119,"119","VII","01190VII","00VII TM"]
[{"$f":"BONAFIDE.!AB284","v":"VIITM"},{"$f":"BONAFIDE.!AE284","v":0},43,{"$f":"BONAFIDE.!X284","v":0},{"$f":"BONAFIDE.!Y284","v":0},{"$f":"BONAFIDE.!Z284","v":0},{"$f":"BONAFIDE.!AD284","v":0},{"$f":"BONAFIDE.!AA284","v":"00:00:00"},119,"119","VII","01190VII","00VII TM"]
[{"$f":"BONAFIDE.!AB285","v":"VIITM"},{"$f":"BONAFIDE.!AE285","v":0},44,{"$f":"BONAFIDE.!X285","v":0},{"$f":"BONAFIDE.!Y285","v":0},{"$f":"BONAFIDE.!Z285","v":0},{"$f":"BONAFIDE.!AD285","v":0},{"$f":"BONAFIDE.!AA285","v":"00:00:00"},119,"119","VII","01190VII","00VII TM"]
[{"$f":"BONAFIDE.!AB286","v":"VIITM"},{"$f":"BONAFIDE.!AE286","v":0},45,{"$f":"BONAFIDE.!X286","v":0},{"$f":"BONAFIDE.!Y286","v":0},{"$f":"BONAFIDE.!Z286","v":0},{"$f":"BONAFIDE.!AD286","v":0},{"$f":"BONAFIDE.!AA286","v":"00:00:00"},119,"119","VII","01190VII","00VII TM"]
[{"$f":"BONAFIDE.!AB287","v":"VIITM"},{"$f":"BONAFIDE.!AE287","v":0},46,{"$f":"BONAFIDE.!X287","v":0},{"$f":"BONAFIDE.!Y287","v":0},{"$f":"BONAFIDE.!Z287","v":0},{"$f":"BONAFIDE.!AD287","v":0},{"$f":"BONAFIDE.!AA287","v":"00:00:00"},119,"119","VII","01190VII","00VII TM"]
[{"$f":"BONAFIDE.!AB288","v":"VIITM"},{"$f":"BONAFIDE.!AE288","v":0},47,{"$f":"BONAFIDE.!X288","v":0},{"$f":"BONAFIDE.!Y288","v":0},{"$f":"BONAFIDE.!Z288","v":0},{"$f":"BONAFIDE.!AD288","v":0},{"$f":"BONAFIDE.!AA288","v":"00:00:00"},119,"119","VII","01190VII","00VII TM"]
[{"$f":"BONAFIDE.!AB289","v":"VIITM"},{"$f":"BONAFIDE.!AE289","v":0},48,{"$f":"BONAFIDE.!X289","v":0},{"$f":"BONAFIDE.!Y289","v":0},{"$f":"BONAFIDE.!Z289","v":0},{"$f":"BONAFIDE.!AD289","v":0},{"$f":"BONAFIDE.!AA289","v":"00:00:00"},119,"119","VII","01190VII","00VII TM"]
[{"$f":"BONAFIDE.!AB290","v":"VIITM"},{"$f":"BONAFIDE.!AE290","v":0},49,{"$f":"BONAFIDE.!X290","v":0},{"$f":"BONAFIDE.!Y290","v":0},{"$f":"BONAFIDE.!Z290","v":0},{"$f":"BONAFIDE.!AD290","v":0},{"$f":"BONAFIDE.!AA290","v":"00:00:00"},119,"119","VII","01190VII","00VII TM"]
[{"$f":"BONAFIDE.!AB291","v":"VIITM"},{"$f":"BONAFIDE.!AE291","v":0},{"$error":"#REF!"},{"$f":"BONAFIDE.!X291","v":0},{"$f":"BONAFIDE.!Y291","v":0},{"$f":"BONAFIDE.!Z291","v":0},{"$f":"BONAFIDE.!AD291","v":0},{"$f":"BONAFIDE.!AA291","v":"00:00:00"},119,"119","VII","01190VII","00VII TM"]
[{"$f":"BONAFIDE.!AB292","v":"VIITM"},{"$f":"BONAFIDE.!AE292","v":0},{"$error":"#REF!"},{"$f":"BONAFIDE.!X292","v":0},{"$f":"BONAFIDE.!Y292","v":0},{"$f":"BONAFIDE.!Z292","v":0},{"$f":"BONAFIDE.!AD292","v":0},{"$f":"BONAFIDE.!AA292","v":"00:00:00"},119,"119","VII","01190VII","00VII TM"]
[{"$f":"BONAFIDE.!AB293","v":"VIITM"},{"$f":"BONAFIDE.!AE293","v":0},{"$error":"#REF!"},{"$f":"BONAFIDE.!X293","v":0},{"$f":"BONAFIDE.!Y293","v":0},{"$f":"BONAFIDE.!Z293","v":0},{"$f":"BONAFIDE.!AD293","v":0},{"$f":"BONAFIDE.!AA293","v":"00:00:00"},119,"119","VII","01190VII","00VII TM"]
[{"$f":"BONAFIDE.!AB294","v":"VIITM"},{"$f":"BONAFIDE.!AE294","v":0},"SC",{"$f":"BONAFIDE.!X294","v":0},{"$f":"BONAFIDE.!Y294","v":0},{"$f":"BONAFIDE.!Z294","v":0},{"$f":"BONAFIDE.!AD294","v":0},{"$f":"BONAFIDE.!AA294","v":"00:00:00"},119,"119","VII","01190VII","00VII TM"]
[{"$f":"BONAFIDE.!AB295","v":"VIITM"},{"$f":"BONAFIDE.!AE295","v":0},"ST",{"$f":"BONAFIDE.!X295","v":0},{"$f":"BONAFIDE.!Y295","v":0},{"$f":"BONAFIDE.!Z295","v":0},{"$f":"BONAFIDE.!AD295","v":0},{"$f":"BONAFIDE.!AA295","v":"00:00:00"},119,"119","VII","01190VII","00VII TM"]
[{"$f":"BONAFIDE.!AB296","v":"VIITM"},{"$f":"BONAFIDE.!AE296","v":0},"BC",{"$f":"BONAFIDE.!X296","v":0},{"$f":"BONAFIDE.!Y296","v":0},{"$f":"BONAFIDE.!Z296","v":0},{"$f":"BONAFIDE.!AD296","v":0},{"$f":"BONAFIDE.!AA296","v":"00:00:00"},119,"119","VII","01190VII","00VII TM"]
[{"$f":"BONAFIDE.!AB297","v":"VIITM"},{"$f":"BONAFIDE.!AE297","v":0},null,{"$f":"BONAFIDE.!X297","v":0},{"$f":"BONAFIDE.!Y297","v":0},{"$f":"BONAFIDE.!Z297","v":0},{"$f":"BONAFIDE.!AD297","v":0},{"$f":"BONAFIDE.!AA297","v":"00:00:00"},119,"119","VII","01190VII","00VII TM"]
[{"$f":"BONAFIDE.!AB298","v":"VIITM"},{"$f":"BONAFIDE.!AE298","v":0},1,{"$f":"BONAFIDE.!X298","v":0},{"$f":"BONAFIDE.!Y298","v":0},{"$f":"BONAFIDE.!Z298","v":0},{"$f":"BONAFIDE.!AD298","v":0},{"$f":"BONAFIDE.!AA298","v":"00:00:00"},119,"119","VII","01190VII","00VII TM"]
[{"$f":"BONAFIDE.!AB299","v":"VIITM"},{"$f":"BONAFIDE.!AE299","v":0},2,{"$f":"BONAFIDE.!X299","v":0},{"$f":"BONAFIDE.!Y299","v":0},{"$f":"BONAFIDE.!Z299","v":0},{"$f":"BONAFIDE.!AD299","v":0},{"$f":"BONAFIDE.!AA299","v":"00:00:00"},119,"119","VII","01190VII","00VII TM"]
[{"$f":"BONAFIDE.!AB300","v":"VIITM"},{"$f":"BONAFIDE.!AE300","v":0},3,{"$f":"BONAFIDE.!X300","v":0},{"$f":"BONAFIDE.!Y300","v":0},{"$f":"BONAFIDE.!Z300","v":0},{"$f":"BONAFIDE.!AD300","v":0},{"$f":"BONAFIDE.!AA300","v":"00:00:00"},119,"119","VII","01190VII","00VII TM"]
[{"$f":"BONAFIDE.!AB301","v":"VIITM"},{"$f":"BONAFIDE.!AE301","v":0},4,{"$f":"BONAFIDE.!X301","v":0},{"$f":"BONAFIDE.!Y301","v":0},{"$f":"BONAFIDE.!Z301","v":0},{"$f":"BONAFIDE.!AD301","v":0},{"$f":"BONAFIDE.!AA301","v":"00:00:00"},119,"119","VII","01190VII","00VII TM"]
[{"$f":"BONAFIDE.!AB302","v":"VIITM"},{"$f":"BONAFIDE.!AE302","v":0},5,{"$f":"BONAFIDE.!X302","v":0},{"$f":"BONAFIDE.!Y302","v":0},{"$f":"BONAFIDE.!Z302","v":0},{"$f":"BONAFIDE.!AD302","v":0},{"$f":"BONAFIDE.!AA302","v":"00:00:00"},119,"119","VII","01190VII","00VII TM"]
[{"$f":"BONAFIDE.!AB303","v":"VIITM"},{"$f":"BONAFIDE.!AE303","v":0},6,{"$f":"BONAFIDE.!X303","v":0},{"$f":"BONAFIDE.!Y303","v":0},{"$f":"BONAFIDE.!Z303","v":0},{"$f":"BONAFIDE.!AD303","v":0},{"$f":"BONAFIDE.!AA303","v":"00:00:00"},119,"119","VII","01190VII","00VII TM"]
[{"$f":"BONAFIDE.!AB304","v":"VIITM"},{"$f":"BONAFIDE.!AE304","v":0},7,{"$f":"BONAFIDE.!X304","v":0},{"$f":"BONAFIDE.!Y304","v":0},{"$f":"BONAFIDE.!Z304","v":0},{"$f":"BONAFIDE.!AD304","v":0},{"$f":"BONAFIDE.!AA304","v":"00:00:00"},119,"119","VII","01190VII","00VII TM"]
[{"$f":"BONAFIDE.!AB305","v":"VIITM"},{"$f":"BONAFIDE.!AE305","v":0},8,{"$f":"BONAFIDE.!X305","v":0},{"$f":"BONAFIDE.!Y305","v":0},{"$f":"BONAFIDE.!Z305","v":0},{"$f":"BONAFIDE.!AD305","v":0},{"$f":"BONAFIDE.!AA305","v":"00:00:00"},119,"119","VII","01190VII","00VII TM"]
[{"$f":"BONAFIDE.!AB306","v":"VIITM"},{"$f":"BONAFIDE.!AE306","v":0},9,{"$f":"BONAFIDE.!X306","v":0},{"$f":"BONAFIDE.!Y306","v":0},{"$f":"BONAFIDE.!Z306","v":0},{"$f":"BONAFIDE.!AD306","v":0},{"$f":"BONAFIDE.!AA306","v":"00:00:00"},119,"119","VII","01190VII","00VII TM"]
[{"$f":"BONAFIDE.!AB307","v":"00:00:00"},{"$f":"BONAFIDE.!AE307","v":0},10,{"$f":"BONAFIDE.!X307","v":0},{"$f":"BONAFIDE.!Y307","v":0},{"$f":"BONAFIDE.!Z307","v":0},{"$f":"BONAFIDE.!AD307","v":0},{"$f":"BONAFIDE.!AA307","v":"00:00:00"},119,"119",{"$error":"#VALUE!"},{"$error":"#VALUE!"},{"$error":"#VALUE!"}]
[{"$f":"BONAFIDE.!AB308","v":"VIIITM"},{"$f":"BONAFIDE.!AE308","v":0},11,{"$f":"BONAFIDE.!X308","v":0},{"$f":"BONAFIDE.!Y308","v":0},{"$f":"BONAFIDE.!Z308","v":0},{"$f":"BONAFIDE.!AD308","v":0},{"$f":"BONAFIDE.!AA308","v":"00:00:00"},119,"119","VIII","01190VIII","00VIII TM"]
[{"$f":"BONAFIDE.!AB309","v":"VIIITM"},{"$f":"BONAFIDE.!AE309","v":0},12,{"$f":"BONAFIDE.!X309","v":0},{"$f":"BONAFIDE.!Y309","v":0},{"$f":"BONAFIDE.!Z309","v":0},{"$f":"BONAFIDE.!AD309","v":0},{"$f":"BONAFIDE.!AA309","v":"00:00:00"},119,"119","VIII","01190VIII","00VIII TM"]
[{"$f":"BONAFIDE.!AB310","v":"VIIITM"},{"$f":"BONAFIDE.!AE310","v":0},13,{"$f":"BONAFIDE.!X310","v":0},{"$f":"BONAFIDE.!Y310","v":0},{"$f":"BONAFIDE.!Z310","v":0},{"$f":"BONAFIDE.!AD310","v":0},{"$f":"BONAFIDE.!AA310","v":"00:00:00"},119,"119","VIII","01190VIII","00VIII TM"]
[{"$f":"BONAFIDE.!AB311","v":"VIIITM"},{"$f":"BONAFIDE.!AE311","v":0},14,{"$f":"BONAFIDE.!X311","v":0},{"$f":"BONAFIDE.!Y311","v":0},{"$f":"BONAFIDE.!Z311","v":0},{"$f":"BONAFIDE.!AD311","v":0},{"$f":"BONAFIDE.!AA311","v":"00:00:00"},119,"119","VIII","01190VIII","00VIII TM"]
[{"$f":"BONAFIDE.!AB312","v":"VIIITM"},{"$f":"BONAFIDE.!AE312","v":0},15,{"$f":"BONAFIDE.!X312","v":0},{"$f":"BONAFIDE.!Y312","v":0},{"$f":"BONAFIDE.!Z312","v":0},{"$f":"BONAFIDE.!AD312","v":0},{"$f":"BONAFIDE.!AA312","v":"00:00:00"},119,"119","VIII","01190VIII","00VIII TM"]
[{"$f":"BONAFIDE.!AB313","v":"VIIITM"},{"$f":"BONAFIDE.!AE313","v":0},16,{"$f":"BONAFIDE.!X313","v":0},{"$f":"BONAFIDE.!Y313","v":0},{"$f":"BONAFIDE.!Z313","v":0},{"$f":"BONAFIDE.!AD313","v":0},{"$f":"BONAFIDE.!AA313","v":"00:00:00"},119,"119","VIII","01190VIII","00VIII TM"]
[{"$f":"BONAFIDE.!AB314","v":"VIIITM"},{"$f":"BONAFIDE.!AE314","v":0},17,{"$f":"BONAFIDE.!X314","v":0},{"$f":"BONAFIDE.!Y314","v":0},{"$f":"BONAFIDE.!Z314","v":0},{"$f":"BONAFIDE.!AD314","v":0},{"$f":"BONAFIDE.!AA314","v":"00:00:00"},119,"119","VIII","01190VIII","00VIII TM"]
[{"$f":"BONAFIDE.!AB315","v":"VIIITM"},{"$f":"BONAFIDE.!AE315","v":0},18,{"$f":"BONAFIDE.!X315","v":0},{"$f":"BONAFIDE.!Y315","v":0},{"$f":"BONAFIDE.!Z315","v":0},{"$f":"BONAFIDE.!AD315","v":0},{"$f":"BONAFIDE.!AA315","v":"00:00:00"},119,"119","VIII","01190VIII","00VIII TM"]
[{"$f":"BONAFIDE.!AB316","v":"VIIITM"},{"$f":"BONAFIDE.!AE316","v":0},19,{"$f":"BONAFIDE.!X316","v":0},{"$f":"BONAFIDE.!Y316","v":0},{"$f":"BONAFIDE.!Z316","v":0},{"$f":"BONAFIDE.!AD316","v":0},{"$f":"BONAFIDE.!AA316","v":"00:00:00"},119,"119","VIII","01190VIII","00VIII TM"]
[{"$f":"BONAFIDE.!AB317","v":"VIIITM"},{"$f":"BONAFIDE.!AE317","v":0},20,{"$f":"BONAFIDE.!X317","v":0},{"$f":"BONAFIDE.!Y317","v":0},{"$f":"BONAFIDE.!Z317","v":0},{"$f":"BONAFIDE.!AD317","v":0},{"$f":"BONAFIDE.!AA317","v":"00:00:00"},119,"119","VIII","01190VIII","00VIII TM"]
[{"$f":"BONAFIDE.!AB318","v":"VIIITM"},{"$f":"BONAFIDE.!AE318","v":0},21,{"$f":"BONAFIDE.!X318","v":0},{"$f":"BONAFIDE.!Y318","v":0},{"$f":"BONAFIDE.!Z318","v":0},{"$f":"BONAFIDE.!AD318","v":0},{"$f":"BONAFIDE.!AA318","v":"00:00:00"},119,"119","VIII","01190VIII","00VIII TM"]
[{"$f":"BONAFIDE.!AB319","v":"VIIITM"},{"$f":"BONAFIDE.!AE319","v":0},22,{"$f":"BONAFIDE.!X319","v":0},{"$f":"BONAFIDE.!Y319","v":0},{"$f":"BONAFIDE.!Z319","v":0},{"$f":"BONAFIDE.!AD319","v":0},{"$f":"BONAFIDE.!AA319","v":"00:00:00"},119,"119","VIII","01190VIII","00VIII TM"]
[{"$f":"BONAFIDE.!AB320","v":"VIIITM"},{"$f":"BONAFIDE.!AE320","v":0},23,{"$f":"BONAFIDE.!X320","v":0},{"$f":"BONAFIDE.!Y320","v":0},{"$f":"BONAFIDE.!Z320","v":0},{"$f":"BONAFIDE.!AD320","v":0},{"$f":"BONAFIDE.!AA320","v":"00:00:00"},119,"119","VIII","01190VIII","00VIII TM"]
[{"$f":"BONAFIDE.!AB321","v":"VIIITM"},{"$f":"BONAFIDE.!AE321","v":0},{"$error":"#REF!"},{"$f":"BONAFIDE.!X321","v":0},{"$f":"BONAFIDE.!Y321","v":0},{"$f":"BONAFIDE.!Z321","v":0},{"$f":"BONAFIDE.!AD321","v":0},{"$f":"BONAFIDE.!AA321","v":"00:00:00"},119,"119","VIII","01190VIII","00VIII TM"]
[{"$f":"BONAFIDE.!AB322","v":"VIIITM"},{"$f":"BONAFIDE.!AE322","v":0},{"$error":"#REF!"},{"$f":"BONAFIDE.!X322","v":0},{"$f":"BONAFIDE.!Y322","v":0},{"$f":"BONAFIDE.!Z322","v":0},{"$f":"BONAFIDE.!AD322","v":0},{"$f":"BONAFIDE.!AA322","v":"00:00:00"},119,"119","VIII","01190VIII","00VIII TM"]
[{"$f":"BONAFIDE.!AB323","v":"VIIITM"},{"$f":"BONAFIDE.!AE323","v":0},{"$error":"#REF!"},{"$f":"BONAFIDE.!X323","v":0},{"$f":"BONAFIDE.!Y323","v":0},{"$f":"BONAFIDE.!Z323","v":0},{"$f":"BONAFIDE.!AD323","v":0},{"$f":"BONAFIDE.!AA323","v":"00:00:00"},119,"119","VIII","01190VIII","00VIII TM"]
[{"$f":"BONAFIDE.!AB324","v":"VIIITM"},{"$f":"BONAFIDE.!AE324","v":0},{"$error":"#REF!"},{"$f":"BONAFIDE.!X324","v":0},{"$f":"BONAFIDE.!Y324","v":0},{"$f":"BONAFIDE.!Z324","v":0},{"$f":"BONAFIDE.!AD324","v":0},{"$f":"BONAFIDE.!AA324","v":"00:00:00"},119,"119","VIII","01190VIII","00VIII TM"]
[{"$f":"BONAFIDE.!AB325","v":"VIIITM"},{"$f":"BONAFIDE.!AE325","v":0},{"$error":"#REF!"},{"$f":"BONAFIDE.!X325","v":0},{"$f":"BONAFIDE.!Y325","v":0},{"$f":"BONAFIDE.!Z325","v":0},{"$f":"BONAFIDE.!AD325","v":0},{"$f":"BONAFIDE.!AA325","v":"00:00:00"},119,"119","VIII","01190VIII","00VIII TM"]
[{"$f":"BONAFIDE.!AB326","v":"VIIITM"},{"$f":"BONAFIDE.!AE326","v":0},{"$error":"#REF!"},{"$f":"BONAFIDE.!X326","v":0},{"$f":"BONAFIDE.!Y326","v":0},{"$f":"BONAFIDE.!Z326","v":0},{"$f":"BONAFIDE.!AD326","v":0},{"$f":"BONAFIDE.!AA326","v":"00:00:00"},119,"119","VIII","01190VIII","00VIII TM"]
[{"$f":"BONAFIDE.!AB327","v":"VIIITM"},{"$f":"BONAFIDE.!AE327","v":0},{"$error":"#REF!"},{"$f":"BONAFIDE.!X327","v":0},{"$f":"BONAFIDE.!Y327","v":0},{"$f":"BONAFIDE.!Z327","v":0},{"$f":"BONAFIDE.!AD327","v":0},{"$f":"BONAFIDE.!AA327","v":"00:00:00"},{"$f":"DATEDIF(H324,CUTOFFDT,\"Y\")","v":119},{"$f":"fillno(I324)","v":"119"},{"$f":"MID(A324,1,LEN(A324)-2)","v":"VIII"},{"$f":"B324&J324&G324&K324","v":"01190VIII"},{"$f":"B324&G324&MID(A324,1,LEN(A324)-2)&\" \" & RIGHT(A324,2)","v":"00VIII TM"}]
[{"$f":"BONAFIDE.!AB328","v":"VIIITM"},{"$f":"BONAFIDE.!AE328","v":0},{"$error":"#REF!"},{"$f":"BONAFIDE.!X328","v":0},{"$f":"BONAFIDE.!Y328","v":0},{"$f":"BONAFIDE.!Z328","v":0},{"$f":"BONAFIDE.!AD328","v":0},{"$f":"BONAFIDE.!AA328","v":"00:00:00"},119,"119","VIII","01190VIII","00VIII TM"]
[{"$f":"BONAFIDE.!AB329","v":"VIIITM"},{"$f":"BONAFIDE.!AE329","v":0},{"$error":"#REF!"},{"$f":"BONAFIDE.!X329","v":0},{"$f":"BONAFIDE.!Y329","v":0},{"$f":"BONAFIDE.!Z329","v":0},{"$f":"BONAFIDE.!AD329","v":0},{"$f":"BONAFIDE.!AA329","v":"00:00:00"},119,"119","VIII","01190VIII","00VIII TM"]
[{"$f":"BONAFIDE.!AB330","v":"VIIITM"},{"$f":"BONAFIDE.!AE330","v":0},{"$error":"#REF!"},{"$f":"BONAFIDE.!X330","v":0},{"$f":"BONAFIDE.!Y330","v":0},{"$f":"BONAFIDE.!Z330","v":0},{"$f":"BONAFIDE.!AD330","v":0},{"$f":"BONAFIDE.!AA330","v":"00:00:00"},119,"119","VIII","01190VIII","00VIII TM"]
[{"$f":"BONAFIDE.!AB331","v":"VIIITM"},{"$f":"BONAFIDE.!AE331","v":0},{"$error":"#REF!"},{"$f":"BONAFIDE.!X331","v":0},{"$f":"BONAFIDE.!Y331","v":0},{"$f":"BONAFIDE.!Z331","v":0},{"$f":"BONAFIDE.!AD331","v":0},{"$f":"BONAFIDE.!AA331","v":"00:00:00"},119,"119","VIII","01190VIII","00VIII TM"]
[{"$f":"BONAFIDE.!AB332","v":"VIIITM"},{"$f":"BONAFIDE.!AE332","v":0},{"$error":"#REF!"},{"$f":"BONAFIDE.!X332","v":0},{"$f":"BONAFIDE.!Y332","v":0},{"$f":"BONAFIDE.!Z332","v":0},{"$f":"BONAFIDE.!AD332","v":0},{"$f":"BONAFIDE.!AA332","v":"00:00:00"},119,"119","VIII","01190VIII","00VIII TM"]
[{"$f":"BONAFIDE.!AB333","v":"VIIITM"},{"$f":"BONAFIDE.!AE333","v":0},{"$error":"#REF!"},{"$f":"BONAFIDE.!X333","v":0},{"$f":"BONAFIDE.!Y333","v":0},{"$f":"BONAFIDE.!Z333","v":0},{"$f":"BONAFIDE.!AD333","v":0},{"$f":"BONAFIDE.!AA333","v":"00:00:00"},119,"119","VIII","01190VIII","00VIII TM"]
[{"$f":"BONAFIDE.!AB334","v":"VIIITM"},{"$f":"BONAFIDE.!AE334","v":0},{"$error":"#REF!"},{"$f":"BONAFIDE.!X334","v":0},{"$f":"BONAFIDE.!Y334","v":0},{"$f":"BONAFIDE.!Z334","v":0},{"$f":"BONAFIDE.!AD334","v":0},{"$f":"BONAFIDE.!AA334","v":"00:00:00"},119,"119","VIII","01190VIII","00VIII TM"]
[{"$f":"BONAFIDE.!AB335","v":"VIIITM"},{"$f":"BONAFIDE.!AE335","v":0},{"$error":"#REF!"},{"$f":"BONAFIDE.!X335","v":0},{"$f":"BONAFIDE.!Y335","v":0},{"$f":"BONAFIDE.!Z335","v":0},{"$f":"BONAFIDE.!AD335","v":0},{"$f":"BONAFIDE.!AA335","v":"00:00:00"},119,"119","VIII","01190VIII","00VIII TM"]
[{"$f":"BONAFIDE.!AB336","v":"VIIITM"},{"$f":"BONAFIDE.!AE336","v":0},{"$error":"#REF!"},{"$f":"BONAFIDE.!X336","v":0},{"$f":"BONAFIDE.!Y336","v":0},{"$f":"BONAFIDE.!Z336","v":0},{"$f":"BONAFIDE.!AD336","v":0},{"$f":"BONAFIDE.!AA336","v":"00:00:00"},119,"119","VIII","01190VIII","00VIII TM"]
[{"$f":"BONAFIDE.!AB337","v":"VIIITM"},{"$f":"BONAFIDE.!AE337","v":0},{"$error":"#REF!"},{"$f":"BONAFIDE.!X337","v":0},{"$f":"BONAFIDE.!Y337","v":0},{"$f":"BONAFIDE.!Z337","v":0},{"$f":"BONAFIDE.!AD337","v":0},{"$f":"BONAFIDE.!AA337","v":"00:00:00"},119,"119","VIII","01190VIII","00VIII TM"]
[{"$f":"BONAFIDE.!AB338","v":"VIIITM"},{"$f":"BONAFIDE.!AE338","v":0},{"$error":"#REF!"},{"$f":"BONAFIDE.!X338","v":0},{"$f":"BONAFIDE.!Y338","v":0},{"$f":"BONAFIDE.!Z338","v":0},{"$f":"BONAFIDE.!AD338","v":0},{"$f":"BONAFIDE.!AA338","v":"00:00:00"},119,"119","VIII","01190VIII","00VIII TM"]
[{"$f":"BONAFIDE.!AB339","v":"VIIITM"},{"$f":"BONAFIDE.!AE339","v":0},{"$error":"#REF!"},{"$f":"BONAFIDE.!X339","v":0},{"$f":"BONAFIDE.!Y339","v":0},{"$f":"BONAFIDE.!Z339","v":0},{"$f":"BONAFIDE.!AD339","v":0},{"$f":"BONAFIDE.!AA339","v":"00:00:00"},119,"119","VIII","01190VIII","00VIII TM"]
[{"$f":"BONAFIDE.!AB340","v":"VIIITM"},{"$f":"BONAFIDE.!AE340","v":0},{"$error":"#REF!"},{"$f":"BONAFIDE.!X340","v":0},{"$f":"BONAFIDE.!Y340","v":0},{"$f":"BONAFIDE.!Z340","v":0},{"$f":"BONAFIDE.!AD340","v":0},{"$f":"BONAFIDE.!AA340","v":"00:00:00"},119,"119","VIII","01190VIII","00VIII TM"]
[{"$f":"BONAFIDE.!AB341","v":"VIIITM"},{"$f":"BONAFIDE.!AE341","v":0},{"$error":"#REF!"},{"$f":"BONAFIDE.!X341","v":0},{"$f":"BONAFIDE.!Y341","v":0},{"$f":"BONAFIDE.!Z341","v":0},{"$f":"BONAFIDE.!AD341","v":0},{"$f":"BONAFIDE.!AA341","v":"00:00:00"},119,"119","VIII","01190VIII","00VIII TM"]
[{"$f":"BONAFIDE.!AB342","v":"VIIITM"},{"$f":"BONAFIDE.!AE342","v":0},{"$error":"#REF!"},{"$f":"BONAFIDE.!X342","v":0},{"$f":"BONAFIDE.!Y342","v":0},{"$f":"BONAFIDE.!Z342","v":0},{"$f":"BONAFIDE.!AD342","v":0},{"$f":"BONAFIDE.!AA342","v":"00:00:00"},119,"119","VIII","01190VIII","00VIII TM"]
[{"$f":"BONAFIDE.!AB343","v":"VIIITM"},{"$f":"BONAFIDE.!AE343","v":0},{"$error":"#REF!"},{"$f":"BONAFIDE.!X343","v":0},{"$f":"BONAFIDE.!Y343","v":0},{"$f":"BONAFIDE.!Z343","v":0},{"$f":"BONAFIDE.!AD343","v":0},{"$f":"BONAFIDE.!AA343","v":"00:00:00"},119,"119","VIII","01190VIII","00VIII TM"]
[{"$f":"BONAFIDE.!AB344","v":"VIIITM"},{"$f":"BONAFIDE.!AE344","v":0},{"$error":"#REF!"},{"$f":"BONAFIDE.!X344","v":0},{"$f":"BONAFIDE.!Y344","v":0},{"$f":"BONAFIDE.!Z344","v":0},{"$f":"BONAFIDE.!AD344","v":0},{"$f":"BONAFIDE.!AA344","v":"00:00:00"},119,"119","VIII","01190VIII","00VIII TM"]
[{"$f":"BONAFIDE.!AB345","v":"VIIITM"},{"$f":"BONAFIDE.!AE345","v":0},{"$error":"#REF!"},{"$f":"BONAFIDE.!X345","v":0},{"$f":"BONAFIDE.!Y345","v":0},{"$f":"BONAFIDE.!Z345","v":0},{"$f":"BONAFIDE.!AD345","v":0},{"$f":"BONAFIDE.!AA345","v":"00:00:00"},119,"119","VIII","01190VIII","00VIII TM"]
[{"$f":"BONAFIDE.!AB346","v":"VIIITM"},{"$f":"BONAFIDE.!AE346","v":0},{"$error":"#REF!"},{"$f":"BONAFIDE.!X346","v":0},{"$f":"BONAFIDE.!Y346","v":0},{"$f":"BONAFIDE.!Z346","v":0},{"$f":"BONAFIDE.!AD346","v":0},{"$f":"BONAFIDE.!AA346","v":"00:00:00"},119,"119","VIII","01190VIII","00VIII TM"]
[{"$f":"BONAFIDE.!AB347","v":"VIIITM"},{"$f":"BONAFIDE.!AE347","v":0},{"$error":"#REF!"},{"$f":"BONAFIDE.!X347","v":0},{"$f":"BONAFIDE.!Y347","v":0},{"$f":"BONAFIDE.!Z347","v":0},{"$f":"BONAFIDE.!AD347","v":0},{"$f":"BONAFIDE.!AA347","v":"00:00:00"},119,"119","VIII","01190VIII","00VIII TM"]
[{"$f":"BONAFIDE.!AB348","v":"VIIITM"},{"$f":"BONAFIDE.!AE348","v":0},{"$error":"#REF!"},{"$f":"BONAFIDE.!X348","v":0},{"$f":"BONAFIDE.!Y348","v":0},{"$f":"BONAFIDE.!Z348","v":0},{"$f":"BONAFIDE.!AD348","v":0},{"$f":"BONAFIDE.!AA348","v":"00:00:00"},119,"119","VIII","01190VIII","00VIII TM"]
[{"$f":"BONAFIDE.!AB349","v":"VIIITM"},{"$f":"BONAFIDE.!AE349","v":0},{"$error":"#REF!"},{"$f":"BONAFIDE.!X349","v":0},{"$f":"BONAFIDE.!Y349","v":0},{"$f":"BONAFIDE.!Z349","v":0},{"$f":"BONAFIDE.!AD349","v":0},{"$f":"BONAFIDE.!AA349","v":"00:00:00"},119,"119","VIII","01190VIII","00VIII TM"]
[{"$f":"BONAFIDE.!AB350","v":"VIIITM"},{"$f":"BONAFIDE.!AE350","v":0},null,{"$f":"BONAFIDE.!X350","v":0},{"$f":"BONAFIDE.!Y350","v":0},{"$f":"BONAFIDE.!Z350","v":0},{"$f":"BONAFIDE.!AD350","v":0},{"$f":"BONAFIDE.!AA350","v":"00:00:00"},119,"119","VIII","01190VIII","00VIII TM"]
[{"$f":"BONAFIDE.!AB351","v":"VIIITM"},{"$f":"BONAFIDE.!AE351","v":0},null,{"$f":"BONAFIDE.!X351","v":0},{"$f":"BONAFIDE.!Y351","v":0},{"$f":"BONAFIDE.!Z351","v":0},{"$f":"BONAFIDE.!AD351","v":0},{"$f":"BONAFIDE.!AA351","v":"00:00:00"},119,"119","VIII","01190VIII","00VIII TM"]
[{"$f":"BONAFIDE.!AB352","v":"VIIITM"},{"$f":"BONAFIDE.!AE352","v":0},1,{"$f":"BONAFIDE.!X352","v":0},{"$f":"BONAFIDE.!Y352","v":0},{"$f":"BONAFIDE.!Z352","v":0},{"$f":"BONAFIDE.!AD352","v":0},{"$f":"BONAFIDE.!AA352","v":"00:00:00"},119,"119","VIII","01190VIII","00VIII TM"]
[{"$f":"BONAFIDE.!AB353","v":"VIIITM"},{"$f":"BONAFIDE.!AE353","v":0},2,{"$f":"BONAFIDE.!X353","v":0},{"$f":"BONAFIDE.!Y353","v":0},{"$f":"BONAFIDE.!Z353","v":0},{"$f":"BONAFIDE.!AD353","v":0},{"$f":"BONAFIDE.!AA353","v":"00:00:00"},119,"119","VIII","01190VIII","00VIII TM"]
[{"$f":"BONAFIDE.!AB354","v":"VIIITM"},{"$f":"BONAFIDE.!AE354","v":0},3,{"$f":"BONAFIDE.!X354","v":0},{"$f":"BONAFIDE.!Y354","v":0},{"$f":"BONAFIDE.!Z354","v":0},{"$f":"BONAFIDE.!AD354","v":0},{"$f":"BONAFIDE.!AA354","v":"00:00:00"},119,"119","VIII","01190VIII","00VIII TM"]
[{"$f":"BONAFIDE.!AB355","v":"VIIITM"},{"$f":"BONAFIDE.!AE355","v":0},4,{"$f":"BONAFIDE.!X355","v":0},{"$f":"BONAFIDE.!Y355","v":0},{"$f":"BONAFIDE.!Z355","v":0},{"$f":"BONAFIDE.!AD355","v":0},{"$f":"BONAFIDE.!AA355","v":"00:00:00"},119,"119","VIII","01190VIII","00VIII TM"]
[{"$f":"BONAFIDE.!AB356","v":"VIIITM"},{"$f":"BONAFIDE.!AE356","v":0},5,{"$f":"BONAFIDE.!X356","v":0},{"$f":"BONAFIDE.!Y356","v":0},{"$f":"BONAFIDE.!Z356","v":0},{"$f":"BONAFIDE.!AD356","v":0},{"$f":"BONAFIDE.!AA356","v":"00:00:00"},119,"119","VIII","01190VIII","00VIII TM"]
[{"$f":"BONAFIDE.!AB357","v":"VIIITM"},{"$f":"BONAFIDE.!AE357","v":0},6,{"$f":"BONAFIDE.!X357","v":0},{"$f":"BONAFIDE.!Y357","v":0},{"$f":"BONAFIDE.!Z357","v":0},{"$f":"BONAFIDE.!AD357","v":0},{"$f":"BONAFIDE.!AA357","v":"00:00:00"},119,"119","VIII","01190VIII","00VIII TM"]
[{"$f":"BONAFIDE.!AB358","v":"VIIITM"},{"$f":"BONAFIDE.!AE358","v":0},7,{"$f":"BONAFIDE.!X358","v":0},{"$f":"BONAFIDE.!Y358","v":0},{"$f":"BONAFIDE.!Z358","v":0},{"$f":"BONAFIDE.!AD358","v":0},{"$f":"BONAFIDE.!AA358","v":"00:00:00"},119,"119","VIII","01190VIII","00VIII TM"]
[{"$f":"BONAFIDE.!AB359","v":"VIIITM"},{"$f":"BONAFIDE.!AE359","v":0},8,{"$f":"BONAFIDE.!X359","v":0},{"$f":"BONAFIDE.!Y359","v":0},{"$f":"BONAFIDE.!Z359","v":0},{"$f":"BONAFIDE.!AD359","v":0},{"$f":"BONAFIDE.!AA359","v":"00:00:00"},119,"119","VIII","01190VIII","00VIII TM"]
[{"$f":"BONAFIDE.!AB360","v":"VIIITM"},{"$f":"BONAFIDE.!AE360","v":0},9,{"$f":"BONAFIDE.!X360","v":0},{"$f":"BONAFIDE.!Y360","v":0},{"$f":"BONAFIDE.!Z360","v":0},{"$f":"BONAFIDE.!AD360","v":0},{"$f":"BONAFIDE.!AA360","v":"00:00:00"},119,"119","VIII","01190VIII","00VIII TM"]
[{"$f":"BONAFIDE.!AB361","v":"VIIITM"},{"$f":"BONAFIDE.!AE361","v":0},10,{"$f":"BONAFIDE.!X361","v":0},{"$f":"BONAFIDE.!Y361","v":0},{"$f":"BONAFIDE.!Z361","v":0},{"$f":"BONAFIDE.!AD361","v":0},{"$f":"BONAFIDE.!AA361","v":"00:00:00"},119,"119","VIII","01190VIII","00VIII TM"]
[{"$f":"BONAFIDE.!AB362","v":"VIIITM"},{"$f":"BONAFIDE.!AE362","v":0},11,{"$f":"BONAFIDE.!X362","v":0},{"$f":"BONAFIDE.!Y362","v":0},{"$f":"BONAFIDE.!Z362","v":0},{"$f":"BONAFIDE.!AD362","v":0},{"$f":"BONAFIDE.!AA362","v":"00:00:00"},119,"119","VIII","01190VIII","00VIII TM"]
[{"$f":"BONAFIDE.!AB363","v":"VIIITM"},{"$f":"BONAFIDE.!AE363","v":0},12,{"$f":"BONAFIDE.!X363","v":0},{"$f":"BONAFIDE.!Y363","v":0},{"$f":"BONAFIDE.!Z363","v":0},{"$f":"BONAFIDE.!AD363","v":0},{"$f":"BONAFIDE.!AA363","v":"00:00:00"},119,"119","VIII","01190VIII","00VIII TM"]
[{"$f":"BONAFIDE.!AB364","v":"VIIITM"},{"$f":"BONAFIDE.!AE364","v":0},13,{"$f":"BONAFIDE.!X364","v":0},{"$f":"BONAFIDE.!Y364","v":0},{"$f":"BONAFIDE.!Z364","v":0},{"$f":"BONAFIDE.!AD364","v":0},{"$f":"BONAFIDE.!AA364","v":"00:00:00"},119,"119","VIII","01190VIII","00VIII TM"]
[{"$f":"BONAFIDE.!AB365","v":"VIIITM"},{"$f":"BONAFIDE.!AE365","v":0},14,{"$f":"BONAFIDE.!X365","v":0},{"$f":"BONAFIDE.!Y365","v":0},{"$f":"BONAFIDE.!Z365","v":0},{"$f":"BONAFIDE.!AD365","v":0},{"$f":"BONAFIDE.!AA365","v":"00:00:00"},119,"119","VIII","01190VIII","00VIII TM"]
[{"$f":"BONAFIDE.!AB366","v":"VIIITM"},{"$f":"BONAFIDE.!AE366","v":0},15,{"$f":"BONAFIDE.!X366","v":0},{"$f":"BONAFIDE.!Y366","v":0},{"$f":"BONAFIDE.!Z366","v":0},{"$f":"BONAFIDE.!AD366","v":0},{"$f":"BONAFIDE.!AA366","v":"00:00:00"},119,"119","VIII","01190VIII","00VIII TM"]
[{"$f":"BONAFIDE.!AB367","v":"VIIITM"},{"$f":"BONAFIDE.!AE367","v":0},16,{"$f":"BONAFIDE.!X367","v":0},{"$f":"BONAFIDE.!Y367","v":0},{"$f":"BONAFIDE.!Z367","v":0},{"$f":"BONAFIDE.!AD367","v":0},{"$f":"BONAFIDE.!AA367","v":"00:00:00"},119,"119","VIII","01190VIII","00VIII TM"]
[{"$f":"BONAFIDE.!AB368","v":"VIIITM"},{"$f":"BONAFIDE.!AE368","v":0},17,{"$f":"BONAFIDE.!X368","v":0},{"$f":"BONAFIDE.!Y368","v":0},{"$f":"BONAFIDE.!Z368","v":0},{"$f":"BONAFIDE.!AD368","v":0},{"$f":"BONAFIDE.!AA368","v":"00:00:00"},119,"119","VIII","01190VIII","00VIII TM"]
[{"$f":"BONAFIDE.!AB369","v":"VIIITM"},{"$f":"BONAFIDE.!AE369","v":0},18,{"$f":"BONAFIDE.!X369","v":0},{"$f":"BONAFIDE.!Y369","v":0},{"$f":"BONAFIDE.!Z369","v":0},{"$f":"BONAFIDE.!AD369","v":0},{"$f":"BONAFIDE.!AA369","v":"00:00:00"},119,"119","VIII","01190VIII","00VIII TM"]
[{"$f":"BONAFIDE.!AB370","v":"VIIITM"},{"$f":"BONAFIDE.!AE370","v":0},19,{"$f":"BONAFIDE.!X370","v":0},{"$f":"BONAFIDE.!Y370","v":0},{"$f":"BONAFIDE.!Z370","v":0},{"$f":"BONAFIDE.!AD370","v":0},{"$f":"BONAFIDE.!AA370","v":"00:00:00"},119,"119","VIII","01190VIII","00VIII TM"]
[{"$f":"BONAFIDE.!AB371","v":"VIIITM"},{"$f":"BONAFIDE.!AE371","v":0},20,{"$f":"BONAFIDE.!X371","v":0},{"$f":"BONAFIDE.!Y371","v":0},{"$f":"BONAFIDE.!Z371","v":0},{"$f":"BONAFIDE.!AD371","v":0},{"$f":"BONAFIDE.!AA371","v":"00:00:00"},119,"119","VIII","01190VIII","00VIII TM"]
[{"$f":"BONAFIDE.!AB372","v":"VIIITM"},{"$f":"BONAFIDE.!AE372","v":0},21,{"$f":"BONAFIDE.!X372","v":0},{"$f":"BONAFIDE.!Y372","v":0},{"$f":"BONAFIDE.!Z372","v":0},{"$f":"BONAFIDE.!AD372","v":0},{"$f":"BONAFIDE.!AA372","v":"00:00:00"},119,"119","VIII","01190VIII","00VIII TM"]
[{"$f":"BONAFIDE.!AB373","v":"VIIITM"},{"$f":"BONAFIDE.!AE373","v":0},22,{"$f":"BONAFIDE.!X373","v":0},{"$f":"BONAFIDE.!Y373","v":0},{"$f":"BONAFIDE.!Z373","v":0},{"$f":"BONAFIDE.!AD373","v":0},{"$f":"BONAFIDE.!AA373","v":"00:00:00"},119,"119","VIII","01190VIII","00VIII TM"]
[{"$f":"BONAFIDE.!AB374","v":"VIIITM"},{"$f":"BONAFIDE.!AE374","v":0},23,{"$f":"BONAFIDE.!X374","v":0},{"$f":"BONAFIDE.!Y374","v":0},{"$f":"BONAFIDE.!Z374","v":0},{"$f":"BONAFIDE.!AD374","v":0},{"$f":"BONAFIDE.!AA374","v":"00:00:00"},119,"119","VIII","01190VIII","00VIII TM"]
[{"$f":"BONAFIDE.!AB375","v":"VIIITM"},{"$f":"BONAFIDE.!AE375","v":0},24,{"$f":"BONAFIDE.!X375","v":0},{"$f":"BONAFIDE.!Y375","v":0},{"$f":"BONAFIDE.!Z375","v":0},{"$f":"BONAFIDE.!AD375","v":0},{"$f":"BONAFIDE.!AA375","v":"00:00:00"},119,"119","VIII","01190VIII","00VIII TM"]
[{"$f":"BONAFIDE.!AB376","v":"VIIITM"},{"$f":"BONAFIDE.!AE376","v":0},25,{"$f":"BONAFIDE.!X376","v":0},{"$f":"BONAFIDE.!Y376","v":0},{"$f":"BONAFIDE.!Z376","v":0},{"$f":"BONAFIDE.!AD376","v":0},{"$f":"BONAFIDE.!AA376","v":"00:00:00"},119,"119","VIII","01190VIII","00VIII TM"]
[{"$f":"BONAFIDE.!AB377","v":"VIIITM"},{"$f":"BONAFIDE.!AE377","v":0},26,{"$f":"BONAFIDE.!X377","v":0},{"$f":"BONAFIDE.!Y377","v":0},{"$f":"BONAFIDE.!Z377","v":0},{"$f":"BONAFIDE.!AD377","v":0},{"$f":"BONAFIDE.!AA377","v":"00:00:00"},119,"119","VIII","01190VIII","00VIII TM"]
[{"$f":"BONAFIDE.!AB378","v":"VIIITM"},{"$f":"BONAFIDE.!AE378","v":0},27,{"$f":"BONAFIDE.!X378","v":0},{"$f":"BONAFIDE.!Y378","v":0},{"$f":"BONAFIDE.!Z378","v":0},{"$f":"BONAFIDE.!AD378","v":0},{"$f":"BONAFIDE.!AA378","v":"00:00:00"},119,"119","VIII","01190VIII","00VIII TM"]
[{"$f":"BONAFIDE.!AB379","v":"VIIITM"},{"$f":"BONAFIDE.!AE379","v":0},28,{"$f":"BONAFIDE.!X379","v":0},{"$f":"BONAFIDE.!Y379","v":0},{"$f":"BONAFIDE.!Z379","v":0},{"$f":"BONAFIDE.!AD379","v":0},{"$f":"BONAFIDE.!AA379","v":"00:00:00"},119,"119","VIII","01190VIII","00VIII TM"]
[{"$f":"BONAFIDE.!AB380","v":"VIIITM"},{"$f":"BONAFIDE.!AE380","v":0},29,{"$f":"BONAFIDE.!X380","v":0},{"$f":"BONAFIDE.!Y380","v":0},{"$f":"BONAFIDE.!Z380","v":0},{"$f":"BONAFIDE.!AD380","v":0},{"$f":"BONAFIDE.!AA380","v":"00:00:00"},119,"119","VIII","01190VIII","00VIII TM"]
[{"$f":"BONAFIDE.!AB381","v":"VIIITM"},{"$f":"BONAFIDE.!AE381","v":0},30,{"$f":"BONAFIDE.!X381","v":0},{"$f":"BONAFIDE.!Y381","v":0},{"$f":"BONAFIDE.!Z381","v":0},{"$f":"BONAFIDE.!AD381","v":0},{"$f":"BONAFIDE.!AA381","v":"00:00:00"},119,"119","VIII","01190VIII","00VIII TM"]
[{"$f":"BONAFIDE.!AB382","v":"VIIITM"},{"$f":"BONAFIDE.!AE382","v":0},31,{"$f":"BONAFIDE.!X382","v":0},{"$f":"BONAFIDE.!Y382","v":0},{"$f":"BONAFIDE.!Z382","v":0},{"$f":"BONAFIDE.!AD382","v":0},{"$f":"BONAFIDE.!AA382","v":"00:00:00"},119,"119","VIII","01190VIII","00VIII TM"]
[{"$f":"BONAFIDE.!AB383","v":"VIIITM"},{"$f":"BONAFIDE.!AE383","v":0},32,{"$f":"BONAFIDE.!X383","v":0},{"$f":"BONAFIDE.!Y383","v":0},{"$f":"BONAFIDE.!Z383","v":0},{"$f":"BONAFIDE.!AD383","v":0},{"$f":"BONAFIDE.!AA383","v":"00:00:00"},119,"119","VIII","01190VIII","00VIII TM"]
[{"$f":"BONAFIDE.!AB384","v":"VIIITM"},{"$f":"BONAFIDE.!AE384","v":0},33,{"$f":"BONAFIDE.!X384","v":0},{"$f":"BONAFIDE.!Y384","v":0},{"$f":"BONAFIDE.!Z384","v":0},{"$f":"BONAFIDE.!AD384","v":0},{"$f":"BONAFIDE.!AA384","v":"00:00:00"},119,"119","VIII","01190VIII","00VIII TM"]
[{"$f":"BONAFIDE.!AB385","v":"VIIITM"},{"$f":"BONAFIDE.!AE385","v":0},34,{"$f":"BONAFIDE.!X385","v":0},{"$f":"BONAFIDE.!Y385","v":0},{"$f":"BONAFIDE.!Z385","v":0},{"$f":"BONAFIDE.!AD385","v":0},{"$f":"BONAFIDE.!AA385","v":"00:00:00"},119,"119","VIII","01190VIII","00VIII TM"]
[{"$f":"BONAFIDE.!AB386","v":"VIIITM"},{"$f":"BONAFIDE.!AE386","v":0},{"$error":"#REF!"},{"$f":"BONAFIDE.!X386","v":0},{"$f":"BONAFIDE.!Y386","v":0},{"$f":"BONAFIDE.!Z386","v":0},{"$f":"BONAFIDE.!AD386","v":0},{"$f":"BONAFIDE.!AA386","v":"00:00:00"},119,"119","VIII","01190VIII","00VIII TM"]
[{"$f":"BONAFIDE.!AB387","v":"VIIITM"},{"$f":"BONAFIDE.!AE387","v":0},{"$error":"#REF!"},{"$f":"BONAFIDE.!X387","v":0},{"$f":"BONAFIDE.!Y387","v":0},{"$f":"BONAFIDE.!Z387","v":0},{"$f":"BONAFIDE.!AD387","v":0},{"$f":"BONAFIDE.!AA387","v":"00:00:00"},119,"119","VIII","01190VIII","00VIII TM"]
[{"$f":"BONAFIDE.!AB388","v":"VIIITM"},{"$f":"BONAFIDE.!AE388","v":0},{"$error":"#REF!"},{"$f":"BONAFIDE.!X388","v":0},{"$f":"BONAFIDE.!Y388","v":0},{"$f":"BONAFIDE.!Z388","v":0},{"$f":"BONAFIDE.!AD388","v":0},{"$f":"BONAFIDE.!AA388","v":"00:00:00"},119,"119","VIII","01190VIII","00VIII TM"]
[{"$f":"BONAFIDE.!AB389","v":"VIIITM"},{"$f":"BONAFIDE.!AE389","v":0},{"$error":"#REF!"},{"$f":"BONAFIDE.!X389","v":0},{"$f":"BONAFIDE.!Y389","v":0},{"$f":"BONAFIDE.!Z389","v":0},{"$f":"BONAFIDE.!AD389","v":0},{"$f":"BONAFIDE.!AA389","v":"00:00:00"},119,"119","VIII","01190VIII","00VIII TM"]
[{"$f":"BONAFIDE.!AB390","v":"VIIITM"},{"$f":"BONAFIDE.!AE390","v":0},{"$error":"#REF!"},{"$f":"BONAFIDE.!X390","v":0},{"$f":"BONAFIDE.!Y390","v":0},{"$f":"BONAFIDE.!Z390","v":0},{"$f":"BONAFIDE.!AD390","v":0},{"$f":"BONAFIDE.!AA390","v":"00:00:00"},119,"119","VIII","01190VIII","00VIII TM"]
[{"$f":"BONAFIDE.!AB391","v":"VIIITM"},{"$f":"BONAFIDE.!AE391","v":0},{"$error":"#REF!"},{"$f":"BONAFIDE.!X391","v":0},{"$f":"BONAFIDE.!Y391","v":0},{"$f":"BONAFIDE.!Z391","v":0},{"$f":"BONAFIDE.!AD391","v":0},{"$f":"BONAFIDE.!AA391","v":"00:00:00"},{"$f":"DATEDIF(H388,CUTOFFDT,\"Y\")","v":119},{"$f":"fillno(I388)","v":"119"},{"$f":"MID(A388,1,LEN(A388)-2)","v":"VIII"},{"$f":"B388&J388&G388&K388","v":"01190VIII"},{"$f":"B388&G388&MID(A388,1,LEN(A388)-2)&\" \" & RIGHT(A388,2)","v":"00VIII TM"}]
[{"$f":"BONAFIDE.!AB392","v":"VIIITM"},{"$f":"BONAFIDE.!AE392","v":0},{"$error":"#REF!"},{"$f":"BONAFIDE.!X392","v":0},{"$f":"BONAFIDE.!Y392","v":0},{"$f":"BONAFIDE.!Z392","v":0},{"$f":"BONAFIDE.!AD392","v":0},{"$f":"BONAFIDE.!AA392","v":"00:00:00"},119,"119","VIII","01190VIII","00VIII TM"]
[{"$f":"BONAFIDE.!AB393","v":"VIIITM"},{"$f":"BONAFIDE.!AE393","v":0},{"$error":"#REF!"},{"$f":"BONAFIDE.!X393","v":0},{"$f":"BONAFIDE.!Y393","v":0},{"$f":"BONAFIDE.!Z393","v":0},{"$f":"BONAFIDE.!AD393","v":0},{"$f":"BONAFIDE.!AA393","v":"00:00:00"},119,"119","VIII","01190VIII","00VIII TM"]
[{"$f":"BONAFIDE.!AB394","v":"VIIITM"},{"$f":"BONAFIDE.!AE394","v":0},{"$error":"#REF!"},{"$f":"BONAFIDE.!X394","v":0},{"$f":"BONAFIDE.!Y394","v":0},{"$f":"BONAFIDE.!Z394","v":0},{"$f":"BONAFIDE.!AD394","v":0},{"$f":"BONAFIDE.!AA394","v":"00:00:00"},119,"119","VIII","01190VIII","00VIII TM"]
[{"$f":"BONAFIDE.!AB395","v":"VIIITM"},{"$f":"BONAFIDE.!AE395","v":0},{"$error":"#REF!"},{"$f":"BONAFIDE.!X395","v":0},{"$f":"BONAFIDE.!Y395","v":0},{"$f":"BONAFIDE.!Z395","v":0},{"$f":"BONAFIDE.!AD395","v":0},{"$f":"BONAFIDE.!AA395","v":"00:00:00"},119,"119","VIII","01190VIII","00VIII TM"]
[{"$f":"BONAFIDE.!AB396","v":"VIIITM"},{"$f":"BONAFIDE.!AE396","v":0},{"$error":"#REF!"},{"$f":"BONAFIDE.!X396","v":0},{"$f":"BONAFIDE.!Y396","v":0},{"$f":"BONAFIDE.!Z396","v":0},{"$f":"BONAFIDE.!AD396","v":0},{"$f":"BONAFIDE.!AA396","v":"00:00:00"},119,"119","VIII","01190VIII","00VIII TM"]
[{"$f":"BONAFIDE.!AB397","v":"VIIITM"},{"$f":"BONAFIDE.!AE397","v":0},{"$error":"#REF!"},{"$f":"BONAFIDE.!X397","v":0},{"$f":"BONAFIDE.!Y397","v":0},{"$f":"BONAFIDE.!Z397","v":0},{"$f":"BONAFIDE.!AD397","v":0},{"$f":"BONAFIDE.!AA397","v":"00:00:00"},119,"119","VIII","01190VIII","00VIII TM"]
[{"$f":"BONAFIDE.!AB398","v":"VIIITM"},{"$f":"BONAFIDE.!AE398","v":0},{"$error":"#REF!"},{"$f":"BONAFIDE.!X398","v":0},{"$f":"BONAFIDE.!Y398","v":0},{"$f":"BONAFIDE.!Z398","v":0},{"$f":"BONAFIDE.!AD398","v":0},{"$f":"BONAFIDE.!AA398","v":"00:00:00"},119,"119","VIII","01190VIII","00VIII TM"]
[{"$f":"BONAFIDE.!AB399","v":"VIIITM"},{"$f":"BONAFIDE.!AE399","v":0},{"$error":"#REF!"},{"$f":"BONAFIDE.!X399","v":0},{"$f":"BONAFIDE.!Y399","v":0},{"$f":"BONAFIDE.!Z399","v":0},{"$f":"BONAFIDE.!AD399","v":0},{"$f":"BONAFIDE.!AA399","v":"00:00:00"},119,"119","VIII","01190VIII","00VIII TM"]
[{"$f":"BONAFIDE.!AB400","v":"VIIITM"},{"$f":"BONAFIDE.!AE400","v":0},{"$error":"#REF!"},{"$f":"BONAFIDE.!X400","v":0},{"$f":"BONAFIDE.!Y400","v":0},{"$f":"BONAFIDE.!Z400","v":0},{"$f":"BONAFIDE.!AD400","v":0},{"$f":"BONAFIDE.!AA400","v":"00:00:00"},119,"119","VIII","01190VIII","00VIII TM"]
[{"$f":"BONAFIDE.!AB401","v":"VIIITM"},{"$f":"BONAFIDE.!AE401","v":0},{"$error":"#REF!"},{"$f":"BONAFIDE.!X401","v":0},{"$f":"BONAFIDE.!Y401","v":0},{"$f":"BONAFIDE.!Z401","v":0},{"$f":"BONAFIDE.!AD401","v":0},{"$f":"BONAFIDE.!AA401","v":"00:00:00"},119,"119","VIII","01190VIII","00VIII TM"]
[{"$f":"BONAFIDE.!AB402","v":"VIIITM"},{"$f":"BONAFIDE.!AE402","v":0},{"$error":"#REF!"},{"$f":"BONAFIDE.!X402","v":0},{"$f":"BONAFIDE.!Y402","v":0},{"$f":"BONAFIDE.!Z402","v":0},{"$f":"BONAFIDE.!AD402","v":0},{"$f":"BONAFIDE.!AA402","v":"00:00:00"},119,"119","VIII","01190VIII","00VIII TM"]
[{"$f":"BONAFIDE.!AB403","v":"VIIITM"},{"$f":"BONAFIDE.!AE403","v":0},{"$error":"#REF!"},{"$f":"BONAFIDE.!X403","v":0},{"$f":"BONAFIDE.!Y403","v":0},{"$f":"BONAFIDE.!Z403","v":0},{"$f":"BONAFIDE.!AD403","v":0},{"$f":"BONAFIDE.!AA403","v":"00:00:00"},119,"119","VIII","01190VIII","00VIII TM"]
[{"$f":"BONAFIDE.!AB404","v":"VIIITM"},{"$f":"BONAFIDE.!AE404","v":0},{"$error":"#REF!"},{"$f":"BONAFIDE.!X404","v":0},{"$f":"BONAFIDE.!Y404","v":0},{"$f":"BONAFIDE.!Z404","v":0},{"$f":"BONAFIDE.!AD404","v":0},{"$f":"BONAFIDE.!AA404","v":"00:00:00"},119,"119","VIII","01190VIII","00VIII TM"]
[{"$f":"BONAFIDE.!AB405","v":"VIIITM"},{"$f":"BONAFIDE.!AE405","v":0},{"$error":"#REF!"},{"$f":"BONAFIDE.!X405","v":0},{"$f":"BONAFIDE.!Y405","v":0},{"$f":"BONAFIDE.!Z405","v":0},{"$f":"BONAFIDE.!AD405","v":0},{"$f":"BONAFIDE.!AA405","v":"00:00:00"},119,"119","VIII","01190VIII","00VIII TM"]
[{"$f":"BONAFIDE.!AB406","v":"VIIITM"},{"$f":"BONAFIDE.!AE406","v":0},null,{"$f":"BONAFIDE.!X406","v":0},{"$f":"BONAFIDE.!Y406","v":0},{"$f":"BONAFIDE.!Z406","v":0},{"$f":"BONAFIDE.!AD406","v":0},{"$f":"BONAFIDE.!AA406","v":"00:00:00"},119,"119","VIII","01190VIII","00VIII TM"]
[{"$f":"BONAFIDE.!AB407","v":"VIIITM"},{"$f":"BONAFIDE.!AE407","v":0},null,{"$f":"BONAFIDE.!X407","v":0},{"$f":"BONAFIDE.!Y407","v":0},{"$f":"BONAFIDE.!Z407","v":0},{"$f":"BONAFIDE.!AD407","v":0},{"$f":"BONAFIDE.!AA407","v":"00:00:00"},119,"119","VIII","01190VIII","00VIII TM"]
[{"$f":"BONAFIDE.!AB408","v":"VIIITM"},{"$f":"BONAFIDE.!AE408","v":0},null,{"$f":"BONAFIDE.!X408","v":0},{"$f":"BONAFIDE.!Y408","v":0},{"$f":"BONAFIDE.!Z408","v":0},{"$f":"BONAFIDE.!AD408","v":0},{"$f":"BONAFIDE.!AA408","v":"00:00:00"},119,"119","VIII","01190VIII","00VIII TM"]
[{"$f":"BONAFIDE.!AB409","v":"VIIITM"},{"$f":"BONAFIDE.!AE409","v":0},1,{"$f":"BONAFIDE.!X409","v":0},{"$f":"BONAFIDE.!Y409","v":0},{"$f":"BONAFIDE.!Z409","v":0},{"$f":"BONAFIDE.!AD409","v":0},{"$f":"BONAFIDE.!AA409","v":"00:00:00"},119,"119","VIII","01190VIII","00VIII TM"]
[{"$f":"BONAFIDE.!AB410","v":"VIIITM"},{"$f":"BONAFIDE.!AE410","v":0},2,{"$f":"BONAFIDE.!X410","v":0},{"$f":"BONAFIDE.!Y410","v":0},{"$f":"BONAFIDE.!Z410","v":0},{"$f":"BONAFIDE.!AD410","v":0},{"$f":"BONAFIDE.!AA410","v":"00:00:00"},119,"119","VIII","01190VIII","00VIII TM"]
[{"$f":"BONAFIDE.!AB411","v":"VIIITM"},{"$f":"BONAFIDE.!AE411","v":0},3,{"$f":"BONAFIDE.!X411","v":0},{"$f":"BONAFIDE.!Y411","v":0},{"$f":"BONAFIDE.!Z411","v":0},{"$f":"BONAFIDE.!AD411","v":0},{"$f":"BONAFIDE.!AA411","v":"00:00:00"},119,"119","VIII","01190VIII","00VIII TM"]
[{"$f":"BONAFIDE.!AB412","v":"VIIITM"},{"$f":"BONAFIDE.!AE412","v":0},4,{"$f":"BONAFIDE.!X412","v":0},{"$f":"BONAFIDE.!Y412","v":0},{"$f":"BONAFIDE.!Z412","v":0},{"$f":"BONAFIDE.!AD412","v":0},{"$f":"BONAFIDE.!AA412","v":"00:00:00"},119,"119","VIII","01190VIII","00VIII TM"]
[{"$f":"BONAFIDE.!AB413","v":"VIIITM"},{"$f":"BONAFIDE.!AE413","v":0},5,{"$f":"BONAFIDE.!X413","v":0},{"$f":"BONAFIDE.!Y413","v":0},{"$f":"BONAFIDE.!Z413","v":0},{"$f":"BONAFIDE.!AD413","v":0},{"$f":"BONAFIDE.!AA413","v":"00:00:00"},119,"119","VIII","01190VIII","00VIII TM"]
[{"$f":"BONAFIDE.!AB414","v":"VIIITM"},{"$f":"BONAFIDE.!AE414","v":0},6,{"$f":"BONAFIDE.!X414","v":0},{"$f":"BONAFIDE.!Y414","v":0},{"$f":"BONAFIDE.!Z414","v":0},{"$f":"BONAFIDE.!AD414","v":0},{"$f":"BONAFIDE.!AA414","v":"00:00:00"},119,"119","VIII","01190VIII","00VIII TM"]
[{"$f":"BONAFIDE.!AB415","v":"VIIITM"},{"$f":"BONAFIDE.!AE415","v":0},7,{"$f":"BONAFIDE.!X415","v":0},{"$f":"BONAFIDE.!Y415","v":0},{"$f":"BONAFIDE.!Z415","v":0},{"$f":"BONAFIDE.!AD415","v":0},{"$f":"BONAFIDE.!AA415","v":"00:00:00"},119,"119","VIII","01190VIII","00VIII TM"]
[{"$f":"BONAFIDE.!AB416","v":"VIIITM"},{"$f":"BONAFIDE.!AE416","v":0},8,{"$f":"BONAFIDE.!X416","v":0},{"$f":"BONAFIDE.!Y416","v":0},{"$f":"BONAFIDE.!Z416","v":0},{"$f":"BONAFIDE.!AD416","v":0},{"$f":"BONAFIDE.!AA416","v":"00:00:00"},119,"119","VIII","01190VIII","00VIII TM"]
[{"$f":"BONAFIDE.!AB417","v":"VIIITM"},{"$f":"BONAFIDE.!AE417","v":0},9,{"$f":"BONAFIDE.!X417","v":0},{"$f":"BONAFIDE.!Y417","v":0},{"$f":"BONAFIDE.!Z417","v":0},{"$f":"BONAFIDE.!AD417","v":0},{"$f":"BONAFIDE.!AA417","v":"00:00:00"},119,"119","VIII","01190VIII","00VIII TM"]
[{"$f":"BONAFIDE.!AB418","v":"VIIITM"},{"$f":"BONAFIDE.!AE418","v":0},10,{"$f":"BONAFIDE.!X418","v":0},{"$f":"BONAFIDE.!Y418","v":0},{"$f":"BONAFIDE.!Z418","v":0},{"$f":"BONAFIDE.!AD418","v":0},{"$f":"BONAFIDE.!AA418","v":"00:00:00"},119,"119","VIII","01190VIII","00VIII TM"]
[{"$f":"BONAFIDE.!AB419","v":"VIIITM"},{"$f":"BONAFIDE.!AE419","v":0},11,{"$f":"BONAFIDE.!X419","v":0},{"$f":"BONAFIDE.!Y419","v":0},{"$f":"BONAFIDE.!Z419","v":0},{"$f":"BONAFIDE.!AD419","v":0},{"$f":"BONAFIDE.!AA419","v":"00:00:00"},119,"119","VIII","01190VIII","00VIII TM"]
[{"$f":"BONAFIDE.!AB420","v":"VIIITM"},{"$f":"BONAFIDE.!AE420","v":0},12,{"$f":"BONAFIDE.!X420","v":0},{"$f":"BONAFIDE.!Y420","v":0},{"$f":"BONAFIDE.!Z420","v":0},{"$f":"BONAFIDE.!AD420","v":0},{"$f":"BONAFIDE.!AA420","v":"00:00:00"},119,"119","VIII","01190VIII","00VIII TM"]
[{"$f":"BONAFIDE.!AB421","v":"VIIITM"},{"$f":"BONAFIDE.!AE421","v":0},13,{"$f":"BONAFIDE.!X421","v":0},{"$f":"BONAFIDE.!Y421","v":0},{"$f":"BONAFIDE.!Z421","v":0},{"$f":"BONAFIDE.!AD421","v":0},{"$f":"BONAFIDE.!AA421","v":"00:00:00"},119,"119","VIII","01190VIII","00VIII TM"]
[{"$f":"BONAFIDE.!AB422","v":"VIIITM"},{"$f":"BONAFIDE.!AE422","v":0},14,{"$f":"BONAFIDE.!X422","v":0},{"$f":"BONAFIDE.!Y422","v":0},{"$f":"BONAFIDE.!Z422","v":0},{"$f":"BONAFIDE.!AD422","v":0},{"$f":"BONAFIDE.!AA422","v":"00:00:00"},119,"119","VIII","01190VIII","00VIII TM"]
[{"$f":"BONAFIDE.!AB423","v":"VIIITM"},{"$f":"BONAFIDE.!AE423","v":0},15,{"$f":"BONAFIDE.!X423","v":0},{"$f":"BONAFIDE.!Y423","v":0},{"$f":"BONAFIDE.!Z423","v":0},{"$f":"BONAFIDE.!AD423","v":0},{"$f":"BONAFIDE.!AA423","v":"00:00:00"},119,"119","VIII","01190VIII","00VIII TM"]
[{"$f":"BONAFIDE.!AB424","v":"VIIITM"},{"$f":"BONAFIDE.!AE424","v":0},16,{"$f":"BONAFIDE.!X424","v":0},{"$f":"BONAFIDE.!Y424","v":0},{"$f":"BONAFIDE.!Z424","v":0},{"$f":"BONAFIDE.!AD424","v":0},{"$f":"BONAFIDE.!AA424","v":"00:00:00"},119,"119","VIII","01190VIII","00VIII TM"]
[{"$f":"BONAFIDE.!AB425","v":"VIIITM"},{"$f":"BONAFIDE.!AE425","v":0},17,{"$f":"BONAFIDE.!X425","v":0},{"$f":"BONAFIDE.!Y425","v":0},{"$f":"BONAFIDE.!Z425","v":0},{"$f":"BONAFIDE.!AD425","v":0},{"$f":"BONAFIDE.!AA425","v":"00:00:00"},119,"119","VIII","01190VIII","00VIII TM"]
[{"$f":"BONAFIDE.!AB426","v":"VIIITM"},{"$f":"BONAFIDE.!AE426","v":0},18,{"$f":"BONAFIDE.!X426","v":0},{"$f":"BONAFIDE.!Y426","v":0},{"$f":"BONAFIDE.!Z426","v":0},{"$f":"BONAFIDE.!AD426","v":0},{"$f":"BONAFIDE.!AA426","v":"00:00:00"},119,"119","VIII","01190VIII","00VIII TM"]
[{"$f":"BONAFIDE.!AB427","v":"VIIITM"},{"$f":"BONAFIDE.!AE427","v":0},19,{"$f":"BONAFIDE.!X427","v":0},{"$f":"BONAFIDE.!Y427","v":0},{"$f":"BONAFIDE.!Z427","v":0},{"$f":"BONAFIDE.!AD427","v":0},{"$f":"BONAFIDE.!AA427","v":"00:00:00"},119,"119","VIII","01190VIII","00VIII TM"]
[{"$f":"BONAFIDE.!AB428","v":"VIIITM"},{"$f":"BONAFIDE.!AE428","v":0},20,{"$f":"BONAFIDE.!X428","v":0},{"$f":"BONAFIDE.!Y428","v":0},{"$f":"BONAFIDE.!Z428","v":0},{"$f":"BONAFIDE.!AD428","v":0},{"$f":"BONAFIDE.!AA428","v":"00:00:00"},119,"119","VIII","01190VIII","00VIII TM"]
[{"$f":"BONAFIDE.!AB429","v":"VIIITM"},{"$f":"BONAFIDE.!AE429","v":0},21,{"$f":"BONAFIDE.!X429","v":0},{"$f":"BONAFIDE.!Y429","v":0},{"$f":"BONAFIDE.!Z429","v":0},{"$f":"BONAFIDE.!AD429","v":0},{"$f":"BONAFIDE.!AA429","v":"00:00:00"},119,"119","VIII","01190VIII","00VIII TM"]
[{"$f":"BONAFIDE.!AB430","v":"VIIITM"},{"$f":"BONAFIDE.!AE430","v":0},22,{"$f":"BONAFIDE.!X430","v":0},{"$f":"BONAFIDE.!Y430","v":0},{"$f":"BONAFIDE.!Z430","v":0},{"$f":"BONAFIDE.!AD430","v":0},{"$f":"BONAFIDE.!AA430","v":"00:00:00"},119,"119","VIII","01190VIII","00VIII TM"]
[{"$f":"BONAFIDE.!AB431","v":"VIIITM"},{"$f":"BONAFIDE.!AE431","v":0},23,{"$f":"BONAFIDE.!X431","v":0},{"$f":"BONAFIDE.!Y431","v":0},{"$f":"BONAFIDE.!Z431","v":0},{"$f":"BONAFIDE.!AD431","v":0},{"$f":"BONAFIDE.!AA431","v":"00:00:00"},119,"119","VIII","01190VIII","00VIII TM"]
[{"$f":"BONAFIDE.!AB432","v":"VIIITM"},{"$f":"BONAFIDE.!AE432","v":0},24,{"$f":"BONAFIDE.!X432","v":0},{"$f":"BONAFIDE.!Y432","v":0},{"$f":"BONAFIDE.!Z432","v":0},{"$f":"BONAFIDE.!AD432","v":0},{"$f":"BONAFIDE.!AA432","v":"00:00:00"},119,"119","VIII","01190VIII","00VIII TM"]
[{"$f":"BONAFIDE.!AB433","v":"VIIITM"},{"$f":"BONAFIDE.!AE433","v":0},25,{"$f":"BONAFIDE.!X433","v":0},{"$f":"BONAFIDE.!Y433","v":0},{"$f":"BONAFIDE.!Z433","v":0},{"$f":"BONAFIDE.!AD433","v":0},{"$f":"BONAFIDE.!AA433","v":"00:00:00"},119,"119","VIII","01190VIII","00VIII TM"]
[{"$f":"BONAFIDE.!AB434","v":"VIIITM"},{"$f":"BONAFIDE.!AE434","v":0},26,{"$f":"BONAFIDE.!X434","v":0},{"$f":"BONAFIDE.!Y434","v":0},{"$f":"BONAFIDE.!Z434","v":0},{"$f":"BONAFIDE.!AD434","v":0},{"$f":"BONAFIDE.!AA434","v":"00:00:00"},119,"119","VIII","01190VIII","00VIII TM"]
[{"$f":"BONAFIDE.!AB435","v":"VIIITM"},{"$f":"BONAFIDE.!AE435","v":0},27,{"$f":"BONAFIDE.!X435","v":0},{"$f":"BONAFIDE.!Y435","v":0},{"$f":"BONAFIDE.!Z435","v":0},{"$f":"BONAFIDE.!AD435","v":0},{"$f":"BONAFIDE.!AA435","v":"00:00:00"},119,"119","VIII","01190VIII","00VIII TM"]
[{"$f":"BONAFIDE.!AB436","v":"VIIITM"},{"$f":"BONAFIDE.!AE436","v":0},28,{"$f":"BONAFIDE.!X436","v":0},{"$f":"BONAFIDE.!Y436","v":0},{"$f":"BONAFIDE.!Z436","v":0},{"$f":"BONAFIDE.!AD436","v":0},{"$f":"BONAFIDE.!AA436","v":"00:00:00"},119,"119","VIII","01190VIII","00VIII TM"]
[{"$f":"BONAFIDE.!AB437","v":"VIIITM"},{"$f":"BONAFIDE.!AE437","v":0},29,{"$f":"BONAFIDE.!X437","v":0},{"$f":"BONAFIDE.!Y437","v":0},{"$f":"BONAFIDE.!Z437","v":0},{"$f":"BONAFIDE.!AD437","v":0},{"$f":"BONAFIDE.!AA437","v":"00:00:00"},119,"119","VIII","01190VIII","00VIII TM"]
[{"$f":"BONAFIDE.!AB438","v":"VIIITM"},{"$f":"BONAFIDE.!AE438","v":0},30,{"$f":"BONAFIDE.!X438","v":0},{"$f":"BONAFIDE.!Y438","v":0},{"$f":"BONAFIDE.!Z438","v":0},{"$f":"BONAFIDE.!AD438","v":0},{"$f":"BONAFIDE.!AA438","v":"00:00:00"},119,"119","VIII","01190VIII","00VIII TM"]
[{"$f":"BONAFIDE.!AB439","v":"VIIITM"},{"$f":"BONAFIDE.!AE439","v":0},31,{"$f":"BONAFIDE.!X439","v":0},{"$f":"BONAFIDE.!Y439","v":0},{"$f":"BONAFIDE.!Z439","v":0},{"$f":"BONAFIDE.!AD439","v":0},{"$f":"BONAFIDE.!AA439","v":"00:00:00"},119,"119","VIII","01190VIII","00VIII TM"]
[{"$f":"BONAFIDE.!AB440","v":"VIIITM"},{"$f":"BONAFIDE.!AE440","v":0},32,{"$f":"BONAFIDE.!X440","v":0},{"$f":"BONAFIDE.!Y440","v":0},{"$f":"BONAFIDE.!Z440","v":0},{"$f":"BONAFIDE.!AD440","v":0},{"$f":"BONAFIDE.!AA440","v":"00:00:00"},119,"119","VIII","01190VIII","00VIII TM"]
[{"$f":"BONAFIDE.!AB441","v":"VIIITM"},{"$f":"BONAFIDE.!AE441","v":0},33,{"$f":"BONAFIDE.!X441","v":0},{"$f":"BONAFIDE.!Y441","v":0},{"$f":"BONAFIDE.!Z441","v":0},{"$f":"BONAFIDE.!AD441","v":0},{"$f":"BONAFIDE.!AA441","v":"00:00:00"},119,"119","VIII","01190VIII","00VIII TM"]
[{"$f":"BONAFIDE.!AB442","v":"VIIITM"},{"$f":"BONAFIDE.!AE442","v":0},34,{"$f":"BONAFIDE.!X442","v":0},{"$f":"BONAFIDE.!Y442","v":0},{"$f":"BONAFIDE.!Z442","v":0},{"$f":"BONAFIDE.!AD442","v":0},{"$f":"BONAFIDE.!AA442","v":"00:00:00"},119,"119","VIII","01190VIII","00VIII TM"]
[{"$f":"BONAFIDE.!AB443","v":"VIIITM"},{"$f":"BONAFIDE.!AE443","v":0},35,{"$f":"BONAFIDE.!X443","v":0},{"$f":"BONAFIDE.!Y443","v":0},{"$f":"BONAFIDE.!Z443","v":0},{"$f":"BONAFIDE.!AD443","v":0},{"$f":"BONAFIDE.!AA443","v":"00:00:00"},119,"119","VIII","01190VIII","00VIII TM"]
[{"$f":"BONAFIDE.!AB444","v":"VIIITM"},{"$f":"BONAFIDE.!AE444","v":0},36,{"$f":"BONAFIDE.!X444","v":0},{"$f":"BONAFIDE.!Y444","v":0},{"$f":"BONAFIDE.!Z444","v":0},{"$f":"BONAFIDE.!AD444","v":0},{"$f":"BONAFIDE.!AA444","v":"00:00:00"},119,"119","VIII","01190VIII","00VIII TM"]
[{"$f":"BONAFIDE.!AB445","v":"VIIITM"},{"$f":"BONAFIDE.!AE445","v":0},37,{"$f":"BONAFIDE.!X445","v":0},{"$f":"BONAFIDE.!Y445","v":0},{"$f":"BONAFIDE.!Z445","v":0},{"$f":"BONAFIDE.!AD445","v":0},{"$f":"BONAFIDE.!AA445","v":"00:00:00"},119,"119","VIII","01190VIII","00VIII TM"]
[{"$f":"BONAFIDE.!AB446","v":"VIIITM"},{"$f":"BONAFIDE.!AE446","v":0},38,{"$f":"BONAFIDE.!X446","v":0},{"$f":"BONAFIDE.!Y446","v":0},{"$f":"BONAFIDE.!Z446","v":0},{"$f":"BONAFIDE.!AD446","v":0},{"$f":"BONAFIDE.!AA446","v":"00:00:00"},119,"119","VIII","01190VIII","00VIII TM"]
[{"$f":"BONAFIDE.!AB447","v":"VIIITM"},{"$f":"BONAFIDE.!AE447","v":0},39,{"$f":"BONAFIDE.!X447","v":0},{"$f":"BONAFIDE.!Y447","v":0},{"$f":"BONAFIDE.!Z447","v":0},{"$f":"BONAFIDE.!AD447","v":0},{"$f":"BONAFIDE.!AA447","v":"00:00:00"},119,"119","VIII","01190VIII","00VIII TM"]
[{"$f":"BONAFIDE.!AB448","v":"VIIITM"},{"$f":"BONAFIDE.!AE448","v":0},40,{"$f":"BONAFIDE.!X448","v":0},{"$f":"BONAFIDE.!Y448","v":0},{"$f":"BONAFIDE.!Z448","v":0},{"$f":"BONAFIDE.!AD448","v":0},{"$f":"BONAFIDE.!AA448","v":"00:00:00"},119,"119","VIII","01190VIII","00VIII TM"]
[{"$f":"BONAFIDE.!AB449","v":"VIIITM"},{"$f":"BONAFIDE.!AE449","v":0},41,{"$f":"BONAFIDE.!X449","v":0},{"$f":"BONAFIDE.!Y449","v":0},{"$f":"BONAFIDE.!Z449","v":0},{"$f":"BONAFIDE.!AD449","v":0},{"$f":"BONAFIDE.!AA449","v":"00:00:00"},119,"119","VIII","01190VIII","00VIII TM"]
[{"$f":"BONAFIDE.!AB450","v":"VIIITM"},{"$f":"BONAFIDE.!AE450","v":0},42,{"$f":"BONAFIDE.!X450","v":0},{"$f":"BONAFIDE.!Y450","v":0},{"$f":"BONAFIDE.!Z450","v":0},{"$f":"BONAFIDE.!AD450","v":0},{"$f":"BONAFIDE.!AA450","v":"00:00:00"},119,"119","VIII","01190VIII","00VIII TM"]
[{"$f":"BONAFIDE.!AB451","v":"VIIITM"},{"$f":"BONAFIDE.!AE451","v":0},43,{"$f":"BONAFIDE.!X451","v":0},{"$f":"BONAFIDE.!Y451","v":0},{"$f":"BONAFIDE.!Z451","v":0},{"$f":"BONAFIDE.!AD451","v":0},{"$f":"BONAFIDE.!AA451","v":"00:00:00"},119,"119","VIII","01190VIII","00VIII TM"]
[{"$f":"BONAFIDE.!AB452","v":"VIIITM"},{"$f":"BONAFIDE.!AE452","v":0},44,{"$f":"BONAFIDE.!X452","v":0},{"$f":"BONAFIDE.!Y452","v":0},{"$f":"BONAFIDE.!Z452","v":0},{"$f":"BONAFIDE.!AD452","v":0},{"$f":"BONAFIDE.!AA452","v":"00:00:00"},119,"119","VIII","01190VIII","00VIII TM"]
[{"$f":"BONAFIDE.!AB453","v":"VIIITM"},{"$f":"BONAFIDE.!AE453","v":0},45,{"$f":"BONAFIDE.!X453","v":0},{"$f":"BONAFIDE.!Y453","v":0},{"$f":"BONAFIDE.!Z453","v":0},{"$f":"BONAFIDE.!AD453","v":0},{"$f":"BONAFIDE.!AA453","v":"00:00:00"},119,"119","VIII","01190VIII","00VIII TM"]
[{"$f":"BONAFIDE.!AB454","v":"VIIITM"},{"$f":"BONAFIDE.!AE454","v":0},46,{"$f":"BONAFIDE.!X454","v":0},{"$f":"BONAFIDE.!Y454","v":0},{"$f":"BONAFIDE.!Z454","v":0},{"$f":"BONAFIDE.!AD454","v":0},{"$f":"BONAFIDE.!AA454","v":"00:00:00"},119,"119","VIII","01190VIII","00VIII TM"]
[{"$f":"BONAFIDE.!AB455","v":"VIIITM"},{"$f":"BONAFIDE.!AE455","v":0},47,{"$f":"BONAFIDE.!X455","v":0},{"$f":"BONAFIDE.!Y455","v":0},{"$f":"BONAFIDE.!Z455","v":0},{"$f":"BONAFIDE.!AD455","v":0},{"$f":"BONAFIDE.!AA455","v":"00:00:00"},{"$f":"DATEDIF(H452,CUTOFFDT,\"Y\")","v":119},{"$f":"fillno(I452)","v":"119"},{"$f":"MID(A452,1,LEN(A452)-2)","v":"VIII"},{"$f":"B452&J452&G452&K452","v":"01190VIII"},{"$f":"B452&G452&MID(A452,1,LEN(A452)-2)&\" \" & RIGHT(A452,2)","v":"00VIII TM"}]
[{"$f":"BONAFIDE.!AB456","v":"VIIITM"},{"$f":"BONAFIDE.!AE456","v":0},{"$error":"#REF!"},{"$f":"BONAFIDE.!X456","v":0},{"$f":"BONAFIDE.!Y456","v":0},{"$f":"BONAFIDE.!Z456","v":0},{"$f":"BONAFIDE.!AD456","v":0},{"$f":"BONAFIDE.!AA456","v":"00:00:00"},119,"119","VIII","01190VIII","00VIII TM"]
[{"$f":"BONAFIDE.!AB457","v":"VIIITM"},{"$f":"BONAFIDE.!AE457","v":0},{"$error":"#REF!"},{"$f":"BONAFIDE.!X457","v":0},{"$f":"BONAFIDE.!Y457","v":0},{"$f":"BONAFIDE.!Z457","v":0},{"$f":"BONAFIDE.!AD457","v":0},{"$f":"BONAFIDE.!AA457","v":"00:00:00"},119,"119","VIII","01190VIII","00VIII TM"]
[{"$f":"BONAFIDE.!AB458","v":"00:00:00"},{"$f":"BONAFIDE.!AE458","v":0},"SC",{"$f":"BONAFIDE.!X458","v":0},{"$f":"BONAFIDE.!Y458","v":0},{"$f":"BONAFIDE.!Z458","v":0},{"$f":"BONAFIDE.!AD458","v":0},{"$f":"BONAFIDE.!AA458","v":"00:00:00"},119,"119",{"$error":"#VALUE!"},{"$error":"#VALUE!"},{"$error":"#VALUE!"}]
[{"$f":"BONAFIDE.!AB459","v":"IXTM"},{"$f":"BONAFIDE.!AE459","v":0},"ST",{"$f":"BONAFIDE.!X459","v":0},{"$f":"BONAFIDE.!Y459","v":0},{"$f":"BONAFIDE.!Z459","v":0},{"$f":"BONAFIDE.!AD459","v":0},{"$f":"BONAFIDE.!AA459","v":"00:00:00"},119,"119","IX","01190IX","00IX TM"]
[{"$f":"BONAFIDE.!AB460","v":"IXTM"},{"$f":"BONAFIDE.!AE460","v":0},"BC",{"$f":"BONAFIDE.!X460","v":0},{"$f":"BONAFIDE.!Y460","v":0},{"$f":"BONAFIDE.!Z460","v":0},{"$f":"BONAFIDE.!AD460","v":0},{"$f":"BONAFIDE.!AA460","v":"00:00:00"},119,"119","IX","01190IX","00IX TM"]
[{"$f":"BONAFIDE.!AB461","v":"IXTM"},{"$f":"BONAFIDE.!AE461","v":0},"OC",{"$f":"BONAFIDE.!X461","v":0},{"$f":"BONAFIDE.!Y461","v":0},{"$f":"BONAFIDE.!Z461","v":0},{"$f":"BONAFIDE.!AD461","v":0},{"$f":"BONAFIDE.!AA461","v":"00:00:00"},119,"119","IX","01190IX","00IX TM"]
[{"$f":"BONAFIDE.!AB462","v":"IXTM"},{"$f":"BONAFIDE.!AE462","v":0},null,{"$f":"BONAFIDE.!X462","v":0},{"$f":"BONAFIDE.!Y462","v":0},{"$f":"BONAFIDE.!Z462","v":0},{"$f":"BONAFIDE.!AD462","v":0},{"$f":"BONAFIDE.!AA462","v":"00:00:00"},119,"119","IX","01190IX","00IX TM"]
[{"$f":"BONAFIDE.!AB463","v":"IXTM"},{"$f":"BONAFIDE.!AE463","v":0},1,{"$f":"BONAFIDE.!X463","v":0},{"$f":"BONAFIDE.!Y463","v":0},{"$f":"BONAFIDE.!Z463","v":0},{"$f":"BONAFIDE.!AD463","v":0},{"$f":"BONAFIDE.!AA463","v":"00:00:00"},119,"119","IX","01190IX","00IX TM"]
[{"$f":"BONAFIDE.!AB464","v":"IXTM"},{"$f":"BONAFIDE.!AE464","v":0},2,{"$f":"BONAFIDE.!X464","v":0},{"$f":"BONAFIDE.!Y464","v":0},{"$f":"BONAFIDE.!Z464","v":0},{"$f":"BONAFIDE.!AD464","v":0},{"$f":"BONAFIDE.!AA464","v":"00:00:00"},119,"119","IX","01190IX","00IX TM"]
[{"$f":"BONAFIDE.!AB465","v":"IXTM"},{"$f":"BONAFIDE.!AE465","v":0},3,{"$f":"BONAFIDE.!X465","v":0},{"$f":"BONAFIDE.!Y465","v":0},{"$f":"BONAFIDE.!Z465","v":0},{"$f":"BONAFIDE.!AD465","v":0},{"$f":"BONAFIDE.!AA465","v":"00:00:00"},119,"119","IX","01190IX","00IX TM"]
[{"$f":"BONAFIDE.!AB466","v":"IXTM"},{"$f":"BONAFIDE.!AE466","v":0},4,{"$f":"BONAFIDE.!X466","v":0},{"$f":"BONAFIDE.!Y466","v":0},{"$f":"BONAFIDE.!Z466","v":0},{"$f":"BONAFIDE.!AD466","v":0},{"$f":"BONAFIDE.!AA466","v":"00:00:00"},119,"119","IX","01190IX","00IX TM"]
[{"$f":"BONAFIDE.!AB467","v":"IXTM"},{"$f":"BONAFIDE.!AE467","v":0},5,{"$f":"BONAFIDE.!X467","v":0},{"$f":"BONAFIDE.!Y467","v":0},{"$f":"BONAFIDE.!Z467","v":0},{"$f":"BONAFIDE.!AD467","v":0},{"$f":"BONAFIDE.!AA467","v":"00:00:00"},119,"119","IX","01190IX","00IX TM"]
[{"$f":"BONAFIDE.!AB468","v":"IXTM"},{"$f":"BONAFIDE.!AE468","v":0},6,{"$f":"BONAFIDE.!X468","v":0},{"$f":"BONAFIDE.!Y468","v":0},{"$f":"BONAFIDE.!Z468","v":0},{"$f":"BONAFIDE.!AD468","v":0},{"$f":"BONAFIDE.!AA468","v":"00:00:00"},119,"119","IX","01190IX","00IX TM"]
[{"$f":"BONAFIDE.!AB469","v":"IXTM"},{"$f":"BONAFIDE.!AE469","v":0},7,{"$f":"BONAFIDE.!X469","v":0},{"$f":"BONAFIDE.!Y469","v":0},{"$f":"BONAFIDE.!Z469","v":0},{"$f":"BONAFIDE.!AD469","v":0},{"$f":"BONAFIDE.!AA469","v":"00:00:00"},119,"119","IX","01190IX","00IX TM"]
[{"$f":"BONAFIDE.!AB470","v":"IXTM"},{"$f":"BONAFIDE.!AE470","v":0},8,{"$f":"BONAFIDE.!X470","v":0},{"$f":"BONAFIDE.!Y470","v":0},{"$f":"BONAFIDE.!Z470","v":0},{"$f":"BONAFIDE.!AD470","v":0},{"$f":"BONAFIDE.!AA470","v":"00:00:00"},119,"119","IX","01190IX","00IX TM"]
[{"$f":"BONAFIDE.!AB471","v":"IXTM"},{"$f":"BONAFIDE.!AE471","v":0},9,{"$f":"BONAFIDE.!X471","v":0},{"$f":"BONAFIDE.!Y471","v":0},{"$f":"BONAFIDE.!Z471","v":0},{"$f":"BONAFIDE.!AD471","v":0},{"$f":"BONAFIDE.!AA471","v":"00:00:00"},119,"119","IX","01190IX","00IX TM"]
[{"$f":"BONAFIDE.!AB472","v":"IXTM"},{"$f":"BONAFIDE.!AE472","v":0},10,{"$f":"BONAFIDE.!X472","v":0},{"$f":"BONAFIDE.!Y472","v":0},{"$f":"BONAFIDE.!Z472","v":0},{"$f":"BONAFIDE.!AD472","v":0},{"$f":"BONAFIDE.!AA472","v":"00:00:00"},119,"119","IX","01190IX","00IX TM"]
[{"$f":"BONAFIDE.!AB473","v":"IXTM"},{"$f":"BONAFIDE.!AE473","v":0},11,{"$f":"BONAFIDE.!X473","v":0},{"$f":"BONAFIDE.!Y473","v":0},{"$f":"BONAFIDE.!Z473","v":0},{"$f":"BONAFIDE.!AD473","v":0},{"$f":"BONAFIDE.!AA473","v":"00:00:00"},119,"119","IX","01190IX","00IX TM"]
[{"$f":"BONAFIDE.!AB474","v":"IXTM"},{"$f":"BONAFIDE.!AE474","v":0},12,{"$f":"BONAFIDE.!X474","v":0},{"$f":"BONAFIDE.!Y474","v":0},{"$f":"BONAFIDE.!Z474","v":0},{"$f":"BONAFIDE.!AD474","v":0},{"$f":"BONAFIDE.!AA474","v":"00:00:00"},119,"119","IX","01190IX","00IX TM"]
[{"$f":"BONAFIDE.!AB475","v":"IXTM"},{"$f":"BONAFIDE.!AE475","v":0},13,{"$f":"BONAFIDE.!X475","v":0},{"$f":"BONAFIDE.!Y475","v":0},{"$f":"BONAFIDE.!Z475","v":0},{"$f":"BONAFIDE.!AD475","v":0},{"$f":"BONAFIDE.!AA475","v":"00:00:00"},119,"119","IX","01190IX","00IX TM"]
[{"$f":"BONAFIDE.!AB476","v":"IXTM"},{"$f":"BONAFIDE.!AE476","v":0},14,{"$f":"BONAFIDE.!X476","v":0},{"$f":"BONAFIDE.!Y476","v":0},{"$f":"BONAFIDE.!Z476","v":0},{"$f":"BONAFIDE.!AD476","v":0},{"$f":"BONAFIDE.!AA476","v":"00:00:00"},119,"119","IX","01190IX","00IX TM"]
[{"$f":"BONAFIDE.!AB477","v":"IXTM"},{"$f":"BONAFIDE.!AE477","v":0},15,{"$f":"BONAFIDE.!X477","v":0},{"$f":"BONAFIDE.!Y477","v":0},{"$f":"BONAFIDE.!Z477","v":0},{"$f":"BONAFIDE.!AD477","v":0},{"$f":"BONAFIDE.!AA477","v":"00:00:00"},119,"119","IX","01190IX","00IX TM"]
[{"$f":"BONAFIDE.!AB478","v":"IXTM"},{"$f":"BONAFIDE.!AE478","v":0},16,{"$f":"BONAFIDE.!X478","v":0},{"$f":"BONAFIDE.!Y478","v":0},{"$f":"BONAFIDE.!Z478","v":0},{"$f":"BONAFIDE.!AD478","v":0},{"$f":"BONAFIDE.!AA478","v":"00:00:00"},119,"119","IX","01190IX","00IX TM"]
[{"$f":"BONAFIDE.!AB479","v":"IXTM"},{"$f":"BONAFIDE.!AE479","v":0},17,{"$f":"BONAFIDE.!X479","v":0},{"$f":"BONAFIDE.!Y479","v":0},{"$f":"BONAFIDE.!Z479","v":0},{"$f":"BONAFIDE.!AD479","v":0},{"$f":"BONAFIDE.!AA479","v":"00:00:00"},119,"119","IX","01190IX","00IX TM"]
[{"$f":"BONAFIDE.!AB480","v":"IXTM"},{"$f":"BONAFIDE.!AE480","v":0},18,{"$f":"BONAFIDE.!X480","v":0},{"$f":"BONAFIDE.!Y480","v":0},{"$f":"BONAFIDE.!Z480","v":0},{"$f":"BONAFIDE.!AD480","v":0},{"$f":"BONAFIDE.!AA480","v":"00:00:00"},119,"119","IX","01190IX","00IX TM"]
[{"$f":"BONAFIDE.!AB481","v":"IXTM"},{"$f":"BONAFIDE.!AE481","v":0},19,{"$f":"BONAFIDE.!X481","v":0},{"$f":"BONAFIDE.!Y481","v":0},{"$f":"BONAFIDE.!Z481","v":0},{"$f":"BONAFIDE.!AD481","v":0},{"$f":"BONAFIDE.!AA481","v":"00:00:00"},119,"119","IX","01190IX","00IX TM"]
[{"$f":"BONAFIDE.!AB482","v":"IXTM"},{"$f":"BONAFIDE.!AE482","v":0},20,{"$f":"BONAFIDE.!X482","v":0},{"$f":"BONAFIDE.!Y482","v":0},{"$f":"BONAFIDE.!Z482","v":0},{"$f":"BONAFIDE.!AD482","v":0},{"$f":"BONAFIDE.!AA482","v":"00:00:00"},119,"119","IX","01190IX","00IX TM"]
[{"$f":"BONAFIDE.!AB483","v":"IXTM"},{"$f":"BONAFIDE.!AE483","v":0},21,{"$f":"BONAFIDE.!X483","v":0},{"$f":"BONAFIDE.!Y483","v":0},{"$f":"BONAFIDE.!Z483","v":0},{"$f":"BONAFIDE.!AD483","v":0},{"$f":"BONAFIDE.!AA483","v":"00:00:00"},119,"119","IX","01190IX","00IX TM"]
[{"$f":"BONAFIDE.!AB484","v":"IXTM"},{"$f":"BONAFIDE.!AE484","v":0},22,{"$f":"BONAFIDE.!X484","v":0},{"$f":"BONAFIDE.!Y484","v":0},{"$f":"BONAFIDE.!Z484","v":0},{"$f":"BONAFIDE.!AD484","v":0},{"$f":"BONAFIDE.!AA484","v":"00:00:00"},119,"119","IX","01190IX","00IX TM"]
[{"$f":"BONAFIDE.!AB485","v":"IXTM"},{"$f":"BONAFIDE.!AE485","v":0},23,{"$f":"BONAFIDE.!X485","v":0},{"$f":"BONAFIDE.!Y485","v":0},{"$f":"BONAFIDE.!Z485","v":0},{"$f":"BONAFIDE.!AD485","v":0},{"$f":"BONAFIDE.!AA485","v":"00:00:00"},119,"119","IX","01190IX","00IX TM"]
[{"$f":"BONAFIDE.!AB486","v":"IXTM"},{"$f":"BONAFIDE.!AE486","v":0},24,{"$f":"BONAFIDE.!X486","v":0},{"$f":"BONAFIDE.!Y486","v":0},{"$f":"BONAFIDE.!Z486","v":0},{"$f":"BONAFIDE.!AD486","v":0},{"$f":"BONAFIDE.!AA486","v":"00:00:00"},119,"119","IX","01190IX","00IX TM"]
[{"$f":"BONAFIDE.!AB487","v":"IXTM"},{"$f":"BONAFIDE.!AE487","v":0},25,{"$f":"BONAFIDE.!X487","v":0},{"$f":"BONAFIDE.!Y487","v":0},{"$f":"BONAFIDE.!Z487","v":0},{"$f":"BONAFIDE.!AD487","v":0},{"$f":"BONAFIDE.!AA487","v":"00:00:00"},119,"119","IX","01190IX","00IX TM"]
[{"$f":"BONAFIDE.!AB488","v":"IXTM"},{"$f":"BONAFIDE.!AE488","v":0},26,{"$f":"BONAFIDE.!X488","v":0},{"$f":"BONAFIDE.!Y488","v":0},{"$f":"BONAFIDE.!Z488","v":0},{"$f":"BONAFIDE.!AD488","v":0},{"$f":"BONAFIDE.!AA488","v":"00:00:00"},119,"119","IX","01190IX","00IX TM"]
[{"$f":"BONAFIDE.!AB489","v":"IXTM"},{"$f":"BONAFIDE.!AE489","v":0},27,{"$f":"BONAFIDE.!X489","v":0},{"$f":"BONAFIDE.!Y489","v":0},{"$f":"BONAFIDE.!Z489","v":0},{"$f":"BONAFIDE.!AD489","v":0},{"$f":"BONAFIDE.!AA489","v":"00:00:00"},119,"119","IX","01190IX","00IX TM"]
[{"$f":"BONAFIDE.!AB490","v":"IXTM"},{"$f":"BONAFIDE.!AE490","v":0},28,{"$f":"BONAFIDE.!X490","v":0},{"$f":"BONAFIDE.!Y490","v":0},{"$f":"BONAFIDE.!Z490","v":0},{"$f":"BONAFIDE.!AD490","v":0},{"$f":"BONAFIDE.!AA490","v":"00:00:00"},119,"119","IX","01190IX","00IX TM"]
[{"$f":"BONAFIDE.!AB491","v":"IXTM"},{"$f":"BONAFIDE.!AE491","v":0},29,{"$f":"BONAFIDE.!X491","v":0},{"$f":"BONAFIDE.!Y491","v":0},{"$f":"BONAFIDE.!Z491","v":0},{"$f":"BONAFIDE.!AD491","v":0},{"$f":"BONAFIDE.!AA491","v":"00:00:00"},119,"119","IX","01190IX","00IX TM"]
[{"$f":"BONAFIDE.!AB492","v":"IXTM"},{"$f":"BONAFIDE.!AE492","v":0},30,{"$f":"BONAFIDE.!X492","v":0},{"$f":"BONAFIDE.!Y492","v":0},{"$f":"BONAFIDE.!Z492","v":0},{"$f":"BONAFIDE.!AD492","v":0},{"$f":"BONAFIDE.!AA492","v":"00:00:00"},119,"119","IX","01190IX","00IX TM"]
[{"$f":"BONAFIDE.!AB493","v":"IXTM"},{"$f":"BONAFIDE.!AE493","v":0},31,{"$f":"BONAFIDE.!X493","v":0},{"$f":"BONAFIDE.!Y493","v":0},{"$f":"BONAFIDE.!Z493","v":0},{"$f":"BONAFIDE.!AD493","v":0},{"$f":"BONAFIDE.!AA493","v":"00:00:00"},119,"119","IX","01190IX","00IX TM"]
[{"$f":"BONAFIDE.!AB494","v":"IXTM"},{"$f":"BONAFIDE.!AE494","v":0},32,{"$f":"BONAFIDE.!X494","v":0},{"$f":"BONAFIDE.!Y494","v":0},{"$f":"BONAFIDE.!Z494","v":0},{"$f":"BONAFIDE.!AD494","v":0},{"$f":"BONAFIDE.!AA494","v":"00:00:00"},119,"119","IX","01190IX","00IX TM"]
[{"$f":"BONAFIDE.!AB495","v":"IXTM"},{"$f":"BONAFIDE.!AE495","v":0},33,{"$f":"BONAFIDE.!X495","v":0},{"$f":"BONAFIDE.!Y495","v":0},{"$f":"BONAFIDE.!Z495","v":0},{"$f":"BONAFIDE.!AD495","v":0},{"$f":"BONAFIDE.!AA495","v":"00:00:00"},119,"119","IX","01190IX","00IX TM"]
[{"$f":"BONAFIDE.!AB496","v":"IXTM"},{"$f":"BONAFIDE.!AE496","v":0},34,{"$f":"BONAFIDE.!X496","v":0},{"$f":"BONAFIDE.!Y496","v":0},{"$f":"BONAFIDE.!Z496","v":0},{"$f":"BONAFIDE.!AD496","v":0},{"$f":"BONAFIDE.!AA496","v":"00:00:00"},119,"119","IX","01190IX","00IX TM"]
[{"$f":"BONAFIDE.!AB497","v":"IXTM"},{"$f":"BONAFIDE.!AE497","v":0},35,{"$f":"BONAFIDE.!X497","v":0},{"$f":"BONAFIDE.!Y497","v":0},{"$f":"BONAFIDE.!Z497","v":0},{"$f":"BONAFIDE.!AD497","v":0},{"$f":"BONAFIDE.!AA497","v":"00:00:00"},119,"119","IX","01190IX","00IX TM"]
[{"$f":"BONAFIDE.!AB498","v":"IXTM"},{"$f":"BONAFIDE.!AE498","v":0},36,{"$f":"BONAFIDE.!X498","v":0},{"$f":"BONAFIDE.!Y498","v":0},{"$f":"BONAFIDE.!Z498","v":0},{"$f":"BONAFIDE.!AD498","v":0},{"$f":"BONAFIDE.!AA498","v":"00:00:00"},119,"119","IX","01190IX","00IX TM"]
[{"$f":"BONAFIDE.!AB499","v":"IXTM"},{"$f":"BONAFIDE.!AE499","v":0},37,{"$f":"BONAFIDE.!X499","v":0},{"$f":"BONAFIDE.!Y499","v":0},{"$f":"BONAFIDE.!Z499","v":0},{"$f":"BONAFIDE.!AD499","v":0},{"$f":"BONAFIDE.!AA499","v":"00:00:00"},119,"119","IX","01190IX","00IX TM"]
[{"$f":"BONAFIDE.!AB500","v":"IXTM"},{"$f":"BONAFIDE.!AE500","v":0},38,{"$f":"BONAFIDE.!X500","v":0},{"$f":"BONAFIDE.!Y500","v":0},{"$f":"BONAFIDE.!Z500","v":0},{"$f":"BONAFIDE.!AD500","v":0},{"$f":"BONAFIDE.!AA500","v":"00:00:00"},119,"119","IX","01190IX","00IX TM"]
[{"$f":"BONAFIDE.!AB501","v":"IXTM"},{"$f":"BONAFIDE.!AE501","v":0},39,{"$f":"BONAFIDE.!X501","v":0},{"$f":"BONAFIDE.!Y501","v":0},{"$f":"BONAFIDE.!Z501","v":0},{"$f":"BONAFIDE.!AD501","v":0},{"$f":"BONAFIDE.!AA501","v":"00:00:00"},119,"119","IX","01190IX","00IX TM"]
[{"$f":"BONAFIDE.!AB502","v":"IXTM"},{"$f":"BONAFIDE.!AE502","v":0},40,{"$f":"BONAFIDE.!X502","v":0},{"$f":"BONAFIDE.!Y502","v":0},{"$f":"BONAFIDE.!Z502","v":0},{"$f":"BONAFIDE.!AD502","v":0},{"$f":"BONAFIDE.!AA502","v":"00:00:00"},119,"119","IX","01190IX","00IX TM"]
[{"$f":"BONAFIDE.!AB503","v":"IXTM"},{"$f":"BONAFIDE.!AE503","v":0},41,{"$f":"BONAFIDE.!X503","v":0},{"$f":"BONAFIDE.!Y503","v":0},{"$f":"BONAFIDE.!Z503","v":0},{"$f":"BONAFIDE.!AD503","v":0},{"$f":"BONAFIDE.!AA503","v":"00:00:00"},119,"119","IX","01190IX","00IX TM"]
[{"$f":"BONAFIDE.!AB504","v":"IXTM"},{"$f":"BONAFIDE.!AE504","v":0},42,{"$f":"BONAFIDE.!X504","v":0},{"$f":"BONAFIDE.!Y504","v":0},{"$f":"BONAFIDE.!Z504","v":0},{"$f":"BONAFIDE.!AD504","v":0},{"$f":"BONAFIDE.!AA504","v":"00:00:00"},119,"119","IX","01190IX","00IX TM"]
[{"$f":"BONAFIDE.!AB505","v":"IXTM"},{"$f":"BONAFIDE.!AE505","v":0},43,{"$f":"BONAFIDE.!X505","v":0},{"$f":"BONAFIDE.!Y505","v":0},{"$f":"BONAFIDE.!Z505","v":0},{"$f":"BONAFIDE.!AD505","v":0},{"$f":"BONAFIDE.!AA505","v":"00:00:00"},119,"119","IX","01190IX","00IX TM"]
[{"$f":"BONAFIDE.!AB506","v":"IXTM"},{"$f":"BONAFIDE.!AE506","v":0},44,{"$f":"BONAFIDE.!X506","v":0},{"$f":"BONAFIDE.!Y506","v":0},{"$f":"BONAFIDE.!Z506","v":0},{"$f":"BONAFIDE.!AD506","v":0},{"$f":"BONAFIDE.!AA506","v":"00:00:00"},119,"119","IX","01190IX","00IX TM"]
[{"$f":"BONAFIDE.!AB507","v":"IXTM"},{"$f":"BONAFIDE.!AE507","v":0},{"$error":"#REF!"},{"$f":"BONAFIDE.!X507","v":0},{"$f":"BONAFIDE.!Y507","v":0},{"$f":"BONAFIDE.!Z507","v":0},{"$f":"BONAFIDE.!AD507","v":0},{"$f":"BONAFIDE.!AA507","v":"00:00:00"},119,"119","IX","01190IX","00IX TM"]
[{"$f":"BONAFIDE.!AB508","v":"IXTM"},{"$f":"BONAFIDE.!AE508","v":0},{"$error":"#REF!"},{"$f":"BONAFIDE.!X508","v":0},{"$f":"BONAFIDE.!Y508","v":0},{"$f":"BONAFIDE.!Z508","v":0},{"$f":"BONAFIDE.!AD508","v":0},{"$f":"BONAFIDE.!AA508","v":"00:00:00"},119,"119","IX","01190IX","00IX TM"]
[{"$f":"BONAFIDE.!AB509","v":"IXTM"},{"$f":"BONAFIDE.!AE509","v":0},"SC",{"$f":"BONAFIDE.!X509","v":0},{"$f":"BONAFIDE.!Y509","v":0},{"$f":"BONAFIDE.!Z509","v":0},{"$f":"BONAFIDE.!AD509","v":0},{"$f":"BONAFIDE.!AA509","v":"00:00:00"},119,"119","IX","01190IX","00IX TM"]
[{"$f":"BONAFIDE.!AB510","v":"IXTM"},{"$f":"BONAFIDE.!AE510","v":0},null,{"$f":"BONAFIDE.!X510","v":0},{"$f":"BONAFIDE.!Y510","v":0},{"$f":"BONAFIDE.!Z510","v":0},{"$f":"BONAFIDE.!AD510","v":0},{"$f":"BONAFIDE.!AA510","v":"00:00:00"},119,"119","IX","01190IX","00IX TM"]
[{"$f":"BONAFIDE.!AB511","v":"IXTM"},{"$f":"BONAFIDE.!AE511","v":0},1,{"$f":"BONAFIDE.!X511","v":0},{"$f":"BONAFIDE.!Y511","v":0},{"$f":"BONAFIDE.!Z511","v":0},{"$f":"BONAFIDE.!AD511","v":0},{"$f":"BONAFIDE.!AA511","v":"00:00:00"},119,"119","IX","01190IX","00IX TM"]
[{"$f":"BONAFIDE.!AB512","v":"IXTM"},{"$f":"BONAFIDE.!AE512","v":0},2,{"$f":"BONAFIDE.!X512","v":0},{"$f":"BONAFIDE.!Y512","v":0},{"$f":"BONAFIDE.!Z512","v":0},{"$f":"BONAFIDE.!AD512","v":0},{"$f":"BONAFIDE.!AA512","v":"00:00:00"},119,"119","IX","01190IX","00IX TM"]
[{"$f":"BONAFIDE.!AB513","v":"IXTM"},{"$f":"BONAFIDE.!AE513","v":0},3,{"$f":"BONAFIDE.!X513","v":0},{"$f":"BONAFIDE.!Y513","v":0},{"$f":"BONAFIDE.!Z513","v":0},{"$f":"BONAFIDE.!AD513","v":0},{"$f":"BONAFIDE.!AA513","v":"00:00:00"},119,"119","IX","01190IX","00IX TM"]
[{"$f":"BONAFIDE.!AB514","v":"IXTM"},{"$f":"BONAFIDE.!AE514","v":0},4,{"$f":"BONAFIDE.!X514","v":0},{"$f":"BONAFIDE.!Y514","v":0},{"$f":"BONAFIDE.!Z514","v":0},{"$f":"BONAFIDE.!AD514","v":0},{"$f":"BONAFIDE.!AA514","v":"00:00:00"},119,"119","IX","01190IX","00IX TM"]
[{"$f":"BONAFIDE.!AB515","v":"IXTM"},{"$f":"BONAFIDE.!AE515","v":0},5,{"$f":"BONAFIDE.!X515","v":0},{"$f":"BONAFIDE.!Y515","v":0},{"$f":"BONAFIDE.!Z515","v":0},{"$f":"BONAFIDE.!AD515","v":0},{"$f":"BONAFIDE.!AA515","v":"00:00:00"},119,"119","IX","01190IX","00IX TM"]
[{"$f":"BONAFIDE.!AB516","v":"IXTM"},{"$f":"BONAFIDE.!AE516","v":0},6,{"$f":"BONAFIDE.!X516","v":0},{"$f":"BONAFIDE.!Y516","v":0},{"$f":"BONAFIDE.!Z516","v":0},{"$f":"BONAFIDE.!AD516","v":0},{"$f":"BONAFIDE.!AA516","v":"00:00:00"},119,"119","IX","01190IX","00IX TM"]
[{"$f":"BONAFIDE.!AB517","v":"IXTM"},{"$f":"BONAFIDE.!AE517","v":0},7,{"$f":"BONAFIDE.!X517","v":0},{"$f":"BONAFIDE.!Y517","v":0},{"$f":"BONAFIDE.!Z517","v":0},{"$f":"BONAFIDE.!AD517","v":0},{"$f":"BONAFIDE.!AA517","v":"00:00:00"},119,"119","IX","01190IX","00IX TM"]
[{"$f":"BONAFIDE.!AB518","v":"IXTM"},{"$f":"BONAFIDE.!AE518","v":0},8,{"$f":"BONAFIDE.!X518","v":0},{"$f":"BONAFIDE.!Y518","v":0},{"$f":"BONAFIDE.!Z518","v":0},{"$f":"BONAFIDE.!AD518","v":0},{"$f":"BONAFIDE.!AA518","v":"00:00:00"},119,"119","IX","01190IX","00IX TM"]
[{"$f":"BONAFIDE.!AB519","v":"IXTM"},{"$f":"BONAFIDE.!AE519","v":0},9,{"$f":"BONAFIDE.!X519","v":0},{"$f":"BONAFIDE.!Y519","v":0},{"$f":"BONAFIDE.!Z519","v":0},{"$f":"BONAFIDE.!AD519","v":0},{"$f":"BONAFIDE.!AA519","v":"00:00:00"},{"$f":"DATEDIF(H516,CUTOFFDT,\"Y\")","v":119},{"$f":"fillno(I516)","v":"119"},{"$f":"MID(A516,1,LEN(A516)-2)","v":"IX"},{"$f":"B516&J516&G516&K516","v":"01190IX"},{"$f":"B516&G516&MID(A516,1,LEN(A516)-2)&\" \" & RIGHT(A516,2)","v":"00IX TM"}]
[{"$f":"BONAFIDE.!AB520","v":"IXTM"},{"$f":"BONAFIDE.!AE520","v":0},10,{"$f":"BONAFIDE.!X520","v":0},{"$f":"BONAFIDE.!Y520","v":0},{"$f":"BONAFIDE.!Z520","v":0},{"$f":"BONAFIDE.!AD520","v":0},{"$f":"BONAFIDE.!AA520","v":"00:00:00"},119,"119","IX","01190IX","00IX TM"]
[{"$f":"BONAFIDE.!AB521","v":"IXTM"},{"$f":"BONAFIDE.!AE521","v":0},11,{"$f":"BONAFIDE.!X521","v":0},{"$f":"BONAFIDE.!Y521","v":0},{"$f":"BONAFIDE.!Z521","v":0},{"$f":"BONAFIDE.!AD521","v":0},{"$f":"BONAFIDE.!AA521","v":"00:00:00"},119,"119","IX","01190IX","00IX TM"]
[{"$f":"BONAFIDE.!AB522","v":"IXTM"},{"$f":"BONAFIDE.!AE522","v":0},12,{"$f":"BONAFIDE.!X522","v":0},{"$f":"BONAFIDE.!Y522","v":0},{"$f":"BONAFIDE.!Z522","v":0},{"$f":"BONAFIDE.!AD522","v":0},{"$f":"BONAFIDE.!AA522","v":"00:00:00"},119,"119","IX","01190IX","00IX TM"]
[{"$f":"BONAFIDE.!AB523","v":"IXTM"},{"$f":"BONAFIDE.!AE523","v":0},13,{"$f":"BONAFIDE.!X523","v":0},{"$f":"BONAFIDE.!Y523","v":0},{"$f":"BONAFIDE.!Z523","v":0},{"$f":"BONAFIDE.!AD523","v":0},{"$f":"BONAFIDE.!AA523","v":"00:00:00"},119,"119","IX","01190IX","00IX TM"]
[{"$f":"BONAFIDE.!AB524","v":"IXTM"},{"$f":"BONAFIDE.!AE524","v":0},14,{"$f":"BONAFIDE.!X524","v":0},{"$f":"BONAFIDE.!Y524","v":0},{"$f":"BONAFIDE.!Z524","v":0},{"$f":"BONAFIDE.!AD524","v":0},{"$f":"BONAFIDE.!AA524","v":"00:00:00"},119,"119","IX","01190IX","00IX TM"]
[{"$f":"BONAFIDE.!AB525","v":"IXTM"},{"$f":"BONAFIDE.!AE525","v":0},15,{"$f":"BONAFIDE.!X525","v":0},{"$f":"BONAFIDE.!Y525","v":0},{"$f":"BONAFIDE.!Z525","v":0},{"$f":"BONAFIDE.!AD525","v":0},{"$f":"BONAFIDE.!AA525","v":"00:00:00"},119,"119","IX","01190IX","00IX TM"]
[{"$f":"BONAFIDE.!AB526","v":"IXTM"},{"$f":"BONAFIDE.!AE526","v":0},16,{"$f":"BONAFIDE.!X526","v":0},{"$f":"BONAFIDE.!Y526","v":0},{"$f":"BONAFIDE.!Z526","v":0},{"$f":"BONAFIDE.!AD526","v":0},{"$f":"BONAFIDE.!AA526","v":"00:00:00"},119,"119","IX","01190IX","00IX TM"]
[{"$f":"BONAFIDE.!AB527","v":"IXTM"},{"$f":"BONAFIDE.!AE527","v":0},17,{"$f":"BONAFIDE.!X527","v":0},{"$f":"BONAFIDE.!Y527","v":0},{"$f":"BONAFIDE.!Z527","v":0},{"$f":"BONAFIDE.!AD527","v":0},{"$f":"BONAFIDE.!AA527","v":"00:00:00"},119,"119","IX","01190IX","00IX TM"]
[{"$f":"BONAFIDE.!AB528","v":"IXTM"},{"$f":"BONAFIDE.!AE528","v":0},18,{"$f":"BONAFIDE.!X528","v":0},{"$f":"BONAFIDE.!Y528","v":0},{"$f":"BONAFIDE.!Z528","v":0},{"$f":"BONAFIDE.!AD528","v":0},{"$f":"BONAFIDE.!AA528","v":"00:00:00"},119,"119","IX","01190IX","00IX TM"]
[{"$f":"BONAFIDE.!AB529","v":"IXTM"},{"$f":"BONAFIDE.!AE529","v":0},19,{"$f":"BONAFIDE.!X529","v":0},{"$f":"BONAFIDE.!Y529","v":0},{"$f":"BONAFIDE.!Z529","v":0},{"$f":"BONAFIDE.!AD529","v":0},{"$f":"BONAFIDE.!AA529","v":"00:00:00"},119,"119","IX","01190IX","00IX TM"]
[{"$f":"BONAFIDE.!AB530","v":"IXTM"},{"$f":"BONAFIDE.!AE530","v":0},20,{"$f":"BONAFIDE.!X530","v":0},{"$f":"BONAFIDE.!Y530","v":0},{"$f":"BONAFIDE.!Z530","v":0},{"$f":"BONAFIDE.!AD530","v":0},{"$f":"BONAFIDE.!AA530","v":"00:00:00"},119,"119","IX","01190IX","00IX TM"]
[{"$f":"BONAFIDE.!AB531","v":"IXTM"},{"$f":"BONAFIDE.!AE531","v":0},21,{"$f":"BONAFIDE.!X531","v":0},{"$f":"BONAFIDE.!Y531","v":0},{"$f":"BONAFIDE.!Z531","v":0},{"$f":"BONAFIDE.!AD531","v":0},{"$f":"BONAFIDE.!AA531","v":"00:00:00"},119,"119","IX","01190IX","00IX TM"]
[{"$f":"BONAFIDE.!AB532","v":"IXTM"},{"$f":"BONAFIDE.!AE532","v":0},22,{"$f":"BONAFIDE.!X532","v":0},{"$f":"BONAFIDE.!Y532","v":0},{"$f":"BONAFIDE.!Z532","v":0},{"$f":"BONAFIDE.!AD532","v":0},{"$f":"BONAFIDE.!AA532","v":"00:00:00"},119,"119","IX","01190IX","00IX TM"]
[{"$f":"BONAFIDE.!AB533","v":"IXTM"},{"$f":"BONAFIDE.!AE533","v":0},23,{"$f":"BONAFIDE.!X533","v":0},{"$f":"BONAFIDE.!Y533","v":0},{"$f":"BONAFIDE.!Z533","v":0},{"$f":"BONAFIDE.!AD533","v":0},{"$f":"BONAFIDE.!AA533","v":"00:00:00"},119,"119","IX","01190IX","00IX TM"]
[{"$f":"BONAFIDE.!AB534","v":"IXTM"},{"$f":"BONAFIDE.!AE534","v":0},24,{"$f":"BONAFIDE.!X534","v":0},{"$f":"BONAFIDE.!Y534","v":0},{"$f":"BONAFIDE.!Z534","v":0},{"$f":"BONAFIDE.!AD534","v":0},{"$f":"BONAFIDE.!AA534","v":"00:00:00"},119,"119","IX","01190IX","00IX TM"]
[{"$f":"BONAFIDE.!AB535","v":"IXTM"},{"$f":"BONAFIDE.!AE535","v":0},25,{"$f":"BONAFIDE.!X535","v":0},{"$f":"BONAFIDE.!Y535","v":0},{"$f":"BONAFIDE.!Z535","v":0},{"$f":"BONAFIDE.!AD535","v":0},{"$f":"BONAFIDE.!AA535","v":"00:00:00"},119,"119","IX","01190IX","00IX TM"]
[{"$f":"BONAFIDE.!AB536","v":"IXTM"},{"$f":"BONAFIDE.!AE536","v":0},{"$error":"#REF!"},{"$f":"BONAFIDE.!X536","v":0},{"$f":"BONAFIDE.!Y536","v":0},{"$f":"BONAFIDE.!Z536","v":0},{"$f":"BONAFIDE.!AD536","v":0},{"$f":"BONAFIDE.!AA536","v":"00:00:00"},119,"119","IX","01190IX","00IX TM"]
[{"$f":"BONAFIDE.!AB537","v":"IXTM"},{"$f":"BONAFIDE.!AE537","v":0},{"$error":"#REF!"},{"$f":"BONAFIDE.!X537","v":0},{"$f":"BONAFIDE.!Y537","v":0},{"$f":"BONAFIDE.!Z537","v":0},{"$f":"BONAFIDE.!AD537","v":0},{"$f":"BONAFIDE.!AA537","v":"00:00:00"},119,"119","IX","01190IX","00IX TM"]
[{"$f":"BONAFIDE.!AB538","v":"IXTM"},{"$f":"BONAFIDE.!AE538","v":0},{"$error":"#REF!"},{"$f":"BONAFIDE.!X538","v":0},{"$f":"BONAFIDE.!Y538","v":0},{"$f":"BONAFIDE.!Z538","v":0},{"$f":"BONAFIDE.!AD538","v":0},{"$f":"BONAFIDE.!AA538","v":"00:00:00"},119,"119","IX","01190IX","00IX TM"]
[{"$f":"BONAFIDE.!AB539","v":"IXTM"},{"$f":"BONAFIDE.!AE539","v":0},{"$error":"#REF!"},{"$f":"BONAFIDE.!X539","v":0},{"$f":"BONAFIDE.!Y539","v":0},{"$f":"BONAFIDE.!Z539","v":0},{"$f":"BONAFIDE.!AD539","v":0},{"$f":"BONAFIDE.!AA539","v":"00:00:00"},119,"119","IX","01190IX","00IX TM"]
[{"$f":"BONAFIDE.!AB540","v":"IXTM"},{"$f":"BONAFIDE.!AE540","v":0},{"$error":"#REF!"},{"$f":"BONAFIDE.!X540","v":0},{"$f":"BONAFIDE.!Y540","v":0},{"$f":"BONAFIDE.!Z540","v":0},{"$f":"BONAFIDE.!AD540","v":0},{"$f":"BONAFIDE.!AA540","v":"00:00:00"},119,"119","IX","01190IX","00IX TM"]
[{"$f":"BONAFIDE.!AB541","v":"IXTM"},{"$f":"BONAFIDE.!AE541","v":0},{"$error":"#REF!"},{"$f":"BONAFIDE.!X541","v":0},{"$f":"BONAFIDE.!Y541","v":0},{"$f":"BONAFIDE.!Z541","v":0},{"$f":"BONAFIDE.!AD541","v":0},{"$f":"BONAFIDE.!AA541","v":"00:00:00"},119,"119","IX","01190IX","00IX TM"]
[{"$f":"BONAFIDE.!AB542","v":"IXTM"},{"$f":"BONAFIDE.!AE542","v":0},{"$error":"#REF!"},{"$f":"BONAFIDE.!X542","v":0},{"$f":"BONAFIDE.!Y542","v":0},{"$f":"BONAFIDE.!Z542","v":0},{"$f":"BONAFIDE.!AD542","v":0},{"$f":"BONAFIDE.!AA542","v":"00:00:00"},119,"119","IX","01190IX","00IX TM"]
[{"$f":"BONAFIDE.!AB543","v":"IXTM"},{"$f":"BONAFIDE.!AE543","v":0},{"$error":"#REF!"},{"$f":"BONAFIDE.!X543","v":0},{"$f":"BONAFIDE.!Y543","v":0},{"$f":"BONAFIDE.!Z543","v":0},{"$f":"BONAFIDE.!AD543","v":0},{"$f":"BONAFIDE.!AA543","v":"00:00:00"},119,"119","IX","01190IX","00IX TM"]
[{"$f":"BONAFIDE.!AB544","v":"IXTM"},{"$f":"BONAFIDE.!AE544","v":0},{"$error":"#REF!"},{"$f":"BONAFIDE.!X544","v":0},{"$f":"BONAFIDE.!Y544","v":0},{"$f":"BONAFIDE.!Z544","v":0},{"$f":"BONAFIDE.!AD544","v":0},{"$f":"BONAFIDE.!AA544","v":"00:00:00"},119,"119","IX","01190IX","00IX TM"]
[{"$f":"BONAFIDE.!AB545","v":"IXTM"},{"$f":"BONAFIDE.!AE545","v":0},{"$error":"#REF!"},{"$f":"BONAFIDE.!X545","v":0},{"$f":"BONAFIDE.!Y545","v":0},{"$f":"BONAFIDE.!Z545","v":0},{"$f":"BONAFIDE.!AD545","v":0},{"$f":"BONAFIDE.!AA545","v":"00:00:00"},119,"119","IX","01190IX","00IX TM"]
[{"$f":"BONAFIDE.!AB546","v":"IXTM"},{"$f":"BONAFIDE.!AE546","v":0},{"$error":"#REF!"},{"$f":"BONAFIDE.!X546","v":0},{"$f":"BONAFIDE.!Y546","v":0},{"$f":"BONAFIDE.!Z546","v":0},{"$f":"BONAFIDE.!AD546","v":0},{"$f":"BONAFIDE.!AA546","v":"00:00:00"},119,"119","IX","01190IX","00IX TM"]
[{"$f":"BONAFIDE.!AB547","v":"IXTM"},{"$f":"BONAFIDE.!AE547","v":0},{"$error":"#REF!"},{"$f":"BONAFIDE.!X547","v":0},{"$f":"BONAFIDE.!Y547","v":0},{"$f":"BONAFIDE.!Z547","v":0},{"$f":"BONAFIDE.!AD547","v":0},{"$f":"BONAFIDE.!AA547","v":"00:00:00"},119,"119","IX","01190IX","00IX TM"]
[{"$f":"BONAFIDE.!AB548","v":"IXTM"},{"$f":"BONAFIDE.!AE548","v":0},{"$error":"#REF!"},{"$f":"BONAFIDE.!X548","v":0},{"$f":"BONAFIDE.!Y548","v":0},{"$f":"BONAFIDE.!Z548","v":0},{"$f":"BONAFIDE.!AD548","v":0},{"$f":"BONAFIDE.!AA548","v":"00:00:00"},119,"119","IX","01190IX","00IX TM"]
[{"$f":"BONAFIDE.!AB549","v":"IXTM"},{"$f":"BONAFIDE.!AE549","v":0},{"$error":"#REF!"},{"$f":"BONAFIDE.!X549","v":0},{"$f":"BONAFIDE.!Y549","v":0},{"$f":"BONAFIDE.!Z549","v":0},{"$f":"BONAFIDE.!AD549","v":0},{"$f":"BONAFIDE.!AA549","v":"00:00:00"},119,"119","IX","01190IX","00IX TM"]
[{"$f":"BONAFIDE.!AB550","v":"IXTM"},{"$f":"BONAFIDE.!AE550","v":0},{"$error":"#REF!"},{"$f":"BONAFIDE.!X550","v":0},{"$f":"BONAFIDE.!Y550","v":0},{"$f":"BONAFIDE.!Z550","v":0},{"$f":"BONAFIDE.!AD550","v":0},{"$f":"BONAFIDE.!AA550","v":"00:00:00"},119,"119","IX","01190IX","00IX TM"]
[{"$f":"BONAFIDE.!AB551","v":"IXTM"},{"$f":"BONAFIDE.!AE551","v":0},{"$error":"#REF!"},{"$f":"BONAFIDE.!X551","v":0},{"$f":"BONAFIDE.!Y551","v":0},{"$f":"BONAFIDE.!Z551","v":0},{"$f":"BONAFIDE.!AD551","v":0},{"$f":"BONAFIDE.!AA551","v":"00:00:00"},119,"119","IX","01190IX","00IX TM"]
[{"$f":"BONAFIDE.!AB552","v":"IXTM"},{"$f":"BONAFIDE.!AE552","v":0},{"$error":"#REF!"},{"$f":"BONAFIDE.!X552","v":0},{"$f":"BONAFIDE.!Y552","v":0},{"$f":"BONAFIDE.!Z552","v":0},{"$f":"BONAFIDE.!AD552","v":0},{"$f":"BONAFIDE.!AA552","v":"00:00:00"},119,"119","IX","01190IX","00IX TM"]
[{"$f":"BONAFIDE.!AB553","v":"IXTM"},{"$f":"BONAFIDE.!AE553","v":0},{"$error":"#REF!"},{"$f":"BONAFIDE.!X553","v":0},{"$f":"BONAFIDE.!Y553","v":0},{"$f":"BONAFIDE.!Z553","v":0},{"$f":"BONAFIDE.!AD553","v":0},{"$f":"BONAFIDE.!AA553","v":"00:00:00"},119,"119","IX","01190IX","00IX TM"]
[{"$f":"BONAFIDE.!AB554","v":"IXTM"},{"$f":"BONAFIDE.!AE554","v":0},{"$error":"#REF!"},{"$f":"BONAFIDE.!X554","v":0},{"$f":"BONAFIDE.!Y554","v":0},{"$f":"BONAFIDE.!Z554","v":0},{"$f":"BONAFIDE.!AD554","v":0},{"$f":"BONAFIDE.!AA554","v":"00:00:00"},119,"119","IX","01190IX","00IX TM"]
[{"$f":"BONAFIDE.!AB555","v":"IXTM"},{"$f":"BONAFIDE.!AE555","v":0},{"$error":"#REF!"},{"$f":"BONAFIDE.!X555","v":0},{"$f":"BONAFIDE.!Y555","v":0},{"$f":"BONAFIDE.!Z555","v":0},{"$f":"BONAFIDE.!AD555","v":0},{"$f":"BONAFIDE.!AA555","v":"00:00:00"},119,"119","IX","01190IX","00IX TM"]
[{"$f":"BONAFIDE.!AB556","v":"IXTM"},{"$f":"BONAFIDE.!AE556","v":0},{"$error":"#REF!"},{"$f":"BONAFIDE.!X556","v":0},{"$f":"BONAFIDE.!Y556","v":0},{"$f":"BONAFIDE.!Z556","v":0},{"$f":"BONAFIDE.!AD556","v":0},{"$f":"BONAFIDE.!AA556","v":"00:00:00"},119,"119","IX","01190IX","00IX TM"]
[{"$f":"BONAFIDE.!AB557","v":"IXTM"},{"$f":"BONAFIDE.!AE557","v":0},{"$error":"#REF!"},{"$f":"BONAFIDE.!X557","v":0},{"$f":"BONAFIDE.!Y557","v":0},{"$f":"BONAFIDE.!Z557","v":0},{"$f":"BONAFIDE.!AD557","v":0},{"$f":"BONAFIDE.!AA557","v":"00:00:00"},119,"119","IX","01190IX","00IX TM"]
[{"$f":"BONAFIDE.!AB558","v":"IXTM"},{"$f":"BONAFIDE.!AE558","v":0},{"$error":"#REF!"},{"$f":"BONAFIDE.!X558","v":0},{"$f":"BONAFIDE.!Y558","v":0},{"$f":"BONAFIDE.!Z558","v":0},{"$f":"BONAFIDE.!AD558","v":0},{"$f":"BONAFIDE.!AA558","v":"00:00:00"},119,"119","IX","01190IX","00IX TM"]
[{"$f":"BONAFIDE.!AB559","v":"IXTM"},{"$f":"BONAFIDE.!AE559","v":0},{"$error":"#REF!"},{"$f":"BONAFIDE.!X559","v":0},{"$f":"BONAFIDE.!Y559","v":0},{"$f":"BONAFIDE.!Z559","v":0},{"$f":"BONAFIDE.!AD559","v":0},{"$f":"BONAFIDE.!AA559","v":"00:00:00"},119,"119","IX","01190IX","00IX TM"]
[{"$f":"BONAFIDE.!AB560","v":"IXTM"},{"$f":"BONAFIDE.!AE560","v":0},{"$error":"#REF!"},{"$f":"BONAFIDE.!X560","v":0},{"$f":"BONAFIDE.!Y560","v":0},{"$f":"BONAFIDE.!Z560","v":0},{"$f":"BONAFIDE.!AD560","v":0},{"$f":"BONAFIDE.!AA560","v":"00:00:00"},119,"119","IX","01190IX","00IX TM"]
[{"$f":"BONAFIDE.!AB561","v":"IXTM"},{"$f":"BONAFIDE.!AE561","v":0},null,{"$f":"BONAFIDE.!X561","v":0},{"$f":"BONAFIDE.!Y561","v":0},{"$f":"BONAFIDE.!Z561","v":0},{"$f":"BONAFIDE.!AD561","v":0},{"$f":"BONAFIDE.!AA561","v":"00:00:00"},119,"119","IX","01190IX","00IX TM"]
[{"$f":"BONAFIDE.!AB562","v":"IXTM"},{"$f":"BONAFIDE.!AE562","v":0},null,{"$f":"BONAFIDE.!X562","v":0},{"$f":"BONAFIDE.!Y562","v":0},{"$f":"BONAFIDE.!Z562","v":0},{"$f":"BONAFIDE.!AD562","v":0},{"$f":"BONAFIDE.!AA562","v":"00:00:00"},119,"119","IX","01190IX","00IX TM"]
[{"$f":"BONAFIDE.!AB563","v":"IXTM"},{"$f":"BONAFIDE.!AE563","v":0},null,{"$f":"BONAFIDE.!X563","v":0},{"$f":"BONAFIDE.!Y563","v":0},{"$f":"BONAFIDE.!Z563","v":0},{"$f":"BONAFIDE.!AD563","v":0},{"$f":"BONAFIDE.!AA563","v":"00:00:00"},119,"119","IX","01190IX","00IX TM"]
[{"$f":"BONAFIDE.!AB564","v":"IXTM"},{"$f":"BONAFIDE.!AE564","v":0},null,{"$f":"BONAFIDE.!X564","v":0},{"$f":"BONAFIDE.!Y564","v":0},{"$f":"BONAFIDE.!Z564","v":0},{"$f":"BONAFIDE.!AD564","v":0},{"$f":"BONAFIDE.!AA564","v":"00:00:00"},119,"119","IX","01190IX","00IX TM"]
[{"$f":"BONAFIDE.!AB565","v":"IXTM"},{"$f":"BONAFIDE.!AE565","v":0},null,{"$f":"BONAFIDE.!X565","v":0},{"$f":"BONAFIDE.!Y565","v":0},{"$f":"BONAFIDE.!Z565","v":0},{"$f":"BONAFIDE.!AD565","v":0},{"$f":"BONAFIDE.!AA565","v":"00:00:00"},119,"119","IX","01190IX","00IX TM"]
[{"$f":"BONAFIDE.!AB566","v":"IXTM"},{"$f":"BONAFIDE.!AE566","v":0},null,{"$f":"BONAFIDE.!X566","v":0},{"$f":"BONAFIDE.!Y566","v":0},{"$f":"BONAFIDE.!Z566","v":0},{"$f":"BONAFIDE.!AD566","v":0},{"$f":"BONAFIDE.!AA566","v":"00:00:00"},119,"119","IX","01190IX","00IX TM"]
[{"$f":"BONAFIDE.!AB567","v":"IXTM"},{"$f":"BONAFIDE.!AE567","v":0},null,{"$f":"BONAFIDE.!X567","v":0},{"$f":"BONAFIDE.!Y567","v":0},{"$f":"BONAFIDE.!Z567","v":0},{"$f":"BONAFIDE.!AD567","v":0},{"$f":"BONAFIDE.!AA567","v":"00:00:00"},119,"119","IX","01190IX","00IX TM"]
[{"$f":"BONAFIDE.!AB568","v":"IXTM"},{"$f":"BONAFIDE.!AE568","v":0},null,{"$f":"BONAFIDE.!X568","v":0},{"$f":"BONAFIDE.!Y568","v":0},{"$f":"BONAFIDE.!Z568","v":0},{"$f":"BONAFIDE.!AD568","v":0},{"$f":"BONAFIDE.!AA568","v":"00:00:00"},119,"119","IX","01190IX","00IX TM"]
[{"$f":"BONAFIDE.!AB569","v":"IXTM"},{"$f":"BONAFIDE.!AE569","v":0},null,{"$f":"BONAFIDE.!X569","v":0},{"$f":"BONAFIDE.!Y569","v":0},{"$f":"BONAFIDE.!Z569","v":0},{"$f":"BONAFIDE.!AD569","v":0},{"$f":"BONAFIDE.!AA569","v":"00:00:00"},119,"119","IX","01190IX","00IX TM"]
[{"$f":"BONAFIDE.!AB570","v":"IXTM"},{"$f":"BONAFIDE.!AE570","v":0},null,{"$f":"BONAFIDE.!X570","v":0},{"$f":"BONAFIDE.!Y570","v":0},{"$f":"BONAFIDE.!Z570","v":0},{"$f":"BONAFIDE.!AD570","v":0},{"$f":"BONAFIDE.!AA570","v":"00:00:00"},119,"119","IX","01190IX","00IX TM"]
[{"$f":"BONAFIDE.!AB571","v":"IXTM"},{"$f":"BONAFIDE.!AE571","v":0},null,{"$f":"BONAFIDE.!X571","v":0},{"$f":"BONAFIDE.!Y571","v":0},{"$f":"BONAFIDE.!Z571","v":0},{"$f":"BONAFIDE.!AD571","v":0},{"$f":"BONAFIDE.!AA571","v":"00:00:00"},119,"119","IX","01190IX","00IX TM"]
[{"$f":"BONAFIDE.!AB572","v":"IXTM"},{"$f":"BONAFIDE.!AE572","v":0},null,{"$f":"BONAFIDE.!X572","v":0},{"$f":"BONAFIDE.!Y572","v":0},{"$f":"BONAFIDE.!Z572","v":0},{"$f":"BONAFIDE.!AD572","v":0},{"$f":"BONAFIDE.!AA572","v":"00:00:00"},119,"119","IX","01190IX","00IX TM"]
[{"$f":"BONAFIDE.!AB573","v":"IXTM"},{"$f":"BONAFIDE.!AE573","v":0},null,{"$f":"BONAFIDE.!X573","v":0},{"$f":"BONAFIDE.!Y573","v":0},{"$f":"BONAFIDE.!Z573","v":0},{"$f":"BONAFIDE.!AD573","v":0},{"$f":"BONAFIDE.!AA573","v":"00:00:00"},119,"119","IX","01190IX","00IX TM"]
[{"$f":"BONAFIDE.!AB574","v":"IXTM"},{"$f":"BONAFIDE.!AE574","v":0},null,{"$f":"BONAFIDE.!X574","v":0},{"$f":"BONAFIDE.!Y574","v":0},{"$f":"BONAFIDE.!Z574","v":0},{"$f":"BONAFIDE.!AD574","v":0},{"$f":"BONAFIDE.!AA574","v":"00:00:00"},119,"119","IX","01190IX","00IX TM"]
[{"$f":"BONAFIDE.!AB575","v":"IXTM"},{"$f":"BONAFIDE.!AE575","v":0},null,{"$f":"BONAFIDE.!X575","v":0},{"$f":"BONAFIDE.!Y575","v":0},{"$f":"BONAFIDE.!Z575","v":0},{"$f":"BONAFIDE.!AD575","v":0},{"$f":"BONAFIDE.!AA575","v":"00:00:00"},119,"119","IX","01190IX","00IX TM"]
[{"$f":"BONAFIDE.!AB576","v":"IXTM"},{"$f":"BONAFIDE.!AE576","v":0},null,{"$f":"BONAFIDE.!X576","v":0},{"$f":"BONAFIDE.!Y576","v":0},{"$f":"BONAFIDE.!Z576","v":0},{"$f":"BONAFIDE.!AD576","v":0},{"$f":"BONAFIDE.!AA576","v":"00:00:00"},119,"119","IX","01190IX","00IX TM"]
[{"$f":"BONAFIDE.!AB577","v":"IXTM"},{"$f":"BONAFIDE.!AE577","v":0},null,{"$f":"BONAFIDE.!X577","v":0},{"$f":"BONAFIDE.!Y577","v":0},{"$f":"BONAFIDE.!Z577","v":0},{"$f":"BONAFIDE.!AD577","v":0},{"$f":"BONAFIDE.!AA577","v":"00:00:00"},119,"119","IX","01190IX","00IX TM"]
[{"$f":"BONAFIDE.!AB578","v":"IXTM"},{"$f":"BONAFIDE.!AE578","v":0},null,{"$f":"BONAFIDE.!X578","v":0},{"$f":"BONAFIDE.!Y578","v":0},{"$f":"BONAFIDE.!Z578","v":0},{"$f":"BONAFIDE.!AD578","v":0},{"$f":"BONAFIDE.!AA578","v":"00:00:00"},119,"119","IX","01190IX","00IX TM"]
[{"$f":"BONAFIDE.!AB579","v":"IXTM"},{"$f":"BONAFIDE.!AE579","v":0},null,{"$f":"BONAFIDE.!X579","v":0},{"$f":"BONAFIDE.!Y579","v":0},{"$f":"BONAFIDE.!Z579","v":0},{"$f":"BONAFIDE.!AD579","v":0},{"$f":"BONAFIDE.!AA579","v":"00:00:00"},119,"119","IX","01190IX","00IX TM"]
[{"$f":"BONAFIDE.!AB580","v":"IXTM"},{"$f":"BONAFIDE.!AE580","v":0},null,{"$f":"BONAFIDE.!X580","v":0},{"$f":"BONAFIDE.!Y580","v":0},{"$f":"BONAFIDE.!Z580","v":0},{"$f":"BONAFIDE.!AD580","v":0},{"$f":"BONAFIDE.!AA580","v":"00:00:00"},119,"119","IX","01190IX","00IX TM"]
[{"$f":"BONAFIDE.!AB581","v":"IXTM"},{"$f":"BONAFIDE.!AE581","v":0},null,{"$f":"BONAFIDE.!X581","v":0},{"$f":"BONAFIDE.!Y581","v":0},{"$f":"BONAFIDE.!Z581","v":0},{"$f":"BONAFIDE.!AD581","v":0},{"$f":"BONAFIDE.!AA581","v":"00:00:00"},119,"119","IX","01190IX","00IX TM"]
[{"$f":"BONAFIDE.!AB582","v":"IXTM"},{"$f":"BONAFIDE.!AE582","v":0},null,{"$f":"BONAFIDE.!X582","v":0},{"$f":"BONAFIDE.!Y582","v":0},{"$f":"BONAFIDE.!Z582","v":0},{"$f":"BONAFIDE.!AD582","v":0},{"$f":"BONAFIDE.!AA582","v":"00:00:00"},119,"119","IX","01190IX","00IX TM"]
[{"$f":"BONAFIDE.!AB583","v":"IXTM"},{"$f":"BONAFIDE.!AE583","v":0},null,{"$f":"BONAFIDE.!X583","v":0},{"$f":"BONAFIDE.!Y583","v":0},{"$f":"BONAFIDE.!Z583","v":0},{"$f":"BONAFIDE.!AD583","v":0},{"$f":"BONAFIDE.!AA583","v":"00:00:00"},{"$f":"DATEDIF(H580,CUTOFFDT,\"Y\")","v":119},{"$f":"fillno(I580)","v":"119"},{"$f":"MID(A580,1,LEN(A580)-2)","v":"IX"},{"$f":"B580&J580&G580&K580","v":"01190IX"},{"$f":"B580&G580&MID(A580,1,LEN(A580)-2)&\" \" & RIGHT(A580,2)","v":"00IX TM"}]
[{"$f":"BONAFIDE.!AB584","v":"IXTM"},{"$f":"BONAFIDE.!AE584","v":0},null,{"$f":"BONAFIDE.!X584","v":0},{"$f":"BONAFIDE.!Y584","v":0},{"$f":"BONAFIDE.!Z584","v":0},{"$f":"BONAFIDE.!AD584","v":0},{"$f":"BONAFIDE.!AA584","v":"00:00:00"},119,"119","IX","01190IX","00IX TM"]
[{"$f":"BONAFIDE.!AB585","v":"IXTM"},{"$f":"BONAFIDE.!AE585","v":0},null,{"$f":"BONAFIDE.!X585","v":0},{"$f":"BONAFIDE.!Y585","v":0},{"$f":"BONAFIDE.!Z585","v":0},{"$f":"BONAFIDE.!AD585","v":0},{"$f":"BONAFIDE.!AA585","v":"00:00:00"},119,"119","IX","01190IX","00IX TM"]
[{"$f":"BONAFIDE.!AB586","v":"IXTM"},{"$f":"BONAFIDE.!AE586","v":0},null,{"$f":"BONAFIDE.!X586","v":0},{"$f":"BONAFIDE.!Y586","v":0},{"$f":"BONAFIDE.!Z586","v":0},{"$f":"BONAFIDE.!AD586","v":0},{"$f":"BONAFIDE.!AA586","v":"00:00:00"},119,"119","IX","01190IX","00IX TM"]
[{"$f":"BONAFIDE.!AB587","v":"IXTM"},{"$f":"BONAFIDE.!AE587","v":0},null,{"$f":"BONAFIDE.!X587","v":0},{"$f":"BONAFIDE.!Y587","v":0},{"$f":"BONAFIDE.!Z587","v":0},{"$f":"BONAFIDE.!AD587","v":0},{"$f":"BONAFIDE.!AA587","v":"00:00:00"},119,"119","IX","01190IX","00IX TM"]
[{"$f":"BONAFIDE.!AB588","v":"IXTM"},{"$f":"BONAFIDE.!AE588","v":0},null,{"$f":"BONAFIDE.!X588","v":0},{"$f":"BONAFIDE.!Y588","v":0},{"$f":"BONAFIDE.!Z588","v":0},{"$f":"BONAFIDE.!AD588","v":0},{"$f":"BONAFIDE.!AA588","v":"00:00:00"},119,"119","IX","01190IX","00IX TM"]
[{"$f":"BONAFIDE.!AB589","v":"IXTM"},{"$f":"BONAFIDE.!AE589","v":0},null,{"$f":"BONAFIDE.!X589","v":0},{"$f":"BONAFIDE.!Y589","v":0},{"$f":"BONAFIDE.!Z589","v":0},{"$f":"BONAFIDE.!AD589","v":0},{"$f":"BONAFIDE.!AA589","v":"00:00:00"},119,"119","IX","01190IX","00IX TM"]
[{"$f":"BONAFIDE.!AB590","v":"IXTM"},{"$f":"BONAFIDE.!AE590","v":0},null,{"$f":"BONAFIDE.!X590","v":0},{"$f":"BONAFIDE.!Y590","v":0},{"$f":"BONAFIDE.!Z590","v":0},{"$f":"BONAFIDE.!AD590","v":0},{"$f":"BONAFIDE.!AA590","v":"00:00:00"},119,"119","IX","01190IX","00IX TM"]
[{"$f":"BONAFIDE.!AB591","v":"IXTM"},{"$f":"BONAFIDE.!AE591","v":0},null,{"$f":"BONAFIDE.!X591","v":0},{"$f":"BONAFIDE.!Y591","v":0},{"$f":"BONAFIDE.!Z591","v":0},{"$f":"BONAFIDE.!AD591","v":0},{"$f":"BONAFIDE.!AA591","v":"00:00:00"},119,"119","IX","01190IX","00IX TM"]
[{"$f":"BONAFIDE.!AB592","v":"IXTM"},{"$f":"BONAFIDE.!AE592","v":0},null,{"$f":"BONAFIDE.!X592","v":0},{"$f":"BONAFIDE.!Y592","v":0},{"$f":"BONAFIDE.!Z592","v":0},{"$f":"BONAFIDE.!AD592","v":0},{"$f":"BONAFIDE.!AA592","v":"00:00:00"},119,"119","IX","01190IX","00IX TM"]
[{"$f":"BONAFIDE.!AB593","v":"IXTM"},{"$f":"BONAFIDE.!AE593","v":0},null,{"$f":"BONAFIDE.!X593","v":0},{"$f":"BONAFIDE.!Y593","v":0},{"$f":"BONAFIDE.!Z593","v":0},{"$f":"BONAFIDE.!AD593","v":0},{"$f":"BONAFIDE.!AA593","v":"00:00:00"},119,"119","IX","01190IX","00IX TM"]
[{"$f":"BONAFIDE.!AB594","v":"IXTM"},{"$f":"BONAFIDE.!AE594","v":0},null,{"$f":"BONAFIDE.!X594","v":0},{"$f":"BONAFIDE.!Y594","v":0},{"$f":"BONAFIDE.!Z594","v":0},{"$f":"BONAFIDE.!AD594","v":0},{"$f":"BONAFIDE.!AA594","v":"00:00:00"},119,"119","IX","01190IX","00IX TM"]
[{"$f":"BONAFIDE.!AB595","v":"IXTM"},{"$f":"BONAFIDE.!AE595","v":0},null,{"$f":"BONAFIDE.!X595","v":0},{"$f":"BONAFIDE.!Y595","v":0},{"$f":"BONAFIDE.!Z595","v":0},{"$f":"BONAFIDE.!AD595","v":0},{"$f":"BONAFIDE.!AA595","v":"00:00:00"},119,"119","IX","01190IX","00IX TM"]
[{"$f":"BONAFIDE.!AB596","v":"IXTM"},{"$f":"BONAFIDE.!AE596","v":0},null,{"$f":"BONAFIDE.!X596","v":0},{"$f":"BONAFIDE.!Y596","v":0},{"$f":"BONAFIDE.!Z596","v":0},{"$f":"BONAFIDE.!AD596","v":0},{"$f":"BONAFIDE.!AA596","v":"00:00:00"},119,"119","IX","01190IX","00IX TM"]
[{"$f":"BONAFIDE.!AB597","v":"IXTM"},{"$f":"BONAFIDE.!AE597","v":0},null,{"$f":"BONAFIDE.!X597","v":0},{"$f":"BONAFIDE.!Y597","v":0},{"$f":"BONAFIDE.!Z597","v":0},{"$f":"BONAFIDE.!AD597","v":0},{"$f":"BONAFIDE.!AA597","v":"00:00:00"},119,"119","IX","01190IX","00IX TM"]
[{"$f":"BONAFIDE.!AB598","v":"IXTM"},{"$f":"BONAFIDE.!AE598","v":0},null,{"$f":"BONAFIDE.!X598","v":0},{"$f":"BONAFIDE.!Y598","v":0},{"$f":"BONAFIDE.!Z598","v":0},{"$f":"BONAFIDE.!AD598","v":0},{"$f":"BONAFIDE.!AA598","v":"00:00:00"},119,"119","IX","01190IX","00IX TM"]
[{"$f":"BONAFIDE.!AB599","v":"IXTM"},{"$f":"BONAFIDE.!AE599","v":0},null,{"$f":"BONAFIDE.!X599","v":0},{"$f":"BONAFIDE.!Y599","v":0},{"$f":"BONAFIDE.!Z599","v":0},{"$f":"BONAFIDE.!AD599","v":0},{"$f":"BONAFIDE.!AA599","v":"00:00:00"},119,"119","IX","01190IX","00IX TM"]
[{"$f":"BONAFIDE.!AB600","v":"IXTM"},{"$f":"BONAFIDE.!AE600","v":0},null,{"$f":"BONAFIDE.!X600","v":0},{"$f":"BONAFIDE.!Y600","v":0},{"$f":"BONAFIDE.!Z600","v":0},{"$f":"BONAFIDE.!AD600","v":0},{"$f":"BONAFIDE.!AA600","v":"00:00:00"},119,"119","IX","01190IX","00IX TM"]
[{"$f":"BONAFIDE.!AB601","v":"IXTM"},{"$f":"BONAFIDE.!AE601","v":0},null,{"$f":"BONAFIDE.!X601","v":0},{"$f":"BONAFIDE.!Y601","v":0},{"$f":"BONAFIDE.!Z601","v":0},{"$f":"BONAFIDE.!AD601","v":0},{"$f":"BONAFIDE.!AA601","v":"00:00:00"},119,"119","IX","01190IX","00IX TM"]
[{"$f":"BONAFIDE.!AB602","v":"IXTM"},{"$f":"BONAFIDE.!AE602","v":0},null,{"$f":"BONAFIDE.!X602","v":0},{"$f":"BONAFIDE.!Y602","v":0},{"$f":"BONAFIDE.!Z602","v":0},{"$f":"BONAFIDE.!AD602","v":0},{"$f":"BONAFIDE.!AA602","v":"00:00:00"},119,"119","IX","01190IX","00IX TM"]
[{"$f":"BONAFIDE.!AB603","v":"IXTM"},{"$f":"BONAFIDE.!AE603","v":0},null,{"$f":"BONAFIDE.!X603","v":0},{"$f":"BONAFIDE.!Y603","v":0},{"$f":"BONAFIDE.!Z603","v":0},{"$f":"BONAFIDE.!AD603","v":0},{"$f":"BONAFIDE.!AA603","v":"00:00:00"},119,"119","IX","01190IX","00IX TM"]
[{"$f":"BONAFIDE.!AB604","v":"IXTM"},{"$f":"BONAFIDE.!AE604","v":0},null,{"$f":"BONAFIDE.!X604","v":0},{"$f":"BONAFIDE.!Y604","v":0},{"$f":"BONAFIDE.!Z604","v":0},{"$f":"BONAFIDE.!AD604","v":0},{"$f":"BONAFIDE.!AA604","v":"00:00:00"},119,"119","IX","01190IX","00IX TM"]
[{"$f":"BONAFIDE.!AB605","v":"IXTM"},{"$f":"BONAFIDE.!AE605","v":0},null,{"$f":"BONAFIDE.!X605","v":0},{"$f":"BONAFIDE.!Y605","v":0},{"$f":"BONAFIDE.!Z605","v":0},{"$f":"BONAFIDE.!AD605","v":0},{"$f":"BONAFIDE.!AA605","v":"00:00:00"},119,"119","IX","01190IX","00IX TM"]
[{"$f":"BONAFIDE.!AB606","v":"IXTM"},{"$f":"BONAFIDE.!AE606","v":0},null,{"$f":"BONAFIDE.!X606","v":0},{"$f":"BONAFIDE.!Y606","v":0},{"$f":"BONAFIDE.!Z606","v":0},{"$f":"BONAFIDE.!AD606","v":0},{"$f":"BONAFIDE.!AA606","v":"00:00:00"},119,"119","IX","01190IX","00IX TM"]
[{"$f":"BONAFIDE.!AB607","v":"IXTM"},{"$f":"BONAFIDE.!AE607","v":0},null,{"$f":"BONAFIDE.!X607","v":0},{"$f":"BONAFIDE.!Y607","v":0},{"$f":"BONAFIDE.!Z607","v":0},{"$f":"BONAFIDE.!AD607","v":0},{"$f":"BONAFIDE.!AA607","v":"00:00:00"},119,"119","IX","01190IX","00IX TM"]
[{"$f":"BONAFIDE.!AB608","v":"IXTM"},{"$f":"BONAFIDE.!AE608","v":0},null,{"$f":"BONAFIDE.!X608","v":0},{"$f":"BONAFIDE.!Y608","v":0},{"$f":"BONAFIDE.!Z608","v":0},{"$f":"BONAFIDE.!AD608","v":0},{"$f":"BONAFIDE.!AA608","v":"00:00:00"},119,"119","IX","01190IX","00IX TM"]
[{"$f":"BONAFIDE.!AB609","v":"00:00:00"},{"$f":"BONAFIDE.!AE609","v":0},null,{"$f":"BONAFIDE.!X609","v":0},{"$f":"BONAFIDE.!Y609","v":0},{"$f":"BONAFIDE.!Z609","v":0},{"$f":"BONAFIDE.!AD609","v":0},{"$f":"BONAFIDE.!AA609","v":"00:00:00"},119,"119",{"$error":"#VALUE!"},{"$error":"#VALUE!"},{"$error":"#VALUE!"}]
[{"$f":"BONAFIDE.!AB610","v":"XTM"},{"$f":"BONAFIDE.!AE610","v":0},null,{"$f":"BONAFIDE.!X610","v":0},{"$f":"BONAFIDE.!Y610","v":0},{"$f":"BONAFIDE.!Z610","v":0},{"$f":"BONAFIDE.!AD610","v":0},{"$f":"BONAFIDE.!AA610","v":"00:00:00"},119,"119","X","01190X","00X TM"]
[{"$f":"BONAFIDE.!AB611","v":"XTM"},{"$f":"BONAFIDE.!AE611","v":0},null,{"$f":"BONAFIDE.!X611","v":0},{"$f":"BONAFIDE.!Y611","v":0},{"$f":"BONAFIDE.!Z611","v":0},{"$f":"BONAFIDE.!AD611","v":0},{"$f":"BONAFIDE.!AA611","v":"00:00:00"},119,"119","X","01190X","00X TM"]
[{"$f":"BONAFIDE.!AB612","v":"XTM"},{"$f":"BONAFIDE.!AE612","v":0},null,{"$f":"BONAFIDE.!X612","v":0},{"$f":"BONAFIDE.!Y612","v":0},{"$f":"BONAFIDE.!Z612","v":0},{"$f":"BONAFIDE.!AD612","v":0},{"$f":"BONAFIDE.!AA612","v":"00:00:00"},119,"119","X","01190X","00X TM"]
[{"$f":"BONAFIDE.!AB613","v":"XTM"},{"$f":"BONAFIDE.!AE613","v":0},null,{"$f":"BONAFIDE.!X613","v":0},{"$f":"BONAFIDE.!Y613","v":0},{"$f":"BONAFIDE.!Z613","v":0},{"$f":"BONAFIDE.!AD613","v":0},{"$f":"BONAFIDE.!AA613","v":"00:00:00"},119,"119","X","01190X","00X TM"]
[{"$f":"BONAFIDE.!AB614","v":"XTM"},{"$f":"BONAFIDE.!AE614","v":0},null,{"$f":"BONAFIDE.!X614","v":0},{"$f":"BONAFIDE.!Y614","v":0},{"$f":"BONAFIDE.!Z614","v":0},{"$f":"BONAFIDE.!AD614","v":0},{"$f":"BONAFIDE.!AA614","v":"00:00:00"},119,"119","X","01190X","00X TM"]
[{"$f":"BONAFIDE.!AB615","v":"XTM"},{"$f":"BONAFIDE.!AE615","v":0},null,{"$f":"BONAFIDE.!X615","v":0},{"$f":"BONAFIDE.!Y615","v":0},{"$f":"BONAFIDE.!Z615","v":0},{"$f":"BONAFIDE.!AD615","v":0},{"$f":"BONAFIDE.!AA615","v":"00:00:00"},119,"119","X","01190X","00X TM"]
[{"$f":"BONAFIDE.!AB616","v":"XTM"},{"$f":"BONAFIDE.!AE616","v":0},null,{"$f":"BONAFIDE.!X616","v":0},{"$f":"BONAFIDE.!Y616","v":0},{"$f":"BONAFIDE.!Z616","v":0},{"$f":"BONAFIDE.!AD616","v":0},{"$f":"BONAFIDE.!AA616","v":"00:00:00"},119,"119","X","01190X","00X TM"]
[{"$f":"BONAFIDE.!AB617","v":"XTM"},{"$f":"BONAFIDE.!AE617","v":0},null,{"$f":"BONAFIDE.!X617","v":0},{"$f":"BONAFIDE.!Y617","v":0},{"$f":"BONAFIDE.!Z617","v":0},{"$f":"BONAFIDE.!AD617","v":0},{"$f":"BONAFIDE.!AA617","v":"00:00:00"},119,"119","X","01190X","00X TM"]
[{"$f":"BONAFIDE.!AB618","v":"XTM"},{"$f":"BONAFIDE.!AE618","v":0},null,{"$f":"BONAFIDE.!X618","v":0},{"$f":"BONAFIDE.!Y618","v":0},{"$f":"BONAFIDE.!Z618","v":0},{"$f":"BONAFIDE.!AD618","v":0},{"$f":"BONAFIDE.!AA618","v":"00:00:00"},119,"119","X","01190X","00X TM"]
[{"$f":"BONAFIDE.!AB619","v":"XTM"},{"$f":"BONAFIDE.!AE619","v":0},null,{"$f":"BONAFIDE.!X619","v":0},{"$f":"BONAFIDE.!Y619","v":0},{"$f":"BONAFIDE.!Z619","v":0},{"$f":"BONAFIDE.!AD619","v":0},{"$f":"BONAFIDE.!AA619","v":"00:00:00"},119,"119","X","01190X","00X TM"]
[{"$f":"BONAFIDE.!AB620","v":"XTM"},{"$f":"BONAFIDE.!AE620","v":0},null,{"$f":"BONAFIDE.!X620","v":0},{"$f":"BONAFIDE.!Y620","v":0},{"$f":"BONAFIDE.!Z620","v":0},{"$f":"BONAFIDE.!AD620","v":0},{"$f":"BONAFIDE.!AA620","v":"00:00:00"},119,"119","X","01190X","00X TM"]
[{"$f":"BONAFIDE.!AB621","v":"XTM"},{"$f":"BONAFIDE.!AE621","v":0},null,{"$f":"BONAFIDE.!X621","v":0},{"$f":"BONAFIDE.!Y621","v":0},{"$f":"BONAFIDE.!Z621","v":0},{"$f":"BONAFIDE.!AD621","v":0},{"$f":"BONAFIDE.!AA621","v":"00:00:00"},119,"119","X","01190X","00X TM"]
[{"$f":"BONAFIDE.!AB622","v":"XTM"},{"$f":"BONAFIDE.!AE622","v":0},null,{"$f":"BONAFIDE.!X622","v":0},{"$f":"BONAFIDE.!Y622","v":0},{"$f":"BONAFIDE.!Z622","v":0},{"$f":"BONAFIDE.!AD622","v":0},{"$f":"BONAFIDE.!AA622","v":"00:00:00"},119,"119","X","01190X","00X TM"]
[{"$f":"BONAFIDE.!AB623","v":"XTM"},{"$f":"BONAFIDE.!AE623","v":0},null,{"$f":"BONAFIDE.!X623","v":0},{"$f":"BONAFIDE.!Y623","v":0},{"$f":"BONAFIDE.!Z623","v":0},{"$f":"BONAFIDE.!AD623","v":0},{"$f":"BONAFIDE.!AA623","v":"00:00:00"},119,"119","X","01190X","00X TM"]
[{"$f":"BONAFIDE.!AB624","v":"XTM"},{"$f":"BONAFIDE.!AE624","v":0},null,{"$f":"BONAFIDE.!X624","v":0},{"$f":"BONAFIDE.!Y624","v":0},{"$f":"BONAFIDE.!Z624","v":0},{"$f":"BONAFIDE.!AD624","v":0},{"$f":"BONAFIDE.!AA624","v":"00:00:00"},119,"119","X","01190X","00X TM"]
[{"$f":"BONAFIDE.!AB625","v":"XTM"},{"$f":"BONAFIDE.!AE625","v":0},null,{"$f":"BONAFIDE.!X625","v":0},{"$f":"BONAFIDE.!Y625","v":0},{"$f":"BONAFIDE.!Z625","v":0},{"$f":"BONAFIDE.!AD625","v":0},{"$f":"BONAFIDE.!AA625","v":"00:00:00"},119,"119","X","01190X","00X TM"]
[{"$f":"BONAFIDE.!AB626","v":"XTM"},{"$f":"BONAFIDE.!AE626","v":0},null,{"$f":"BONAFIDE.!X626","v":0},{"$f":"BONAFIDE.!Y626","v":0},{"$f":"BONAFIDE.!Z626","v":0},{"$f":"BONAFIDE.!AD626","v":0},{"$f":"BONAFIDE.!AA626","v":"00:00:00"},119,"119","X","01190X","00X TM"]
[{"$f":"BONAFIDE.!AB627","v":"XTM"},{"$f":"BONAFIDE.!AE627","v":0},null,{"$f":"BONAFIDE.!X627","v":0},{"$f":"BONAFIDE.!Y627","v":0},{"$f":"BONAFIDE.!Z627","v":0},{"$f":"BONAFIDE.!AD627","v":0},{"$f":"BONAFIDE.!AA627","v":"00:00:00"},119,"119","X","01190X","00X TM"]
[{"$f":"BONAFIDE.!AB628","v":"XTM"},{"$f":"BONAFIDE.!AE628","v":0},null,{"$f":"BONAFIDE.!X628","v":0},{"$f":"BONAFIDE.!Y628","v":0},{"$f":"BONAFIDE.!Z628","v":0},{"$f":"BONAFIDE.!AD628","v":0},{"$f":"BONAFIDE.!AA628","v":"00:00:00"},119,"119","X","01190X","00X TM"]
[{"$f":"BONAFIDE.!AB629","v":"XTM"},{"$f":"BONAFIDE.!AE629","v":0},null,{"$f":"BONAFIDE.!X629","v":0},{"$f":"BONAFIDE.!Y629","v":0},{"$f":"BONAFIDE.!Z629","v":0},{"$f":"BONAFIDE.!AD629","v":0},{"$f":"BONAFIDE.!AA629","v":"00:00:00"},119,"119","X","01190X","00X TM"]
[{"$f":"BONAFIDE.!AB630","v":"XTM"},{"$f":"BONAFIDE.!AE630","v":0},null,{"$f":"BONAFIDE.!X630","v":0},{"$f":"BONAFIDE.!Y630","v":0},{"$f":"BONAFIDE.!Z630","v":0},{"$f":"BONAFIDE.!AD630","v":0},{"$f":"BONAFIDE.!AA630","v":"00:00:00"},119,"119","X","01190X","00X TM"]
[{"$f":"BONAFIDE.!AB631","v":"XTM"},{"$f":"BONAFIDE.!AE631","v":0},null,{"$f":"BONAFIDE.!X631","v":0},{"$f":"BONAFIDE.!Y631","v":0},{"$f":"BONAFIDE.!Z631","v":0},{"$f":"BONAFIDE.!AD631","v":0},{"$f":"BONAFIDE.!AA631","v":"00:00:00"},119,"119","X","01190X","00X TM"]
[{"$f":"BONAFIDE.!AB632","v":"XTM"},{"$f":"BONAFIDE.!AE632","v":0},null,{"$f":"BONAFIDE.!X632","v":0},{"$f":"BONAFIDE.!Y632","v":0},{"$f":"BONAFIDE.!Z632","v":0},{"$f":"BONAFIDE.!AD632","v":0},{"$f":"BONAFIDE.!AA632","v":"00:00:00"},119,"119","X","01190X","00X TM"]
[{"$f":"BONAFIDE.!AB633","v":"XTM"},{"$f":"BONAFIDE.!AE633","v":0},null,{"$f":"BONAFIDE.!X633","v":0},{"$f":"BONAFIDE.!Y633","v":0},{"$f":"BONAFIDE.!Z633","v":0},{"$f":"BONAFIDE.!AD633","v":0},{"$f":"BONAFIDE.!AA633","v":"00:00:00"},119,"119","X","01190X","00X TM"]
[{"$f":"BONAFIDE.!AB634","v":"XTM"},{"$f":"BONAFIDE.!AE634","v":0},null,{"$f":"BONAFIDE.!X634","v":0},{"$f":"BONAFIDE.!Y634","v":0},{"$f":"BONAFIDE.!Z634","v":0},{"$f":"BONAFIDE.!AD634","v":0},{"$f":"BONAFIDE.!AA634","v":"00:00:00"},119,"119","X","01190X","00X TM"]
[{"$f":"BONAFIDE.!AB635","v":"XTM"},{"$f":"BONAFIDE.!AE635","v":0},null,{"$f":"BONAFIDE.!X635","v":0},{"$f":"BONAFIDE.!Y635","v":0},{"$f":"BONAFIDE.!Z635","v":0},{"$f":"BONAFIDE.!AD635","v":0},{"$f":"BONAFIDE.!AA635","v":"00:00:00"},119,"119","X","01190X","00X TM"]
[{"$f":"BONAFIDE.!AB636","v":"XTM"},{"$f":"BONAFIDE.!AE636","v":0},null,{"$f":"BONAFIDE.!X636","v":0},{"$f":"BONAFIDE.!Y636","v":0},{"$f":"BONAFIDE.!Z636","v":0},{"$f":"BONAFIDE.!AD636","v":0},{"$f":"BONAFIDE.!AA636","v":"00:00:00"},119,"119","X","01190X","00X TM"]
[{"$f":"BONAFIDE.!AB637","v":"XTM"},{"$f":"BONAFIDE.!AE637","v":0},null,{"$f":"BONAFIDE.!X637","v":0},{"$f":"BONAFIDE.!Y637","v":0},{"$f":"BONAFIDE.!Z637","v":0},{"$f":"BONAFIDE.!AD637","v":0},{"$f":"BONAFIDE.!AA637","v":"00:00:00"},119,"119","X","01190X","00X TM"]
[{"$f":"BONAFIDE.!AB638","v":"XTM"},{"$f":"BONAFIDE.!AE638","v":0},null,{"$f":"BONAFIDE.!X638","v":0},{"$f":"BONAFIDE.!Y638","v":0},{"$f":"BONAFIDE.!Z638","v":0},{"$f":"BONAFIDE.!AD638","v":0},{"$f":"BONAFIDE.!AA638","v":"00:00:00"},119,"119","X","01190X","00X TM"]
[{"$f":"BONAFIDE.!AB639","v":"XTM"},{"$f":"BONAFIDE.!AE639","v":0},null,{"$f":"BONAFIDE.!X639","v":0},{"$f":"BONAFIDE.!Y639","v":0},{"$f":"BONAFIDE.!Z639","v":0},{"$f":"BONAFIDE.!AD639","v":0},{"$f":"BONAFIDE.!AA639","v":"00:00:00"},119,"119","X","01190X","00X TM"]
[{"$f":"BONAFIDE.!AB640","v":"XTM"},{"$f":"BONAFIDE.!AE640","v":0},null,{"$f":"BONAFIDE.!X640","v":0},{"$f":"BONAFIDE.!Y640","v":0},{"$f":"BONAFIDE.!Z640","v":0},{"$f":"BONAFIDE.!AD640","v":0},{"$f":"BONAFIDE.!AA640","v":"00:00:00"},119,"119","X","01190X","00X TM"]
[{"$f":"BONAFIDE.!AB641","v":"XTM"},{"$f":"BONAFIDE.!AE641","v":0},null,{"$f":"BONAFIDE.!X641","v":0},{"$f":"BONAFIDE.!Y641","v":0},{"$f":"BONAFIDE.!Z641","v":0},{"$f":"BONAFIDE.!AD641","v":0},{"$f":"BONAFIDE.!AA641","v":"00:00:00"},119,"119","X","01190X","00X TM"]
[{"$f":"BONAFIDE.!AB642","v":"XTM"},{"$f":"BONAFIDE.!AE642","v":0},null,{"$f":"BONAFIDE.!X642","v":0},{"$f":"BONAFIDE.!Y642","v":0},{"$f":"BONAFIDE.!Z642","v":0},{"$f":"BONAFIDE.!AD642","v":0},{"$f":"BONAFIDE.!AA642","v":"00:00:00"},119,"119","X","01190X","00X TM"]
[{"$f":"BONAFIDE.!AB643","v":"XTM"},{"$f":"BONAFIDE.!AE643","v":0},null,{"$f":"BONAFIDE.!X643","v":0},{"$f":"BONAFIDE.!Y643","v":0},{"$f":"BONAFIDE.!Z643","v":0},{"$f":"BONAFIDE.!AD643","v":0},{"$f":"BONAFIDE.!AA643","v":"00:00:00"},119,"119","X","01190X","00X TM"]
[{"$f":"BONAFIDE.!AB644","v":"XTM"},{"$f":"BONAFIDE.!AE644","v":0},null,{"$f":"BONAFIDE.!X644","v":0},{"$f":"BONAFIDE.!Y644","v":0},{"$f":"BONAFIDE.!Z644","v":0},{"$f":"BONAFIDE.!AD644","v":0},{"$f":"BONAFIDE.!AA644","v":"00:00:00"},119,"119","X","01190X","00X TM"]
[{"$f":"BONAFIDE.!AB645","v":"XTM"},{"$f":"BONAFIDE.!AE645","v":0},null,{"$f":"BONAFIDE.!X645","v":0},{"$f":"BONAFIDE.!Y645","v":0},{"$f":"BONAFIDE.!Z645","v":0},{"$f":"BONAFIDE.!AD645","v":0},{"$f":"BONAFIDE.!AA645","v":"00:00:00"},119,"119","X","01190X","00X TM"]
[{"$f":"BONAFIDE.!AB646","v":"XTM"},{"$f":"BONAFIDE.!AE646","v":0},null,{"$f":"BONAFIDE.!X646","v":0},{"$f":"BONAFIDE.!Y646","v":0},{"$f":"BONAFIDE.!Z646","v":0},{"$f":"BONAFIDE.!AD646","v":0},{"$f":"BONAFIDE.!AA646","v":"00:00:00"},119,"119","X","01190X","00X TM"]
[{"$f":"BONAFIDE.!AB647","v":"XTM"},{"$f":"BONAFIDE.!AE647","v":0},null,{"$f":"BONAFIDE.!X647","v":0},{"$f":"BONAFIDE.!Y647","v":0},{"$f":"BONAFIDE.!Z647","v":0},{"$f":"BONAFIDE.!AD647","v":0},{"$f":"BONAFIDE.!AA647","v":"00:00:00"},{"$f":"DATEDIF(H644,CUTOFFDT,\"Y\")","v":119},{"$f":"fillno(I644)","v":"119"},{"$f":"MID(A644,1,LEN(A644)-2)","v":"X"},{"$f":"B644&J644&G644&K644","v":"01190X"},{"$f":"B644&G644&MID(A644,1,LEN(A644)-2)&\" \" & RIGHT(A644,2)","v":"00X TM"}]
[{"$f":"BONAFIDE.!AB648","v":"XTM"},{"$f":"BONAFIDE.!AE648","v":0},null,{"$f":"BONAFIDE.!X648","v":0},{"$f":"BONAFIDE.!Y648","v":0},{"$f":"BONAFIDE.!Z648","v":0},{"$f":"BONAFIDE.!AD648","v":0},{"$f":"BONAFIDE.!AA648","v":"00:00:00"},119,"119","X","01190X","00X TM"]
[{"$f":"BONAFIDE.!AB649","v":"XTM"},{"$f":"BONAFIDE.!AE649","v":0},null,{"$f":"BONAFIDE.!X649","v":0},{"$f":"BONAFIDE.!Y649","v":0},{"$f":"BONAFIDE.!Z649","v":0},{"$f":"BONAFIDE.!AD649","v":0},{"$f":"BONAFIDE.!AA649","v":"00:00:00"},119,"119","X","01190X","00X TM"]
[{"$f":"BONAFIDE.!AB650","v":"XTM"},{"$f":"BONAFIDE.!AE650","v":0},null,{"$f":"BONAFIDE.!X650","v":0},{"$f":"BONAFIDE.!Y650","v":0},{"$f":"BONAFIDE.!Z650","v":0},{"$f":"BONAFIDE.!AD650","v":0},{"$f":"BONAFIDE.!AA650","v":"00:00:00"},119,"119","X","01190X","00X TM"]
[{"$f":"BONAFIDE.!AB651","v":"XTM"},{"$f":"BONAFIDE.!AE651","v":0},null,{"$f":"BONAFIDE.!X651","v":0},{"$f":"BONAFIDE.!Y651","v":0},{"$f":"BONAFIDE.!Z651","v":0},{"$f":"BONAFIDE.!AD651","v":0},{"$f":"BONAFIDE.!AA651","v":"00:00:00"},119,"119","X","01190X","00X TM"]
[{"$f":"BONAFIDE.!AB652","v":"XTM"},{"$f":"BONAFIDE.!AE652","v":0},null,{"$f":"BONAFIDE.!X652","v":0},{"$f":"BONAFIDE.!Y652","v":0},{"$f":"BONAFIDE.!Z652","v":0},{"$f":"BONAFIDE.!AD652","v":0},{"$f":"BONAFIDE.!AA652","v":"00:00:00"},119,"119","X","01190X","00X TM"]
[{"$f":"BONAFIDE.!AB653","v":"XTM"},{"$f":"BONAFIDE.!AE653","v":0},null,{"$f":"BONAFIDE.!X653","v":0},{"$f":"BONAFIDE.!Y653","v":0},{"$f":"BONAFIDE.!Z653","v":0},{"$f":"BONAFIDE.!AD653","v":0},{"$f":"BONAFIDE.!AA653","v":"00:00:00"},119,"119","X","01190X","00X TM"]
[{"$f":"BONAFIDE.!AB654","v":"XTM"},{"$f":"BONAFIDE.!AE654","v":0},null,{"$f":"BONAFIDE.!X654","v":0},{"$f":"BONAFIDE.!Y654","v":0},{"$f":"BONAFIDE.!Z654","v":0},{"$f":"BONAFIDE.!AD654","v":0},{"$f":"BONAFIDE.!AA654","v":"00:00:00"},119,"119","X","01190X","00X TM"]
[{"$f":"BONAFIDE.!AB655","v":"XTM"},{"$f":"BONAFIDE.!AE655","v":0},null,{"$f":"BONAFIDE.!X655","v":0},{"$f":"BONAFIDE.!Y655","v":0},{"$f":"BONAFIDE.!Z655","v":0},{"$f":"BONAFIDE.!AD655","v":0},{"$f":"BONAFIDE.!AA655","v":"00:00:00"},119,"119","X","01190X","00X TM"]
[{"$f":"BONAFIDE.!AB656","v":"XTM"},{"$f":"BONAFIDE.!AE656","v":0},null,{"$f":"BONAFIDE.!X656","v":0},{"$f":"BONAFIDE.!Y656","v":0},{"$f":"BONAFIDE.!Z656","v":0},{"$f":"BONAFIDE.!AD656","v":0},{"$f":"BONAFIDE.!AA656","v":"00:00:00"},119,"119","X","01190X","00X TM"]
[{"$f":"BONAFIDE.!AB657","v":"XTM"},{"$f":"BONAFIDE.!AE657","v":0},null,{"$f":"BONAFIDE.!X657","v":0},{"$f":"BONAFIDE.!Y657","v":0},{"$f":"BONAFIDE.!Z657","v":0},{"$f":"BONAFIDE.!AD657","v":0},{"$f":"BONAFIDE.!AA657","v":"00:00:00"},119,"119","X","01190X","00X TM"]
[{"$f":"BONAFIDE.!AB658","v":"XTM"},{"$f":"BONAFIDE.!AE658","v":0},null,{"$f":"BONAFIDE.!X658","v":0},{"$f":"BONAFIDE.!Y658","v":0},{"$f":"BONAFIDE.!Z658","v":0},{"$f":"BONAFIDE.!AD658","v":0},{"$f":"BONAFIDE.!AA658","v":"00:00:00"},119,"119","X","01190X","00X TM"]
[{"$f":"BONAFIDE.!AB659","v":"XTM"},{"$f":"BONAFIDE.!AE659","v":0},null,{"$f":"BONAFIDE.!X659","v":0},{"$f":"BONAFIDE.!Y659","v":0},{"$f":"BONAFIDE.!Z659","v":0},{"$f":"BONAFIDE.!AD659","v":0},{"$f":"BONAFIDE.!AA659","v":"00:00:00"},119,"119","X","01190X","00X TM"]
[{"$f":"BONAFIDE.!AB660","v":"XTM"},{"$f":"BONAFIDE.!AE660","v":0},null,{"$f":"BONAFIDE.!X660","v":0},{"$f":"BONAFIDE.!Y660","v":0},{"$f":"BONAFIDE.!Z660","v":0},{"$f":"BONAFIDE.!AD660","v":0},{"$f":"BONAFIDE.!AA660","v":"00:00:00"},119,"119","X","01190X","00X TM"]
[{"$f":"BONAFIDE.!AB661","v":"XTM"},{"$f":"BONAFIDE.!AE661","v":0},null,{"$f":"BONAFIDE.!X661","v":0},{"$f":"BONAFIDE.!Y661","v":0},{"$f":"BONAFIDE.!Z661","v":0},{"$f":"BONAFIDE.!AD661","v":0},{"$f":"BONAFIDE.!AA661","v":"00:00:00"},119,"119","X","01190X","00X TM"]
[{"$f":"BONAFIDE.!AB662","v":"XTM"},{"$f":"BONAFIDE.!AE662","v":0},null,{"$f":"BONAFIDE.!X662","v":0},{"$f":"BONAFIDE.!Y662","v":0},{"$f":"BONAFIDE.!Z662","v":0},{"$f":"BONAFIDE.!AD662","v":0},{"$f":"BONAFIDE.!AA662","v":"00:00:00"},119,"119","X","01190X","00X TM"]
[{"$f":"BONAFIDE.!AB663","v":"XTM"},{"$f":"BONAFIDE.!AE663","v":0},null,{"$f":"BONAFIDE.!X663","v":0},{"$f":"BONAFIDE.!Y663","v":0},{"$f":"BONAFIDE.!Z663","v":0},{"$f":"BONAFIDE.!AD663","v":0},{"$f":"BONAFIDE.!AA663","v":"00:00:00"},119,"119","X","01190X","00X TM"]
[{"$f":"BONAFIDE.!AB664","v":"XTM"},{"$f":"BONAFIDE.!AE664","v":0},null,{"$f":"BONAFIDE.!X664","v":0},{"$f":"BONAFIDE.!Y664","v":0},{"$f":"BONAFIDE.!Z664","v":0},{"$f":"BONAFIDE.!AD664","v":0},{"$f":"BONAFIDE.!AA664","v":"00:00:00"},119,"119","X","01190X","00X TM"]
[{"$f":"BONAFIDE.!AB665","v":"XTM"},{"$f":"BONAFIDE.!AE665","v":0},null,{"$f":"BONAFIDE.!X665","v":0},{"$f":"BONAFIDE.!Y665","v":0},{"$f":"BONAFIDE.!Z665","v":0},{"$f":"BONAFIDE.!AD665","v":0},{"$f":"BONAFIDE.!AA665","v":"00:00:00"},119,"119","X","01190X","00X TM"]
[{"$f":"BONAFIDE.!AB666","v":"XTM"},{"$f":"BONAFIDE.!AE666","v":0},null,{"$f":"BONAFIDE.!X666","v":0},{"$f":"BONAFIDE.!Y666","v":0},{"$f":"BONAFIDE.!Z666","v":0},{"$f":"BONAFIDE.!AD666","v":0},{"$f":"BONAFIDE.!AA666","v":"00:00:00"},119,"119","X","01190X","00X TM"]
[{"$f":"BONAFIDE.!AB667","v":"XTM"},{"$f":"BONAFIDE.!AE667","v":0},null,{"$f":"BONAFIDE.!X667","v":0},{"$f":"BONAFIDE.!Y667","v":0},{"$f":"BONAFIDE.!Z667","v":0},{"$f":"BONAFIDE.!AD667","v":0},{"$f":"BONAFIDE.!AA667","v":"00:00:00"},119,"119","X","01190X","00X TM"]
[{"$f":"BONAFIDE.!AB668","v":"XTM"},{"$f":"BONAFIDE.!AE668","v":0},null,{"$f":"BONAFIDE.!X668","v":0},{"$f":"BONAFIDE.!Y668","v":0},{"$f":"BONAFIDE.!Z668","v":0},{"$f":"BONAFIDE.!AD668","v":0},{"$f":"BONAFIDE.!AA668","v":"00:00:00"},119,"119","X","01190X","00X TM"]
[{"$f":"BONAFIDE.!AB669","v":"XTM"},{"$f":"BONAFIDE.!AE669","v":0},null,{"$f":"BONAFIDE.!X669","v":0},{"$f":"BONAFIDE.!Y669","v":0},{"$f":"BONAFIDE.!Z669","v":0},{"$f":"BONAFIDE.!AD669","v":0},{"$f":"BONAFIDE.!AA669","v":"00:00:00"},119,"119","X","01190X","00X TM"]
[{"$f":"BONAFIDE.!AB670","v":"XTM"},{"$f":"BONAFIDE.!AE670","v":0},null,{"$f":"BONAFIDE.!X670","v":0},{"$f":"BONAFIDE.!Y670","v":0},{"$f":"BONAFIDE.!Z670","v":0},{"$f":"BONAFIDE.!AD670","v":0},{"$f":"BONAFIDE.!AA670","v":"00:00:00"},119,"119","X","01190X","00X TM"]
[{"$f":"BONAFIDE.!AB671","v":"XTM"},{"$f":"BONAFIDE.!AE671","v":0},null,{"$f":"BONAFIDE.!X671","v":0},{"$f":"BONAFIDE.!Y671","v":0},{"$f":"BONAFIDE.!Z671","v":0},{"$f":"BONAFIDE.!AD671","v":0},{"$f":"BONAFIDE.!AA671","v":"00:00:00"},119,"119","X","01190X","00X TM"]
[{"$f":"BONAFIDE.!AB672","v":"XTM"},{"$f":"BONAFIDE.!AE672","v":0},null,{"$f":"BONAFIDE.!X672","v":0},{"$f":"BONAFIDE.!Y672","v":0},{"$f":"BONAFIDE.!Z672","v":0},{"$f":"BONAFIDE.!AD672","v":0},{"$f":"BONAFIDE.!AA672","v":"00:00:00"},119,"119","X","01190X","00X TM"]
[{"$f":"BONAFIDE.!AB673","v":"XTM"},{"$f":"BONAFIDE.!AE673","v":0},null,{"$f":"BONAFIDE.!X673","v":0},{"$f":"BONAFIDE.!Y673","v":0},{"$f":"BONAFIDE.!Z673","v":0},{"$f":"BONAFIDE.!AD673","v":0},{"$f":"BONAFIDE.!AA673","v":"00:00:00"},119,"119","X","01190X","00X TM"]
[{"$f":"BONAFIDE.!AB674","v":"XTM"},{"$f":"BONAFIDE.!AE674","v":0},null,{"$f":"BONAFIDE.!X674","v":0},{"$f":"BONAFIDE.!Y674","v":0},{"$f":"BONAFIDE.!Z674","v":0},{"$f":"BONAFIDE.!AD674","v":0},{"$f":"BONAFIDE.!AA674","v":"00:00:00"},119,"119","X","01190X","00X TM"]
[{"$f":"BONAFIDE.!AB675","v":"XTM"},{"$f":"BONAFIDE.!AE675","v":0},null,{"$f":"BONAFIDE.!X675","v":0},{"$f":"BONAFIDE.!Y675","v":0},{"$f":"BONAFIDE.!Z675","v":0},{"$f":"BONAFIDE.!AD675","v":0},{"$f":"BONAFIDE.!AA675","v":"00:00:00"},119,"119","X","01190X","00X TM"]
[{"$f":"BONAFIDE.!AB676","v":"XTM"},{"$f":"BONAFIDE.!AE676","v":0},null,{"$f":"BONAFIDE.!X676","v":0},{"$f":"BONAFIDE.!Y676","v":0},{"$f":"BONAFIDE.!Z676","v":0},{"$f":"BONAFIDE.!AD676","v":0},{"$f":"BONAFIDE.!AA676","v":"00:00:00"},119,"119","X","01190X","00X TM"]
[{"$f":"BONAFIDE.!AB677","v":"XTM"},{"$f":"BONAFIDE.!AE677","v":0},null,{"$f":"BONAFIDE.!X677","v":0},{"$f":"BONAFIDE.!Y677","v":0},{"$f":"BONAFIDE.!Z677","v":0},{"$f":"BONAFIDE.!AD677","v":0},{"$f":"BONAFIDE.!AA677","v":"00:00:00"},119,"119","X","01190X","00X TM"]
[{"$f":"BONAFIDE.!AB678","v":"XTM"},{"$f":"BONAFIDE.!AE678","v":0},null,{"$f":"BONAFIDE.!X678","v":0},{"$f":"BONAFIDE.!Y678","v":0},{"$f":"BONAFIDE.!Z678","v":0},{"$f":"BONAFIDE.!AD678","v":0},{"$f":"BONAFIDE.!AA678","v":"00:00:00"},119,"119","X","01190X","00X TM"]
[{"$f":"BONAFIDE.!AB679","v":"XTM"},{"$f":"BONAFIDE.!AE679","v":0},null,{"$f":"BONAFIDE.!X679","v":0},{"$f":"BONAFIDE.!Y679","v":0},{"$f":"BONAFIDE.!Z679","v":0},{"$f":"BONAFIDE.!AD679","v":0},{"$f":"BONAFIDE.!AA679","v":"00:00:00"},119,"119","X","01190X","00X TM"]
[{"$f":"BONAFIDE.!AB680","v":"XTM"},{"$f":"BONAFIDE.!AE680","v":0},null,{"$f":"BONAFIDE.!X680","v":0},{"$f":"BONAFIDE.!Y680","v":0},{"$f":"BONAFIDE.!Z680","v":0},{"$f":"BONAFIDE.!AD680","v":0},{"$f":"BONAFIDE.!AA680","v":"00:00:00"},119,"119","X","01190X","00X TM"]
[{"$f":"BONAFIDE.!AB681","v":"XTM"},{"$f":"BONAFIDE.!AE681","v":0},null,{"$f":"BONAFIDE.!X681","v":0},{"$f":"BONAFIDE.!Y681","v":0},{"$f":"BONAFIDE.!Z681","v":0},{"$f":"BONAFIDE.!AD681","v":0},{"$f":"BONAFIDE.!AA681","v":"00:00:00"},119,"119","X","01190X","00X TM"]
[{"$f":"BONAFIDE.!AB682","v":"XTM"},{"$f":"BONAFIDE.!AE682","v":0},null,{"$f":"BONAFIDE.!X682","v":0},{"$f":"BONAFIDE.!Y682","v":0},{"$f":"BONAFIDE.!Z682","v":0},{"$f":"BONAFIDE.!AD682","v":0},{"$f":"BONAFIDE.!AA682","v":"00:00:00"},119,"119","X","01190X","00X TM"]
[{"$f":"BONAFIDE.!AB683","v":"XTM"},{"$f":"BONAFIDE.!AE683","v":0},null,{"$f":"BONAFIDE.!X683","v":0},{"$f":"BONAFIDE.!Y683","v":0},{"$f":"BONAFIDE.!Z683","v":0},{"$f":"BONAFIDE.!AD683","v":0},{"$f":"BONAFIDE.!AA683","v":"00:00:00"},119,"119","X","01190X","00X TM"]
[{"$f":"BONAFIDE.!AB684","v":"XTM"},{"$f":"BONAFIDE.!AE684","v":0},null,{"$f":"BONAFIDE.!X684","v":0},{"$f":"BONAFIDE.!Y684","v":0},{"$f":"BONAFIDE.!Z684","v":0},{"$f":"BONAFIDE.!AD684","v":0},{"$f":"BONAFIDE.!AA684","v":"00:00:00"},119,"119","X","01190X","00X TM"]
[{"$f":"BONAFIDE.!AB685","v":"XTM"},{"$f":"BONAFIDE.!AE685","v":0},null,{"$f":"BONAFIDE.!X685","v":0},{"$f":"BONAFIDE.!Y685","v":0},{"$f":"BONAFIDE.!Z685","v":0},{"$f":"BONAFIDE.!AD685","v":0},{"$f":"BONAFIDE.!AA685","v":"00:00:00"},119,"119","X","01190X","00X TM"]
[{"$f":"BONAFIDE.!AB686","v":"XTM"},{"$f":"BONAFIDE.!AE686","v":0},null,{"$f":"BONAFIDE.!X686","v":0},{"$f":"BONAFIDE.!Y686","v":0},{"$f":"BONAFIDE.!Z686","v":0},{"$f":"BONAFIDE.!AD686","v":0},{"$f":"BONAFIDE.!AA686","v":"00:00:00"},119,"119","X","01190X","00X TM"]
[{"$f":"BONAFIDE.!AB687","v":"XTM"},{"$f":"BONAFIDE.!AE687","v":0},null,{"$f":"BONAFIDE.!X687","v":0},{"$f":"BONAFIDE.!Y687","v":0},{"$f":"BONAFIDE.!Z687","v":0},{"$f":"BONAFIDE.!AD687","v":0},{"$f":"BONAFIDE.!AA687","v":"00:00:00"},119,"119","X","01190X","00X TM"]
[{"$f":"BONAFIDE.!AB688","v":"XTM"},{"$f":"BONAFIDE.!AE688","v":0},null,{"$f":"BONAFIDE.!X688","v":0},{"$f":"BONAFIDE.!Y688","v":0},{"$f":"BONAFIDE.!Z688","v":0},{"$f":"BONAFIDE.!AD688","v":0},{"$f":"BONAFIDE.!AA688","v":"00:00:00"},119,"119","X","01190X","00X TM"]
[{"$f":"BONAFIDE.!AB689","v":"XTM"},{"$f":"BONAFIDE.!AE689","v":0},null,{"$f":"BONAFIDE.!X689","v":0},{"$f":"BONAFIDE.!Y689","v":0},{"$f":"BONAFIDE.!Z689","v":0},{"$f":"BONAFIDE.!AD689","v":0},{"$f":"BONAFIDE.!AA689","v":"00:00:00"},119,"119","X","01190X","00X TM"]
[{"$f":"BONAFIDE.!AB690","v":"XTM"},{"$f":"BONAFIDE.!AE690","v":0},null,{"$f":"BONAFIDE.!X690","v":0},{"$f":"BONAFIDE.!Y690","v":0},{"$f":"BONAFIDE.!Z690","v":0},{"$f":"BONAFIDE.!AD690","v":0},{"$f":"BONAFIDE.!AA690","v":"00:00:00"},119,"119","X","01190X","00X TM"]
[{"$f":"BONAFIDE.!AB691","v":"XTM"},{"$f":"BONAFIDE.!AE691","v":0},null,{"$f":"BONAFIDE.!X691","v":0},{"$f":"BONAFIDE.!Y691","v":0},{"$f":"BONAFIDE.!Z691","v":0},{"$f":"BONAFIDE.!AD691","v":0},{"$f":"BONAFIDE.!AA691","v":"00:00:00"},119,"119","X","01190X","00X TM"]
[{"$f":"BONAFIDE.!AB692","v":"XTM"},{"$f":"BONAFIDE.!AE692","v":0},null,{"$f":"BONAFIDE.!X692","v":0},{"$f":"BONAFIDE.!Y692","v":0},{"$f":"BONAFIDE.!Z692","v":0},{"$f":"BONAFIDE.!AD692","v":0},{"$f":"BONAFIDE.!AA692","v":"00:00:00"},119,"119","X","01190X","00X TM"]
[{"$f":"BONAFIDE.!AB693","v":"XTM"},{"$f":"BONAFIDE.!AE693","v":0},null,{"$f":"BONAFIDE.!X693","v":0},{"$f":"BONAFIDE.!Y693","v":0},{"$f":"BONAFIDE.!Z693","v":0},{"$f":"BONAFIDE.!AD693","v":0},{"$f":"BONAFIDE.!AA693","v":"00:00:00"},119,"119","X","01190X","00X TM"]
[{"$f":"BONAFIDE.!AB694","v":"XTM"},{"$f":"BONAFIDE.!AE694","v":0},null,{"$f":"BONAFIDE.!X694","v":0},{"$f":"BONAFIDE.!Y694","v":0},{"$f":"BONAFIDE.!Z694","v":0},{"$f":"BONAFIDE.!AD694","v":0},{"$f":"BONAFIDE.!AA694","v":"00:00:00"},119,"119","X","01190X","00X TM"]
[{"$f":"BONAFIDE.!AB695","v":"XTM"},{"$f":"BONAFIDE.!AE695","v":0},null,{"$f":"BONAFIDE.!X695","v":0},{"$f":"BONAFIDE.!Y695","v":0},{"$f":"BONAFIDE.!Z695","v":0},{"$f":"BONAFIDE.!AD695","v":0},{"$f":"BONAFIDE.!AA695","v":"00:00:00"},119,"119","X","01190X","00X TM"]
[{"$f":"BONAFIDE.!AB696","v":"XTM"},{"$f":"BONAFIDE.!AE696","v":0},null,{"$f":"BONAFIDE.!X696","v":0},{"$f":"BONAFIDE.!Y696","v":0},{"$f":"BONAFIDE.!Z696","v":0},{"$f":"BONAFIDE.!AD696","v":0},{"$f":"BONAFIDE.!AA696","v":"00:00:00"},119,"119","X","01190X","00X TM"]
[{"$f":"BONAFIDE.!AB697","v":"XTM"},{"$f":"BONAFIDE.!AE697","v":0},null,{"$f":"BONAFIDE.!X697","v":0},{"$f":"BONAFIDE.!Y697","v":0},{"$f":"BONAFIDE.!Z697","v":0},{"$f":"BONAFIDE.!AD697","v":0},{"$f":"BONAFIDE.!AA697","v":"00:00:00"},119,"119","X","01190X","00X TM"]
[{"$f":"BONAFIDE.!AB698","v":"XTM"},{"$f":"BONAFIDE.!AE698","v":0},null,{"$f":"BONAFIDE.!X698","v":0},{"$f":"BONAFIDE.!Y698","v":0},{"$f":"BONAFIDE.!Z698","v":0},{"$f":"BONAFIDE.!AD698","v":0},{"$f":"BONAFIDE.!AA698","v":"00:00:00"},119,"119","X","01190X","00X TM"]
[{"$f":"BONAFIDE.!AB699","v":"XTM"},{"$f":"BONAFIDE.!AE699","v":0},null,{"$f":"BONAFIDE.!X699","v":0},{"$f":"BONAFIDE.!Y699","v":0},{"$f":"BONAFIDE.!Z699","v":0},{"$f":"BONAFIDE.!AD699","v":0},{"$f":"BONAFIDE.!AA699","v":"00:00:00"},119,"119","X","01190X","00X TM"]
[{"$f":"BONAFIDE.!AB700","v":"XTM"},{"$f":"BONAFIDE.!AE700","v":0},null,{"$f":"BONAFIDE.!X700","v":0},{"$f":"BONAFIDE.!Y700","v":0},{"$f":"BONAFIDE.!Z700","v":0},{"$f":"BONAFIDE.!AD700","v":0},{"$f":"BONAFIDE.!AA700","v":"00:00:00"},119,"119","X","01190X","00X TM"]
[{"$f":"BONAFIDE.!AB701","v":"XTM"},{"$f":"BONAFIDE.!AE701","v":0},null,{"$f":"BONAFIDE.!X701","v":0},{"$f":"BONAFIDE.!Y701","v":0},{"$f":"BONAFIDE.!Z701","v":0},{"$f":"BONAFIDE.!AD701","v":0},{"$f":"BONAFIDE.!AA701","v":"00:00:00"},119,"119","X","01190X","00X TM"]
[{"$f":"BONAFIDE.!AB702","v":"XTM"},{"$f":"BONAFIDE.!AE702","v":0},null,{"$f":"BONAFIDE.!X702","v":0},{"$f":"BONAFIDE.!Y702","v":0},{"$f":"BONAFIDE.!Z702","v":0},{"$f":"BONAFIDE.!AD702","v":0},{"$f":"BONAFIDE.!AA702","v":"00:00:00"},119,"119","X","01190X","00X TM"]
[{"$f":"BONAFIDE.!AB703","v":"XTM"},{"$f":"BONAFIDE.!AE703","v":0},null,{"$f":"BONAFIDE.!X703","v":0},{"$f":"BONAFIDE.!Y703","v":0},{"$f":"BONAFIDE.!Z703","v":0},{"$f":"BONAFIDE.!AD703","v":0},{"$f":"BONAFIDE.!AA703","v":"00:00:00"},119,"119","X","01190X","00X TM"]
[{"$f":"BONAFIDE.!AB704","v":"XTM"},{"$f":"BONAFIDE.!AE704","v":0},null,{"$f":"BONAFIDE.!X704","v":0},{"$f":"BONAFIDE.!Y704","v":0},{"$f":"BONAFIDE.!Z704","v":0},{"$f":"BONAFIDE.!AD704","v":0},{"$f":"BONAFIDE.!AA704","v":"00:00:00"},119,"119","X","01190X","00X TM"]
[{"$f":"BONAFIDE.!AB705","v":"XTM"},{"$f":"BONAFIDE.!AE705","v":0},null,{"$f":"BONAFIDE.!X705","v":0},{"$f":"BONAFIDE.!Y705","v":0},{"$f":"BONAFIDE.!Z705","v":0},{"$f":"BONAFIDE.!AD705","v":0},{"$f":"BONAFIDE.!AA705","v":"00:00:00"},119,"119","X","01190X","00X TM"]
[{"$f":"BONAFIDE.!AB706","v":"XTM"},{"$f":"BONAFIDE.!AE706","v":0},null,{"$f":"BONAFIDE.!X706","v":0},{"$f":"BONAFIDE.!Y706","v":0},{"$f":"BONAFIDE.!Z706","v":0},{"$f":"BONAFIDE.!AD706","v":0},{"$f":"BONAFIDE.!AA706","v":"00:00:00"},119,"119","X","01190X","00X TM"]
[{"$f":"BONAFIDE.!AB707","v":"XTM"},{"$f":"BONAFIDE.!AE707","v":0},null,{"$f":"BONAFIDE.!X707","v":0},{"$f":"BONAFIDE.!Y707","v":0},{"$f":"BONAFIDE.!Z707","v":0},{"$f":"BONAFIDE.!AD707","v":0},{"$f":"BONAFIDE.!AA707","v":"00:00:00"},119,"119","X","01190X","00X TM"]
[{"$f":"BONAFIDE.!AB708","v":"XTM"},{"$f":"BONAFIDE.!AE708","v":0},null,{"$f":"BONAFIDE.!X708","v":0},{"$f":"BONAFIDE.!Y708","v":0},{"$f":"BONAFIDE.!Z708","v":0},{"$f":"BONAFIDE.!AD708","v":0},{"$f":"BONAFIDE.!AA708","v":"00:00:00"},119,"119","X","01190X","00X TM"]
[{"$f":"BONAFIDE.!AB709","v":"XTM"},{"$f":"BONAFIDE.!AE709","v":0},null,{"$f":"BONAFIDE.!X709","v":0},{"$f":"BONAFIDE.!Y709","v":0},{"$f":"BONAFIDE.!Z709","v":0},{"$f":"BONAFIDE.!AD709","v":0},{"$f":"BONAFIDE.!AA709","v":"00:00:00"},119,"119","X","01190X","00X TM"]
[{"$f":"BONAFIDE.!AB710","v":"XTM"},{"$f":"BONAFIDE.!AE710","v":0},null,{"$f":"BONAFIDE.!X710","v":0},{"$f":"BONAFIDE.!Y710","v":0},{"$f":"BONAFIDE.!Z710","v":0},{"$f":"BONAFIDE.!AD710","v":0},{"$f":"BONAFIDE.!AA710","v":"00:00:00"},119,"119","X","01190X","00X TM"]
[{"$f":"BONAFIDE.!AB711","v":"XTM"},{"$f":"BONAFIDE.!AE711","v":0},null,{"$f":"BONAFIDE.!X711","v":0},{"$f":"BONAFIDE.!Y711","v":0},{"$f":"BONAFIDE.!Z711","v":0},{"$f":"BONAFIDE.!AD711","v":0},{"$f":"BONAFIDE.!AA711","v":"00:00:00"},{"$f":"DATEDIF(H708,CUTOFFDT,\"Y\")","v":119},{"$f":"fillno(I708)","v":"119"},{"$f":"MID(A708,1,LEN(A708)-2)","v":"X"},{"$f":"B708&J708&G708&K708","v":"01190X"},{"$f":"B708&G708&MID(A708,1,LEN(A708)-2)&\" \" & RIGHT(A708,2)","v":"00X TM"}]
[{"$f":"BONAFIDE.!AB712","v":"XTM"},{"$f":"BONAFIDE.!AE712","v":0},null,{"$f":"BONAFIDE.!X712","v":0},{"$f":"BONAFIDE.!Y712","v":0},{"$f":"BONAFIDE.!Z712","v":0},{"$f":"BONAFIDE.!AD712","v":0},{"$f":"BONAFIDE.!AA712","v":"00:00:00"},119,"119","X","01190X","00X TM"]
[{"$f":"BONAFIDE.!AB713","v":"XTM"},{"$f":"BONAFIDE.!AE713","v":0},null,{"$f":"BONAFIDE.!X713","v":0},{"$f":"BONAFIDE.!Y713","v":0},{"$f":"BONAFIDE.!Z713","v":0},{"$f":"BONAFIDE.!AD713","v":0},{"$f":"BONAFIDE.!AA713","v":"00:00:00"},119,"119","X","01190X","00X TM"]
[{"$f":"BONAFIDE.!AB714","v":"XTM"},{"$f":"BONAFIDE.!AE714","v":0},null,{"$f":"BONAFIDE.!X714","v":0},{"$f":"BONAFIDE.!Y714","v":0},{"$f":"BONAFIDE.!Z714","v":0},{"$f":"BONAFIDE.!AD714","v":0},{"$f":"BONAFIDE.!AA714","v":"00:00:00"},119,"119","X","01190X","00X TM"]
[{"$f":"BONAFIDE.!AB715","v":"XTM"},{"$f":"BONAFIDE.!AE715","v":0},null,{"$f":"BONAFIDE.!X715","v":0},{"$f":"BONAFIDE.!Y715","v":0},{"$f":"BONAFIDE.!Z715","v":0},{"$f":"BONAFIDE.!AD715","v":0},{"$f":"BONAFIDE.!AA715","v":"00:00:00"},119,"119","X","01190X","00X TM"]
[{"$f":"BONAFIDE.!AB716","v":"XTM"},{"$f":"BONAFIDE.!AE716","v":0},null,{"$f":"BONAFIDE.!X716","v":0},{"$f":"BONAFIDE.!Y716","v":0},{"$f":"BONAFIDE.!Z716","v":0},{"$f":"BONAFIDE.!AD716","v":0},{"$f":"BONAFIDE.!AA716","v":"00:00:00"},119,"119","X","01190X","00X TM"]
[{"$f":"BONAFIDE.!AB717","v":"XTM"},{"$f":"BONAFIDE.!AE717","v":0},null,{"$f":"BONAFIDE.!X717","v":0},{"$f":"BONAFIDE.!Y717","v":0},{"$f":"BONAFIDE.!Z717","v":0},{"$f":"BONAFIDE.!AD717","v":0},{"$f":"BONAFIDE.!AA717","v":"00:00:00"},119,"119","X","01190X","00X TM"]
[{"$f":"BONAFIDE.!AB718","v":"XTM"},{"$f":"BONAFIDE.!AE718","v":0},null,{"$f":"BONAFIDE.!X718","v":0},{"$f":"BONAFIDE.!Y718","v":0},{"$f":"BONAFIDE.!Z718","v":0},{"$f":"BONAFIDE.!AD718","v":0},{"$f":"BONAFIDE.!AA718","v":"00:00:00"},119,"119","X","01190X","00X TM"]
[{"$f":"BONAFIDE.!AB719","v":"XTM"},{"$f":"BONAFIDE.!AE719","v":0},null,{"$f":"BONAFIDE.!X719","v":0},{"$f":"BONAFIDE.!Y719","v":0},{"$f":"BONAFIDE.!Z719","v":0},{"$f":"BONAFIDE.!AD719","v":0},{"$f":"BONAFIDE.!AA719","v":"00:00:00"},119,"119","X","01190X","00X TM"]
[{"$f":"BONAFIDE.!AB720","v":"XTM"},{"$f":"BONAFIDE.!AE720","v":0},null,{"$f":"BONAFIDE.!X720","v":0},{"$f":"BONAFIDE.!Y720","v":0},{"$f":"BONAFIDE.!Z720","v":0},{"$f":"BONAFIDE.!AD720","v":0},{"$f":"BONAFIDE.!AA720","v":"00:00:00"},119,"119","X","01190X","00X TM"]
[{"$f":"BONAFIDE.!AB721","v":"XTM"},{"$f":"BONAFIDE.!AE721","v":0},null,{"$f":"BONAFIDE.!X721","v":0},{"$f":"BONAFIDE.!Y721","v":0},{"$f":"BONAFIDE.!Z721","v":0},{"$f":"BONAFIDE.!AD721","v":0},{"$f":"BONAFIDE.!AA721","v":"00:00:00"},119,"119","X","01190X","00X TM"]
[{"$f":"BONAFIDE.!AB722","v":"XTM"},{"$f":"BONAFIDE.!AE722","v":0},null,{"$f":"BONAFIDE.!X722","v":0},{"$f":"BONAFIDE.!Y722","v":0},{"$f":"BONAFIDE.!Z722","v":0},{"$f":"BONAFIDE.!AD722","v":0},{"$f":"BONAFIDE.!AA722","v":"00:00:00"},119,"119","X","01190X","00X TM"]
[{"$f":"BONAFIDE.!AB723","v":"XTM"},{"$f":"BONAFIDE.!AE723","v":0},null,{"$f":"BONAFIDE.!X723","v":0},{"$f":"BONAFIDE.!Y723","v":0},{"$f":"BONAFIDE.!Z723","v":0},{"$f":"BONAFIDE.!AD723","v":0},{"$f":"BONAFIDE.!AA723","v":"00:00:00"},119,"119","X","01190X","00X TM"]
[{"$f":"BONAFIDE.!AB724","v":"XTM"},{"$f":"BONAFIDE.!AE724","v":0},null,{"$f":"BONAFIDE.!X724","v":0},{"$f":"BONAFIDE.!Y724","v":0},{"$f":"BONAFIDE.!Z724","v":0},{"$f":"BONAFIDE.!AD724","v":0},{"$f":"BONAFIDE.!AA724","v":"00:00:00"},119,"119","X","01190X","00X TM"]
[{"$f":"BONAFIDE.!AB725","v":"XTM"},{"$f":"BONAFIDE.!AE725","v":0},null,{"$f":"BONAFIDE.!X725","v":0},{"$f":"BONAFIDE.!Y725","v":0},{"$f":"BONAFIDE.!Z725","v":0},{"$f":"BONAFIDE.!AD725","v":0},{"$f":"BONAFIDE.!AA725","v":"00:00:00"},119,"119","X","01190X","00X TM"]
[{"$f":"BONAFIDE.!AB726","v":"XTM"},{"$f":"BONAFIDE.!AE726","v":0},null,{"$f":"BONAFIDE.!X726","v":0},{"$f":"BONAFIDE.!Y726","v":0},{"$f":"BONAFIDE.!Z726","v":0},{"$f":"BONAFIDE.!AD726","v":0},{"$f":"BONAFIDE.!AA726","v":"00:00:00"},119,"119","X","01190X","00X TM"]
[{"$f":"BONAFIDE.!AB727","v":"XTM"},{"$f":"BONAFIDE.!AE727","v":0},null,{"$f":"BONAFIDE.!X727","v":0},{"$f":"BONAFIDE.!Y727","v":0},{"$f":"BONAFIDE.!Z727","v":0},{"$f":"BONAFIDE.!AD727","v":0},{"$f":"BONAFIDE.!AA727","v":"00:00:00"},119,"119","X","01190X","00X TM"]
[{"$f":"BONAFIDE.!AB728","v":"XTM"},{"$f":"BONAFIDE.!AE728","v":0},null,{"$f":"BONAFIDE.!X728","v":0},{"$f":"BONAFIDE.!Y728","v":0},{"$f":"BONAFIDE.!Z728","v":0},{"$f":"BONAFIDE.!AD728","v":0},{"$f":"BONAFIDE.!AA728","v":"00:00:00"},119,"119","X","01190X","00X TM"]
[{"$f":"BONAFIDE.!AB729","v":"XTM"},{"$f":"BONAFIDE.!AE729","v":0},null,{"$f":"BONAFIDE.!X729","v":0},{"$f":"BONAFIDE.!Y729","v":0},{"$f":"BONAFIDE.!Z729","v":0},{"$f":"BONAFIDE.!AD729","v":0},{"$f":"BONAFIDE.!AA729","v":"00:00:00"},119,"119","X","01190X","00X TM"]
[{"$f":"BONAFIDE.!AB730","v":"XTM"},{"$f":"BONAFIDE.!AE730","v":0},null,{"$f":"BONAFIDE.!X730","v":0},{"$f":"BONAFIDE.!Y730","v":0},{"$f":"BONAFIDE.!Z730","v":0},{"$f":"BONAFIDE.!AD730","v":0},{"$f":"BONAFIDE.!AA730","v":"00:00:00"},119,"119","X","01190X","00X TM"]
[{"$f":"BONAFIDE.!AB731","v":"XTM"},{"$f":"BONAFIDE.!AE731","v":0},null,{"$f":"BONAFIDE.!X731","v":0},{"$f":"BONAFIDE.!Y731","v":0},{"$f":"BONAFIDE.!Z731","v":0},{"$f":"BONAFIDE.!AD731","v":0},{"$f":"BONAFIDE.!AA731","v":"00:00:00"},119,"119","X","01190X","00X TM"]
[{"$f":"BONAFIDE.!AB732","v":"XTM"},{"$f":"BONAFIDE.!AE732","v":0},null,{"$f":"BONAFIDE.!X732","v":0},{"$f":"BONAFIDE.!Y732","v":0},{"$f":"BONAFIDE.!Z732","v":0},{"$f":"BONAFIDE.!AD732","v":0},{"$f":"BONAFIDE.!AA732","v":"00:00:00"},119,"119","X","01190X","00X TM"]
[{"$f":"BONAFIDE.!AB733","v":"XTM"},{"$f":"BONAFIDE.!AE733","v":0},null,{"$f":"BONAFIDE.!X733","v":0},{"$f":"BONAFIDE.!Y733","v":0},{"$f":"BONAFIDE.!Z733","v":0},{"$f":"BONAFIDE.!AD733","v":0},{"$f":"BONAFIDE.!AA733","v":"00:00:00"},119,"119","X","01190X","00X TM"]
[{"$f":"BONAFIDE.!AB734","v":"XTM"},{"$f":"BONAFIDE.!AE734","v":0},null,{"$f":"BONAFIDE.!X734","v":0},{"$f":"BONAFIDE.!Y734","v":0},{"$f":"BONAFIDE.!Z734","v":0},{"$f":"BONAFIDE.!AD734","v":0},{"$f":"BONAFIDE.!AA734","v":"00:00:00"},119,"119","X","01190X","00X TM"]
[{"$f":"BONAFIDE.!AB735","v":"XTM"},{"$f":"BONAFIDE.!AE735","v":0},null,{"$f":"BONAFIDE.!X735","v":0},{"$f":"BONAFIDE.!Y735","v":0},{"$f":"BONAFIDE.!Z735","v":0},{"$f":"BONAFIDE.!AD735","v":0},{"$f":"BONAFIDE.!AA735","v":"00:00:00"},119,"119","X","01190X","00X TM"]
[{"$f":"BONAFIDE.!AB736","v":"XTM"},{"$f":"BONAFIDE.!AE736","v":0},null,{"$f":"BONAFIDE.!X736","v":0},{"$f":"BONAFIDE.!Y736","v":0},{"$f":"BONAFIDE.!Z736","v":0},{"$f":"BONAFIDE.!AD736","v":0},{"$f":"BONAFIDE.!AA736","v":"00:00:00"},119,"119","X","01190X","00X TM"]
[{"$f":"BONAFIDE.!AB737","v":"XTM"},{"$f":"BONAFIDE.!AE737","v":0},null,{"$f":"BONAFIDE.!X737","v":0},{"$f":"BONAFIDE.!Y737","v":0},{"$f":"BONAFIDE.!Z737","v":0},{"$f":"BONAFIDE.!AD737","v":0},{"$f":"BONAFIDE.!AA737","v":"00:00:00"},119,"119","X","01190X","00X TM"]
[{"$f":"BONAFIDE.!AB738","v":"XTM"},{"$f":"BONAFIDE.!AE738","v":0},null,{"$f":"BONAFIDE.!X738","v":0},{"$f":"BONAFIDE.!Y738","v":0},{"$f":"BONAFIDE.!Z738","v":0},{"$f":"BONAFIDE.!AD738","v":0},{"$f":"BONAFIDE.!AA738","v":"00:00:00"},119,"119","X","01190X","00X TM"]
[{"$f":"BONAFIDE.!AB739","v":"XTM"},{"$f":"BONAFIDE.!AE739","v":0},null,{"$f":"BONAFIDE.!X739","v":0},{"$f":"BONAFIDE.!Y739","v":0},{"$f":"BONAFIDE.!Z739","v":0},{"$f":"BONAFIDE.!AD739","v":0},{"$f":"BONAFIDE.!AA739","v":"00:00:00"},119,"119","X","01190X","00X TM"]
[{"$f":"BONAFIDE.!AB740","v":"XTM"},{"$f":"BONAFIDE.!AE740","v":0},null,{"$f":"BONAFIDE.!X740","v":0},{"$f":"BONAFIDE.!Y740","v":0},{"$f":"BONAFIDE.!Z740","v":0},{"$f":"BONAFIDE.!AD740","v":0},{"$f":"BONAFIDE.!AA740","v":"00:00:00"},119,"119","X","01190X","00X TM"]
[{"$f":"BONAFIDE.!AB741","v":"XTM"},{"$f":"BONAFIDE.!AE741","v":0},null,{"$f":"BONAFIDE.!X741","v":0},{"$f":"BONAFIDE.!Y741","v":0},{"$f":"BONAFIDE.!Z741","v":0},{"$f":"BONAFIDE.!AD741","v":0},{"$f":"BONAFIDE.!AA741","v":"00:00:00"},119,"119","X","01190X","00X TM"]
[{"$f":"BONAFIDE.!AB742","v":"XTM"},{"$f":"BONAFIDE.!AE742","v":0},null,{"$f":"BONAFIDE.!X742","v":0},{"$f":"BONAFIDE.!Y742","v":0},{"$f":"BONAFIDE.!Z742","v":0},{"$f":"BONAFIDE.!AD742","v":0},{"$f":"BONAFIDE.!AA742","v":"00:00:00"},119,"119","X","01190X","00X TM"]
[{"$f":"BONAFIDE.!AB743","v":"XTM"},{"$f":"BONAFIDE.!AE743","v":0},null,{"$f":"BONAFIDE.!X743","v":0},{"$f":"BONAFIDE.!Y743","v":0},{"$f":"BONAFIDE.!Z743","v":0},{"$f":"BONAFIDE.!AD743","v":0},{"$f":"BONAFIDE.!AA743","v":"00:00:00"},119,"119","X","01190X","00X TM"]
[{"$f":"BONAFIDE.!AB744","v":"XTM"},{"$f":"BONAFIDE.!AE744","v":0},null,{"$f":"BONAFIDE.!X744","v":0},{"$f":"BONAFIDE.!Y744","v":0},{"$f":"BONAFIDE.!Z744","v":0},{"$f":"BONAFIDE.!AD744","v":0},{"$f":"BONAFIDE.!AA744","v":"00:00:00"},119,"119","X","01190X","00X TM"]
[{"$f":"BONAFIDE.!AB745","v":"XTM"},{"$f":"BONAFIDE.!AE745","v":0},null,{"$f":"BONAFIDE.!X745","v":0},{"$f":"BONAFIDE.!Y745","v":0},{"$f":"BONAFIDE.!Z745","v":0},{"$f":"BONAFIDE.!AD745","v":0},{"$f":"BONAFIDE.!AA745","v":"00:00:00"},119,"119","X","01190X","00X TM"]
[{"$f":"BONAFIDE.!AB746","v":"XTM"},{"$f":"BONAFIDE.!AE746","v":0},null,{"$f":"BONAFIDE.!X746","v":0},{"$f":"BONAFIDE.!Y746","v":0},{"$f":"BONAFIDE.!Z746","v":0},{"$f":"BONAFIDE.!AD746","v":0},{"$f":"BONAFIDE.!AA746","v":"00:00:00"},119,"119","X","01190X","00X TM"]
[{"$f":"BONAFIDE.!AB747","v":"XTM"},{"$f":"BONAFIDE.!AE747","v":0},null,{"$f":"BONAFIDE.!X747","v":0},{"$f":"BONAFIDE.!Y747","v":0},{"$f":"BONAFIDE.!Z747","v":0},{"$f":"BONAFIDE.!AD747","v":0},{"$f":"BONAFIDE.!AA747","v":"00:00:00"},119,"119","X","01190X","00X TM"]
[{"$f":"BONAFIDE.!AB748","v":"XTM"},{"$f":"BONAFIDE.!AE748","v":0},null,{"$f":"BONAFIDE.!X748","v":0},{"$f":"BONAFIDE.!Y748","v":0},{"$f":"BONAFIDE.!Z748","v":0},{"$f":"BONAFIDE.!AD748","v":0},{"$f":"BONAFIDE.!AA748","v":"00:00:00"},119,"119","X","01190X","00X TM"]
[{"$f":"BONAFIDE.!AB749","v":"XTM"},{"$f":"BONAFIDE.!AE749","v":0},null,{"$f":"BONAFIDE.!X749","v":0},{"$f":"BONAFIDE.!Y749","v":0},{"$f":"BONAFIDE.!Z749","v":0},{"$f":"BONAFIDE.!AD749","v":0},{"$f":"BONAFIDE.!AA749","v":"00:00:00"},119,"119","X","01190X","00X TM"]
[{"$f":"BONAFIDE.!AB750","v":"XTM"},{"$f":"BONAFIDE.!AE750","v":0},null,{"$f":"BONAFIDE.!X750","v":0},{"$f":"BONAFIDE.!Y750","v":0},{"$f":"BONAFIDE.!Z750","v":0},{"$f":"BONAFIDE.!AD750","v":0},{"$f":"BONAFIDE.!AA750","v":"00:00:00"},119,"119","X","01190X","00X TM"]
[{"$f":"BONAFIDE.!AB751","v":"XTM"},{"$f":"BONAFIDE.!AE751","v":0},null,{"$f":"BONAFIDE.!X751","v":0},{"$f":"BONAFIDE.!Y751","v":0},{"$f":"BONAFIDE.!Z751","v":0},{"$f":"BONAFIDE.!AD751","v":0},{"$f":"BONAFIDE.!AA751","v":"00:00:00"},119,"119","X","01190X","00X TM"]
[{"$f":"BONAFIDE.!AB752","v":"XTM"},{"$f":"BONAFIDE.!AE752","v":0},null,{"$f":"BONAFIDE.!X752","v":0},{"$f":"BONAFIDE.!Y752","v":0},{"$f":"BONAFIDE.!Z752","v":0},{"$f":"BONAFIDE.!AD752","v":0},{"$f":"BONAFIDE.!AA752","v":"00:00:00"},119,"119","X","01190X","00X TM"]
[{"$f":"BONAFIDE.!AB753","v":"XTM"},{"$f":"BONAFIDE.!AE753","v":0},null,{"$f":"BONAFIDE.!X753","v":0},{"$f":"BONAFIDE.!Y753","v":0},{"$f":"BONAFIDE.!Z753","v":0},{"$f":"BONAFIDE.!AD753","v":0},{"$f":"BONAFIDE.!AA753","v":"00:00:00"},119,"119","X","01190X","00X TM"]
[{"$f":"BONAFIDE.!AB754","v":"XTM"},{"$f":"BONAFIDE.!AE754","v":0},null,{"$f":"BONAFIDE.!X754","v":0},{"$f":"BONAFIDE.!Y754","v":0},{"$f":"BONAFIDE.!Z754","v":0},{"$f":"BONAFIDE.!AD754","v":0},{"$f":"BONAFIDE.!AA754","v":"00:00:00"},119,"119","X","01190X","00X TM"]
[{"$f":"BONAFIDE.!AB755","v":"XTM"},{"$f":"BONAFIDE.!AE755","v":0},null,{"$f":"BONAFIDE.!X755","v":0},{"$f":"BONAFIDE.!Y755","v":0},{"$f":"BONAFIDE.!Z755","v":0},{"$f":"BONAFIDE.!AD755","v":0},{"$f":"BONAFIDE.!AA755","v":"00:00:00"},119,"119","X","01190X","00X TM"]
[{"$f":"BONAFIDE.!AB756","v":"XTM"},{"$f":"BONAFIDE.!AE756","v":0},null,{"$f":"BONAFIDE.!X756","v":0},{"$f":"BONAFIDE.!Y756","v":0},{"$f":"BONAFIDE.!Z756","v":0},{"$f":"BONAFIDE.!AD756","v":0},{"$f":"BONAFIDE.!AA756","v":"00:00:00"},119,"119","X","01190X","00X TM"]
[{"$f":"BONAFIDE.!AB757","v":"XTM"},{"$f":"BONAFIDE.!AE757","v":0},null,{"$f":"BONAFIDE.!X757","v":0},{"$f":"BONAFIDE.!Y757","v":0},{"$f":"BONAFIDE.!Z757","v":0},{"$f":"BONAFIDE.!AD757","v":0},{"$f":"BONAFIDE.!AA757","v":"00:00:00"},119,"119","X","01190X","00X TM"]
[{"$f":"BONAFIDE.!AB758","v":"XTM"},{"$f":"BONAFIDE.!AE758","v":0},null,{"$f":"BONAFIDE.!X758","v":0},{"$f":"BONAFIDE.!Y758","v":0},{"$f":"BONAFIDE.!Z758","v":0},{"$f":"BONAFIDE.!AD758","v":0},{"$f":"BONAFIDE.!AA758","v":"00:00:00"},119,"119","X","01190X","00X TM"]
[{"$f":"BONAFIDE.!AB759","v":"XTM"},{"$f":"BONAFIDE.!AE759","v":0},null,{"$f":"BONAFIDE.!X759","v":0},{"$f":"BONAFIDE.!Y759","v":0},{"$f":"BONAFIDE.!Z759","v":0},{"$f":"BONAFIDE.!AD759","v":0},{"$f":"BONAFIDE.!AA759","v":"00:00:00"},119,"119","X","01190X","00X TM"]
[{"$f":"BONAFIDE.!AB760","v":"00:00:00"},{"$f":"BONAFIDE.!AE760","v":0},null,{"$f":"BONAFIDE.!X760","v":0},{"$f":"BONAFIDE.!Y760","v":0},{"$f":"BONAFIDE.!Z760","v":0},{"$f":"BONAFIDE.!AD760","v":0},{"$f":"BONAFIDE.!AA760","v":"00:00:00"},119,"119",{"$error":"#VALUE!"},{"$error":"#VALUE!"},{"$error":"#VALUE!"}]
[{"$f":"BONAFIDE.!AB761","v":"VIEM"},{"$f":"BONAFIDE.!AE761","v":0},null,{"$f":"BONAFIDE.!X761","v":0},{"$f":"BONAFIDE.!Y761","v":0},{"$f":"BONAFIDE.!Z761","v":0},{"$f":"BONAFIDE.!AD761","v":0},{"$f":"BONAFIDE.!AA761","v":"00:00:00"},119,"119","VI","01190VI","00VI EM"]
[{"$f":"BONAFIDE.!AB762","v":"VIEM"},{"$f":"BONAFIDE.!AE762","v":0},null,{"$f":"BONAFIDE.!X762","v":0},{"$f":"BONAFIDE.!Y762","v":0},{"$f":"BONAFIDE.!Z762","v":0},{"$f":"BONAFIDE.!AD762","v":0},{"$f":"BONAFIDE.!AA762","v":"00:00:00"},119,"119","VI","01190VI","00VI EM"]
[{"$f":"BONAFIDE.!AB763","v":"VIEM"},{"$f":"BONAFIDE.!AE763","v":0},null,{"$f":"BONAFIDE.!X763","v":0},{"$f":"BONAFIDE.!Y763","v":0},{"$f":"BONAFIDE.!Z763","v":0},{"$f":"BONAFIDE.!AD763","v":0},{"$f":"BONAFIDE.!AA763","v":"00:00:00"},119,"119","VI","01190VI","00VI EM"]
[{"$f":"BONAFIDE.!AB764","v":"VIEM"},{"$f":"BONAFIDE.!AE764","v":0},null,{"$f":"BONAFIDE.!X764","v":0},{"$f":"BONAFIDE.!Y764","v":0},{"$f":"BONAFIDE.!Z764","v":0},{"$f":"BONAFIDE.!AD764","v":0},{"$f":"BONAFIDE.!AA764","v":"00:00:00"},119,"119","VI","01190VI","00VI EM"]
[{"$f":"BONAFIDE.!AB765","v":"VIEM"},{"$f":"BONAFIDE.!AE765","v":0},null,{"$f":"BONAFIDE.!X765","v":0},{"$f":"BONAFIDE.!Y765","v":0},{"$f":"BONAFIDE.!Z765","v":0},{"$f":"BONAFIDE.!AD765","v":0},{"$f":"BONAFIDE.!AA765","v":"00:00:00"},119,"119","VI","01190VI","00VI EM"]
[{"$f":"BONAFIDE.!AB766","v":"VIEM"},{"$f":"BONAFIDE.!AE766","v":0},null,{"$f":"BONAFIDE.!X766","v":0},{"$f":"BONAFIDE.!Y766","v":0},{"$f":"BONAFIDE.!Z766","v":0},{"$f":"BONAFIDE.!AD766","v":0},{"$f":"BONAFIDE.!AA766","v":"00:00:00"},119,"119","VI","01190VI","00VI EM"]
[{"$f":"BONAFIDE.!AB767","v":"VIEM"},{"$f":"BONAFIDE.!AE767","v":0},null,{"$f":"BONAFIDE.!X767","v":0},{"$f":"BONAFIDE.!Y767","v":0},{"$f":"BONAFIDE.!Z767","v":0},{"$f":"BONAFIDE.!AD767","v":0},{"$f":"BONAFIDE.!AA767","v":"00:00:00"},119,"119","VI","01190VI","00VI EM"]
[{"$f":"BONAFIDE.!AB768","v":"VIEM"},{"$f":"BONAFIDE.!AE768","v":0},null,{"$f":"BONAFIDE.!X768","v":0},{"$f":"BONAFIDE.!Y768","v":0},{"$f":"BONAFIDE.!Z768","v":0},{"$f":"BONAFIDE.!AD768","v":0},{"$f":"BONAFIDE.!AA768","v":"00:00:00"},119,"119","VI","01190VI","00VI EM"]
[{"$f":"BONAFIDE.!AB769","v":"VIEM"},{"$f":"BONAFIDE.!AE769","v":0},null,{"$f":"BONAFIDE.!X769","v":0},{"$f":"BONAFIDE.!Y769","v":0},{"$f":"BONAFIDE.!Z769","v":0},{"$f":"BONAFIDE.!AD769","v":0},{"$f":"BONAFIDE.!AA769","v":"00:00:00"},119,"119","VI","01190VI","00VI EM"]
[{"$f":"BONAFIDE.!AB770","v":"VIEM"},{"$f":"BONAFIDE.!AE770","v":0},null,{"$f":"BONAFIDE.!X770","v":0},{"$f":"BONAFIDE.!Y770","v":0},{"$f":"BONAFIDE.!Z770","v":0},{"$f":"BONAFIDE.!AD770","v":0},{"$f":"BONAFIDE.!AA770","v":"00:00:00"},119,"119","VI","01190VI","00VI EM"]
[{"$f":"BONAFIDE.!AB771","v":"VIEM"},{"$f":"BONAFIDE.!AE771","v":0},null,{"$f":"BONAFIDE.!X771","v":0},{"$f":"BONAFIDE.!Y771","v":0},{"$f":"BONAFIDE.!Z771","v":0},{"$f":"BONAFIDE.!AD771","v":0},{"$f":"BONAFIDE.!AA771","v":"00:00:00"},119,"119","VI","01190VI","00VI EM"]
[{"$f":"BONAFIDE.!AB772","v":"VIEM"},{"$f":"BONAFIDE.!AE772","v":0},null,{"$f":"BONAFIDE.!X772","v":0},{"$f":"BONAFIDE.!Y772","v":0},{"$f":"BONAFIDE.!Z772","v":0},{"$f":"BONAFIDE.!AD772","v":0},{"$f":"BONAFIDE.!AA772","v":"00:00:00"},119,"119","VI","01190VI","00VI EM"]
[{"$f":"BONAFIDE.!AB773","v":"VIEM"},{"$f":"BONAFIDE.!AE773","v":0},null,{"$f":"BONAFIDE.!X773","v":0},{"$f":"BONAFIDE.!Y773","v":0},{"$f":"BONAFIDE.!Z773","v":0},{"$f":"BONAFIDE.!AD773","v":0},{"$f":"BONAFIDE.!AA773","v":"00:00:00"},119,"119","VI","01190VI","00VI EM"]
[{"$f":"BONAFIDE.!AB774","v":"VIEM"},{"$f":"BONAFIDE.!AE774","v":0},null,{"$f":"BONAFIDE.!X774","v":0},{"$f":"BONAFIDE.!Y774","v":0},{"$f":"BONAFIDE.!Z774","v":0},{"$f":"BONAFIDE.!AD774","v":0},{"$f":"BONAFIDE.!AA774","v":"00:00:00"},119,"119","VI","01190VI","00VI EM"]
[{"$f":"BONAFIDE.!AB775","v":"VIEM"},{"$f":"BONAFIDE.!AE775","v":0},null,{"$f":"BONAFIDE.!X775","v":0},{"$f":"BONAFIDE.!Y775","v":0},{"$f":"BONAFIDE.!Z775","v":0},{"$f":"BONAFIDE.!AD775","v":0},{"$f":"BONAFIDE.!AA775","v":"00:00:00"},{"$f":"DATEDIF(H772,CUTOFFDT,\"Y\")","v":119},{"$f":"fillno(I772)","v":"119"},{"$f":"MID(A772,1,LEN(A772)-2)","v":"VI"},{"$f":"B772&J772&G772&K772","v":"01190VI"},{"$f":"B772&G772&MID(A772,1,LEN(A772)-2)&\" \" & RIGHT(A772,2)","v":"00VI EM"}]
[{"$f":"BONAFIDE.!AB776","v":"VIEM"},{"$f":"BONAFIDE.!AE776","v":0},null,{"$f":"BONAFIDE.!X776","v":0},{"$f":"BONAFIDE.!Y776","v":0},{"$f":"BONAFIDE.!Z776","v":0},{"$f":"BONAFIDE.!AD776","v":0},{"$f":"BONAFIDE.!AA776","v":"00:00:00"},119,"119","VI","01190VI","00VI EM"]
[{"$f":"BONAFIDE.!AB777","v":"VIEM"},{"$f":"BONAFIDE.!AE777","v":0},null,{"$f":"BONAFIDE.!X777","v":0},{"$f":"BONAFIDE.!Y777","v":0},{"$f":"BONAFIDE.!Z777","v":0},{"$f":"BONAFIDE.!AD777","v":0},{"$f":"BONAFIDE.!AA777","v":"00:00:00"},119,"119","VI","01190VI","00VI EM"]
[{"$f":"BONAFIDE.!AB778","v":"VIEM"},{"$f":"BONAFIDE.!AE778","v":0},null,{"$f":"BONAFIDE.!X778","v":0},{"$f":"BONAFIDE.!Y778","v":0},{"$f":"BONAFIDE.!Z778","v":0},{"$f":"BONAFIDE.!AD778","v":0},{"$f":"BONAFIDE.!AA778","v":"00:00:00"},119,"119","VI","01190VI","00VI EM"]
[{"$f":"BONAFIDE.!AB779","v":"VIEM"},{"$f":"BONAFIDE.!AE779","v":0},null,{"$f":"BONAFIDE.!X779","v":0},{"$f":"BONAFIDE.!Y779","v":0},{"$f":"BONAFIDE.!Z779","v":0},{"$f":"BONAFIDE.!AD779","v":0},{"$f":"BONAFIDE.!AA779","v":"00:00:00"},119,"119","VI","01190VI","00VI EM"]
[{"$f":"BONAFIDE.!AB780","v":"VIEM"},{"$f":"BONAFIDE.!AE780","v":0},null,{"$f":"BONAFIDE.!X780","v":0},{"$f":"BONAFIDE.!Y780","v":0},{"$f":"BONAFIDE.!Z780","v":0},{"$f":"BONAFIDE.!AD780","v":0},{"$f":"BONAFIDE.!AA780","v":"00:00:00"},119,"119","VI","01190VI","00VI EM"]
[{"$f":"BONAFIDE.!AB781","v":"VIEM"},{"$f":"BONAFIDE.!AE781","v":0},null,{"$f":"BONAFIDE.!X781","v":0},{"$f":"BONAFIDE.!Y781","v":0},{"$f":"BONAFIDE.!Z781","v":0},{"$f":"BONAFIDE.!AD781","v":0},{"$f":"BONAFIDE.!AA781","v":"00:00:00"},119,"119","VI","01190VI","00VI EM"]
[{"$f":"BONAFIDE.!AB782","v":"VIEM"},{"$f":"BONAFIDE.!AE782","v":0},null,{"$f":"BONAFIDE.!X782","v":0},{"$f":"BONAFIDE.!Y782","v":0},{"$f":"BONAFIDE.!Z782","v":0},{"$f":"BONAFIDE.!AD782","v":0},{"$f":"BONAFIDE.!AA782","v":"00:00:00"},119,"119","VI","01190VI","00VI EM"]
[{"$f":"BONAFIDE.!AB783","v":"VIEM"},{"$f":"BONAFIDE.!AE783","v":0},null,{"$f":"BONAFIDE.!X783","v":0},{"$f":"BONAFIDE.!Y783","v":0},{"$f":"BONAFIDE.!Z783","v":0},{"$f":"BONAFIDE.!AD783","v":0},{"$f":"BONAFIDE.!AA783","v":"00:00:00"},119,"119","VI","01190VI","00VI EM"]
[{"$f":"BONAFIDE.!AB784","v":"VIEM"},{"$f":"BONAFIDE.!AE784","v":0},null,{"$f":"BONAFIDE.!X784","v":0},{"$f":"BONAFIDE.!Y784","v":0},{"$f":"BONAFIDE.!Z784","v":0},{"$f":"BONAFIDE.!AD784","v":0},{"$f":"BONAFIDE.!AA784","v":"00:00:00"},119,"119","VI","01190VI","00VI EM"]
[{"$f":"BONAFIDE.!AB785","v":"VIEM"},{"$f":"BONAFIDE.!AE785","v":0},null,{"$f":"BONAFIDE.!X785","v":0},{"$f":"BONAFIDE.!Y785","v":0},{"$f":"BONAFIDE.!Z785","v":0},{"$f":"BONAFIDE.!AD785","v":0},{"$f":"BONAFIDE.!AA785","v":"00:00:00"},119,"119","VI","01190VI","00VI EM"]
[{"$f":"BONAFIDE.!AB786","v":"VIEM"},{"$f":"BONAFIDE.!AE786","v":0},null,{"$f":"BONAFIDE.!X786","v":0},{"$f":"BONAFIDE.!Y786","v":0},{"$f":"BONAFIDE.!Z786","v":0},{"$f":"BONAFIDE.!AD786","v":0},{"$f":"BONAFIDE.!AA786","v":"00:00:00"},119,"119","VI","01190VI","00VI EM"]
[{"$f":"BONAFIDE.!AB787","v":"VIEM"},{"$f":"BONAFIDE.!AE787","v":0},null,{"$f":"BONAFIDE.!X787","v":0},{"$f":"BONAFIDE.!Y787","v":0},{"$f":"BONAFIDE.!Z787","v":0},{"$f":"BONAFIDE.!AD787","v":0},{"$f":"BONAFIDE.!AA787","v":"00:00:00"},119,"119","VI","01190VI","00VI EM"]
[{"$f":"BONAFIDE.!AB788","v":"VIEM"},{"$f":"BONAFIDE.!AE788","v":0},null,{"$f":"BONAFIDE.!X788","v":0},{"$f":"BONAFIDE.!Y788","v":0},{"$f":"BONAFIDE.!Z788","v":0},{"$f":"BONAFIDE.!AD788","v":0},{"$f":"BONAFIDE.!AA788","v":"00:00:00"},119,"119","VI","01190VI","00VI EM"]
[{"$f":"BONAFIDE.!AB789","v":"VIEM"},{"$f":"BONAFIDE.!AE789","v":0},null,{"$f":"BONAFIDE.!X789","v":0},{"$f":"BONAFIDE.!Y789","v":0},{"$f":"BONAFIDE.!Z789","v":0},{"$f":"BONAFIDE.!AD789","v":0},{"$f":"BONAFIDE.!AA789","v":"00:00:00"},119,"119","VI","01190VI","00VI EM"]
[{"$f":"BONAFIDE.!AB790","v":"VIEM"},{"$f":"BONAFIDE.!AE790","v":0},null,{"$f":"BONAFIDE.!X790","v":0},{"$f":"BONAFIDE.!Y790","v":0},{"$f":"BONAFIDE.!Z790","v":0},{"$f":"BONAFIDE.!AD790","v":0},{"$f":"BONAFIDE.!AA790","v":"00:00:00"},119,"119","VI","01190VI","00VI EM"]
[{"$f":"BONAFIDE.!AB791","v":"VIEM"},{"$f":"BONAFIDE.!AE791","v":0},null,{"$f":"BONAFIDE.!X791","v":0},{"$f":"BONAFIDE.!Y791","v":0},{"$f":"BONAFIDE.!Z791","v":0},{"$f":"BONAFIDE.!AD791","v":0},{"$f":"BONAFIDE.!AA791","v":"00:00:00"},119,"119","VI","01190VI","00VI EM"]
[{"$f":"BONAFIDE.!AB792","v":"VIEM"},{"$f":"BONAFIDE.!AE792","v":0},null,{"$f":"BONAFIDE.!X792","v":0},{"$f":"BONAFIDE.!Y792","v":0},{"$f":"BONAFIDE.!Z792","v":0},{"$f":"BONAFIDE.!AD792","v":0},{"$f":"BONAFIDE.!AA792","v":"00:00:00"},119,"119","VI","01190VI","00VI EM"]
[{"$f":"BONAFIDE.!AB793","v":"VIEM"},{"$f":"BONAFIDE.!AE793","v":0},null,{"$f":"BONAFIDE.!X793","v":0},{"$f":"BONAFIDE.!Y793","v":0},{"$f":"BONAFIDE.!Z793","v":0},{"$f":"BONAFIDE.!AD793","v":0},{"$f":"BONAFIDE.!AA793","v":"00:00:00"},119,"119","VI","01190VI","00VI EM"]
[{"$f":"BONAFIDE.!AB794","v":"VIEM"},{"$f":"BONAFIDE.!AE794","v":0},null,{"$f":"BONAFIDE.!X794","v":0},{"$f":"BONAFIDE.!Y794","v":0},{"$f":"BONAFIDE.!Z794","v":0},{"$f":"BONAFIDE.!AD794","v":0},{"$f":"BONAFIDE.!AA794","v":"00:00:00"},119,"119","VI","01190VI","00VI EM"]
[{"$f":"BONAFIDE.!AB795","v":"VIEM"},{"$f":"BONAFIDE.!AE795","v":0},null,{"$f":"BONAFIDE.!X795","v":0},{"$f":"BONAFIDE.!Y795","v":0},{"$f":"BONAFIDE.!Z795","v":0},{"$f":"BONAFIDE.!AD795","v":0},{"$f":"BONAFIDE.!AA795","v":"00:00:00"},119,"119","VI","01190VI","00VI EM"]
[{"$f":"BONAFIDE.!AB796","v":"VIEM"},{"$f":"BONAFIDE.!AE796","v":0},null,{"$f":"BONAFIDE.!X796","v":0},{"$f":"BONAFIDE.!Y796","v":0},{"$f":"BONAFIDE.!Z796","v":0},{"$f":"BONAFIDE.!AD796","v":0},{"$f":"BONAFIDE.!AA796","v":"00:00:00"},119,"119","VI","01190VI","00VI EM"]
[{"$f":"BONAFIDE.!AB797","v":"VIEM"},{"$f":"BONAFIDE.!AE797","v":0},null,{"$f":"BONAFIDE.!X797","v":0},{"$f":"BONAFIDE.!Y797","v":0},{"$f":"BONAFIDE.!Z797","v":0},{"$f":"BONAFIDE.!AD797","v":0},{"$f":"BONAFIDE.!AA797","v":"00:00:00"},119,"119","VI","01190VI","00VI EM"]
[{"$f":"BONAFIDE.!AB798","v":"VIEM"},{"$f":"BONAFIDE.!AE798","v":0},null,{"$f":"BONAFIDE.!X798","v":0},{"$f":"BONAFIDE.!Y798","v":0},{"$f":"BONAFIDE.!Z798","v":0},{"$f":"BONAFIDE.!AD798","v":0},{"$f":"BONAFIDE.!AA798","v":"00:00:00"},119,"119","VI","01190VI","00VI EM"]
[{"$f":"BONAFIDE.!AB799","v":"VIEM"},{"$f":"BONAFIDE.!AE799","v":0},null,{"$f":"BONAFIDE.!X799","v":0},{"$f":"BONAFIDE.!Y799","v":0},{"$f":"BONAFIDE.!Z799","v":0},{"$f":"BONAFIDE.!AD799","v":0},{"$f":"BONAFIDE.!AA799","v":"00:00:00"},119,"119","VI","01190VI","00VI EM"]
[{"$f":"BONAFIDE.!AB800","v":"VIEM"},{"$f":"BONAFIDE.!AE800","v":0},null,{"$f":"BONAFIDE.!X800","v":0},{"$f":"BONAFIDE.!Y800","v":0},{"$f":"BONAFIDE.!Z800","v":0},{"$f":"BONAFIDE.!AD800","v":0},{"$f":"BONAFIDE.!AA800","v":"00:00:00"},119,"119","VI","01190VI","00VI EM"]
[{"$f":"BONAFIDE.!AB801","v":"VIEM"},{"$f":"BONAFIDE.!AE801","v":0},null,{"$f":"BONAFIDE.!X801","v":0},{"$f":"BONAFIDE.!Y801","v":0},{"$f":"BONAFIDE.!Z801","v":0},{"$f":"BONAFIDE.!AD801","v":0},{"$f":"BONAFIDE.!AA801","v":"00:00:00"},119,"119","VI","01190VI","00VI EM"]
[{"$f":"BONAFIDE.!AB802","v":"VIEM"},{"$f":"BONAFIDE.!AE802","v":0},null,{"$f":"BONAFIDE.!X802","v":0},{"$f":"BONAFIDE.!Y802","v":0},{"$f":"BONAFIDE.!Z802","v":0},{"$f":"BONAFIDE.!AD802","v":0},{"$f":"BONAFIDE.!AA802","v":"00:00:00"},119,"119","VI","01190VI","00VI EM"]
[{"$f":"BONAFIDE.!AB803","v":"VIEM"},{"$f":"BONAFIDE.!AE803","v":0},null,{"$f":"BONAFIDE.!X803","v":0},{"$f":"BONAFIDE.!Y803","v":0},{"$f":"BONAFIDE.!Z803","v":0},{"$f":"BONAFIDE.!AD803","v":0},{"$f":"BONAFIDE.!AA803","v":"00:00:00"},119,"119","VI","01190VI","00VI EM"]
[{"$f":"BONAFIDE.!AB804","v":"VIEM"},{"$f":"BONAFIDE.!AE804","v":0},null,{"$f":"BONAFIDE.!X804","v":0},{"$f":"BONAFIDE.!Y804","v":0},{"$f":"BONAFIDE.!Z804","v":0},{"$f":"BONAFIDE.!AD804","v":0},{"$f":"BONAFIDE.!AA804","v":"00:00:00"},119,"119","VI","01190VI","00VI EM"]
[{"$f":"BONAFIDE.!AB805","v":"VIEM"},{"$f":"BONAFIDE.!AE805","v":0},null,{"$f":"BONAFIDE.!X805","v":0},{"$f":"BONAFIDE.!Y805","v":0},{"$f":"BONAFIDE.!Z805","v":0},{"$f":"BONAFIDE.!AD805","v":0},{"$f":"BONAFIDE.!AA805","v":"00:00:00"},119,"119","VI","01190VI","00VI EM"]
[{"$f":"BONAFIDE.!AB806","v":"VIEM"},{"$f":"BONAFIDE.!AE806","v":0},null,{"$f":"BONAFIDE.!X806","v":0},{"$f":"BONAFIDE.!Y806","v":0},{"$f":"BONAFIDE.!Z806","v":0},{"$f":"BONAFIDE.!AD806","v":0},{"$f":"BONAFIDE.!AA806","v":"00:00:00"},119,"119","VI","01190VI","00VI EM"]
[{"$f":"BONAFIDE.!AB807","v":"VIEM"},{"$f":"BONAFIDE.!AE807","v":0},null,{"$f":"BONAFIDE.!X807","v":0},{"$f":"BONAFIDE.!Y807","v":0},{"$f":"BONAFIDE.!Z807","v":0},{"$f":"BONAFIDE.!AD807","v":0},{"$f":"BONAFIDE.!AA807","v":"00:00:00"},119,"119","VI","01190VI","00VI EM"]
[{"$f":"BONAFIDE.!AB808","v":"VIEM"},{"$f":"BONAFIDE.!AE808","v":0},null,{"$f":"BONAFIDE.!X808","v":0},{"$f":"BONAFIDE.!Y808","v":0},{"$f":"BONAFIDE.!Z808","v":0},{"$f":"BONAFIDE.!AD808","v":0},{"$f":"BONAFIDE.!AA808","v":"00:00:00"},119,"119","VI","01190VI","00VI EM"]
[{"$f":"BONAFIDE.!AB809","v":"VIEM"},{"$f":"BONAFIDE.!AE809","v":0},null,{"$f":"BONAFIDE.!X809","v":0},{"$f":"BONAFIDE.!Y809","v":0},{"$f":"BONAFIDE.!Z809","v":0},{"$f":"BONAFIDE.!AD809","v":0},{"$f":"BONAFIDE.!AA809","v":"00:00:00"},119,"119","VI","01190VI","00VI EM"]
[{"$f":"BONAFIDE.!AB810","v":"VIEM"},{"$f":"BONAFIDE.!AE810","v":0},null,{"$f":"BONAFIDE.!X810","v":0},{"$f":"BONAFIDE.!Y810","v":0},{"$f":"BONAFIDE.!Z810","v":0},{"$f":"BONAFIDE.!AD810","v":0},{"$f":"BONAFIDE.!AA810","v":"00:00:00"},119,"119","VI","01190VI","00VI EM"]
[{"$f":"BONAFIDE.!AB811","v":"VIEM"},{"$f":"BONAFIDE.!AE811","v":0},null,{"$f":"BONAFIDE.!X811","v":0},{"$f":"BONAFIDE.!Y811","v":0},{"$f":"BONAFIDE.!Z811","v":0},{"$f":"BONAFIDE.!AD811","v":0},{"$f":"BONAFIDE.!AA811","v":"00:00:00"},119,"119","VI","01190VI","00VI EM"]
[{"$f":"BONAFIDE.!AB812","v":"VIEM"},{"$f":"BONAFIDE.!AE812","v":0},null,{"$f":"BONAFIDE.!X812","v":0},{"$f":"BONAFIDE.!Y812","v":0},{"$f":"BONAFIDE.!Z812","v":0},{"$f":"BONAFIDE.!AD812","v":0},{"$f":"BONAFIDE.!AA812","v":"00:00:00"},119,"119","VI","01190VI","00VI EM"]
[{"$f":"BONAFIDE.!AB813","v":"VIEM"},{"$f":"BONAFIDE.!AE813","v":0},null,{"$f":"BONAFIDE.!X813","v":0},{"$f":"BONAFIDE.!Y813","v":0},{"$f":"BONAFIDE.!Z813","v":0},{"$f":"BONAFIDE.!AD813","v":0},{"$f":"BONAFIDE.!AA813","v":"00:00:00"},119,"119","VI","01190VI","00VI EM"]
[{"$f":"BONAFIDE.!AB814","v":"VIEM"},{"$f":"BONAFIDE.!AE814","v":0},null,{"$f":"BONAFIDE.!X814","v":0},{"$f":"BONAFIDE.!Y814","v":0},{"$f":"BONAFIDE.!Z814","v":0},{"$f":"BONAFIDE.!AD814","v":0},{"$f":"BONAFIDE.!AA814","v":"00:00:00"},119,"119","VI","01190VI","00VI EM"]
[{"$f":"BONAFIDE.!AB815","v":"VIEM"},{"$f":"BONAFIDE.!AE815","v":0},null,{"$f":"BONAFIDE.!X815","v":0},{"$f":"BONAFIDE.!Y815","v":0},{"$f":"BONAFIDE.!Z815","v":0},{"$f":"BONAFIDE.!AD815","v":0},{"$f":"BONAFIDE.!AA815","v":"00:00:00"},119,"119","VI","01190VI","00VI EM"]
[{"$f":"BONAFIDE.!AB816","v":"VIEM"},{"$f":"BONAFIDE.!AE816","v":0},null,{"$f":"BONAFIDE.!X816","v":0},{"$f":"BONAFIDE.!Y816","v":0},{"$f":"BONAFIDE.!Z816","v":0},{"$f":"BONAFIDE.!AD816","v":0},{"$f":"BONAFIDE.!AA816","v":"00:00:00"},119,"119","VI","01190VI","00VI EM"]
[{"$f":"BONAFIDE.!AB817","v":"VIEM"},{"$f":"BONAFIDE.!AE817","v":0},null,{"$f":"BONAFIDE.!X817","v":0},{"$f":"BONAFIDE.!Y817","v":0},{"$f":"BONAFIDE.!Z817","v":0},{"$f":"BONAFIDE.!AD817","v":0},{"$f":"BONAFIDE.!AA817","v":"00:00:00"},119,"119","VI","01190VI","00VI EM"]
[{"$f":"BONAFIDE.!AB818","v":"VIEM"},{"$f":"BONAFIDE.!AE818","v":0},null,{"$f":"BONAFIDE.!X818","v":0},{"$f":"BONAFIDE.!Y818","v":0},{"$f":"BONAFIDE.!Z818","v":0},{"$f":"BONAFIDE.!AD818","v":0},{"$f":"BONAFIDE.!AA818","v":"00:00:00"},119,"119","VI","01190VI","00VI EM"]
[{"$f":"BONAFIDE.!AB819","v":"VIEM"},{"$f":"BONAFIDE.!AE819","v":0},null,{"$f":"BONAFIDE.!X819","v":0},{"$f":"BONAFIDE.!Y819","v":0},{"$f":"BONAFIDE.!Z819","v":0},{"$f":"BONAFIDE.!AD819","v":0},{"$f":"BONAFIDE.!AA819","v":"00:00:00"},119,"119","VI","01190VI","00VI EM"]
[{"$f":"BONAFIDE.!AB820","v":"VIEM"},{"$f":"BONAFIDE.!AE820","v":0},null,{"$f":"BONAFIDE.!X820","v":0},{"$f":"BONAFIDE.!Y820","v":0},{"$f":"BONAFIDE.!Z820","v":0},{"$f":"BONAFIDE.!AD820","v":0},{"$f":"BONAFIDE.!AA820","v":"00:00:00"},119,"119","VI","01190VI","00VI EM"]
[{"$f":"BONAFIDE.!AB821","v":"VIEM"},{"$f":"BONAFIDE.!AE821","v":0},null,{"$f":"BONAFIDE.!X821","v":0},{"$f":"BONAFIDE.!Y821","v":0},{"$f":"BONAFIDE.!Z821","v":0},{"$f":"BONAFIDE.!AD821","v":0},{"$f":"BONAFIDE.!AA821","v":"00:00:00"},119,"119","VI","01190VI","00VI EM"]
[{"$f":"BONAFIDE.!AB822","v":"VIEM"},{"$f":"BONAFIDE.!AE822","v":0},null,{"$f":"BONAFIDE.!X822","v":0},{"$f":"BONAFIDE.!Y822","v":0},{"$f":"BONAFIDE.!Z822","v":0},{"$f":"BONAFIDE.!AD822","v":0},{"$f":"BONAFIDE.!AA822","v":"00:00:00"},119,"119","VI","01190VI","00VI EM"]
[{"$f":"BONAFIDE.!AB823","v":"VIEM"},{"$f":"BONAFIDE.!AE823","v":0},null,{"$f":"BONAFIDE.!X823","v":0},{"$f":"BONAFIDE.!Y823","v":0},{"$f":"BONAFIDE.!Z823","v":0},{"$f":"BONAFIDE.!AD823","v":0},{"$f":"BONAFIDE.!AA823","v":"00:00:00"},119,"119","VI","01190VI","00VI EM"]
[{"$f":"BONAFIDE.!AB824","v":"VIEM"},{"$f":"BONAFIDE.!AE824","v":0},null,{"$f":"BONAFIDE.!X824","v":0},{"$f":"BONAFIDE.!Y824","v":0},{"$f":"BONAFIDE.!Z824","v":0},{"$f":"BONAFIDE.!AD824","v":0},{"$f":"BONAFIDE.!AA824","v":"00:00:00"},119,"119","VI","01190VI","00VI EM"]
[{"$f":"BONAFIDE.!AB825","v":"VIEM"},{"$f":"BONAFIDE.!AE825","v":0},null,{"$f":"BONAFIDE.!X825","v":0},{"$f":"BONAFIDE.!Y825","v":0},{"$f":"BONAFIDE.!Z825","v":0},{"$f":"BONAFIDE.!AD825","v":0},{"$f":"BONAFIDE.!AA825","v":"00:00:00"},119,"119","VI","01190VI","00VI EM"]
[{"$f":"BONAFIDE.!AB826","v":"VIEM"},{"$f":"BONAFIDE.!AE826","v":0},null,{"$f":"BONAFIDE.!X826","v":0},{"$f":"BONAFIDE.!Y826","v":0},{"$f":"BONAFIDE.!Z826","v":0},{"$f":"BONAFIDE.!AD826","v":0},{"$f":"BONAFIDE.!AA826","v":"00:00:00"},119,"119","VI","01190VI","00VI EM"]
[{"$f":"BONAFIDE.!AB827","v":"VIEM"},{"$f":"BONAFIDE.!AE827","v":0},null,{"$f":"BONAFIDE.!X827","v":0},{"$f":"BONAFIDE.!Y827","v":0},{"$f":"BONAFIDE.!Z827","v":0},{"$f":"BONAFIDE.!AD827","v":0},{"$f":"BONAFIDE.!AA827","v":"00:00:00"},119,"119","VI","01190VI","00VI EM"]
[{"$f":"BONAFIDE.!AB828","v":"VIEM"},{"$f":"BONAFIDE.!AE828","v":0},null,{"$f":"BONAFIDE.!X828","v":0},{"$f":"BONAFIDE.!Y828","v":0},{"$f":"BONAFIDE.!Z828","v":0},{"$f":"BONAFIDE.!AD828","v":0},{"$f":"BONAFIDE.!AA828","v":"00:00:00"},119,"119","VI","01190VI","00VI EM"]
[{"$f":"BONAFIDE.!AB829","v":"VIEM"},{"$f":"BONAFIDE.!AE829","v":0},null,{"$f":"BONAFIDE.!X829","v":0},{"$f":"BONAFIDE.!Y829","v":0},{"$f":"BONAFIDE.!Z829","v":0},{"$f":"BONAFIDE.!AD829","v":0},{"$f":"BONAFIDE.!AA829","v":"00:00:00"},119,"119","VI","01190VI","00VI EM"]
[{"$f":"BONAFIDE.!AB830","v":"VIEM"},{"$f":"BONAFIDE.!AE830","v":0},null,{"$f":"BONAFIDE.!X830","v":0},{"$f":"BONAFIDE.!Y830","v":0},{"$f":"BONAFIDE.!Z830","v":0},{"$f":"BONAFIDE.!AD830","v":0},{"$f":"BONAFIDE.!AA830","v":"00:00:00"},119,"119","VI","01190VI","00VI EM"]
[{"$f":"BONAFIDE.!AB831","v":"VIEM"},{"$f":"BONAFIDE.!AE831","v":0},null,{"$f":"BONAFIDE.!X831","v":0},{"$f":"BONAFIDE.!Y831","v":0},{"$f":"BONAFIDE.!Z831","v":0},{"$f":"BONAFIDE.!AD831","v":0},{"$f":"BONAFIDE.!AA831","v":"00:00:00"},119,"119","VI","01190VI","00VI EM"]
[{"$f":"BONAFIDE.!AB832","v":"VIEM"},{"$f":"BONAFIDE.!AE832","v":0},null,{"$f":"BONAFIDE.!X832","v":0},{"$f":"BONAFIDE.!Y832","v":0},{"$f":"BONAFIDE.!Z832","v":0},{"$f":"BONAFIDE.!AD832","v":0},{"$f":"BONAFIDE.!AA832","v":"00:00:00"},119,"119","VI","01190VI","00VI EM"]
[{"$f":"BONAFIDE.!AB833","v":"VIEM"},{"$f":"BONAFIDE.!AE833","v":0},null,{"$f":"BONAFIDE.!X833","v":0},{"$f":"BONAFIDE.!Y833","v":0},{"$f":"BONAFIDE.!Z833","v":0},{"$f":"BONAFIDE.!AD833","v":0},{"$f":"BONAFIDE.!AA833","v":"00:00:00"},119,"119","VI","01190VI","00VI EM"]
[{"$f":"BONAFIDE.!AB834","v":"VIEM"},{"$f":"BONAFIDE.!AE834","v":0},null,{"$f":"BONAFIDE.!X834","v":0},{"$f":"BONAFIDE.!Y834","v":0},{"$f":"BONAFIDE.!Z834","v":0},{"$f":"BONAFIDE.!AD834","v":0},{"$f":"BONAFIDE.!AA834","v":"00:00:00"},119,"119","VI","01190VI","00VI EM"]
[{"$f":"BONAFIDE.!AB835","v":"VIEM"},{"$f":"BONAFIDE.!AE835","v":0},null,{"$f":"BONAFIDE.!X835","v":0},{"$f":"BONAFIDE.!Y835","v":0},{"$f":"BONAFIDE.!Z835","v":0},{"$f":"BONAFIDE.!AD835","v":0},{"$f":"BONAFIDE.!AA835","v":"00:00:00"},119,"119","VI","01190VI","00VI EM"]
[{"$f":"BONAFIDE.!AB836","v":"VIEM"},{"$f":"BONAFIDE.!AE836","v":0},null,{"$f":"BONAFIDE.!X836","v":0},{"$f":"BONAFIDE.!Y836","v":0},{"$f":"BONAFIDE.!Z836","v":0},{"$f":"BONAFIDE.!AD836","v":0},{"$f":"BONAFIDE.!AA836","v":"00:00:00"},119,"119","VI","01190VI","00VI EM"]
[{"$f":"BONAFIDE.!AB837","v":"VIEM"},{"$f":"BONAFIDE.!AE837","v":0},null,{"$f":"BONAFIDE.!X837","v":0},{"$f":"BONAFIDE.!Y837","v":0},{"$f":"BONAFIDE.!Z837","v":0},{"$f":"BONAFIDE.!AD837","v":0},{"$f":"BONAFIDE.!AA837","v":"00:00:00"},119,"119","VI","01190VI","00VI EM"]
[{"$f":"BONAFIDE.!AB838","v":"VIEM"},{"$f":"BONAFIDE.!AE838","v":0},null,{"$f":"BONAFIDE.!X838","v":0},{"$f":"BONAFIDE.!Y838","v":0},{"$f":"BONAFIDE.!Z838","v":0},{"$f":"BONAFIDE.!AD838","v":0},{"$f":"BONAFIDE.!AA838","v":"00:00:00"},119,"119","VI","01190VI","00VI EM"]
[{"$f":"BONAFIDE.!AB839","v":"VIEM"},{"$f":"BONAFIDE.!AE839","v":0},null,{"$f":"BONAFIDE.!X839","v":0},{"$f":"BONAFIDE.!Y839","v":0},{"$f":"BONAFIDE.!Z839","v":0},{"$f":"BONAFIDE.!AD839","v":0},{"$f":"BONAFIDE.!AA839","v":"00:00:00"},{"$f":"DATEDIF(H836,CUTOFFDT,\"Y\")","v":119},{"$f":"fillno(I836)","v":"119"},{"$f":"MID(A836,1,LEN(A836)-2)","v":"VI"},{"$f":"B836&J836&G836&K836","v":"01190VI"},{"$f":"B836&G836&MID(A836,1,LEN(A836)-2)&\" \" & RIGHT(A836,2)","v":"00VI EM"}]
[{"$f":"BONAFIDE.!AB840","v":"VIEM"},{"$f":"BONAFIDE.!AE840","v":0},null,{"$f":"BONAFIDE.!X840","v":0},{"$f":"BONAFIDE.!Y840","v":0},{"$f":"BONAFIDE.!Z840","v":0},{"$f":"BONAFIDE.!AD840","v":0},{"$f":"BONAFIDE.!AA840","v":"00:00:00"},119,"119","VI","01190VI","00VI EM"]
[{"$f":"BONAFIDE.!AB841","v":"VIEM"},{"$f":"BONAFIDE.!AE841","v":0},null,{"$f":"BONAFIDE.!X841","v":0},{"$f":"BONAFIDE.!Y841","v":0},{"$f":"BONAFIDE.!Z841","v":0},{"$f":"BONAFIDE.!AD841","v":0},{"$f":"BONAFIDE.!AA841","v":"00:00:00"},119,"119","VI","01190VI","00VI EM"]
[{"$f":"BONAFIDE.!AB842","v":"VIEM"},{"$f":"BONAFIDE.!AE842","v":0},null,{"$f":"BONAFIDE.!X842","v":0},{"$f":"BONAFIDE.!Y842","v":0},{"$f":"BONAFIDE.!Z842","v":0},{"$f":"BONAFIDE.!AD842","v":0},{"$f":"BONAFIDE.!AA842","v":"00:00:00"},119,"119","VI","01190VI","00VI EM"]
[{"$f":"BONAFIDE.!AB843","v":"VIEM"},{"$f":"BONAFIDE.!AE843","v":0},null,{"$f":"BONAFIDE.!X843","v":0},{"$f":"BONAFIDE.!Y843","v":0},{"$f":"BONAFIDE.!Z843","v":0},{"$f":"BONAFIDE.!AD843","v":0},{"$f":"BONAFIDE.!AA843","v":"00:00:00"},119,"119","VI","01190VI","00VI EM"]
[{"$f":"BONAFIDE.!AB844","v":"VIEM"},{"$f":"BONAFIDE.!AE844","v":0},null,{"$f":"BONAFIDE.!X844","v":0},{"$f":"BONAFIDE.!Y844","v":0},{"$f":"BONAFIDE.!Z844","v":0},{"$f":"BONAFIDE.!AD844","v":0},{"$f":"BONAFIDE.!AA844","v":"00:00:00"},119,"119","VI","01190VI","00VI EM"]
[{"$f":"BONAFIDE.!AB845","v":"VIEM"},{"$f":"BONAFIDE.!AE845","v":0},null,{"$f":"BONAFIDE.!X845","v":0},{"$f":"BONAFIDE.!Y845","v":0},{"$f":"BONAFIDE.!Z845","v":0},{"$f":"BONAFIDE.!AD845","v":0},{"$f":"BONAFIDE.!AA845","v":"00:00:00"},119,"119","VI","01190VI","00VI EM"]
[{"$f":"BONAFIDE.!AB846","v":"VIEM"},{"$f":"BONAFIDE.!AE846","v":0},null,{"$f":"BONAFIDE.!X846","v":0},{"$f":"BONAFIDE.!Y846","v":0},{"$f":"BONAFIDE.!Z846","v":0},{"$f":"BONAFIDE.!AD846","v":0},{"$f":"BONAFIDE.!AA846","v":"00:00:00"},119,"119","VI","01190VI","00VI EM"]
[{"$f":"BONAFIDE.!AB847","v":"VIEM"},{"$f":"BONAFIDE.!AE847","v":0},null,{"$f":"BONAFIDE.!X847","v":0},{"$f":"BONAFIDE.!Y847","v":0},{"$f":"BONAFIDE.!Z847","v":0},{"$f":"BONAFIDE.!AD847","v":0},{"$f":"BONAFIDE.!AA847","v":"00:00:00"},119,"119","VI","01190VI","00VI EM"]
[{"$f":"BONAFIDE.!AB848","v":"VIEM"},{"$f":"BONAFIDE.!AE848","v":0},null,{"$f":"BONAFIDE.!X848","v":0},{"$f":"BONAFIDE.!Y848","v":0},{"$f":"BONAFIDE.!Z848","v":0},{"$f":"BONAFIDE.!AD848","v":0},{"$f":"BONAFIDE.!AA848","v":"00:00:00"},119,"119","VI","01190VI","00VI EM"]
[{"$f":"BONAFIDE.!AB849","v":"VIEM"},{"$f":"BONAFIDE.!AE849","v":0},null,{"$f":"BONAFIDE.!X849","v":0},{"$f":"BONAFIDE.!Y849","v":0},{"$f":"BONAFIDE.!Z849","v":0},{"$f":"BONAFIDE.!AD849","v":0},{"$f":"BONAFIDE.!AA849","v":"00:00:00"},119,"119","VI","01190VI","00VI EM"]
[{"$f":"BONAFIDE.!AB850","v":"VIEM"},{"$f":"BONAFIDE.!AE850","v":0},null,{"$f":"BONAFIDE.!X850","v":0},{"$f":"BONAFIDE.!Y850","v":0},{"$f":"BONAFIDE.!Z850","v":0},{"$f":"BONAFIDE.!AD850","v":0},{"$f":"BONAFIDE.!AA850","v":"00:00:00"},119,"119","VI","01190VI","00VI EM"]
[{"$f":"BONAFIDE.!AB851","v":"VIEM"},{"$f":"BONAFIDE.!AE851","v":0},null,{"$f":"BONAFIDE.!X851","v":0},{"$f":"BONAFIDE.!Y851","v":0},{"$f":"BONAFIDE.!Z851","v":0},{"$f":"BONAFIDE.!AD851","v":0},{"$f":"BONAFIDE.!AA851","v":"00:00:00"},119,"119","VI","01190VI","00VI EM"]
[{"$f":"BONAFIDE.!AB852","v":"VIEM"},{"$f":"BONAFIDE.!AE852","v":0},null,{"$f":"BONAFIDE.!X852","v":0},{"$f":"BONAFIDE.!Y852","v":0},{"$f":"BONAFIDE.!Z852","v":0},{"$f":"BONAFIDE.!AD852","v":0},{"$f":"BONAFIDE.!AA852","v":"00:00:00"},119,"119","VI","01190VI","00VI EM"]
[{"$f":"BONAFIDE.!AB853","v":"VIEM"},{"$f":"BONAFIDE.!AE853","v":0},null,{"$f":"BONAFIDE.!X853","v":0},{"$f":"BONAFIDE.!Y853","v":0},{"$f":"BONAFIDE.!Z853","v":0},{"$f":"BONAFIDE.!AD853","v":0},{"$f":"BONAFIDE.!AA853","v":"00:00:00"},119,"119","VI","01190VI","00VI EM"]
[{"$f":"BONAFIDE.!AB854","v":"VIEM"},{"$f":"BONAFIDE.!AE854","v":0},null,{"$f":"BONAFIDE.!X854","v":0},{"$f":"BONAFIDE.!Y854","v":0},{"$f":"BONAFIDE.!Z854","v":0},{"$f":"BONAFIDE.!AD854","v":0},{"$f":"BONAFIDE.!AA854","v":"00:00:00"},119,"119","VI","01190VI","00VI EM"]
[{"$f":"BONAFIDE.!AB855","v":"VIEM"},{"$f":"BONAFIDE.!AE855","v":0},null,{"$f":"BONAFIDE.!X855","v":0},{"$f":"BONAFIDE.!Y855","v":0},{"$f":"BONAFIDE.!Z855","v":0},{"$f":"BONAFIDE.!AD855","v":0},{"$f":"BONAFIDE.!AA855","v":"00:00:00"},119,"119","VI","01190VI","00VI EM"]
[{"$f":"BONAFIDE.!AB856","v":"VIEM"},{"$f":"BONAFIDE.!AE856","v":0},null,{"$f":"BONAFIDE.!X856","v":0},{"$f":"BONAFIDE.!Y856","v":0},{"$f":"BONAFIDE.!Z856","v":0},{"$f":"BONAFIDE.!AD856","v":0},{"$f":"BONAFIDE.!AA856","v":"00:00:00"},119,"119","VI","01190VI","00VI EM"]
[{"$f":"BONAFIDE.!AB857","v":"VIEM"},{"$f":"BONAFIDE.!AE857","v":0},null,{"$f":"BONAFIDE.!X857","v":0},{"$f":"BONAFIDE.!Y857","v":0},{"$f":"BONAFIDE.!Z857","v":0},{"$f":"BONAFIDE.!AD857","v":0},{"$f":"BONAFIDE.!AA857","v":"00:00:00"},119,"119","VI","01190VI","00VI EM"]
[{"$f":"BONAFIDE.!AB858","v":"VIEM"},{"$f":"BONAFIDE.!AE858","v":0},null,{"$f":"BONAFIDE.!X858","v":0},{"$f":"BONAFIDE.!Y858","v":0},{"$f":"BONAFIDE.!Z858","v":0},{"$f":"BONAFIDE.!AD858","v":0},{"$f":"BONAFIDE.!AA858","v":"00:00:00"},119,"119","VI","01190VI","00VI EM"]
[{"$f":"BONAFIDE.!AB859","v":"VIEM"},{"$f":"BONAFIDE.!AE859","v":0},null,{"$f":"BONAFIDE.!X859","v":0},{"$f":"BONAFIDE.!Y859","v":0},{"$f":"BONAFIDE.!Z859","v":0},{"$f":"BONAFIDE.!AD859","v":0},{"$f":"BONAFIDE.!AA859","v":"00:00:00"},119,"119","VI","01190VI","00VI EM"]
[{"$f":"BONAFIDE.!AB860","v":"VIEM"},{"$f":"BONAFIDE.!AE860","v":0},null,{"$f":"BONAFIDE.!X860","v":0},{"$f":"BONAFIDE.!Y860","v":0},{"$f":"BONAFIDE.!Z860","v":0},{"$f":"BONAFIDE.!AD860","v":0},{"$f":"BONAFIDE.!AA860","v":"00:00:00"},119,"119","VI","01190VI","00VI EM"]
[{"$f":"BONAFIDE.!AB861","v":"VIEM"},{"$f":"BONAFIDE.!AE861","v":0},null,{"$f":"BONAFIDE.!X861","v":0},{"$f":"BONAFIDE.!Y861","v":0},{"$f":"BONAFIDE.!Z861","v":0},{"$f":"BONAFIDE.!AD861","v":0},{"$f":"BONAFIDE.!AA861","v":"00:00:00"},119,"119","VI","01190VI","00VI EM"]
[{"$f":"BONAFIDE.!AB862","v":"VIEM"},{"$f":"BONAFIDE.!AE862","v":0},null,{"$f":"BONAFIDE.!X862","v":0},{"$f":"BONAFIDE.!Y862","v":0},{"$f":"BONAFIDE.!Z862","v":0},{"$f":"BONAFIDE.!AD862","v":0},{"$f":"BONAFIDE.!AA862","v":"00:00:00"},119,"119","VI","01190VI","00VI EM"]
[{"$f":"BONAFIDE.!AB863","v":"VIEM"},{"$f":"BONAFIDE.!AE863","v":0},null,{"$f":"BONAFIDE.!X863","v":0},{"$f":"BONAFIDE.!Y863","v":0},{"$f":"BONAFIDE.!Z863","v":0},{"$f":"BONAFIDE.!AD863","v":0},{"$f":"BONAFIDE.!AA863","v":"00:00:00"},119,"119","VI","01190VI","00VI EM"]
[{"$f":"BONAFIDE.!AB864","v":"VIEM"},{"$f":"BONAFIDE.!AE864","v":0},null,{"$f":"BONAFIDE.!X864","v":0},{"$f":"BONAFIDE.!Y864","v":0},{"$f":"BONAFIDE.!Z864","v":0},{"$f":"BONAFIDE.!AD864","v":0},{"$f":"BONAFIDE.!AA864","v":"00:00:00"},119,"119","VI","01190VI","00VI EM"]
[{"$f":"BONAFIDE.!AB865","v":"VIEM"},{"$f":"BONAFIDE.!AE865","v":0},null,{"$f":"BONAFIDE.!X865","v":0},{"$f":"BONAFIDE.!Y865","v":0},{"$f":"BONAFIDE.!Z865","v":0},{"$f":"BONAFIDE.!AD865","v":0},{"$f":"BONAFIDE.!AA865","v":"00:00:00"},119,"119","VI","01190VI","00VI EM"]
[{"$f":"BONAFIDE.!AB866","v":"VIEM"},{"$f":"BONAFIDE.!AE866","v":0},null,{"$f":"BONAFIDE.!X866","v":0},{"$f":"BONAFIDE.!Y866","v":0},{"$f":"BONAFIDE.!Z866","v":0},{"$f":"BONAFIDE.!AD866","v":0},{"$f":"BONAFIDE.!AA866","v":"00:00:00"},119,"119","VI","01190VI","00VI EM"]
[{"$f":"BONAFIDE.!AB867","v":"VIEM"},{"$f":"BONAFIDE.!AE867","v":0},null,{"$f":"BONAFIDE.!X867","v":0},{"$f":"BONAFIDE.!Y867","v":0},{"$f":"BONAFIDE.!Z867","v":0},{"$f":"BONAFIDE.!AD867","v":0},{"$f":"BONAFIDE.!AA867","v":"00:00:00"},119,"119","VI","01190VI","00VI EM"]
[{"$f":"BONAFIDE.!AB868","v":"VIEM"},{"$f":"BONAFIDE.!AE868","v":0},null,{"$f":"BONAFIDE.!X868","v":0},{"$f":"BONAFIDE.!Y868","v":0},{"$f":"BONAFIDE.!Z868","v":0},{"$f":"BONAFIDE.!AD868","v":0},{"$f":"BONAFIDE.!AA868","v":"00:00:00"},119,"119","VI","01190VI","00VI EM"]
[{"$f":"BONAFIDE.!AB869","v":"VIEM"},{"$f":"BONAFIDE.!AE869","v":0},null,{"$f":"BONAFIDE.!X869","v":0},{"$f":"BONAFIDE.!Y869","v":0},{"$f":"BONAFIDE.!Z869","v":0},{"$f":"BONAFIDE.!AD869","v":0},{"$f":"BONAFIDE.!AA869","v":"00:00:00"},119,"119","VI","01190VI","00VI EM"]
[{"$f":"BONAFIDE.!AB870","v":"VIEM"},{"$f":"BONAFIDE.!AE870","v":0},null,{"$f":"BONAFIDE.!X870","v":0},{"$f":"BONAFIDE.!Y870","v":0},{"$f":"BONAFIDE.!Z870","v":0},{"$f":"BONAFIDE.!AD870","v":0},{"$f":"BONAFIDE.!AA870","v":"00:00:00"},119,"119","VI","01190VI","00VI EM"]
[{"$f":"BONAFIDE.!AB871","v":"VIEM"},{"$f":"BONAFIDE.!AE871","v":0},null,{"$f":"BONAFIDE.!X871","v":0},{"$f":"BONAFIDE.!Y871","v":0},{"$f":"BONAFIDE.!Z871","v":0},{"$f":"BONAFIDE.!AD871","v":0},{"$f":"BONAFIDE.!AA871","v":"00:00:00"},119,"119","VI","01190VI","00VI EM"]
[{"$f":"BONAFIDE.!AB872","v":"VIEM"},{"$f":"BONAFIDE.!AE872","v":0},null,{"$f":"BONAFIDE.!X872","v":0},{"$f":"BONAFIDE.!Y872","v":0},{"$f":"BONAFIDE.!Z872","v":0},{"$f":"BONAFIDE.!AD872","v":0},{"$f":"BONAFIDE.!AA872","v":"00:00:00"},119,"119","VI","01190VI","00VI EM"]
[{"$f":"BONAFIDE.!AB873","v":"VIEM"},{"$f":"BONAFIDE.!AE873","v":0},null,{"$f":"BONAFIDE.!X873","v":0},{"$f":"BONAFIDE.!Y873","v":0},{"$f":"BONAFIDE.!Z873","v":0},{"$f":"BONAFIDE.!AD873","v":0},{"$f":"BONAFIDE.!AA873","v":"00:00:00"},119,"119","VI","01190VI","00VI EM"]
[{"$f":"BONAFIDE.!AB874","v":"VIEM"},{"$f":"BONAFIDE.!AE874","v":0},null,{"$f":"BONAFIDE.!X874","v":0},{"$f":"BONAFIDE.!Y874","v":0},{"$f":"BONAFIDE.!Z874","v":0},{"$f":"BONAFIDE.!AD874","v":0},{"$f":"BONAFIDE.!AA874","v":"00:00:00"},119,"119","VI","01190VI","00VI EM"]
[{"$f":"BONAFIDE.!AB875","v":"VIEM"},{"$f":"BONAFIDE.!AE875","v":0},null,{"$f":"BONAFIDE.!X875","v":0},{"$f":"BONAFIDE.!Y875","v":0},{"$f":"BONAFIDE.!Z875","v":0},{"$f":"BONAFIDE.!AD875","v":0},{"$f":"BONAFIDE.!AA875","v":"00:00:00"},119,"119","VI","01190VI","00VI EM"]
[{"$f":"BONAFIDE.!AB876","v":"VIEM"},{"$f":"BONAFIDE.!AE876","v":0},null,{"$f":"BONAFIDE.!X876","v":0},{"$f":"BONAFIDE.!Y876","v":0},{"$f":"BONAFIDE.!Z876","v":0},{"$f":"BONAFIDE.!AD876","v":0},{"$f":"BONAFIDE.!AA876","v":"00:00:00"},119,"119","VI","01190VI","00VI EM"]
[{"$f":"BONAFIDE.!AB877","v":"VIEM"},{"$f":"BONAFIDE.!AE877","v":0},null,{"$f":"BONAFIDE.!X877","v":0},{"$f":"BONAFIDE.!Y877","v":0},{"$f":"BONAFIDE.!Z877","v":0},{"$f":"BONAFIDE.!AD877","v":0},{"$f":"BONAFIDE.!AA877","v":"00:00:00"},119,"119","VI","01190VI","00VI EM"]
[{"$f":"BONAFIDE.!AB878","v":"VIEM"},{"$f":"BONAFIDE.!AE878","v":0},null,{"$f":"BONAFIDE.!X878","v":0},{"$f":"BONAFIDE.!Y878","v":0},{"$f":"BONAFIDE.!Z878","v":0},{"$f":"BONAFIDE.!AD878","v":0},{"$f":"BONAFIDE.!AA878","v":"00:00:00"},119,"119","VI","01190VI","00VI EM"]
[{"$f":"BONAFIDE.!AB879","v":"VIEM"},{"$f":"BONAFIDE.!AE879","v":0},null,{"$f":"BONAFIDE.!X879","v":0},{"$f":"BONAFIDE.!Y879","v":0},{"$f":"BONAFIDE.!Z879","v":0},{"$f":"BONAFIDE.!AD879","v":0},{"$f":"BONAFIDE.!AA879","v":"00:00:00"},119,"119","VI","01190VI","00VI EM"]
[{"$f":"BONAFIDE.!AB880","v":"VIEM"},{"$f":"BONAFIDE.!AE880","v":0},null,{"$f":"BONAFIDE.!X880","v":0},{"$f":"BONAFIDE.!Y880","v":0},{"$f":"BONAFIDE.!Z880","v":0},{"$f":"BONAFIDE.!AD880","v":0},{"$f":"BONAFIDE.!AA880","v":"00:00:00"},119,"119","VI","01190VI","00VI EM"]
[{"$f":"BONAFIDE.!AB881","v":"VIEM"},{"$f":"BONAFIDE.!AE881","v":0},null,{"$f":"BONAFIDE.!X881","v":0},{"$f":"BONAFIDE.!Y881","v":0},{"$f":"BONAFIDE.!Z881","v":0},{"$f":"BONAFIDE.!AD881","v":0},{"$f":"BONAFIDE.!AA881","v":"00:00:00"},119,"119","VI","01190VI","00VI EM"]
[{"$f":"BONAFIDE.!AB882","v":"VIEM"},{"$f":"BONAFIDE.!AE882","v":0},null,{"$f":"BONAFIDE.!X882","v":0},{"$f":"BONAFIDE.!Y882","v":0},{"$f":"BONAFIDE.!Z882","v":0},{"$f":"BONAFIDE.!AD882","v":0},{"$f":"BONAFIDE.!AA882","v":"00:00:00"},119,"119","VI","01190VI","00VI EM"]
[{"$f":"BONAFIDE.!AB883","v":"VIEM"},{"$f":"BONAFIDE.!AE883","v":0},null,{"$f":"BONAFIDE.!X883","v":0},{"$f":"BONAFIDE.!Y883","v":0},{"$f":"BONAFIDE.!Z883","v":0},{"$f":"BONAFIDE.!AD883","v":0},{"$f":"BONAFIDE.!AA883","v":"00:00:00"},119,"119","VI","01190VI","00VI EM"]
[{"$f":"BONAFIDE.!AB884","v":"VIEM"},{"$f":"BONAFIDE.!AE884","v":0},null,{"$f":"BONAFIDE.!X884","v":0},{"$f":"BONAFIDE.!Y884","v":0},{"$f":"BONAFIDE.!Z884","v":0},{"$f":"BONAFIDE.!AD884","v":0},{"$f":"BONAFIDE.!AA884","v":"00:00:00"},119,"119","VI","01190VI","00VI EM"]
[{"$f":"BONAFIDE.!AB885","v":"VIEM"},{"$f":"BONAFIDE.!AE885","v":0},null,{"$f":"BONAFIDE.!X885","v":0},{"$f":"BONAFIDE.!Y885","v":0},{"$f":"BONAFIDE.!Z885","v":0},{"$f":"BONAFIDE.!AD885","v":0},{"$f":"BONAFIDE.!AA885","v":"00:00:00"},119,"119","VI","01190VI","00VI EM"]
[{"$f":"BONAFIDE.!AB886","v":"VIEM"},{"$f":"BONAFIDE.!AE886","v":0},null,{"$f":"BONAFIDE.!X886","v":0},{"$f":"BONAFIDE.!Y886","v":0},{"$f":"BONAFIDE.!Z886","v":0},{"$f":"BONAFIDE.!AD886","v":0},{"$f":"BONAFIDE.!AA886","v":"00:00:00"},119,"119","VI","01190VI","00VI EM"]
[{"$f":"BONAFIDE.!AB887","v":"VIEM"},{"$f":"BONAFIDE.!AE887","v":0},null,{"$f":"BONAFIDE.!X887","v":0},{"$f":"BONAFIDE.!Y887","v":0},{"$f":"BONAFIDE.!Z887","v":0},{"$f":"BONAFIDE.!AD887","v":0},{"$f":"BONAFIDE.!AA887","v":"00:00:00"},119,"119","VI","01190VI","00VI EM"]
[{"$f":"BONAFIDE.!AB888","v":"VIEM"},{"$f":"BONAFIDE.!AE888","v":0},null,{"$f":"BONAFIDE.!X888","v":0},{"$f":"BONAFIDE.!Y888","v":0},{"$f":"BONAFIDE.!Z888","v":0},{"$f":"BONAFIDE.!AD888","v":0},{"$f":"BONAFIDE.!AA888","v":"00:00:00"},119,"119","VI","01190VI","00VI EM"]
[{"$f":"BONAFIDE.!AB889","v":"VIEM"},{"$f":"BONAFIDE.!AE889","v":0},null,{"$f":"BONAFIDE.!X889","v":0},{"$f":"BONAFIDE.!Y889","v":0},{"$f":"BONAFIDE.!Z889","v":0},{"$f":"BONAFIDE.!AD889","v":0},{"$f":"BONAFIDE.!AA889","v":"00:00:00"},119,"119","VI","01190VI","00VI EM"]
[{"$f":"BONAFIDE.!AB890","v":"VIEM"},{"$f":"BONAFIDE.!AE890","v":0},null,{"$f":"BONAFIDE.!X890","v":0},{"$f":"BONAFIDE.!Y890","v":0},{"$f":"BONAFIDE.!Z890","v":0},{"$f":"BONAFIDE.!AD890","v":0},{"$f":"BONAFIDE.!AA890","v":"00:00:00"},119,"119","VI","01190VI","00VI EM"]
[{"$f":"BONAFIDE.!AB891","v":"VIEM"},{"$f":"BONAFIDE.!AE891","v":0},null,{"$f":"BONAFIDE.!X891","v":0},{"$f":"BONAFIDE.!Y891","v":0},{"$f":"BONAFIDE.!Z891","v":0},{"$f":"BONAFIDE.!AD891","v":0},{"$f":"BONAFIDE.!AA891","v":"00:00:00"},119,"119","VI","01190VI","00VI EM"]
[{"$f":"BONAFIDE.!AB892","v":"VIEM"},{"$f":"BONAFIDE.!AE892","v":0},null,{"$f":"BONAFIDE.!X892","v":0},{"$f":"BONAFIDE.!Y892","v":0},{"$f":"BONAFIDE.!Z892","v":0},{"$f":"BONAFIDE.!AD892","v":0},{"$f":"BONAFIDE.!AA892","v":"00:00:00"},119,"119","VI","01190VI","00VI EM"]
[{"$f":"BONAFIDE.!AB893","v":"VIEM"},{"$f":"BONAFIDE.!AE893","v":0},null,{"$f":"BONAFIDE.!X893","v":0},{"$f":"BONAFIDE.!Y893","v":0},{"$f":"BONAFIDE.!Z893","v":0},{"$f":"BONAFIDE.!AD893","v":0},{"$f":"BONAFIDE.!AA893","v":"00:00:00"},119,"119","VI","01190VI","00VI EM"]
[{"$f":"BONAFIDE.!AB894","v":"VIEM"},{"$f":"BONAFIDE.!AE894","v":0},null,{"$f":"BONAFIDE.!X894","v":0},{"$f":"BONAFIDE.!Y894","v":0},{"$f":"BONAFIDE.!Z894","v":0},{"$f":"BONAFIDE.!AD894","v":0},{"$f":"BONAFIDE.!AA894","v":"00:00:00"},119,"119","VI","01190VI","00VI EM"]
[{"$f":"BONAFIDE.!AB895","v":"VIEM"},{"$f":"BONAFIDE.!AE895","v":0},null,{"$f":"BONAFIDE.!X895","v":0},{"$f":"BONAFIDE.!Y895","v":0},{"$f":"BONAFIDE.!Z895","v":0},{"$f":"BONAFIDE.!AD895","v":0},{"$f":"BONAFIDE.!AA895","v":"00:00:00"},119,"119","VI","01190VI","00VI EM"]
[{"$f":"BONAFIDE.!AB896","v":"VIEM"},{"$f":"BONAFIDE.!AE896","v":0},null,{"$f":"BONAFIDE.!X896","v":0},{"$f":"BONAFIDE.!Y896","v":0},{"$f":"BONAFIDE.!Z896","v":0},{"$f":"BONAFIDE.!AD896","v":0},{"$f":"BONAFIDE.!AA896","v":"00:00:00"},119,"119","VI","01190VI","00VI EM"]
[{"$f":"BONAFIDE.!AB897","v":"VIEM"},{"$f":"BONAFIDE.!AE897","v":0},null,{"$f":"BONAFIDE.!X897","v":0},{"$f":"BONAFIDE.!Y897","v":0},{"$f":"BONAFIDE.!Z897","v":0},{"$f":"BONAFIDE.!AD897","v":0},{"$f":"BONAFIDE.!AA897","v":"00:00:00"},119,"119","VI","01190VI","00VI EM"]
[{"$f":"BONAFIDE.!AB898","v":"VIEM"},{"$f":"BONAFIDE.!AE898","v":0},null,{"$f":"BONAFIDE.!X898","v":0},{"$f":"BONAFIDE.!Y898","v":0},{"$f":"BONAFIDE.!Z898","v":0},{"$f":"BONAFIDE.!AD898","v":0},{"$f":"BONAFIDE.!AA898","v":"00:00:00"},119,"119","VI","01190VI","00VI EM"]
[{"$f":"BONAFIDE.!AB899","v":"VIEM"},{"$f":"BONAFIDE.!AE899","v":0},null,{"$f":"BONAFIDE.!X899","v":0},{"$f":"BONAFIDE.!Y899","v":0},{"$f":"BONAFIDE.!Z899","v":0},{"$f":"BONAFIDE.!AD899","v":0},{"$f":"BONAFIDE.!AA899","v":"00:00:00"},119,"119","VI","01190VI","00VI EM"]
[{"$f":"BONAFIDE.!AB900","v":"VIEM"},{"$f":"BONAFIDE.!AE900","v":0},null,{"$f":"BONAFIDE.!X900","v":0},{"$f":"BONAFIDE.!Y900","v":0},{"$f":"BONAFIDE.!Z900","v":0},{"$f":"BONAFIDE.!AD900","v":0},{"$f":"BONAFIDE.!AA900","v":"00:00:00"},119,"119","VI","01190VI","00VI EM"]
[{"$f":"BONAFIDE.!AB901","v":"VIEM"},{"$f":"BONAFIDE.!AE901","v":0},null,{"$f":"BONAFIDE.!X901","v":0},{"$f":"BONAFIDE.!Y901","v":0},{"$f":"BONAFIDE.!Z901","v":0},{"$f":"BONAFIDE.!AD901","v":0},{"$f":"BONAFIDE.!AA901","v":"00:00:00"},119,"119","VI","01190VI","00VI EM"]
[{"$f":"BONAFIDE.!AB902","v":"VIEM"},{"$f":"BONAFIDE.!AE902","v":0},null,{"$f":"BONAFIDE.!X902","v":0},{"$f":"BONAFIDE.!Y902","v":0},{"$f":"BONAFIDE.!Z902","v":0},{"$f":"BONAFIDE.!AD902","v":0},{"$f":"BONAFIDE.!AA902","v":"00:00:00"},119,"119","VI","01190VI","00VI EM"]
[{"$f":"BONAFIDE.!AB903","v":"VIEM"},{"$f":"BONAFIDE.!AE903","v":0},null,{"$f":"BONAFIDE.!X903","v":0},{"$f":"BONAFIDE.!Y903","v":0},{"$f":"BONAFIDE.!Z903","v":0},{"$f":"BONAFIDE.!AD903","v":0},{"$f":"BONAFIDE.!AA903","v":"00:00:00"},{"$f":"DATEDIF(H900,CUTOFFDT,\"Y\")","v":119},{"$f":"fillno(I900)","v":"119"},{"$f":"MID(A900,1,LEN(A900)-2)","v":"VI"},{"$f":"B900&J900&G900&K900","v":"01190VI"},{"$f":"B900&G900&MID(A900,1,LEN(A900)-2)&\" \" & RIGHT(A900,2)","v":"00VI EM"}]
[{"$f":"BONAFIDE.!AB904","v":"VIEM"},{"$f":"BONAFIDE.!AE904","v":0},null,{"$f":"BONAFIDE.!X904","v":0},{"$f":"BONAFIDE.!Y904","v":0},{"$f":"BONAFIDE.!Z904","v":0},{"$f":"BONAFIDE.!AD904","v":0},{"$f":"BONAFIDE.!AA904","v":"00:00:00"},119,"119","VI","01190VI","00VI EM"]
[{"$f":"BONAFIDE.!AB905","v":"VIEM"},{"$f":"BONAFIDE.!AE905","v":0},null,{"$f":"BONAFIDE.!X905","v":0},{"$f":"BONAFIDE.!Y905","v":0},{"$f":"BONAFIDE.!Z905","v":0},{"$f":"BONAFIDE.!AD905","v":0},{"$f":"BONAFIDE.!AA905","v":"00:00:00"},119,"119","VI","01190VI","00VI EM"]
[{"$f":"BONAFIDE.!AB906","v":"VIEM"},{"$f":"BONAFIDE.!AE906","v":0},null,{"$f":"BONAFIDE.!X906","v":0},{"$f":"BONAFIDE.!Y906","v":0},{"$f":"BONAFIDE.!Z906","v":0},{"$f":"BONAFIDE.!AD906","v":0},{"$f":"BONAFIDE.!AA906","v":"00:00:00"},119,"119","VI","01190VI","00VI EM"]
[{"$f":"BONAFIDE.!AB907","v":"VIEM"},{"$f":"BONAFIDE.!AE907","v":0},null,{"$f":"BONAFIDE.!X907","v":0},{"$f":"BONAFIDE.!Y907","v":0},{"$f":"BONAFIDE.!Z907","v":0},{"$f":"BONAFIDE.!AD907","v":0},{"$f":"BONAFIDE.!AA907","v":"00:00:00"},119,"119","VI","01190VI","00VI EM"]
[{"$f":"BONAFIDE.!AB908","v":"VIEM"},{"$f":"BONAFIDE.!AE908","v":0},null,{"$f":"BONAFIDE.!X908","v":0},{"$f":"BONAFIDE.!Y908","v":0},{"$f":"BONAFIDE.!Z908","v":0},{"$f":"BONAFIDE.!AD908","v":0},{"$f":"BONAFIDE.!AA908","v":"00:00:00"},119,"119","VI","01190VI","00VI EM"]
[{"$f":"BONAFIDE.!AB909","v":"VIEM"},{"$f":"BONAFIDE.!AE909","v":0},null,{"$f":"BONAFIDE.!X909","v":0},{"$f":"BONAFIDE.!Y909","v":0},{"$f":"BONAFIDE.!Z909","v":0},{"$f":"BONAFIDE.!AD909","v":0},{"$f":"BONAFIDE.!AA909","v":"00:00:00"},119,"119","VI","01190VI","00VI EM"]
[{"$f":"BONAFIDE.!AB910","v":"VIEM"},{"$f":"BONAFIDE.!AE910","v":0},null,{"$f":"BONAFIDE.!X910","v":0},{"$f":"BONAFIDE.!Y910","v":0},{"$f":"BONAFIDE.!Z910","v":0},{"$f":"BONAFIDE.!AD910","v":0},{"$f":"BONAFIDE.!AA910","v":"00:00:00"},119,"119","VI","01190VI","00VI EM"]
[{"$f":"BONAFIDE.!AB911","v":"00:00:00"},{"$f":"BONAFIDE.!AE911","v":0},null,{"$f":"BONAFIDE.!X911","v":0},{"$f":"BONAFIDE.!Y911","v":0},{"$f":"BONAFIDE.!Z911","v":0},{"$f":"BONAFIDE.!AD911","v":0},{"$f":"BONAFIDE.!AA911","v":"00:00:00"},119,"119",{"$error":"#VALUE!"},{"$error":"#VALUE!"},{"$error":"#VALUE!"}]
[{"$f":"BONAFIDE.!AB912","v":"VIIEM"},{"$f":"BONAFIDE.!AE912","v":0},null,{"$f":"BONAFIDE.!X912","v":0},{"$f":"BONAFIDE.!Y912","v":0},{"$f":"BONAFIDE.!Z912","v":0},{"$f":"BONAFIDE.!AD912","v":0},{"$f":"BONAFIDE.!AA912","v":"00:00:00"},119,"119","VII","01190VII","00VII EM"]
[{"$f":"BONAFIDE.!AB913","v":"VIIEM"},{"$f":"BONAFIDE.!AE913","v":0},null,{"$f":"BONAFIDE.!X913","v":0},{"$f":"BONAFIDE.!Y913","v":0},{"$f":"BONAFIDE.!Z913","v":0},{"$f":"BONAFIDE.!AD913","v":0},{"$f":"BONAFIDE.!AA913","v":"00:00:00"},119,"119","VII","01190VII","00VII EM"]
[{"$f":"BONAFIDE.!AB914","v":"VIIEM"},{"$f":"BONAFIDE.!AE914","v":0},null,{"$f":"BONAFIDE.!X914","v":0},{"$f":"BONAFIDE.!Y914","v":0},{"$f":"BONAFIDE.!Z914","v":0},{"$f":"BONAFIDE.!AD914","v":0},{"$f":"BONAFIDE.!AA914","v":"00:00:00"},119,"119","VII","01190VII","00VII EM"]
[{"$f":"BONAFIDE.!AB915","v":"VIIEM"},{"$f":"BONAFIDE.!AE915","v":0},null,{"$f":"BONAFIDE.!X915","v":0},{"$f":"BONAFIDE.!Y915","v":0},{"$f":"BONAFIDE.!Z915","v":0},{"$f":"BONAFIDE.!AD915","v":0},{"$f":"BONAFIDE.!AA915","v":"00:00:00"},119,"119","VII","01190VII","00VII EM"]
[{"$f":"BONAFIDE.!AB916","v":"VIIEM"},{"$f":"BONAFIDE.!AE916","v":0},null,{"$f":"BONAFIDE.!X916","v":0},{"$f":"BONAFIDE.!Y916","v":0},{"$f":"BONAFIDE.!Z916","v":0},{"$f":"BONAFIDE.!AD916","v":0},{"$f":"BONAFIDE.!AA916","v":"00:00:00"},119,"119","VII","01190VII","00VII EM"]
[{"$f":"BONAFIDE.!AB917","v":"VIIEM"},{"$f":"BONAFIDE.!AE917","v":0},null,{"$f":"BONAFIDE.!X917","v":0},{"$f":"BONAFIDE.!Y917","v":0},{"$f":"BONAFIDE.!Z917","v":0},{"$f":"BONAFIDE.!AD917","v":0},{"$f":"BONAFIDE.!AA917","v":"00:00:00"},119,"119","VII","01190VII","00VII EM"]
[{"$f":"BONAFIDE.!AB918","v":"VIIEM"},{"$f":"BONAFIDE.!AE918","v":0},null,{"$f":"BONAFIDE.!X918","v":0},{"$f":"BONAFIDE.!Y918","v":0},{"$f":"BONAFIDE.!Z918","v":0},{"$f":"BONAFIDE.!AD918","v":0},{"$f":"BONAFIDE.!AA918","v":"00:00:00"},119,"119","VII","01190VII","00VII EM"]
[{"$f":"BONAFIDE.!AB919","v":"VIIEM"},{"$f":"BONAFIDE.!AE919","v":0},null,{"$f":"BONAFIDE.!X919","v":0},{"$f":"BONAFIDE.!Y919","v":0},{"$f":"BONAFIDE.!Z919","v":0},{"$f":"BONAFIDE.!AD919","v":0},{"$f":"BONAFIDE.!AA919","v":"00:00:00"},119,"119","VII","01190VII","00VII EM"]
[{"$f":"BONAFIDE.!AB920","v":"VIIEM"},{"$f":"BONAFIDE.!AE920","v":0},null,{"$f":"BONAFIDE.!X920","v":0},{"$f":"BONAFIDE.!Y920","v":0},{"$f":"BONAFIDE.!Z920","v":0},{"$f":"BONAFIDE.!AD920","v":0},{"$f":"BONAFIDE.!AA920","v":"00:00:00"},119,"119","VII","01190VII","00VII EM"]
[{"$f":"BONAFIDE.!AB921","v":"VIIEM"},{"$f":"BONAFIDE.!AE921","v":0},null,{"$f":"BONAFIDE.!X921","v":0},{"$f":"BONAFIDE.!Y921","v":0},{"$f":"BONAFIDE.!Z921","v":0},{"$f":"BONAFIDE.!AD921","v":0},{"$f":"BONAFIDE.!AA921","v":"00:00:00"},119,"119","VII","01190VII","00VII EM"]
[{"$f":"BONAFIDE.!AB922","v":"VIIEM"},{"$f":"BONAFIDE.!AE922","v":0},null,{"$f":"BONAFIDE.!X922","v":0},{"$f":"BONAFIDE.!Y922","v":0},{"$f":"BONAFIDE.!Z922","v":0},{"$f":"BONAFIDE.!AD922","v":0},{"$f":"BONAFIDE.!AA922","v":"00:00:00"},119,"119","VII","01190VII","00VII EM"]
[{"$f":"BONAFIDE.!AB923","v":"VIIEM"},{"$f":"BONAFIDE.!AE923","v":0},null,{"$f":"BONAFIDE.!X923","v":0},{"$f":"BONAFIDE.!Y923","v":0},{"$f":"BONAFIDE.!Z923","v":0},{"$f":"BONAFIDE.!AD923","v":0},{"$f":"BONAFIDE.!AA923","v":"00:00:00"},119,"119","VII","01190VII","00VII EM"]
[{"$f":"BONAFIDE.!AB924","v":"VIIEM"},{"$f":"BONAFIDE.!AE924","v":0},null,{"$f":"BONAFIDE.!X924","v":0},{"$f":"BONAFIDE.!Y924","v":0},{"$f":"BONAFIDE.!Z924","v":0},{"$f":"BONAFIDE.!AD924","v":0},{"$f":"BONAFIDE.!AA924","v":"00:00:00"},119,"119","VII","01190VII","00VII EM"]
[{"$f":"BONAFIDE.!AB925","v":"VIIEM"},{"$f":"BONAFIDE.!AE925","v":0},null,{"$f":"BONAFIDE.!X925","v":0},{"$f":"BONAFIDE.!Y925","v":0},{"$f":"BONAFIDE.!Z925","v":0},{"$f":"BONAFIDE.!AD925","v":0},{"$f":"BONAFIDE.!AA925","v":"00:00:00"},119,"119","VII","01190VII","00VII EM"]
[{"$f":"BONAFIDE.!AB926","v":"VIIEM"},{"$f":"BONAFIDE.!AE926","v":0},null,{"$f":"BONAFIDE.!X926","v":0},{"$f":"BONAFIDE.!Y926","v":0},{"$f":"BONAFIDE.!Z926","v":0},{"$f":"BONAFIDE.!AD926","v":0},{"$f":"BONAFIDE.!AA926","v":"00:00:00"},119,"119","VII","01190VII","00VII EM"]
[{"$f":"BONAFIDE.!AB927","v":"VIIEM"},{"$f":"BONAFIDE.!AE927","v":0},null,{"$f":"BONAFIDE.!X927","v":0},{"$f":"BONAFIDE.!Y927","v":0},{"$f":"BONAFIDE.!Z927","v":0},{"$f":"BONAFIDE.!AD927","v":0},{"$f":"BONAFIDE.!AA927","v":"00:00:00"},119,"119","VII","01190VII","00VII EM"]
[{"$f":"BONAFIDE.!AB928","v":"VIIEM"},{"$f":"BONAFIDE.!AE928","v":0},null,{"$f":"BONAFIDE.!X928","v":0},{"$f":"BONAFIDE.!Y928","v":0},{"$f":"BONAFIDE.!Z928","v":0},{"$f":"BONAFIDE.!AD928","v":0},{"$f":"BONAFIDE.!AA928","v":"00:00:00"},119,"119","VII","01190VII","00VII EM"]
[{"$f":"BONAFIDE.!AB929","v":"VIIEM"},{"$f":"BONAFIDE.!AE929","v":0},null,{"$f":"BONAFIDE.!X929","v":0},{"$f":"BONAFIDE.!Y929","v":0},{"$f":"BONAFIDE.!Z929","v":0},{"$f":"BONAFIDE.!AD929","v":0},{"$f":"BONAFIDE.!AA929","v":"00:00:00"},119,"119","VII","01190VII","00VII EM"]
[{"$f":"BONAFIDE.!AB930","v":"VIIEM"},{"$f":"BONAFIDE.!AE930","v":0},null,{"$f":"BONAFIDE.!X930","v":0},{"$f":"BONAFIDE.!Y930","v":0},{"$f":"BONAFIDE.!Z930","v":0},{"$f":"BONAFIDE.!AD930","v":0},{"$f":"BONAFIDE.!AA930","v":"00:00:00"},119,"119","VII","01190VII","00VII EM"]
[{"$f":"BONAFIDE.!AB931","v":"VIIEM"},{"$f":"BONAFIDE.!AE931","v":0},null,{"$f":"BONAFIDE.!X931","v":0},{"$f":"BONAFIDE.!Y931","v":0},{"$f":"BONAFIDE.!Z931","v":0},{"$f":"BONAFIDE.!AD931","v":0},{"$f":"BONAFIDE.!AA931","v":"00:00:00"},119,"119","VII","01190VII","00VII EM"]
[{"$f":"BONAFIDE.!AB932","v":"VIIEM"},{"$f":"BONAFIDE.!AE932","v":0},null,{"$f":"BONAFIDE.!X932","v":0},{"$f":"BONAFIDE.!Y932","v":0},{"$f":"BONAFIDE.!Z932","v":0},{"$f":"BONAFIDE.!AD932","v":0},{"$f":"BONAFIDE.!AA932","v":"00:00:00"},119,"119","VII","01190VII","00VII EM"]
[{"$f":"BONAFIDE.!AB933","v":"VIIEM"},{"$f":"BONAFIDE.!AE933","v":0},null,{"$f":"BONAFIDE.!X933","v":0},{"$f":"BONAFIDE.!Y933","v":0},{"$f":"BONAFIDE.!Z933","v":0},{"$f":"BONAFIDE.!AD933","v":0},{"$f":"BONAFIDE.!AA933","v":"00:00:00"},119,"119","VII","01190VII","00VII EM"]
[{"$f":"BONAFIDE.!AB934","v":"VIIEM"},{"$f":"BONAFIDE.!AE934","v":0},null,{"$f":"BONAFIDE.!X934","v":0},{"$f":"BONAFIDE.!Y934","v":0},{"$f":"BONAFIDE.!Z934","v":0},{"$f":"BONAFIDE.!AD934","v":0},{"$f":"BONAFIDE.!AA934","v":"00:00:00"},119,"119","VII","01190VII","00VII EM"]
[{"$f":"BONAFIDE.!AB935","v":"VIIEM"},{"$f":"BONAFIDE.!AE935","v":0},null,{"$f":"BONAFIDE.!X935","v":0},{"$f":"BONAFIDE.!Y935","v":0},{"$f":"BONAFIDE.!Z935","v":0},{"$f":"BONAFIDE.!AD935","v":0},{"$f":"BONAFIDE.!AA935","v":"00:00:00"},119,"119","VII","01190VII","00VII EM"]
[{"$f":"BONAFIDE.!AB936","v":"VIIEM"},{"$f":"BONAFIDE.!AE936","v":0},null,{"$f":"BONAFIDE.!X936","v":0},{"$f":"BONAFIDE.!Y936","v":0},{"$f":"BONAFIDE.!Z936","v":0},{"$f":"BONAFIDE.!AD936","v":0},{"$f":"BONAFIDE.!AA936","v":"00:00:00"},119,"119","VII","01190VII","00VII EM"]
[{"$f":"BONAFIDE.!AB937","v":"VIIEM"},{"$f":"BONAFIDE.!AE937","v":0},null,{"$f":"BONAFIDE.!X937","v":0},{"$f":"BONAFIDE.!Y937","v":0},{"$f":"BONAFIDE.!Z937","v":0},{"$f":"BONAFIDE.!AD937","v":0},{"$f":"BONAFIDE.!AA937","v":"00:00:00"},119,"119","VII","01190VII","00VII EM"]
[{"$f":"BONAFIDE.!AB938","v":"VIIEM"},{"$f":"BONAFIDE.!AE938","v":0},null,{"$f":"BONAFIDE.!X938","v":0},{"$f":"BONAFIDE.!Y938","v":0},{"$f":"BONAFIDE.!Z938","v":0},{"$f":"BONAFIDE.!AD938","v":0},{"$f":"BONAFIDE.!AA938","v":"00:00:00"},119,"119","VII","01190VII","00VII EM"]
[{"$f":"BONAFIDE.!AB939","v":"VIIEM"},{"$f":"BONAFIDE.!AE939","v":0},null,{"$f":"BONAFIDE.!X939","v":0},{"$f":"BONAFIDE.!Y939","v":0},{"$f":"BONAFIDE.!Z939","v":0},{"$f":"BONAFIDE.!AD939","v":0},{"$f":"BONAFIDE.!AA939","v":"00:00:00"},119,"119","VII","01190VII","00VII EM"]
[{"$f":"BONAFIDE.!AB940","v":"VIIEM"},{"$f":"BONAFIDE.!AE940","v":0},null,{"$f":"BONAFIDE.!X940","v":0},{"$f":"BONAFIDE.!Y940","v":0},{"$f":"BONAFIDE.!Z940","v":0},{"$f":"BONAFIDE.!AD940","v":0},{"$f":"BONAFIDE.!AA940","v":"00:00:00"},119,"119","VII","01190VII","00VII EM"]
[{"$f":"BONAFIDE.!AB941","v":"VIIEM"},{"$f":"BONAFIDE.!AE941","v":0},null,{"$f":"BONAFIDE.!X941","v":0},{"$f":"BONAFIDE.!Y941","v":0},{"$f":"BONAFIDE.!Z941","v":0},{"$f":"BONAFIDE.!AD941","v":0},{"$f":"BONAFIDE.!AA941","v":"00:00:00"},119,"119","VII","01190VII","00VII EM"]
[{"$f":"BONAFIDE.!AB942","v":"VIIEM"},{"$f":"BONAFIDE.!AE942","v":0},null,{"$f":"BONAFIDE.!X942","v":0},{"$f":"BONAFIDE.!Y942","v":0},{"$f":"BONAFIDE.!Z942","v":0},{"$f":"BONAFIDE.!AD942","v":0},{"$f":"BONAFIDE.!AA942","v":"00:00:00"},119,"119","VII","01190VII","00VII EM"]
[{"$f":"BONAFIDE.!AB943","v":"VIIEM"},{"$f":"BONAFIDE.!AE943","v":0},null,{"$f":"BONAFIDE.!X943","v":0},{"$f":"BONAFIDE.!Y943","v":0},{"$f":"BONAFIDE.!Z943","v":0},{"$f":"BONAFIDE.!AD943","v":0},{"$f":"BONAFIDE.!AA943","v":"00:00:00"},119,"119","VII","01190VII","00VII EM"]
[{"$f":"BONAFIDE.!AB944","v":"VIIEM"},{"$f":"BONAFIDE.!AE944","v":0},null,{"$f":"BONAFIDE.!X944","v":0},{"$f":"BONAFIDE.!Y944","v":0},{"$f":"BONAFIDE.!Z944","v":0},{"$f":"BONAFIDE.!AD944","v":0},{"$f":"BONAFIDE.!AA944","v":"00:00:00"},119,"119","VII","01190VII","00VII EM"]
[{"$f":"BONAFIDE.!AB945","v":"VIIEM"},{"$f":"BONAFIDE.!AE945","v":0},null,{"$f":"BONAFIDE.!X945","v":0},{"$f":"BONAFIDE.!Y945","v":0},{"$f":"BONAFIDE.!Z945","v":0},{"$f":"BONAFIDE.!AD945","v":0},{"$f":"BONAFIDE.!AA945","v":"00:00:00"},119,"119","VII","01190VII","00VII EM"]
[{"$f":"BONAFIDE.!AB946","v":"VIIEM"},{"$f":"BONAFIDE.!AE946","v":0},null,{"$f":"BONAFIDE.!X946","v":0},{"$f":"BONAFIDE.!Y946","v":0},{"$f":"BONAFIDE.!Z946","v":0},{"$f":"BONAFIDE.!AD946","v":0},{"$f":"BONAFIDE.!AA946","v":"00:00:00"},119,"119","VII","01190VII","00VII EM"]
[{"$f":"BONAFIDE.!AB947","v":"VIIEM"},{"$f":"BONAFIDE.!AE947","v":0},null,{"$f":"BONAFIDE.!X947","v":0},{"$f":"BONAFIDE.!Y947","v":0},{"$f":"BONAFIDE.!Z947","v":0},{"$f":"BONAFIDE.!AD947","v":0},{"$f":"BONAFIDE.!AA947","v":"00:00:00"},119,"119","VII","01190VII","00VII EM"]
[{"$f":"BONAFIDE.!AB948","v":"VIIEM"},{"$f":"BONAFIDE.!AE948","v":0},null,{"$f":"BONAFIDE.!X948","v":0},{"$f":"BONAFIDE.!Y948","v":0},{"$f":"BONAFIDE.!Z948","v":0},{"$f":"BONAFIDE.!AD948","v":0},{"$f":"BONAFIDE.!AA948","v":"00:00:00"},119,"119","VII","01190VII","00VII EM"]
[{"$f":"BONAFIDE.!AB949","v":"VIIEM"},{"$f":"BONAFIDE.!AE949","v":0},null,{"$f":"BONAFIDE.!X949","v":0},{"$f":"BONAFIDE.!Y949","v":0},{"$f":"BONAFIDE.!Z949","v":0},{"$f":"BONAFIDE.!AD949","v":0},{"$f":"BONAFIDE.!AA949","v":"00:00:00"},119,"119","VII","01190VII","00VII EM"]
[{"$f":"BONAFIDE.!AB950","v":"VIIEM"},{"$f":"BONAFIDE.!AE950","v":0},null,{"$f":"BONAFIDE.!X950","v":0},{"$f":"BONAFIDE.!Y950","v":0},{"$f":"BONAFIDE.!Z950","v":0},{"$f":"BONAFIDE.!AD950","v":0},{"$f":"BONAFIDE.!AA950","v":"00:00:00"},119,"119","VII","01190VII","00VII EM"]
[{"$f":"BONAFIDE.!AB951","v":"VIIEM"},{"$f":"BONAFIDE.!AE951","v":0},null,{"$f":"BONAFIDE.!X951","v":0},{"$f":"BONAFIDE.!Y951","v":0},{"$f":"BONAFIDE.!Z951","v":0},{"$f":"BONAFIDE.!AD951","v":0},{"$f":"BONAFIDE.!AA951","v":"00:00:00"},119,"119","VII","01190VII","00VII EM"]
[{"$f":"BONAFIDE.!AB952","v":"VIIEM"},{"$f":"BONAFIDE.!AE952","v":0},null,{"$f":"BONAFIDE.!X952","v":0},{"$f":"BONAFIDE.!Y952","v":0},{"$f":"BONAFIDE.!Z952","v":0},{"$f":"BONAFIDE.!AD952","v":0},{"$f":"BONAFIDE.!AA952","v":"00:00:00"},119,"119","VII","01190VII","00VII EM"]
[{"$f":"BONAFIDE.!AB953","v":"VIIEM"},{"$f":"BONAFIDE.!AE953","v":0},null,{"$f":"BONAFIDE.!X953","v":0},{"$f":"BONAFIDE.!Y953","v":0},{"$f":"BONAFIDE.!Z953","v":0},{"$f":"BONAFIDE.!AD953","v":0},{"$f":"BONAFIDE.!AA953","v":"00:00:00"},119,"119","VII","01190VII","00VII EM"]
[{"$f":"BONAFIDE.!AB954","v":"VIIEM"},{"$f":"BONAFIDE.!AE954","v":0},null,{"$f":"BONAFIDE.!X954","v":0},{"$f":"BONAFIDE.!Y954","v":0},{"$f":"BONAFIDE.!Z954","v":0},{"$f":"BONAFIDE.!AD954","v":0},{"$f":"BONAFIDE.!AA954","v":"00:00:00"},119,"119","VII","01190VII","00VII EM"]
[{"$f":"BONAFIDE.!AB955","v":"VIIEM"},{"$f":"BONAFIDE.!AE955","v":0},null,{"$f":"BONAFIDE.!X955","v":0},{"$f":"BONAFIDE.!Y955","v":0},{"$f":"BONAFIDE.!Z955","v":0},{"$f":"BONAFIDE.!AD955","v":0},{"$f":"BONAFIDE.!AA955","v":"00:00:00"},119,"119","VII","01190VII","00VII EM"]
[{"$f":"BONAFIDE.!AB956","v":"VIIEM"},{"$f":"BONAFIDE.!AE956","v":0},null,{"$f":"BONAFIDE.!X956","v":0},{"$f":"BONAFIDE.!Y956","v":0},{"$f":"BONAFIDE.!Z956","v":0},{"$f":"BONAFIDE.!AD956","v":0},{"$f":"BONAFIDE.!AA956","v":"00:00:00"},119,"119","VII","01190VII","00VII EM"]
[{"$f":"BONAFIDE.!AB957","v":"VIIEM"},{"$f":"BONAFIDE.!AE957","v":0},null,{"$f":"BONAFIDE.!X957","v":0},{"$f":"BONAFIDE.!Y957","v":0},{"$f":"BONAFIDE.!Z957","v":0},{"$f":"BONAFIDE.!AD957","v":0},{"$f":"BONAFIDE.!AA957","v":"00:00:00"},119,"119","VII","01190VII","00VII EM"]
[{"$f":"BONAFIDE.!AB958","v":"VIIEM"},{"$f":"BONAFIDE.!AE958","v":0},null,{"$f":"BONAFIDE.!X958","v":0},{"$f":"BONAFIDE.!Y958","v":0},{"$f":"BONAFIDE.!Z958","v":0},{"$f":"BONAFIDE.!AD958","v":0},{"$f":"BONAFIDE.!AA958","v":"00:00:00"},119,"119","VII","01190VII","00VII EM"]
[{"$f":"BONAFIDE.!AB959","v":"VIIEM"},{"$f":"BONAFIDE.!AE959","v":0},null,{"$f":"BONAFIDE.!X959","v":0},{"$f":"BONAFIDE.!Y959","v":0},{"$f":"BONAFIDE.!Z959","v":0},{"$f":"BONAFIDE.!AD959","v":0},{"$f":"BONAFIDE.!AA959","v":"00:00:00"},119,"119","VII","01190VII","00VII EM"]
[{"$f":"BONAFIDE.!AB960","v":"VIIEM"},{"$f":"BONAFIDE.!AE960","v":0},null,{"$f":"BONAFIDE.!X960","v":0},{"$f":"BONAFIDE.!Y960","v":0},{"$f":"BONAFIDE.!Z960","v":0},{"$f":"BONAFIDE.!AD960","v":0},{"$f":"BONAFIDE.!AA960","v":"00:00:00"},119,"119","VII","01190VII","00VII EM"]
[{"$f":"BONAFIDE.!AB961","v":"VIIEM"},{"$f":"BONAFIDE.!AE961","v":0},null,{"$f":"BONAFIDE.!X961","v":0},{"$f":"BONAFIDE.!Y961","v":0},{"$f":"BONAFIDE.!Z961","v":0},{"$f":"BONAFIDE.!AD961","v":0},{"$f":"BONAFIDE.!AA961","v":"00:00:00"},119,"119","VII","01190VII","00VII EM"]
[{"$f":"BONAFIDE.!AB962","v":"VIIEM"},{"$f":"BONAFIDE.!AE962","v":0},null,{"$f":"BONAFIDE.!X962","v":0},{"$f":"BONAFIDE.!Y962","v":0},{"$f":"BONAFIDE.!Z962","v":0},{"$f":"BONAFIDE.!AD962","v":0},{"$f":"BONAFIDE.!AA962","v":"00:00:00"},119,"119","VII","01190VII","00VII EM"]
[{"$f":"BONAFIDE.!AB963","v":"VIIEM"},{"$f":"BONAFIDE.!AE963","v":0},null,{"$f":"BONAFIDE.!X963","v":0},{"$f":"BONAFIDE.!Y963","v":0},{"$f":"BONAFIDE.!Z963","v":0},{"$f":"BONAFIDE.!AD963","v":0},{"$f":"BONAFIDE.!AA963","v":"00:00:00"},119,"119","VII","01190VII","00VII EM"]
[{"$f":"BONAFIDE.!AB964","v":"VIIEM"},{"$f":"BONAFIDE.!AE964","v":0},null,{"$f":"BONAFIDE.!X964","v":0},{"$f":"BONAFIDE.!Y964","v":0},{"$f":"BONAFIDE.!Z964","v":0},{"$f":"BONAFIDE.!AD964","v":0},{"$f":"BONAFIDE.!AA964","v":"00:00:00"},119,"119","VII","01190VII","00VII EM"]
[{"$f":"BONAFIDE.!AB965","v":"VIIEM"},{"$f":"BONAFIDE.!AE965","v":0},null,{"$f":"BONAFIDE.!X965","v":0},{"$f":"BONAFIDE.!Y965","v":0},{"$f":"BONAFIDE.!Z965","v":0},{"$f":"BONAFIDE.!AD965","v":0},{"$f":"BONAFIDE.!AA965","v":"00:00:00"},119,"119","VII","01190VII","00VII EM"]
[{"$f":"BONAFIDE.!AB966","v":"VIIEM"},{"$f":"BONAFIDE.!AE966","v":0},null,{"$f":"BONAFIDE.!X966","v":0},{"$f":"BONAFIDE.!Y966","v":0},{"$f":"BONAFIDE.!Z966","v":0},{"$f":"BONAFIDE.!AD966","v":0},{"$f":"BONAFIDE.!AA966","v":"00:00:00"},119,"119","VII","01190VII","00VII EM"]
[{"$f":"BONAFIDE.!AB967","v":"VIIEM"},{"$f":"BONAFIDE.!AE967","v":0},null,{"$f":"BONAFIDE.!X967","v":0},{"$f":"BONAFIDE.!Y967","v":0},{"$f":"BONAFIDE.!Z967","v":0},{"$f":"BONAFIDE.!AD967","v":0},{"$f":"BONAFIDE.!AA967","v":"00:00:00"},{"$f":"DATEDIF(H964,CUTOFFDT,\"Y\")","v":119},{"$f":"fillno(I964)","v":"119"},{"$f":"MID(A964,1,LEN(A964)-2)","v":"VII"},{"$f":"B964&J964&G964&K964","v":"01190VII"},{"$f":"B964&G964&MID(A964,1,LEN(A964)-2)&\" \" & RIGHT(A964,2)","v":"00VII EM"}]
[{"$f":"BONAFIDE.!AB968","v":"VIIEM"},{"$f":"BONAFIDE.!AE968","v":0},null,{"$f":"BONAFIDE.!X968","v":0},{"$f":"BONAFIDE.!Y968","v":0},{"$f":"BONAFIDE.!Z968","v":0},{"$f":"BONAFIDE.!AD968","v":0},{"$f":"BONAFIDE.!AA968","v":"00:00:00"},119,"119","VII","01190VII","00VII EM"]
[{"$f":"BONAFIDE.!AB969","v":"VIIEM"},{"$f":"BONAFIDE.!AE969","v":0},null,{"$f":"BONAFIDE.!X969","v":0},{"$f":"BONAFIDE.!Y969","v":0},{"$f":"BONAFIDE.!Z969","v":0},{"$f":"BONAFIDE.!AD969","v":0},{"$f":"BONAFIDE.!AA969","v":"00:00:00"},119,"119","VII","01190VII","00VII EM"]
[{"$f":"BONAFIDE.!AB970","v":"VIIEM"},{"$f":"BONAFIDE.!AE970","v":0},null,{"$f":"BONAFIDE.!X970","v":0},{"$f":"BONAFIDE.!Y970","v":0},{"$f":"BONAFIDE.!Z970","v":0},{"$f":"BONAFIDE.!AD970","v":0},{"$f":"BONAFIDE.!AA970","v":"00:00:00"},119,"119","VII","01190VII","00VII EM"]
[{"$f":"BONAFIDE.!AB971","v":"VIIEM"},{"$f":"BONAFIDE.!AE971","v":0},null,{"$f":"BONAFIDE.!X971","v":0},{"$f":"BONAFIDE.!Y971","v":0},{"$f":"BONAFIDE.!Z971","v":0},{"$f":"BONAFIDE.!AD971","v":0},{"$f":"BONAFIDE.!AA971","v":"00:00:00"},119,"119","VII","01190VII","00VII EM"]
[{"$f":"BONAFIDE.!AB972","v":"VIIEM"},{"$f":"BONAFIDE.!AE972","v":0},null,{"$f":"BONAFIDE.!X972","v":0},{"$f":"BONAFIDE.!Y972","v":0},{"$f":"BONAFIDE.!Z972","v":0},{"$f":"BONAFIDE.!AD972","v":0},{"$f":"BONAFIDE.!AA972","v":"00:00:00"},119,"119","VII","01190VII","00VII EM"]
[{"$f":"BONAFIDE.!AB973","v":"VIIEM"},{"$f":"BONAFIDE.!AE973","v":0},null,{"$f":"BONAFIDE.!X973","v":0},{"$f":"BONAFIDE.!Y973","v":0},{"$f":"BONAFIDE.!Z973","v":0},{"$f":"BONAFIDE.!AD973","v":0},{"$f":"BONAFIDE.!AA973","v":"00:00:00"},119,"119","VII","01190VII","00VII EM"]
[{"$f":"BONAFIDE.!AB974","v":"VIIEM"},{"$f":"BONAFIDE.!AE974","v":0},null,{"$f":"BONAFIDE.!X974","v":0},{"$f":"BONAFIDE.!Y974","v":0},{"$f":"BONAFIDE.!Z974","v":0},{"$f":"BONAFIDE.!AD974","v":0},{"$f":"BONAFIDE.!AA974","v":"00:00:00"},119,"119","VII","01190VII","00VII EM"]
[{"$f":"BONAFIDE.!AB975","v":"VIIEM"},{"$f":"BONAFIDE.!AE975","v":0},null,{"$f":"BONAFIDE.!X975","v":0},{"$f":"BONAFIDE.!Y975","v":0},{"$f":"BONAFIDE.!Z975","v":0},{"$f":"BONAFIDE.!AD975","v":0},{"$f":"BONAFIDE.!AA975","v":"00:00:00"},119,"119","VII","01190VII","00VII EM"]
[{"$f":"BONAFIDE.!AB976","v":"VIIEM"},{"$f":"BONAFIDE.!AE976","v":0},null,{"$f":"BONAFIDE.!X976","v":0},{"$f":"BONAFIDE.!Y976","v":0},{"$f":"BONAFIDE.!Z976","v":0},{"$f":"BONAFIDE.!AD976","v":0},{"$f":"BONAFIDE.!AA976","v":"00:00:00"},119,"119","VII","01190VII","00VII EM"]
[{"$f":"BONAFIDE.!AB977","v":"VIIEM"},{"$f":"BONAFIDE.!AE977","v":0},null,{"$f":"BONAFIDE.!X977","v":0},{"$f":"BONAFIDE.!Y977","v":0},{"$f":"BONAFIDE.!Z977","v":0},{"$f":"BONAFIDE.!AD977","v":0},{"$f":"BONAFIDE.!AA977","v":"00:00:00"},119,"119","VII","01190VII","00VII EM"]
[{"$f":"BONAFIDE.!AB978","v":"VIIEM"},{"$f":"BONAFIDE.!AE978","v":0},null,{"$f":"BONAFIDE.!X978","v":0},{"$f":"BONAFIDE.!Y978","v":0},{"$f":"BONAFIDE.!Z978","v":0},{"$f":"BONAFIDE.!AD978","v":0},{"$f":"BONAFIDE.!AA978","v":"00:00:00"},119,"119","VII","01190VII","00VII EM"]
[{"$f":"BONAFIDE.!AB979","v":"VIIEM"},{"$f":"BONAFIDE.!AE979","v":0},null,{"$f":"BONAFIDE.!X979","v":0},{"$f":"BONAFIDE.!Y979","v":0},{"$f":"BONAFIDE.!Z979","v":0},{"$f":"BONAFIDE.!AD979","v":0},{"$f":"BONAFIDE.!AA979","v":"00:00:00"},119,"119","VII","01190VII","00VII EM"]
[{"$f":"BONAFIDE.!AB980","v":"VIIEM"},{"$f":"BONAFIDE.!AE980","v":0},null,{"$f":"BONAFIDE.!X980","v":0},{"$f":"BONAFIDE.!Y980","v":0},{"$f":"BONAFIDE.!Z980","v":0},{"$f":"BONAFIDE.!AD980","v":0},{"$f":"BONAFIDE.!AA980","v":"00:00:00"},119,"119","VII","01190VII","00VII EM"]
[{"$f":"BONAFIDE.!AB981","v":"VIIEM"},{"$f":"BONAFIDE.!AE981","v":0},null,{"$f":"BONAFIDE.!X981","v":0},{"$f":"BONAFIDE.!Y981","v":0},{"$f":"BONAFIDE.!Z981","v":0},{"$f":"BONAFIDE.!AD981","v":0},{"$f":"BONAFIDE.!AA981","v":"00:00:00"},119,"119","VII","01190VII","00VII EM"]
[{"$f":"BONAFIDE.!AB982","v":"VIIEM"},{"$f":"BONAFIDE.!AE982","v":0},null,{"$f":"BONAFIDE.!X982","v":0},{"$f":"BONAFIDE.!Y982","v":0},{"$f":"BONAFIDE.!Z982","v":0},{"$f":"BONAFIDE.!AD982","v":0},{"$f":"BONAFIDE.!AA982","v":"00:00:00"},119,"119","VII","01190VII","00VII EM"]
[{"$f":"BONAFIDE.!AB983","v":"VIIEM"},{"$f":"BONAFIDE.!AE983","v":0},null,{"$f":"BONAFIDE.!X983","v":0},{"$f":"BONAFIDE.!Y983","v":0},{"$f":"BONAFIDE.!Z983","v":0},{"$f":"BONAFIDE.!AD983","v":0},{"$f":"BONAFIDE.!AA983","v":"00:00:00"},119,"119","VII","01190VII","00VII EM"]
[{"$f":"BONAFIDE.!AB984","v":"VIIEM"},{"$f":"BONAFIDE.!AE984","v":0},null,{"$f":"BONAFIDE.!X984","v":0},{"$f":"BONAFIDE.!Y984","v":0},{"$f":"BONAFIDE.!Z984","v":0},{"$f":"BONAFIDE.!AD984","v":0},{"$f":"BONAFIDE.!AA984","v":"00:00:00"},119,"119","VII","01190VII","00VII EM"]
[{"$f":"BONAFIDE.!AB985","v":"VIIEM"},{"$f":"BONAFIDE.!AE985","v":0},null,{"$f":"BONAFIDE.!X985","v":0},{"$f":"BONAFIDE.!Y985","v":0},{"$f":"BONAFIDE.!Z985","v":0},{"$f":"BONAFIDE.!AD985","v":0},{"$f":"BONAFIDE.!AA985","v":"00:00:00"},119,"119","VII","01190VII","00VII EM"]
[{"$f":"BONAFIDE.!AB986","v":"VIIEM"},{"$f":"BONAFIDE.!AE986","v":0},null,{"$f":"BONAFIDE.!X986","v":0},{"$f":"BONAFIDE.!Y986","v":0},{"$f":"BONAFIDE.!Z986","v":0},{"$f":"BONAFIDE.!AD986","v":0},{"$f":"BONAFIDE.!AA986","v":"00:00:00"},119,"119","VII","01190VII","00VII EM"]
[{"$f":"BONAFIDE.!AB987","v":"VIIEM"},{"$f":"BONAFIDE.!AE987","v":0},null,{"$f":"BONAFIDE.!X987","v":0},{"$f":"BONAFIDE.!Y987","v":0},{"$f":"BONAFIDE.!Z987","v":0},{"$f":"BONAFIDE.!AD987","v":0},{"$f":"BONAFIDE.!AA987","v":"00:00:00"},119,"119","VII","01190VII","00VII EM"]
[{"$f":"BONAFIDE.!AB988","v":"VIIEM"},{"$f":"BONAFIDE.!AE988","v":0},null,{"$f":"BONAFIDE.!X988","v":0},{"$f":"BONAFIDE.!Y988","v":0},{"$f":"BONAFIDE.!Z988","v":0},{"$f":"BONAFIDE.!AD988","v":0},{"$f":"BONAFIDE.!AA988","v":"00:00:00"},119,"119","VII","01190VII","00VII EM"]
[{"$f":"BONAFIDE.!AB989","v":"VIIEM"},{"$f":"BONAFIDE.!AE989","v":0},null,{"$f":"BONAFIDE.!X989","v":0},{"$f":"BONAFIDE.!Y989","v":0},{"$f":"BONAFIDE.!Z989","v":0},{"$f":"BONAFIDE.!AD989","v":0},{"$f":"BONAFIDE.!AA989","v":"00:00:00"},119,"119","VII","01190VII","00VII EM"]
[{"$f":"BONAFIDE.!AB990","v":"VIIEM"},{"$f":"BONAFIDE.!AE990","v":0},null,{"$f":"BONAFIDE.!X990","v":0},{"$f":"BONAFIDE.!Y990","v":0},{"$f":"BONAFIDE.!Z990","v":0},{"$f":"BONAFIDE.!AD990","v":0},{"$f":"BONAFIDE.!AA990","v":"00:00:00"},119,"119","VII","01190VII","00VII EM"]
[{"$f":"BONAFIDE.!AB991","v":"VIIEM"},{"$f":"BONAFIDE.!AE991","v":0},null,{"$f":"BONAFIDE.!X991","v":0},{"$f":"BONAFIDE.!Y991","v":0},{"$f":"BONAFIDE.!Z991","v":0},{"$f":"BONAFIDE.!AD991","v":0},{"$f":"BONAFIDE.!AA991","v":"00:00:00"},119,"119","VII","01190VII","00VII EM"]
[{"$f":"BONAFIDE.!AB992","v":"VIIEM"},{"$f":"BONAFIDE.!AE992","v":0},null,{"$f":"BONAFIDE.!X992","v":0},{"$f":"BONAFIDE.!Y992","v":0},{"$f":"BONAFIDE.!Z992","v":0},{"$f":"BONAFIDE.!AD992","v":0},{"$f":"BONAFIDE.!AA992","v":"00:00:00"},119,"119","VII","01190VII","00VII EM"]
[{"$f":"BONAFIDE.!AB993","v":"VIIEM"},{"$f":"BONAFIDE.!AE993","v":0},null,{"$f":"BONAFIDE.!X993","v":0},{"$f":"BONAFIDE.!Y993","v":0},{"$f":"BONAFIDE.!Z993","v":0},{"$f":"BONAFIDE.!AD993","v":0},{"$f":"BONAFIDE.!AA993","v":"00:00:00"},119,"119","VII","01190VII","00VII EM"]
[{"$f":"BONAFIDE.!AB994","v":"VIIEM"},{"$f":"BONAFIDE.!AE994","v":0},null,{"$f":"BONAFIDE.!X994","v":0},{"$f":"BONAFIDE.!Y994","v":0},{"$f":"BONAFIDE.!Z994","v":0},{"$f":"BONAFIDE.!AD994","v":0},{"$f":"BONAFIDE.!AA994","v":"00:00:00"},119,"119","VII","01190VII","00VII EM"]
[{"$f":"BONAFIDE.!AB995","v":"VIIEM"},{"$f":"BONAFIDE.!AE995","v":0},null,{"$f":"BONAFIDE.!X995","v":0},{"$f":"BONAFIDE.!Y995","v":0},{"$f":"BONAFIDE.!Z995","v":0},{"$f":"BONAFIDE.!AD995","v":0},{"$f":"BONAFIDE.!AA995","v":"00:00:00"},119,"119","VII","01190VII","00VII EM"]
[{"$f":"BONAFIDE.!AB996","v":"VIIEM"},{"$f":"BONAFIDE.!AE996","v":0},null,{"$f":"BONAFIDE.!X996","v":0},{"$f":"BONAFIDE.!Y996","v":0},{"$f":"BONAFIDE.!Z996","v":0},{"$f":"BONAFIDE.!AD996","v":0},{"$f":"BONAFIDE.!AA996","v":"00:00:00"},119,"119","VII","01190VII","00VII EM"]
[{"$f":"BONAFIDE.!AB997","v":"VIIEM"},{"$f":"BONAFIDE.!AE997","v":0},null,{"$f":"BONAFIDE.!X997","v":0},{"$f":"BONAFIDE.!Y997","v":0},{"$f":"BONAFIDE.!Z997","v":0},{"$f":"BONAFIDE.!AD997","v":0},{"$f":"BONAFIDE.!AA997","v":"00:00:00"},119,"119","VII","01190VII","00VII EM"]
[{"$f":"BONAFIDE.!AB998","v":"VIIEM"},{"$f":"BONAFIDE.!AE998","v":0},null,{"$f":"BONAFIDE.!X998","v":0},{"$f":"BONAFIDE.!Y998","v":0},{"$f":"BONAFIDE.!Z998","v":0},{"$f":"BONAFIDE.!AD998","v":0},{"$f":"BONAFIDE.!AA998","v":"00:00:00"},119,"119","VII","01190VII","00VII EM"]
[{"$f":"BONAFIDE.!AB999","v":"VIIEM"},{"$f":"BONAFIDE.!AE999","v":0},null,{"$f":"BONAFIDE.!X999","v":0},{"$f":"BONAFIDE.!Y999","v":0},{"$f":"BONAFIDE.!Z999","v":0},{"$f":"BONAFIDE.!AD999","v":0},{"$f":"BONAFIDE.!AA999","v":"00:00:00"},119,"119","VII","01190VII","00VII EM"]
[{"$f":"BONAFIDE.!AB1000","v":"VIIEM"},{"$f":"BONAFIDE.!AE1000","v":0},null,{"$f":"BONAFIDE.!X1000","v":0},{"$f":"BONAFIDE.!Y1000","v":0},{"$f":"BONAFIDE.!Z1000","v":0},{"$f":"BONAFIDE.!AD1000","v":0},{"$f":"BONAFIDE.!AA1000","v":"00:00:00"},119,"119","VII","01190VII","00VII EM"]
[{"$f":"BONAFIDE.!AB1001","v":"VIIEM"},{"$f":"BONAFIDE.!AE1001","v":0},null,{"$f":"BONAFIDE.!X1001","v":0},{"$f":"BONAFIDE.!Y1001","v":0},{"$f":"BONAFIDE.!Z1001","v":0},{"$f":"BONAFIDE.!AD1001","v":0},{"$f":"BONAFIDE.!AA1001","v":"00:00:00"},119,"119","VII","01190VII","00VII EM"]
[{"$f":"BONAFIDE.!AB1002","v":"VIIEM"},{"$f":"BONAFIDE.!AE1002","v":0},null,{"$f":"BONAFIDE.!X1002","v":0},{"$f":"BONAFIDE.!Y1002","v":0},{"$f":"BONAFIDE.!Z1002","v":0},{"$f":"BONAFIDE.!AD1002","v":0},{"$f":"BONAFIDE.!AA1002","v":"00:00:00"},119,"119","VII","01190VII","00VII EM"]
[{"$f":"BONAFIDE.!AB1003","v":"VIIEM"},{"$f":"BONAFIDE.!AE1003","v":0},null,{"$f":"BONAFIDE.!X1003","v":0},{"$f":"BONAFIDE.!Y1003","v":0},{"$f":"BONAFIDE.!Z1003","v":0},{"$f":"BONAFIDE.!AD1003","v":0},{"$f":"BONAFIDE.!AA1003","v":"00:00:00"},119,"119","VII","01190VII","00VII EM"]
[{"$f":"BONAFIDE.!AB1004","v":"VIIEM"},{"$f":"BONAFIDE.!AE1004","v":0},null,{"$f":"BONAFIDE.!X1004","v":0},{"$f":"BONAFIDE.!Y1004","v":0},{"$f":"BONAFIDE.!Z1004","v":0},{"$f":"BONAFIDE.!AD1004","v":0},{"$f":"BONAFIDE.!AA1004","v":"00:00:00"},119,"119","VII","01190VII","00VII EM"]
[{"$f":"BONAFIDE.!AB1005","v":"VIIEM"},{"$f":"BONAFIDE.!AE1005","v":0},null,{"$f":"BONAFIDE.!X1005","v":0},{"$f":"BONAFIDE.!Y1005","v":0},{"$f":"BONAFIDE.!Z1005","v":0},{"$f":"BONAFIDE.!AD1005","v":0},{"$f":"BONAFIDE.!AA1005","v":"00:00:00"},119,"119","VII","01190VII","00VII EM"]
[{"$f":"BONAFIDE.!AB1006","v":"VIIEM"},{"$f":"BONAFIDE.!AE1006","v":0},null,{"$f":"BONAFIDE.!X1006","v":0},{"$f":"BONAFIDE.!Y1006","v":0},{"$f":"BONAFIDE.!Z1006","v":0},{"$f":"BONAFIDE.!AD1006","v":0},{"$f":"BONAFIDE.!AA1006","v":"00:00:00"},119,"119","VII","01190VII","00VII EM"]
[{"$f":"BONAFIDE.!AB1007","v":"VIIEM"},{"$f":"BONAFIDE.!AE1007","v":0},null,{"$f":"BONAFIDE.!X1007","v":0},{"$f":"BONAFIDE.!Y1007","v":0},{"$f":"BONAFIDE.!Z1007","v":0},{"$f":"BONAFIDE.!AD1007","v":0},{"$f":"BONAFIDE.!AA1007","v":"00:00:00"},119,"119","VII","01190VII","00VII EM"]
[{"$f":"BONAFIDE.!AB1008","v":"VIIEM"},{"$f":"BONAFIDE.!AE1008","v":0},null,{"$f":"BONAFIDE.!X1008","v":0},{"$f":"BONAFIDE.!Y1008","v":0},{"$f":"BONAFIDE.!Z1008","v":0},{"$f":"BONAFIDE.!AD1008","v":0},{"$f":"BONAFIDE.!AA1008","v":"00:00:00"},119,"119","VII","01190VII","00VII EM"]
[{"$f":"BONAFIDE.!AB1009","v":"VIIEM"},{"$f":"BONAFIDE.!AE1009","v":0},null,{"$f":"BONAFIDE.!X1009","v":0},{"$f":"BONAFIDE.!Y1009","v":0},{"$f":"BONAFIDE.!Z1009","v":0},{"$f":"BONAFIDE.!AD1009","v":0},{"$f":"BONAFIDE.!AA1009","v":"00:00:00"},119,"119","VII","01190VII","00VII EM"]
[{"$f":"BONAFIDE.!AB1010","v":"VIIEM"},{"$f":"BONAFIDE.!AE1010","v":0},null,{"$f":"BONAFIDE.!X1010","v":0},{"$f":"BONAFIDE.!Y1010","v":0},{"$f":"BONAFIDE.!Z1010","v":0},{"$f":"BONAFIDE.!AD1010","v":0},{"$f":"BONAFIDE.!AA1010","v":"00:00:00"},119,"119","VII","01190VII","00VII EM"]
[{"$f":"BONAFIDE.!AB1011","v":"VIIEM"},{"$f":"BONAFIDE.!AE1011","v":0},null,{"$f":"BONAFIDE.!X1011","v":0},{"$f":"BONAFIDE.!Y1011","v":0},{"$f":"BONAFIDE.!Z1011","v":0},{"$f":"BONAFIDE.!AD1011","v":0},{"$f":"BONAFIDE.!AA1011","v":"00:00:00"},119,"119","VII","01190VII","00VII EM"]
[{"$f":"BONAFIDE.!AB1012","v":"VIIEM"},{"$f":"BONAFIDE.!AE1012","v":0},null,{"$f":"BONAFIDE.!X1012","v":0},{"$f":"BONAFIDE.!Y1012","v":0},{"$f":"BONAFIDE.!Z1012","v":0},{"$f":"BONAFIDE.!AD1012","v":0},{"$f":"BONAFIDE.!AA1012","v":"00:00:00"},119,"119","VII","01190VII","00VII EM"]
[{"$f":"BONAFIDE.!AB1013","v":"VIIEM"},{"$f":"BONAFIDE.!AE1013","v":0},null,{"$f":"BONAFIDE.!X1013","v":0},{"$f":"BONAFIDE.!Y1013","v":0},{"$f":"BONAFIDE.!Z1013","v":0},{"$f":"BONAFIDE.!AD1013","v":0},{"$f":"BONAFIDE.!AA1013","v":"00:00:00"},119,"119","VII","01190VII","00VII EM"]
[{"$f":"BONAFIDE.!AB1014","v":"VIIEM"},{"$f":"BONAFIDE.!AE1014","v":0},null,{"$f":"BONAFIDE.!X1014","v":0},{"$f":"BONAFIDE.!Y1014","v":0},{"$f":"BONAFIDE.!Z1014","v":0},{"$f":"BONAFIDE.!AD1014","v":0},{"$f":"BONAFIDE.!AA1014","v":"00:00:00"},119,"119","VII","01190VII","00VII EM"]
[{"$f":"BONAFIDE.!AB1015","v":"VIIEM"},{"$f":"BONAFIDE.!AE1015","v":0},null,{"$f":"BONAFIDE.!X1015","v":0},{"$f":"BONAFIDE.!Y1015","v":0},{"$f":"BONAFIDE.!Z1015","v":0},{"$f":"BONAFIDE.!AD1015","v":0},{"$f":"BONAFIDE.!AA1015","v":"00:00:00"},119,"119","VII","01190VII","00VII EM"]
[{"$f":"BONAFIDE.!AB1016","v":"VIIEM"},{"$f":"BONAFIDE.!AE1016","v":0},null,{"$f":"BONAFIDE.!X1016","v":0},{"$f":"BONAFIDE.!Y1016","v":0},{"$f":"BONAFIDE.!Z1016","v":0},{"$f":"BONAFIDE.!AD1016","v":0},{"$f":"BONAFIDE.!AA1016","v":"00:00:00"},119,"119","VII","01190VII","00VII EM"]
[{"$f":"BONAFIDE.!AB1017","v":"VIIEM"},{"$f":"BONAFIDE.!AE1017","v":0},null,{"$f":"BONAFIDE.!X1017","v":0},{"$f":"BONAFIDE.!Y1017","v":0},{"$f":"BONAFIDE.!Z1017","v":0},{"$f":"BONAFIDE.!AD1017","v":0},{"$f":"BONAFIDE.!AA1017","v":"00:00:00"},119,"119","VII","01190VII","00VII EM"]
[{"$f":"BONAFIDE.!AB1018","v":"VIIEM"},{"$f":"BONAFIDE.!AE1018","v":0},null,{"$f":"BONAFIDE.!X1018","v":0},{"$f":"BONAFIDE.!Y1018","v":0},{"$f":"BONAFIDE.!Z1018","v":0},{"$f":"BONAFIDE.!AD1018","v":0},{"$f":"BONAFIDE.!AA1018","v":"00:00:00"},119,"119","VII","01190VII","00VII EM"]
[{"$f":"BONAFIDE.!AB1019","v":"VIIEM"},{"$f":"BONAFIDE.!AE1019","v":0},null,{"$f":"BONAFIDE.!X1019","v":0},{"$f":"BONAFIDE.!Y1019","v":0},{"$f":"BONAFIDE.!Z1019","v":0},{"$f":"BONAFIDE.!AD1019","v":0},{"$f":"BONAFIDE.!AA1019","v":"00:00:00"},119,"119","VII","01190VII","00VII EM"]
[{"$f":"BONAFIDE.!AB1020","v":"VIIEM"},{"$f":"BONAFIDE.!AE1020","v":0},null,{"$f":"BONAFIDE.!X1020","v":0},{"$f":"BONAFIDE.!Y1020","v":0},{"$f":"BONAFIDE.!Z1020","v":0},{"$f":"BONAFIDE.!AD1020","v":0},{"$f":"BONAFIDE.!AA1020","v":"00:00:00"},119,"119","VII","01190VII","00VII EM"]
[{"$f":"BONAFIDE.!AB1021","v":"VIIEM"},{"$f":"BONAFIDE.!AE1021","v":0},null,{"$f":"BONAFIDE.!X1021","v":0},{"$f":"BONAFIDE.!Y1021","v":0},{"$f":"BONAFIDE.!Z1021","v":0},{"$f":"BONAFIDE.!AD1021","v":0},{"$f":"BONAFIDE.!AA1021","v":"00:00:00"},119,"119","VII","01190VII","00VII EM"]
[{"$f":"BONAFIDE.!AB1022","v":"VIIEM"},{"$f":"BONAFIDE.!AE1022","v":0},null,{"$f":"BONAFIDE.!X1022","v":0},{"$f":"BONAFIDE.!Y1022","v":0},{"$f":"BONAFIDE.!Z1022","v":0},{"$f":"BONAFIDE.!AD1022","v":0},{"$f":"BONAFIDE.!AA1022","v":"00:00:00"},119,"119","VII","01190VII","00VII EM"]
[{"$f":"BONAFIDE.!AB1023","v":"VIIEM"},{"$f":"BONAFIDE.!AE1023","v":0},null,{"$f":"BONAFIDE.!X1023","v":0},{"$f":"BONAFIDE.!Y1023","v":0},{"$f":"BONAFIDE.!Z1023","v":0},{"$f":"BONAFIDE.!AD1023","v":0},{"$f":"BONAFIDE.!AA1023","v":"00:00:00"},119,"119","VII","01190VII","00VII EM"]
[{"$f":"BONAFIDE.!AB1024","v":"VIIEM"},{"$f":"BONAFIDE.!AE1024","v":0},null,{"$f":"BONAFIDE.!X1024","v":0},{"$f":"BONAFIDE.!Y1024","v":0},{"$f":"BONAFIDE.!Z1024","v":0},{"$f":"BONAFIDE.!AD1024","v":0},{"$f":"BONAFIDE.!AA1024","v":"00:00:00"},119,"119","VII","01190VII","00VII EM"]
[{"$f":"BONAFIDE.!AB1025","v":"VIIEM"},{"$f":"BONAFIDE.!AE1025","v":0},null,{"$f":"BONAFIDE.!X1025","v":0},{"$f":"BONAFIDE.!Y1025","v":0},{"$f":"BONAFIDE.!Z1025","v":0},{"$f":"BONAFIDE.!AD1025","v":0},{"$f":"BONAFIDE.!AA1025","v":"00:00:00"},119,"119","VII","01190VII","00VII EM"]
[{"$f":"BONAFIDE.!AB1026","v":"VIIEM"},{"$f":"BONAFIDE.!AE1026","v":0},null,{"$f":"BONAFIDE.!X1026","v":0},{"$f":"BONAFIDE.!Y1026","v":0},{"$f":"BONAFIDE.!Z1026","v":0},{"$f":"BONAFIDE.!AD1026","v":0},{"$f":"BONAFIDE.!AA1026","v":"00:00:00"},119,"119","VII","01190VII","00VII EM"]
[{"$f":"BONAFIDE.!AB1027","v":"VIIEM"},{"$f":"BONAFIDE.!AE1027","v":0},null,{"$f":"BONAFIDE.!X1027","v":0},{"$f":"BONAFIDE.!Y1027","v":0},{"$f":"BONAFIDE.!Z1027","v":0},{"$f":"BONAFIDE.!AD1027","v":0},{"$f":"BONAFIDE.!AA1027","v":"00:00:00"},119,"119","VII","01190VII","00VII EM"]
[{"$f":"BONAFIDE.!AB1028","v":"VIIEM"},{"$f":"BONAFIDE.!AE1028","v":0},null,{"$f":"BONAFIDE.!X1028","v":0},{"$f":"BONAFIDE.!Y1028","v":0},{"$f":"BONAFIDE.!Z1028","v":0},{"$f":"BONAFIDE.!AD1028","v":0},{"$f":"BONAFIDE.!AA1028","v":"00:00:00"},119,"119","VII","01190VII","00VII EM"]
[{"$f":"BONAFIDE.!AB1029","v":"VIIEM"},{"$f":"BONAFIDE.!AE1029","v":0},null,{"$f":"BONAFIDE.!X1029","v":0},{"$f":"BONAFIDE.!Y1029","v":0},{"$f":"BONAFIDE.!Z1029","v":0},{"$f":"BONAFIDE.!AD1029","v":0},{"$f":"BONAFIDE.!AA1029","v":"00:00:00"},119,"119","VII","01190VII","00VII EM"]
[{"$f":"BONAFIDE.!AB1030","v":"VIIEM"},{"$f":"BONAFIDE.!AE1030","v":0},null,{"$f":"BONAFIDE.!X1030","v":0},{"$f":"BONAFIDE.!Y1030","v":0},{"$f":"BONAFIDE.!Z1030","v":0},{"$f":"BONAFIDE.!AD1030","v":0},{"$f":"BONAFIDE.!AA1030","v":"00:00:00"},119,"119","VII","01190VII","00VII EM"]
[{"$f":"BONAFIDE.!AB1031","v":"VIIEM"},{"$f":"BONAFIDE.!AE1031","v":0},null,{"$f":"BONAFIDE.!X1031","v":0},{"$f":"BONAFIDE.!Y1031","v":0},{"$f":"BONAFIDE.!Z1031","v":0},{"$f":"BONAFIDE.!AD1031","v":0},{"$f":"BONAFIDE.!AA1031","v":"00:00:00"},{"$f":"DATEDIF(H1028,CUTOFFDT,\"Y\")","v":119},{"$f":"fillno(I1028)","v":"119"},{"$f":"MID(A1028,1,LEN(A1028)-2)","v":"VII"},{"$f":"B1028&J1028&G1028&K1028","v":"01190VII"},{"$f":"B1028&G1028&MID(A1028,1,LEN(A1028)-2)&\" \" & RIGHT(A1028,2)","v":"00VII EM"}]
[{"$f":"BONAFIDE.!AB1032","v":"VIIEM"},{"$f":"BONAFIDE.!AE1032","v":0},null,{"$f":"BONAFIDE.!X1032","v":0},{"$f":"BONAFIDE.!Y1032","v":0},{"$f":"BONAFIDE.!Z1032","v":0},{"$f":"BONAFIDE.!AD1032","v":0},{"$f":"BONAFIDE.!AA1032","v":"00:00:00"},119,"119","VII","01190VII","00VII EM"]
[{"$f":"BONAFIDE.!AB1033","v":"VIIEM"},{"$f":"BONAFIDE.!AE1033","v":0},null,{"$f":"BONAFIDE.!X1033","v":0},{"$f":"BONAFIDE.!Y1033","v":0},{"$f":"BONAFIDE.!Z1033","v":0},{"$f":"BONAFIDE.!AD1033","v":0},{"$f":"BONAFIDE.!AA1033","v":"00:00:00"},119,"119","VII","01190VII","00VII EM"]
[{"$f":"BONAFIDE.!AB1034","v":"VIIEM"},{"$f":"BONAFIDE.!AE1034","v":0},null,{"$f":"BONAFIDE.!X1034","v":0},{"$f":"BONAFIDE.!Y1034","v":0},{"$f":"BONAFIDE.!Z1034","v":0},{"$f":"BONAFIDE.!AD1034","v":0},{"$f":"BONAFIDE.!AA1034","v":"00:00:00"},119,"119","VII","01190VII","00VII EM"]
[{"$f":"BONAFIDE.!AB1035","v":"VIIEM"},{"$f":"BONAFIDE.!AE1035","v":0},null,{"$f":"BONAFIDE.!X1035","v":0},{"$f":"BONAFIDE.!Y1035","v":0},{"$f":"BONAFIDE.!Z1035","v":0},{"$f":"BONAFIDE.!AD1035","v":0},{"$f":"BONAFIDE.!AA1035","v":"00:00:00"},119,"119","VII","01190VII","00VII EM"]
[{"$f":"BONAFIDE.!AB1036","v":"VIIEM"},{"$f":"BONAFIDE.!AE1036","v":0},null,{"$f":"BONAFIDE.!X1036","v":0},{"$f":"BONAFIDE.!Y1036","v":0},{"$f":"BONAFIDE.!Z1036","v":0},{"$f":"BONAFIDE.!AD1036","v":0},{"$f":"BONAFIDE.!AA1036","v":"00:00:00"},119,"119","VII","01190VII","00VII EM"]
[{"$f":"BONAFIDE.!AB1037","v":"VIIEM"},{"$f":"BONAFIDE.!AE1037","v":0},null,{"$f":"BONAFIDE.!X1037","v":0},{"$f":"BONAFIDE.!Y1037","v":0},{"$f":"BONAFIDE.!Z1037","v":0},{"$f":"BONAFIDE.!AD1037","v":0},{"$f":"BONAFIDE.!AA1037","v":"00:00:00"},119,"119","VII","01190VII","00VII EM"]
[{"$f":"BONAFIDE.!AB1038","v":"VIIEM"},{"$f":"BONAFIDE.!AE1038","v":0},null,{"$f":"BONAFIDE.!X1038","v":0},{"$f":"BONAFIDE.!Y1038","v":0},{"$f":"BONAFIDE.!Z1038","v":0},{"$f":"BONAFIDE.!AD1038","v":0},{"$f":"BONAFIDE.!AA1038","v":"00:00:00"},119,"119","VII","01190VII","00VII EM"]
[{"$f":"BONAFIDE.!AB1039","v":"VIIEM"},{"$f":"BONAFIDE.!AE1039","v":0},null,{"$f":"BONAFIDE.!X1039","v":0},{"$f":"BONAFIDE.!Y1039","v":0},{"$f":"BONAFIDE.!Z1039","v":0},{"$f":"BONAFIDE.!AD1039","v":0},{"$f":"BONAFIDE.!AA1039","v":"00:00:00"},119,"119","VII","01190VII","00VII EM"]
[{"$f":"BONAFIDE.!AB1040","v":"VIIEM"},{"$f":"BONAFIDE.!AE1040","v":0},null,{"$f":"BONAFIDE.!X1040","v":0},{"$f":"BONAFIDE.!Y1040","v":0},{"$f":"BONAFIDE.!Z1040","v":0},{"$f":"BONAFIDE.!AD1040","v":0},{"$f":"BONAFIDE.!AA1040","v":"00:00:00"},119,"119","VII","01190VII","00VII EM"]
[{"$f":"BONAFIDE.!AB1041","v":"VIIEM"},{"$f":"BONAFIDE.!AE1041","v":0},null,{"$f":"BONAFIDE.!X1041","v":0},{"$f":"BONAFIDE.!Y1041","v":0},{"$f":"BONAFIDE.!Z1041","v":0},{"$f":"BONAFIDE.!AD1041","v":0},{"$f":"BONAFIDE.!AA1041","v":"00:00:00"},119,"119","VII","01190VII","00VII EM"]
[{"$f":"BONAFIDE.!AB1042","v":"VIIEM"},{"$f":"BONAFIDE.!AE1042","v":0},null,{"$f":"BONAFIDE.!X1042","v":0},{"$f":"BONAFIDE.!Y1042","v":0},{"$f":"BONAFIDE.!Z1042","v":0},{"$f":"BONAFIDE.!AD1042","v":0},{"$f":"BONAFIDE.!AA1042","v":"00:00:00"},119,"119","VII","01190VII","00VII EM"]
[{"$f":"BONAFIDE.!AB1043","v":"VIIEM"},{"$f":"BONAFIDE.!AE1043","v":0},null,{"$f":"BONAFIDE.!X1043","v":0},{"$f":"BONAFIDE.!Y1043","v":0},{"$f":"BONAFIDE.!Z1043","v":0},{"$f":"BONAFIDE.!AD1043","v":0},{"$f":"BONAFIDE.!AA1043","v":"00:00:00"},119,"119","VII","01190VII","00VII EM"]
[{"$f":"BONAFIDE.!AB1044","v":"VIIEM"},{"$f":"BONAFIDE.!AE1044","v":0},null,{"$f":"BONAFIDE.!X1044","v":0},{"$f":"BONAFIDE.!Y1044","v":0},{"$f":"BONAFIDE.!Z1044","v":0},{"$f":"BONAFIDE.!AD1044","v":0},{"$f":"BONAFIDE.!AA1044","v":"00:00:00"},119,"119","VII","01190VII","00VII EM"]
[{"$f":"BONAFIDE.!AB1045","v":"VIIEM"},{"$f":"BONAFIDE.!AE1045","v":0},null,{"$f":"BONAFIDE.!X1045","v":0},{"$f":"BONAFIDE.!Y1045","v":0},{"$f":"BONAFIDE.!Z1045","v":0},{"$f":"BONAFIDE.!AD1045","v":0},{"$f":"BONAFIDE.!AA1045","v":"00:00:00"},119,"119","VII","01190VII","00VII EM"]
[{"$f":"BONAFIDE.!AB1046","v":"VIIEM"},{"$f":"BONAFIDE.!AE1046","v":0},null,{"$f":"BONAFIDE.!X1046","v":0},{"$f":"BONAFIDE.!Y1046","v":0},{"$f":"BONAFIDE.!Z1046","v":0},{"$f":"BONAFIDE.!AD1046","v":0},{"$f":"BONAFIDE.!AA1046","v":"00:00:00"},119,"119","VII","01190VII","00VII EM"]
[{"$f":"BONAFIDE.!AB1047","v":"VIIEM"},{"$f":"BONAFIDE.!AE1047","v":0},null,{"$f":"BONAFIDE.!X1047","v":0},{"$f":"BONAFIDE.!Y1047","v":0},{"$f":"BONAFIDE.!Z1047","v":0},{"$f":"BONAFIDE.!AD1047","v":0},{"$f":"BONAFIDE.!AA1047","v":"00:00:00"},119,"119","VII","01190VII","00VII EM"]
[{"$f":"BONAFIDE.!AB1048","v":"VIIEM"},{"$f":"BONAFIDE.!AE1048","v":0},null,{"$f":"BONAFIDE.!X1048","v":0},{"$f":"BONAFIDE.!Y1048","v":0},{"$f":"BONAFIDE.!Z1048","v":0},{"$f":"BONAFIDE.!AD1048","v":0},{"$f":"BONAFIDE.!AA1048","v":"00:00:00"},119,"119","VII","01190VII","00VII EM"]
[{"$f":"BONAFIDE.!AB1049","v":"VIIEM"},{"$f":"BONAFIDE.!AE1049","v":0},null,{"$f":"BONAFIDE.!X1049","v":0},{"$f":"BONAFIDE.!Y1049","v":0},{"$f":"BONAFIDE.!Z1049","v":0},{"$f":"BONAFIDE.!AD1049","v":0},{"$f":"BONAFIDE.!AA1049","v":"00:00:00"},119,"119","VII","01190VII","00VII EM"]
[{"$f":"BONAFIDE.!AB1050","v":"VIIEM"},{"$f":"BONAFIDE.!AE1050","v":0},null,{"$f":"BONAFIDE.!X1050","v":0},{"$f":"BONAFIDE.!Y1050","v":0},{"$f":"BONAFIDE.!Z1050","v":0},{"$f":"BONAFIDE.!AD1050","v":0},{"$f":"BONAFIDE.!AA1050","v":"00:00:00"},119,"119","VII","01190VII","00VII EM"]
[{"$f":"BONAFIDE.!AB1051","v":"VIIEM"},{"$f":"BONAFIDE.!AE1051","v":0},null,{"$f":"BONAFIDE.!X1051","v":0},{"$f":"BONAFIDE.!Y1051","v":0},{"$f":"BONAFIDE.!Z1051","v":0},{"$f":"BONAFIDE.!AD1051","v":0},{"$f":"BONAFIDE.!AA1051","v":"00:00:00"},119,"119","VII","01190VII","00VII EM"]
[{"$f":"BONAFIDE.!AB1052","v":"VIIEM"},{"$f":"BONAFIDE.!AE1052","v":0},null,{"$f":"BONAFIDE.!X1052","v":0},{"$f":"BONAFIDE.!Y1052","v":0},{"$f":"BONAFIDE.!Z1052","v":0},{"$f":"BONAFIDE.!AD1052","v":0},{"$f":"BONAFIDE.!AA1052","v":"00:00:00"},119,"119","VII","01190VII","00VII EM"]
[{"$f":"BONAFIDE.!AB1053","v":"VIIEM"},{"$f":"BONAFIDE.!AE1053","v":0},null,{"$f":"BONAFIDE.!X1053","v":0},{"$f":"BONAFIDE.!Y1053","v":0},{"$f":"BONAFIDE.!Z1053","v":0},{"$f":"BONAFIDE.!AD1053","v":0},{"$f":"BONAFIDE.!AA1053","v":"00:00:00"},119,"119","VII","01190VII","00VII EM"]
[{"$f":"BONAFIDE.!AB1054","v":"VIIEM"},{"$f":"BONAFIDE.!AE1054","v":0},null,{"$f":"BONAFIDE.!X1054","v":0},{"$f":"BONAFIDE.!Y1054","v":0},{"$f":"BONAFIDE.!Z1054","v":0},{"$f":"BONAFIDE.!AD1054","v":0},{"$f":"BONAFIDE.!AA1054","v":"00:00:00"},119,"119","VII","01190VII","00VII EM"]
[{"$f":"BONAFIDE.!AB1055","v":"VIIEM"},{"$f":"BONAFIDE.!AE1055","v":0},null,{"$f":"BONAFIDE.!X1055","v":0},{"$f":"BONAFIDE.!Y1055","v":0},{"$f":"BONAFIDE.!Z1055","v":0},{"$f":"BONAFIDE.!AD1055","v":0},{"$f":"BONAFIDE.!AA1055","v":"00:00:00"},119,"119","VII","01190VII","00VII EM"]
[{"$f":"BONAFIDE.!AB1056","v":"VIIEM"},{"$f":"BONAFIDE.!AE1056","v":0},null,{"$f":"BONAFIDE.!X1056","v":0},{"$f":"BONAFIDE.!Y1056","v":0},{"$f":"BONAFIDE.!Z1056","v":0},{"$f":"BONAFIDE.!AD1056","v":0},{"$f":"BONAFIDE.!AA1056","v":"00:00:00"},119,"119","VII","01190VII","00VII EM"]
[{"$f":"BONAFIDE.!AB1057","v":"VIIEM"},{"$f":"BONAFIDE.!AE1057","v":0},null,{"$f":"BONAFIDE.!X1057","v":0},{"$f":"BONAFIDE.!Y1057","v":0},{"$f":"BONAFIDE.!Z1057","v":0},{"$f":"BONAFIDE.!AD1057","v":0},{"$f":"BONAFIDE.!AA1057","v":"00:00:00"},119,"119","VII","01190VII","00VII EM"]
[{"$f":"BONAFIDE.!AB1058","v":"VIIEM"},{"$f":"BONAFIDE.!AE1058","v":0},null,{"$f":"BONAFIDE.!X1058","v":0},{"$f":"BONAFIDE.!Y1058","v":0},{"$f":"BONAFIDE.!Z1058","v":0},{"$f":"BONAFIDE.!AD1058","v":0},{"$f":"BONAFIDE.!AA1058","v":"00:00:00"},119,"119","VII","01190VII","00VII EM"]
[{"$f":"BONAFIDE.!AB1059","v":"VIIEM"},{"$f":"BONAFIDE.!AE1059","v":0},null,{"$f":"BONAFIDE.!X1059","v":0},{"$f":"BONAFIDE.!Y1059","v":0},{"$f":"BONAFIDE.!Z1059","v":0},{"$f":"BONAFIDE.!AD1059","v":0},{"$f":"BONAFIDE.!AA1059","v":"00:00:00"},119,"119","VII","01190VII","00VII EM"]
[{"$f":"BONAFIDE.!AB1060","v":"VIIEM"},{"$f":"BONAFIDE.!AE1060","v":0},null,{"$f":"BONAFIDE.!X1060","v":0},{"$f":"BONAFIDE.!Y1060","v":0},{"$f":"BONAFIDE.!Z1060","v":0},{"$f":"BONAFIDE.!AD1060","v":0},{"$f":"BONAFIDE.!AA1060","v":"00:00:00"},119,"119","VII","01190VII","00VII EM"]
[{"$f":"BONAFIDE.!AB1061","v":"VIIEM"},{"$f":"BONAFIDE.!AE1061","v":0},null,{"$f":"BONAFIDE.!X1061","v":0},{"$f":"BONAFIDE.!Y1061","v":0},{"$f":"BONAFIDE.!Z1061","v":0},{"$f":"BONAFIDE.!AD1061","v":0},{"$f":"BONAFIDE.!AA1061","v":"00:00:00"},119,"119","VII","01190VII","00VII EM"]
[{"$f":"BONAFIDE.!AB1062","v":"00:00:00"},{"$f":"BONAFIDE.!AE1062","v":0},null,{"$f":"BONAFIDE.!X1062","v":0},{"$f":"BONAFIDE.!Y1062","v":0},{"$f":"BONAFIDE.!Z1062","v":0},{"$f":"BONAFIDE.!AD1062","v":0},{"$f":"BONAFIDE.!AA1062","v":"00:00:00"},119,"119",{"$error":"#VALUE!"},{"$error":"#VALUE!"},{"$error":"#VALUE!"}]
[{"$f":"BONAFIDE.!AB1063","v":"VIIIEM"},{"$f":"BONAFIDE.!AE1063","v":0},null,{"$f":"BONAFIDE.!X1063","v":0},{"$f":"BONAFIDE.!Y1063","v":0},{"$f":"BONAFIDE.!Z1063","v":0},{"$f":"BONAFIDE.!AD1063","v":0},{"$f":"BONAFIDE.!AA1063","v":"00:00:00"},119,"119","VIII","01190VIII","00VIII EM"]
[{"$f":"BONAFIDE.!AB1064","v":"VIIIEM"},{"$f":"BONAFIDE.!AE1064","v":0},null,{"$f":"BONAFIDE.!X1064","v":0},{"$f":"BONAFIDE.!Y1064","v":0},{"$f":"BONAFIDE.!Z1064","v":0},{"$f":"BONAFIDE.!AD1064","v":0},{"$f":"BONAFIDE.!AA1064","v":"00:00:00"},119,"119","VIII","01190VIII","00VIII EM"]
[{"$f":"BONAFIDE.!AB1065","v":"VIIIEM"},{"$f":"BONAFIDE.!AE1065","v":0},null,{"$f":"BONAFIDE.!X1065","v":0},{"$f":"BONAFIDE.!Y1065","v":0},{"$f":"BONAFIDE.!Z1065","v":0},{"$f":"BONAFIDE.!AD1065","v":0},{"$f":"BONAFIDE.!AA1065","v":"00:00:00"},119,"119","VIII","01190VIII","00VIII EM"]
[{"$f":"BONAFIDE.!AB1066","v":"VIIIEM"},{"$f":"BONAFIDE.!AE1066","v":0},null,{"$f":"BONAFIDE.!X1066","v":0},{"$f":"BONAFIDE.!Y1066","v":0},{"$f":"BONAFIDE.!Z1066","v":0},{"$f":"BONAFIDE.!AD1066","v":0},{"$f":"BONAFIDE.!AA1066","v":"00:00:00"},119,"119","VIII","01190VIII","00VIII EM"]
[{"$f":"BONAFIDE.!AB1067","v":"VIIIEM"},{"$f":"BONAFIDE.!AE1067","v":0},null,{"$f":"BONAFIDE.!X1067","v":0},{"$f":"BONAFIDE.!Y1067","v":0},{"$f":"BONAFIDE.!Z1067","v":0},{"$f":"BONAFIDE.!AD1067","v":0},{"$f":"BONAFIDE.!AA1067","v":"00:00:00"},119,"119","VIII","01190VIII","00VIII EM"]
[{"$f":"BONAFIDE.!AB1068","v":"VIIIEM"},{"$f":"BONAFIDE.!AE1068","v":0},null,{"$f":"BONAFIDE.!X1068","v":0},{"$f":"BONAFIDE.!Y1068","v":0},{"$f":"BONAFIDE.!Z1068","v":0},{"$f":"BONAFIDE.!AD1068","v":0},{"$f":"BONAFIDE.!AA1068","v":"00:00:00"},119,"119","VIII","01190VIII","00VIII EM"]
[{"$f":"BONAFIDE.!AB1069","v":"VIIIEM"},{"$f":"BONAFIDE.!AE1069","v":0},null,{"$f":"BONAFIDE.!X1069","v":0},{"$f":"BONAFIDE.!Y1069","v":0},{"$f":"BONAFIDE.!Z1069","v":0},{"$f":"BONAFIDE.!AD1069","v":0},{"$f":"BONAFIDE.!AA1069","v":"00:00:00"},119,"119","VIII","01190VIII","00VIII EM"]
[{"$f":"BONAFIDE.!AB1070","v":"VIIIEM"},{"$f":"BONAFIDE.!AE1070","v":0},null,{"$f":"BONAFIDE.!X1070","v":0},{"$f":"BONAFIDE.!Y1070","v":0},{"$f":"BONAFIDE.!Z1070","v":0},{"$f":"BONAFIDE.!AD1070","v":0},{"$f":"BONAFIDE.!AA1070","v":"00:00:00"},119,"119","VIII","01190VIII","00VIII EM"]
[{"$f":"BONAFIDE.!AB1071","v":"VIIIEM"},{"$f":"BONAFIDE.!AE1071","v":0},null,{"$f":"BONAFIDE.!X1071","v":0},{"$f":"BONAFIDE.!Y1071","v":0},{"$f":"BONAFIDE.!Z1071","v":0},{"$f":"BONAFIDE.!AD1071","v":0},{"$f":"BONAFIDE.!AA1071","v":"00:00:00"},119,"119","VIII","01190VIII","00VIII EM"]
[{"$f":"BONAFIDE.!AB1072","v":"VIIIEM"},{"$f":"BONAFIDE.!AE1072","v":0},null,{"$f":"BONAFIDE.!X1072","v":0},{"$f":"BONAFIDE.!Y1072","v":0},{"$f":"BONAFIDE.!Z1072","v":0},{"$f":"BONAFIDE.!AD1072","v":0},{"$f":"BONAFIDE.!AA1072","v":"00:00:00"},119,"119","VIII","01190VIII","00VIII EM"]
[{"$f":"BONAFIDE.!AB1073","v":"VIIIEM"},{"$f":"BONAFIDE.!AE1073","v":0},null,{"$f":"BONAFIDE.!X1073","v":0},{"$f":"BONAFIDE.!Y1073","v":0},{"$f":"BONAFIDE.!Z1073","v":0},{"$f":"BONAFIDE.!AD1073","v":0},{"$f":"BONAFIDE.!AA1073","v":"00:00:00"},119,"119","VIII","01190VIII","00VIII EM"]
[{"$f":"BONAFIDE.!AB1074","v":"VIIIEM"},{"$f":"BONAFIDE.!AE1074","v":0},null,{"$f":"BONAFIDE.!X1074","v":0},{"$f":"BONAFIDE.!Y1074","v":0},{"$f":"BONAFIDE.!Z1074","v":0},{"$f":"BONAFIDE.!AD1074","v":0},{"$f":"BONAFIDE.!AA1074","v":"00:00:00"},119,"119","VIII","01190VIII","00VIII EM"]
[{"$f":"BONAFIDE.!AB1075","v":"VIIIEM"},{"$f":"BONAFIDE.!AE1075","v":0},null,{"$f":"BONAFIDE.!X1075","v":0},{"$f":"BONAFIDE.!Y1075","v":0},{"$f":"BONAFIDE.!Z1075","v":0},{"$f":"BONAFIDE.!AD1075","v":0},{"$f":"BONAFIDE.!AA1075","v":"00:00:00"},119,"119","VIII","01190VIII","00VIII EM"]
[{"$f":"BONAFIDE.!AB1076","v":"VIIIEM"},{"$f":"BONAFIDE.!AE1076","v":0},null,{"$f":"BONAFIDE.!X1076","v":0},{"$f":"BONAFIDE.!Y1076","v":0},{"$f":"BONAFIDE.!Z1076","v":0},{"$f":"BONAFIDE.!AD1076","v":0},{"$f":"BONAFIDE.!AA1076","v":"00:00:00"},119,"119","VIII","01190VIII","00VIII EM"]
[{"$f":"BONAFIDE.!AB1077","v":"VIIIEM"},{"$f":"BONAFIDE.!AE1077","v":0},null,{"$f":"BONAFIDE.!X1077","v":0},{"$f":"BONAFIDE.!Y1077","v":0},{"$f":"BONAFIDE.!Z1077","v":0},{"$f":"BONAFIDE.!AD1077","v":0},{"$f":"BONAFIDE.!AA1077","v":"00:00:00"},119,"119","VIII","01190VIII","00VIII EM"]
[{"$f":"BONAFIDE.!AB1078","v":"VIIIEM"},{"$f":"BONAFIDE.!AE1078","v":0},null,{"$f":"BONAFIDE.!X1078","v":0},{"$f":"BONAFIDE.!Y1078","v":0},{"$f":"BONAFIDE.!Z1078","v":0},{"$f":"BONAFIDE.!AD1078","v":0},{"$f":"BONAFIDE.!AA1078","v":"00:00:00"},119,"119","VIII","01190VIII","00VIII EM"]
[{"$f":"BONAFIDE.!AB1079","v":"VIIIEM"},{"$f":"BONAFIDE.!AE1079","v":0},null,{"$f":"BONAFIDE.!X1079","v":0},{"$f":"BONAFIDE.!Y1079","v":0},{"$f":"BONAFIDE.!Z1079","v":0},{"$f":"BONAFIDE.!AD1079","v":0},{"$f":"BONAFIDE.!AA1079","v":"00:00:00"},119,"119","VIII","01190VIII","00VIII EM"]
[{"$f":"BONAFIDE.!AB1080","v":"VIIIEM"},{"$f":"BONAFIDE.!AE1080","v":0},null,{"$f":"BONAFIDE.!X1080","v":0},{"$f":"BONAFIDE.!Y1080","v":0},{"$f":"BONAFIDE.!Z1080","v":0},{"$f":"BONAFIDE.!AD1080","v":0},{"$f":"BONAFIDE.!AA1080","v":"00:00:00"},119,"119","VIII","01190VIII","00VIII EM"]
[{"$f":"BONAFIDE.!AB1081","v":"VIIIEM"},{"$f":"BONAFIDE.!AE1081","v":0},null,{"$f":"BONAFIDE.!X1081","v":0},{"$f":"BONAFIDE.!Y1081","v":0},{"$f":"BONAFIDE.!Z1081","v":0},{"$f":"BONAFIDE.!AD1081","v":0},{"$f":"BONAFIDE.!AA1081","v":"00:00:00"},119,"119","VIII","01190VIII","00VIII EM"]
[{"$f":"BONAFIDE.!AB1082","v":"VIIIEM"},{"$f":"BONAFIDE.!AE1082","v":0},null,{"$f":"BONAFIDE.!X1082","v":0},{"$f":"BONAFIDE.!Y1082","v":0},{"$f":"BONAFIDE.!Z1082","v":0},{"$f":"BONAFIDE.!AD1082","v":0},{"$f":"BONAFIDE.!AA1082","v":"00:00:00"},119,"119","VIII","01190VIII","00VIII EM"]
[{"$f":"BONAFIDE.!AB1083","v":"VIIIEM"},{"$f":"BONAFIDE.!AE1083","v":0},null,{"$f":"BONAFIDE.!X1083","v":0},{"$f":"BONAFIDE.!Y1083","v":0},{"$f":"BONAFIDE.!Z1083","v":0},{"$f":"BONAFIDE.!AD1083","v":0},{"$f":"BONAFIDE.!AA1083","v":"00:00:00"},119,"119","VIII","01190VIII","00VIII EM"]
[{"$f":"BONAFIDE.!AB1084","v":"VIIIEM"},{"$f":"BONAFIDE.!AE1084","v":0},null,{"$f":"BONAFIDE.!X1084","v":0},{"$f":"BONAFIDE.!Y1084","v":0},{"$f":"BONAFIDE.!Z1084","v":0},{"$f":"BONAFIDE.!AD1084","v":0},{"$f":"BONAFIDE.!AA1084","v":"00:00:00"},119,"119","VIII","01190VIII","00VIII EM"]
[{"$f":"BONAFIDE.!AB1085","v":"VIIIEM"},{"$f":"BONAFIDE.!AE1085","v":0},null,{"$f":"BONAFIDE.!X1085","v":0},{"$f":"BONAFIDE.!Y1085","v":0},{"$f":"BONAFIDE.!Z1085","v":0},{"$f":"BONAFIDE.!AD1085","v":0},{"$f":"BONAFIDE.!AA1085","v":"00:00:00"},119,"119","VIII","01190VIII","00VIII EM"]
[{"$f":"BONAFIDE.!AB1086","v":"VIIIEM"},{"$f":"BONAFIDE.!AE1086","v":0},null,{"$f":"BONAFIDE.!X1086","v":0},{"$f":"BONAFIDE.!Y1086","v":0},{"$f":"BONAFIDE.!Z1086","v":0},{"$f":"BONAFIDE.!AD1086","v":0},{"$f":"BONAFIDE.!AA1086","v":"00:00:00"},119,"119","VIII","01190VIII","00VIII EM"]
[{"$f":"BONAFIDE.!AB1087","v":"VIIIEM"},{"$f":"BONAFIDE.!AE1087","v":0},null,{"$f":"BONAFIDE.!X1087","v":0},{"$f":"BONAFIDE.!Y1087","v":0},{"$f":"BONAFIDE.!Z1087","v":0},{"$f":"BONAFIDE.!AD1087","v":0},{"$f":"BONAFIDE.!AA1087","v":"00:00:00"},119,"119","VIII","01190VIII","00VIII EM"]
[{"$f":"BONAFIDE.!AB1088","v":"VIIIEM"},{"$f":"BONAFIDE.!AE1088","v":0},null,{"$f":"BONAFIDE.!X1088","v":0},{"$f":"BONAFIDE.!Y1088","v":0},{"$f":"BONAFIDE.!Z1088","v":0},{"$f":"BONAFIDE.!AD1088","v":0},{"$f":"BONAFIDE.!AA1088","v":"00:00:00"},119,"119","VIII","01190VIII","00VIII EM"]
[{"$f":"BONAFIDE.!AB1089","v":"VIIIEM"},{"$f":"BONAFIDE.!AE1089","v":0},null,{"$f":"BONAFIDE.!X1089","v":0},{"$f":"BONAFIDE.!Y1089","v":0},{"$f":"BONAFIDE.!Z1089","v":0},{"$f":"BONAFIDE.!AD1089","v":0},{"$f":"BONAFIDE.!AA1089","v":"00:00:00"},119,"119","VIII","01190VIII","00VIII EM"]
[{"$f":"BONAFIDE.!AB1090","v":"VIIIEM"},{"$f":"BONAFIDE.!AE1090","v":0},null,{"$f":"BONAFIDE.!X1090","v":0},{"$f":"BONAFIDE.!Y1090","v":0},{"$f":"BONAFIDE.!Z1090","v":0},{"$f":"BONAFIDE.!AD1090","v":0},{"$f":"BONAFIDE.!AA1090","v":"00:00:00"},119,"119","VIII","01190VIII","00VIII EM"]
[{"$f":"BONAFIDE.!AB1091","v":"VIIIEM"},{"$f":"BONAFIDE.!AE1091","v":0},null,{"$f":"BONAFIDE.!X1091","v":0},{"$f":"BONAFIDE.!Y1091","v":0},{"$f":"BONAFIDE.!Z1091","v":0},{"$f":"BONAFIDE.!AD1091","v":0},{"$f":"BONAFIDE.!AA1091","v":"00:00:00"},119,"119","VIII","01190VIII","00VIII EM"]
[{"$f":"BONAFIDE.!AB1092","v":"VIIIEM"},{"$f":"BONAFIDE.!AE1092","v":0},null,{"$f":"BONAFIDE.!X1092","v":0},{"$f":"BONAFIDE.!Y1092","v":0},{"$f":"BONAFIDE.!Z1092","v":0},{"$f":"BONAFIDE.!AD1092","v":0},{"$f":"BONAFIDE.!AA1092","v":"00:00:00"},119,"119","VIII","01190VIII","00VIII EM"]
[{"$f":"BONAFIDE.!AB1093","v":"VIIIEM"},{"$f":"BONAFIDE.!AE1093","v":0},null,{"$f":"BONAFIDE.!X1093","v":0},{"$f":"BONAFIDE.!Y1093","v":0},{"$f":"BONAFIDE.!Z1093","v":0},{"$f":"BONAFIDE.!AD1093","v":0},{"$f":"BONAFIDE.!AA1093","v":"00:00:00"},119,"119","VIII","01190VIII","00VIII EM"]
[{"$f":"BONAFIDE.!AB1094","v":"VIIIEM"},{"$f":"BONAFIDE.!AE1094","v":0},null,{"$f":"BONAFIDE.!X1094","v":0},{"$f":"BONAFIDE.!Y1094","v":0},{"$f":"BONAFIDE.!Z1094","v":0},{"$f":"BONAFIDE.!AD1094","v":0},{"$f":"BONAFIDE.!AA1094","v":"00:00:00"},119,"119","VIII","01190VIII","00VIII EM"]
[{"$f":"BONAFIDE.!AB1095","v":"VIIIEM"},{"$f":"BONAFIDE.!AE1095","v":0},null,{"$f":"BONAFIDE.!X1095","v":0},{"$f":"BONAFIDE.!Y1095","v":0},{"$f":"BONAFIDE.!Z1095","v":0},{"$f":"BONAFIDE.!AD1095","v":0},{"$f":"BONAFIDE.!AA1095","v":"00:00:00"},{"$f":"DATEDIF(H1092,CUTOFFDT,\"Y\")","v":119},{"$f":"fillno(I1092)","v":"119"},{"$f":"MID(A1092,1,LEN(A1092)-2)","v":"VIII"},{"$f":"B1092&J1092&G1092&K1092","v":"01190VIII"},{"$f":"B1092&G1092&MID(A1092,1,LEN(A1092)-2)&\" \" & RIGHT(A1092,2)","v":"00VIII EM"}]
[{"$f":"BONAFIDE.!AB1096","v":"VIIIEM"},{"$f":"BONAFIDE.!AE1096","v":0},null,{"$f":"BONAFIDE.!X1096","v":0},{"$f":"BONAFIDE.!Y1096","v":0},{"$f":"BONAFIDE.!Z1096","v":0},{"$f":"BONAFIDE.!AD1096","v":0},{"$f":"BONAFIDE.!AA1096","v":"00:00:00"},119,"119","VIII","01190VIII","00VIII EM"]
[{"$f":"BONAFIDE.!AB1097","v":"VIIIEM"},{"$f":"BONAFIDE.!AE1097","v":0},null,{"$f":"BONAFIDE.!X1097","v":0},{"$f":"BONAFIDE.!Y1097","v":0},{"$f":"BONAFIDE.!Z1097","v":0},{"$f":"BONAFIDE.!AD1097","v":0},{"$f":"BONAFIDE.!AA1097","v":"00:00:00"},119,"119","VIII","01190VIII","00VIII EM"]
[{"$f":"BONAFIDE.!AB1098","v":"VIIIEM"},{"$f":"BONAFIDE.!AE1098","v":0},null,{"$f":"BONAFIDE.!X1098","v":0},{"$f":"BONAFIDE.!Y1098","v":0},{"$f":"BONAFIDE.!Z1098","v":0},{"$f":"BONAFIDE.!AD1098","v":0},{"$f":"BONAFIDE.!AA1098","v":"00:00:00"},119,"119","VIII","01190VIII","00VIII EM"]
[{"$f":"BONAFIDE.!AB1099","v":"VIIIEM"},{"$f":"BONAFIDE.!AE1099","v":0},null,{"$f":"BONAFIDE.!X1099","v":0},{"$f":"BONAFIDE.!Y1099","v":0},{"$f":"BONAFIDE.!Z1099","v":0},{"$f":"BONAFIDE.!AD1099","v":0},{"$f":"BONAFIDE.!AA1099","v":"00:00:00"},119,"119","VIII","01190VIII","00VIII EM"]
[{"$f":"BONAFIDE.!AB1100","v":"VIIIEM"},{"$f":"BONAFIDE.!AE1100","v":0},null,{"$f":"BONAFIDE.!X1100","v":0},{"$f":"BONAFIDE.!Y1100","v":0},{"$f":"BONAFIDE.!Z1100","v":0},{"$f":"BONAFIDE.!AD1100","v":0},{"$f":"BONAFIDE.!AA1100","v":"00:00:00"},119,"119","VIII","01190VIII","00VIII EM"]
[{"$f":"BONAFIDE.!AB1101","v":"VIIIEM"},{"$f":"BONAFIDE.!AE1101","v":0},null,{"$f":"BONAFIDE.!X1101","v":0},{"$f":"BONAFIDE.!Y1101","v":0},{"$f":"BONAFIDE.!Z1101","v":0},{"$f":"BONAFIDE.!AD1101","v":0},{"$f":"BONAFIDE.!AA1101","v":"00:00:00"},119,"119","VIII","01190VIII","00VIII EM"]
[{"$f":"BONAFIDE.!AB1102","v":"VIIIEM"},{"$f":"BONAFIDE.!AE1102","v":0},null,{"$f":"BONAFIDE.!X1102","v":0},{"$f":"BONAFIDE.!Y1102","v":0},{"$f":"BONAFIDE.!Z1102","v":0},{"$f":"BONAFIDE.!AD1102","v":0},{"$f":"BONAFIDE.!AA1102","v":"00:00:00"},119,"119","VIII","01190VIII","00VIII EM"]
[{"$f":"BONAFIDE.!AB1103","v":"VIIIEM"},{"$f":"BONAFIDE.!AE1103","v":0},null,{"$f":"BONAFIDE.!X1103","v":0},{"$f":"BONAFIDE.!Y1103","v":0},{"$f":"BONAFIDE.!Z1103","v":0},{"$f":"BONAFIDE.!AD1103","v":0},{"$f":"BONAFIDE.!AA1103","v":"00:00:00"},119,"119","VIII","01190VIII","00VIII EM"]
[{"$f":"BONAFIDE.!AB1104","v":"VIIIEM"},{"$f":"BONAFIDE.!AE1104","v":0},null,{"$f":"BONAFIDE.!X1104","v":0},{"$f":"BONAFIDE.!Y1104","v":0},{"$f":"BONAFIDE.!Z1104","v":0},{"$f":"BONAFIDE.!AD1104","v":0},{"$f":"BONAFIDE.!AA1104","v":"00:00:00"},119,"119","VIII","01190VIII","00VIII EM"]
[{"$f":"BONAFIDE.!AB1105","v":"VIIIEM"},{"$f":"BONAFIDE.!AE1105","v":0},null,{"$f":"BONAFIDE.!X1105","v":0},{"$f":"BONAFIDE.!Y1105","v":0},{"$f":"BONAFIDE.!Z1105","v":0},{"$f":"BONAFIDE.!AD1105","v":0},{"$f":"BONAFIDE.!AA1105","v":"00:00:00"},119,"119","VIII","01190VIII","00VIII EM"]
[{"$f":"BONAFIDE.!AB1106","v":"VIIIEM"},{"$f":"BONAFIDE.!AE1106","v":0},null,{"$f":"BONAFIDE.!X1106","v":0},{"$f":"BONAFIDE.!Y1106","v":0},{"$f":"BONAFIDE.!Z1106","v":0},{"$f":"BONAFIDE.!AD1106","v":0},{"$f":"BONAFIDE.!AA1106","v":"00:00:00"},119,"119","VIII","01190VIII","00VIII EM"]
[{"$f":"BONAFIDE.!AB1107","v":"VIIIEM"},{"$f":"BONAFIDE.!AE1107","v":0},null,{"$f":"BONAFIDE.!X1107","v":0},{"$f":"BONAFIDE.!Y1107","v":0},{"$f":"BONAFIDE.!Z1107","v":0},{"$f":"BONAFIDE.!AD1107","v":0},{"$f":"BONAFIDE.!AA1107","v":"00:00:00"},119,"119","VIII","01190VIII","00VIII EM"]
[{"$f":"BONAFIDE.!AB1108","v":"VIIIEM"},{"$f":"BONAFIDE.!AE1108","v":0},null,{"$f":"BONAFIDE.!X1108","v":0},{"$f":"BONAFIDE.!Y1108","v":0},{"$f":"BONAFIDE.!Z1108","v":0},{"$f":"BONAFIDE.!AD1108","v":0},{"$f":"BONAFIDE.!AA1108","v":"00:00:00"},119,"119","VIII","01190VIII","00VIII EM"]
[{"$f":"BONAFIDE.!AB1109","v":"VIIIEM"},{"$f":"BONAFIDE.!AE1109","v":0},null,{"$f":"BONAFIDE.!X1109","v":0},{"$f":"BONAFIDE.!Y1109","v":0},{"$f":"BONAFIDE.!Z1109","v":0},{"$f":"BONAFIDE.!AD1109","v":0},{"$f":"BONAFIDE.!AA1109","v":"00:00:00"},119,"119","VIII","01190VIII","00VIII EM"]
[{"$f":"BONAFIDE.!AB1110","v":"VIIIEM"},{"$f":"BONAFIDE.!AE1110","v":0},null,{"$f":"BONAFIDE.!X1110","v":0},{"$f":"BONAFIDE.!Y1110","v":0},{"$f":"BONAFIDE.!Z1110","v":0},{"$f":"BONAFIDE.!AD1110","v":0},{"$f":"BONAFIDE.!AA1110","v":"00:00:00"},119,"119","VIII","01190VIII","00VIII EM"]
[{"$f":"BONAFIDE.!AB1111","v":"VIIIEM"},{"$f":"BONAFIDE.!AE1111","v":0},null,{"$f":"BONAFIDE.!X1111","v":0},{"$f":"BONAFIDE.!Y1111","v":0},{"$f":"BONAFIDE.!Z1111","v":0},{"$f":"BONAFIDE.!AD1111","v":0},{"$f":"BONAFIDE.!AA1111","v":"00:00:00"},119,"119","VIII","01190VIII","00VIII EM"]
[{"$f":"BONAFIDE.!AB1112","v":"VIIIEM"},{"$f":"BONAFIDE.!AE1112","v":0},null,{"$f":"BONAFIDE.!X1112","v":0},{"$f":"BONAFIDE.!Y1112","v":0},{"$f":"BONAFIDE.!Z1112","v":0},{"$f":"BONAFIDE.!AD1112","v":0},{"$f":"BONAFIDE.!AA1112","v":"00:00:00"},119,"119","VIII","01190VIII","00VIII EM"]
[{"$f":"BONAFIDE.!AB1113","v":"VIIIEM"},{"$f":"BONAFIDE.!AE1113","v":0},null,{"$f":"BONAFIDE.!X1113","v":0},{"$f":"BONAFIDE.!Y1113","v":0},{"$f":"BONAFIDE.!Z1113","v":0},{"$f":"BONAFIDE.!AD1113","v":0},{"$f":"BONAFIDE.!AA1113","v":"00:00:00"},119,"119","VIII","01190VIII","00VIII EM"]
[{"$f":"BONAFIDE.!AB1114","v":"VIIIEM"},{"$f":"BONAFIDE.!AE1114","v":0},null,{"$f":"BONAFIDE.!X1114","v":0},{"$f":"BONAFIDE.!Y1114","v":0},{"$f":"BONAFIDE.!Z1114","v":0},{"$f":"BONAFIDE.!AD1114","v":0},{"$f":"BONAFIDE.!AA1114","v":"00:00:00"},119,"119","VIII","01190VIII","00VIII EM"]
[{"$f":"BONAFIDE.!AB1115","v":"VIIIEM"},{"$f":"BONAFIDE.!AE1115","v":0},null,{"$f":"BONAFIDE.!X1115","v":0},{"$f":"BONAFIDE.!Y1115","v":0},{"$f":"BONAFIDE.!Z1115","v":0},{"$f":"BONAFIDE.!AD1115","v":0},{"$f":"BONAFIDE.!AA1115","v":"00:00:00"},119,"119","VIII","01190VIII","00VIII EM"]
[{"$f":"BONAFIDE.!AB1116","v":"VIIIEM"},{"$f":"BONAFIDE.!AE1116","v":0},null,{"$f":"BONAFIDE.!X1116","v":0},{"$f":"BONAFIDE.!Y1116","v":0},{"$f":"BONAFIDE.!Z1116","v":0},{"$f":"BONAFIDE.!AD1116","v":0},{"$f":"BONAFIDE.!AA1116","v":"00:00:00"},119,"119","VIII","01190VIII","00VIII EM"]
[{"$f":"BONAFIDE.!AB1117","v":"VIIIEM"},{"$f":"BONAFIDE.!AE1117","v":0},null,{"$f":"BONAFIDE.!X1117","v":0},{"$f":"BONAFIDE.!Y1117","v":0},{"$f":"BONAFIDE.!Z1117","v":0},{"$f":"BONAFIDE.!AD1117","v":0},{"$f":"BONAFIDE.!AA1117","v":"00:00:00"},119,"119","VIII","01190VIII","00VIII EM"]
[{"$f":"BONAFIDE.!AB1118","v":"VIIIEM"},{"$f":"BONAFIDE.!AE1118","v":0},null,{"$f":"BONAFIDE.!X1118","v":0},{"$f":"BONAFIDE.!Y1118","v":0},{"$f":"BONAFIDE.!Z1118","v":0},{"$f":"BONAFIDE.!AD1118","v":0},{"$f":"BONAFIDE.!AA1118","v":"00:00:00"},119,"119","VIII","01190VIII","00VIII EM"]
[{"$f":"BONAFIDE.!AB1119","v":"VIIIEM"},{"$f":"BONAFIDE.!AE1119","v":0},null,{"$f":"BONAFIDE.!X1119","v":0},{"$f":"BONAFIDE.!Y1119","v":0},{"$f":"BONAFIDE.!Z1119","v":0},{"$f":"BONAFIDE.!AD1119","v":0},{"$f":"BONAFIDE.!AA1119","v":"00:00:00"},119,"119","VIII","01190VIII","00VIII EM"]
[{"$f":"BONAFIDE.!AB1120","v":"VIIIEM"},{"$f":"BONAFIDE.!AE1120","v":0},null,{"$f":"BONAFIDE.!X1120","v":0},{"$f":"BONAFIDE.!Y1120","v":0},{"$f":"BONAFIDE.!Z1120","v":0},{"$f":"BONAFIDE.!AD1120","v":0},{"$f":"BONAFIDE.!AA1120","v":"00:00:00"},119,"119","VIII","01190VIII","00VIII EM"]
[{"$f":"BONAFIDE.!AB1121","v":"VIIIEM"},{"$f":"BONAFIDE.!AE1121","v":0},null,{"$f":"BONAFIDE.!X1121","v":0},{"$f":"BONAFIDE.!Y1121","v":0},{"$f":"BONAFIDE.!Z1121","v":0},{"$f":"BONAFIDE.!AD1121","v":0},{"$f":"BONAFIDE.!AA1121","v":"00:00:00"},119,"119","VIII","01190VIII","00VIII EM"]
[{"$f":"BONAFIDE.!AB1122","v":"VIIIEM"},{"$f":"BONAFIDE.!AE1122","v":0},null,{"$f":"BONAFIDE.!X1122","v":0},{"$f":"BONAFIDE.!Y1122","v":0},{"$f":"BONAFIDE.!Z1122","v":0},{"$f":"BONAFIDE.!AD1122","v":0},{"$f":"BONAFIDE.!AA1122","v":"00:00:00"},119,"119","VIII","01190VIII","00VIII EM"]
[{"$f":"BONAFIDE.!AB1123","v":"VIIIEM"},{"$f":"BONAFIDE.!AE1123","v":0},null,{"$f":"BONAFIDE.!X1123","v":0},{"$f":"BONAFIDE.!Y1123","v":0},{"$f":"BONAFIDE.!Z1123","v":0},{"$f":"BONAFIDE.!AD1123","v":0},{"$f":"BONAFIDE.!AA1123","v":"00:00:00"},119,"119","VIII","01190VIII","00VIII EM"]
[{"$f":"BONAFIDE.!AB1124","v":"VIIIEM"},{"$f":"BONAFIDE.!AE1124","v":0},null,{"$f":"BONAFIDE.!X1124","v":0},{"$f":"BONAFIDE.!Y1124","v":0},{"$f":"BONAFIDE.!Z1124","v":0},{"$f":"BONAFIDE.!AD1124","v":0},{"$f":"BONAFIDE.!AA1124","v":"00:00:00"},119,"119","VIII","01190VIII","00VIII EM"]
[{"$f":"BONAFIDE.!AB1125","v":"VIIIEM"},{"$f":"BONAFIDE.!AE1125","v":0},null,{"$f":"BONAFIDE.!X1125","v":0},{"$f":"BONAFIDE.!Y1125","v":0},{"$f":"BONAFIDE.!Z1125","v":0},{"$f":"BONAFIDE.!AD1125","v":0},{"$f":"BONAFIDE.!AA1125","v":"00:00:00"},119,"119","VIII","01190VIII","00VIII EM"]
[{"$f":"BONAFIDE.!AB1126","v":"VIIIEM"},{"$f":"BONAFIDE.!AE1126","v":0},null,{"$f":"BONAFIDE.!X1126","v":0},{"$f":"BONAFIDE.!Y1126","v":0},{"$f":"BONAFIDE.!Z1126","v":0},{"$f":"BONAFIDE.!AD1126","v":0},{"$f":"BONAFIDE.!AA1126","v":"00:00:00"},119,"119","VIII","01190VIII","00VIII EM"]
[{"$f":"BONAFIDE.!AB1127","v":"VIIIEM"},{"$f":"BONAFIDE.!AE1127","v":0},null,{"$f":"BONAFIDE.!X1127","v":0},{"$f":"BONAFIDE.!Y1127","v":0},{"$f":"BONAFIDE.!Z1127","v":0},{"$f":"BONAFIDE.!AD1127","v":0},{"$f":"BONAFIDE.!AA1127","v":"00:00:00"},119,"119","VIII","01190VIII","00VIII EM"]
[{"$f":"BONAFIDE.!AB1128","v":"VIIIEM"},{"$f":"BONAFIDE.!AE1128","v":0},null,{"$f":"BONAFIDE.!X1128","v":0},{"$f":"BONAFIDE.!Y1128","v":0},{"$f":"BONAFIDE.!Z1128","v":0},{"$f":"BONAFIDE.!AD1128","v":0},{"$f":"BONAFIDE.!AA1128","v":"00:00:00"},119,"119","VIII","01190VIII","00VIII EM"]
[{"$f":"BONAFIDE.!AB1129","v":"VIIIEM"},{"$f":"BONAFIDE.!AE1129","v":0},null,{"$f":"BONAFIDE.!X1129","v":0},{"$f":"BONAFIDE.!Y1129","v":0},{"$f":"BONAFIDE.!Z1129","v":0},{"$f":"BONAFIDE.!AD1129","v":0},{"$f":"BONAFIDE.!AA1129","v":"00:00:00"},119,"119","VIII","01190VIII","00VIII EM"]
[{"$f":"BONAFIDE.!AB1130","v":"VIIIEM"},{"$f":"BONAFIDE.!AE1130","v":0},null,{"$f":"BONAFIDE.!X1130","v":0},{"$f":"BONAFIDE.!Y1130","v":0},{"$f":"BONAFIDE.!Z1130","v":0},{"$f":"BONAFIDE.!AD1130","v":0},{"$f":"BONAFIDE.!AA1130","v":"00:00:00"},119,"119","VIII","01190VIII","00VIII EM"]
[{"$f":"BONAFIDE.!AB1131","v":"VIIIEM"},{"$f":"BONAFIDE.!AE1131","v":0},null,{"$f":"BONAFIDE.!X1131","v":0},{"$f":"BONAFIDE.!Y1131","v":0},{"$f":"BONAFIDE.!Z1131","v":0},{"$f":"BONAFIDE.!AD1131","v":0},{"$f":"BONAFIDE.!AA1131","v":"00:00:00"},119,"119","VIII","01190VIII","00VIII EM"]
[{"$f":"BONAFIDE.!AB1132","v":"VIIIEM"},{"$f":"BONAFIDE.!AE1132","v":0},null,{"$f":"BONAFIDE.!X1132","v":0},{"$f":"BONAFIDE.!Y1132","v":0},{"$f":"BONAFIDE.!Z1132","v":0},{"$f":"BONAFIDE.!AD1132","v":0},{"$f":"BONAFIDE.!AA1132","v":"00:00:00"},119,"119","VIII","01190VIII","00VIII EM"]
[{"$f":"BONAFIDE.!AB1133","v":"VIIIEM"},{"$f":"BONAFIDE.!AE1133","v":0},null,{"$f":"BONAFIDE.!X1133","v":0},{"$f":"BONAFIDE.!Y1133","v":0},{"$f":"BONAFIDE.!Z1133","v":0},{"$f":"BONAFIDE.!AD1133","v":0},{"$f":"BONAFIDE.!AA1133","v":"00:00:00"},119,"119","VIII","01190VIII","00VIII EM"]
[{"$f":"BONAFIDE.!AB1134","v":"VIIIEM"},{"$f":"BONAFIDE.!AE1134","v":0},null,{"$f":"BONAFIDE.!X1134","v":0},{"$f":"BONAFIDE.!Y1134","v":0},{"$f":"BONAFIDE.!Z1134","v":0},{"$f":"BONAFIDE.!AD1134","v":0},{"$f":"BONAFIDE.!AA1134","v":"00:00:00"},119,"119","VIII","01190VIII","00VIII EM"]
[{"$f":"BONAFIDE.!AB1135","v":"VIIIEM"},{"$f":"BONAFIDE.!AE1135","v":0},null,{"$f":"BONAFIDE.!X1135","v":0},{"$f":"BONAFIDE.!Y1135","v":0},{"$f":"BONAFIDE.!Z1135","v":0},{"$f":"BONAFIDE.!AD1135","v":0},{"$f":"BONAFIDE.!AA1135","v":"00:00:00"},119,"119","VIII","01190VIII","00VIII EM"]
[{"$f":"BONAFIDE.!AB1136","v":"VIIIEM"},{"$f":"BONAFIDE.!AE1136","v":0},null,{"$f":"BONAFIDE.!X1136","v":0},{"$f":"BONAFIDE.!Y1136","v":0},{"$f":"BONAFIDE.!Z1136","v":0},{"$f":"BONAFIDE.!AD1136","v":0},{"$f":"BONAFIDE.!AA1136","v":"00:00:00"},119,"119","VIII","01190VIII","00VIII EM"]
[{"$f":"BONAFIDE.!AB1137","v":"VIIIEM"},{"$f":"BONAFIDE.!AE1137","v":0},null,{"$f":"BONAFIDE.!X1137","v":0},{"$f":"BONAFIDE.!Y1137","v":0},{"$f":"BONAFIDE.!Z1137","v":0},{"$f":"BONAFIDE.!AD1137","v":0},{"$f":"BONAFIDE.!AA1137","v":"00:00:00"},119,"119","VIII","01190VIII","00VIII EM"]
[{"$f":"BONAFIDE.!AB1138","v":"VIIIEM"},{"$f":"BONAFIDE.!AE1138","v":0},null,{"$f":"BONAFIDE.!X1138","v":0},{"$f":"BONAFIDE.!Y1138","v":0},{"$f":"BONAFIDE.!Z1138","v":0},{"$f":"BONAFIDE.!AD1138","v":0},{"$f":"BONAFIDE.!AA1138","v":"00:00:00"},119,"119","VIII","01190VIII","00VIII EM"]
[{"$f":"BONAFIDE.!AB1139","v":"VIIIEM"},{"$f":"BONAFIDE.!AE1139","v":0},null,{"$f":"BONAFIDE.!X1139","v":0},{"$f":"BONAFIDE.!Y1139","v":0},{"$f":"BONAFIDE.!Z1139","v":0},{"$f":"BONAFIDE.!AD1139","v":0},{"$f":"BONAFIDE.!AA1139","v":"00:00:00"},119,"119","VIII","01190VIII","00VIII EM"]
[{"$f":"BONAFIDE.!AB1140","v":"VIIIEM"},{"$f":"BONAFIDE.!AE1140","v":0},null,{"$f":"BONAFIDE.!X1140","v":0},{"$f":"BONAFIDE.!Y1140","v":0},{"$f":"BONAFIDE.!Z1140","v":0},{"$f":"BONAFIDE.!AD1140","v":0},{"$f":"BONAFIDE.!AA1140","v":"00:00:00"},119,"119","VIII","01190VIII","00VIII EM"]
[{"$f":"BONAFIDE.!AB1141","v":"VIIIEM"},{"$f":"BONAFIDE.!AE1141","v":0},null,{"$f":"BONAFIDE.!X1141","v":0},{"$f":"BONAFIDE.!Y1141","v":0},{"$f":"BONAFIDE.!Z1141","v":0},{"$f":"BONAFIDE.!AD1141","v":0},{"$f":"BONAFIDE.!AA1141","v":"00:00:00"},119,"119","VIII","01190VIII","00VIII EM"]
[{"$f":"BONAFIDE.!AB1142","v":"VIIIEM"},{"$f":"BONAFIDE.!AE1142","v":0},null,{"$f":"BONAFIDE.!X1142","v":0},{"$f":"BONAFIDE.!Y1142","v":0},{"$f":"BONAFIDE.!Z1142","v":0},{"$f":"BONAFIDE.!AD1142","v":0},{"$f":"BONAFIDE.!AA1142","v":"00:00:00"},119,"119","VIII","01190VIII","00VIII EM"]
[{"$f":"BONAFIDE.!AB1143","v":"VIIIEM"},{"$f":"BONAFIDE.!AE1143","v":0},null,{"$f":"BONAFIDE.!X1143","v":0},{"$f":"BONAFIDE.!Y1143","v":0},{"$f":"BONAFIDE.!Z1143","v":0},{"$f":"BONAFIDE.!AD1143","v":0},{"$f":"BONAFIDE.!AA1143","v":"00:00:00"},119,"119","VIII","01190VIII","00VIII EM"]
[{"$f":"BONAFIDE.!AB1144","v":"VIIIEM"},{"$f":"BONAFIDE.!AE1144","v":0},null,{"$f":"BONAFIDE.!X1144","v":0},{"$f":"BONAFIDE.!Y1144","v":0},{"$f":"BONAFIDE.!Z1144","v":0},{"$f":"BONAFIDE.!AD1144","v":0},{"$f":"BONAFIDE.!AA1144","v":"00:00:00"},119,"119","VIII","01190VIII","00VIII EM"]
[{"$f":"BONAFIDE.!AB1145","v":"VIIIEM"},{"$f":"BONAFIDE.!AE1145","v":0},null,{"$f":"BONAFIDE.!X1145","v":0},{"$f":"BONAFIDE.!Y1145","v":0},{"$f":"BONAFIDE.!Z1145","v":0},{"$f":"BONAFIDE.!AD1145","v":0},{"$f":"BONAFIDE.!AA1145","v":"00:00:00"},119,"119","VIII","01190VIII","00VIII EM"]
[{"$f":"BONAFIDE.!AB1146","v":"VIIIEM"},{"$f":"BONAFIDE.!AE1146","v":0},null,{"$f":"BONAFIDE.!X1146","v":0},{"$f":"BONAFIDE.!Y1146","v":0},{"$f":"BONAFIDE.!Z1146","v":0},{"$f":"BONAFIDE.!AD1146","v":0},{"$f":"BONAFIDE.!AA1146","v":"00:00:00"},119,"119","VIII","01190VIII","00VIII EM"]
[{"$f":"BONAFIDE.!AB1147","v":"VIIIEM"},{"$f":"BONAFIDE.!AE1147","v":0},null,{"$f":"BONAFIDE.!X1147","v":0},{"$f":"BONAFIDE.!Y1147","v":0},{"$f":"BONAFIDE.!Z1147","v":0},{"$f":"BONAFIDE.!AD1147","v":0},{"$f":"BONAFIDE.!AA1147","v":"00:00:00"},119,"119","VIII","01190VIII","00VIII EM"]
[{"$f":"BONAFIDE.!AB1148","v":"VIIIEM"},{"$f":"BONAFIDE.!AE1148","v":0},null,{"$f":"BONAFIDE.!X1148","v":0},{"$f":"BONAFIDE.!Y1148","v":0},{"$f":"BONAFIDE.!Z1148","v":0},{"$f":"BONAFIDE.!AD1148","v":0},{"$f":"BONAFIDE.!AA1148","v":"00:00:00"},119,"119","VIII","01190VIII","00VIII EM"]
[{"$f":"BONAFIDE.!AB1149","v":"VIIIEM"},{"$f":"BONAFIDE.!AE1149","v":0},null,{"$f":"BONAFIDE.!X1149","v":0},{"$f":"BONAFIDE.!Y1149","v":0},{"$f":"BONAFIDE.!Z1149","v":0},{"$f":"BONAFIDE.!AD1149","v":0},{"$f":"BONAFIDE.!AA1149","v":"00:00:00"},119,"119","VIII","01190VIII","00VIII EM"]
[{"$f":"BONAFIDE.!AB1150","v":"VIIIEM"},{"$f":"BONAFIDE.!AE1150","v":0},null,{"$f":"BONAFIDE.!X1150","v":0},{"$f":"BONAFIDE.!Y1150","v":0},{"$f":"BONAFIDE.!Z1150","v":0},{"$f":"BONAFIDE.!AD1150","v":0},{"$f":"BONAFIDE.!AA1150","v":"00:00:00"},119,"119","VIII","01190VIII","00VIII EM"]
[{"$f":"BONAFIDE.!AB1151","v":"VIIIEM"},{"$f":"BONAFIDE.!AE1151","v":0},null,{"$f":"BONAFIDE.!X1151","v":0},{"$f":"BONAFIDE.!Y1151","v":0},{"$f":"BONAFIDE.!Z1151","v":0},{"$f":"BONAFIDE.!AD1151","v":0},{"$f":"BONAFIDE.!AA1151","v":"00:00:00"},119,"119","VIII","01190VIII","00VIII EM"]
[{"$f":"BONAFIDE.!AB1152","v":"VIIIEM"},{"$f":"BONAFIDE.!AE1152","v":0},null,{"$f":"BONAFIDE.!X1152","v":0},{"$f":"BONAFIDE.!Y1152","v":0},{"$f":"BONAFIDE.!Z1152","v":0},{"$f":"BONAFIDE.!AD1152","v":0},{"$f":"BONAFIDE.!AA1152","v":"00:00:00"},119,"119","VIII","01190VIII","00VIII EM"]
[{"$f":"BONAFIDE.!AB1153","v":"VIIIEM"},{"$f":"BONAFIDE.!AE1153","v":0},null,{"$f":"BONAFIDE.!X1153","v":0},{"$f":"BONAFIDE.!Y1153","v":0},{"$f":"BONAFIDE.!Z1153","v":0},{"$f":"BONAFIDE.!AD1153","v":0},{"$f":"BONAFIDE.!AA1153","v":"00:00:00"},119,"119","VIII","01190VIII","00VIII EM"]
[{"$f":"BONAFIDE.!AB1154","v":"VIIIEM"},{"$f":"BONAFIDE.!AE1154","v":0},null,{"$f":"BONAFIDE.!X1154","v":0},{"$f":"BONAFIDE.!Y1154","v":0},{"$f":"BONAFIDE.!Z1154","v":0},{"$f":"BONAFIDE.!AD1154","v":0},{"$f":"BONAFIDE.!AA1154","v":"00:00:00"},119,"119","VIII","01190VIII","00VIII EM"]
[{"$f":"BONAFIDE.!AB1155","v":"VIIIEM"},{"$f":"BONAFIDE.!AE1155","v":0},null,{"$f":"BONAFIDE.!X1155","v":0},{"$f":"BONAFIDE.!Y1155","v":0},{"$f":"BONAFIDE.!Z1155","v":0},{"$f":"BONAFIDE.!AD1155","v":0},{"$f":"BONAFIDE.!AA1155","v":"00:00:00"},119,"119","VIII","01190VIII","00VIII EM"]
[{"$f":"BONAFIDE.!AB1156","v":"VIIIEM"},{"$f":"BONAFIDE.!AE1156","v":0},null,{"$f":"BONAFIDE.!X1156","v":0},{"$f":"BONAFIDE.!Y1156","v":0},{"$f":"BONAFIDE.!Z1156","v":0},{"$f":"BONAFIDE.!AD1156","v":0},{"$f":"BONAFIDE.!AA1156","v":"00:00:00"},119,"119","VIII","01190VIII","00VIII EM"]
[{"$f":"BONAFIDE.!AB1157","v":"VIIIEM"},{"$f":"BONAFIDE.!AE1157","v":0},null,{"$f":"BONAFIDE.!X1157","v":0},{"$f":"BONAFIDE.!Y1157","v":0},{"$f":"BONAFIDE.!Z1157","v":0},{"$f":"BONAFIDE.!AD1157","v":0},{"$f":"BONAFIDE.!AA1157","v":"00:00:00"},119,"119","VIII","01190VIII","00VIII EM"]
[{"$f":"BONAFIDE.!AB1158","v":"VIIIEM"},{"$f":"BONAFIDE.!AE1158","v":0},null,{"$f":"BONAFIDE.!X1158","v":0},{"$f":"BONAFIDE.!Y1158","v":0},{"$f":"BONAFIDE.!Z1158","v":0},{"$f":"BONAFIDE.!AD1158","v":0},{"$f":"BONAFIDE.!AA1158","v":"00:00:00"},119,"119","VIII","01190VIII","00VIII EM"]
[{"$f":"BONAFIDE.!AB1159","v":"VIIIEM"},{"$f":"BONAFIDE.!AE1159","v":0},null,{"$f":"BONAFIDE.!X1159","v":0},{"$f":"BONAFIDE.!Y1159","v":0},{"$f":"BONAFIDE.!Z1159","v":0},{"$f":"BONAFIDE.!AD1159","v":0},{"$f":"BONAFIDE.!AA1159","v":"00:00:00"},{"$f":"DATEDIF(H1156,CUTOFFDT,\"Y\")","v":119},{"$f":"fillno(I1156)","v":"119"},{"$f":"MID(A1156,1,LEN(A1156)-2)","v":"VIII"},{"$f":"B1156&J1156&G1156&K1156","v":"01190VIII"},{"$f":"B1156&G1156&MID(A1156,1,LEN(A1156)-2)&\" \" & RIGHT(A1156,2)","v":"00VIII EM"}]
[{"$f":"BONAFIDE.!AB1160","v":"VIIIEM"},{"$f":"BONAFIDE.!AE1160","v":0},null,{"$f":"BONAFIDE.!X1160","v":0},{"$f":"BONAFIDE.!Y1160","v":0},{"$f":"BONAFIDE.!Z1160","v":0},{"$f":"BONAFIDE.!AD1160","v":0},{"$f":"BONAFIDE.!AA1160","v":"00:00:00"},119,"119","VIII","01190VIII","00VIII EM"]
[{"$f":"BONAFIDE.!AB1161","v":"VIIIEM"},{"$f":"BONAFIDE.!AE1161","v":0},null,{"$f":"BONAFIDE.!X1161","v":0},{"$f":"BONAFIDE.!Y1161","v":0},{"$f":"BONAFIDE.!Z1161","v":0},{"$f":"BONAFIDE.!AD1161","v":0},{"$f":"BONAFIDE.!AA1161","v":"00:00:00"},119,"119","VIII","01190VIII","00VIII EM"]
[{"$f":"BONAFIDE.!AB1162","v":"VIIIEM"},{"$f":"BONAFIDE.!AE1162","v":0},null,{"$f":"BONAFIDE.!X1162","v":0},{"$f":"BONAFIDE.!Y1162","v":0},{"$f":"BONAFIDE.!Z1162","v":0},{"$f":"BONAFIDE.!AD1162","v":0},{"$f":"BONAFIDE.!AA1162","v":"00:00:00"},119,"119","VIII","01190VIII","00VIII EM"]
[{"$f":"BONAFIDE.!AB1163","v":"VIIIEM"},{"$f":"BONAFIDE.!AE1163","v":0},null,{"$f":"BONAFIDE.!X1163","v":0},{"$f":"BONAFIDE.!Y1163","v":0},{"$f":"BONAFIDE.!Z1163","v":0},{"$f":"BONAFIDE.!AD1163","v":0},{"$f":"BONAFIDE.!AA1163","v":"00:00:00"},119,"119","VIII","01190VIII","00VIII EM"]
[{"$f":"BONAFIDE.!AB1164","v":"VIIIEM"},{"$f":"BONAFIDE.!AE1164","v":0},null,{"$f":"BONAFIDE.!X1164","v":0},{"$f":"BONAFIDE.!Y1164","v":0},{"$f":"BONAFIDE.!Z1164","v":0},{"$f":"BONAFIDE.!AD1164","v":0},{"$f":"BONAFIDE.!AA1164","v":"00:00:00"},119,"119","VIII","01190VIII","00VIII EM"]
[{"$f":"BONAFIDE.!AB1165","v":"VIIIEM"},{"$f":"BONAFIDE.!AE1165","v":0},null,{"$f":"BONAFIDE.!X1165","v":0},{"$f":"BONAFIDE.!Y1165","v":0},{"$f":"BONAFIDE.!Z1165","v":0},{"$f":"BONAFIDE.!AD1165","v":0},{"$f":"BONAFIDE.!AA1165","v":"00:00:00"},119,"119","VIII","01190VIII","00VIII EM"]
[{"$f":"BONAFIDE.!AB1166","v":"VIIIEM"},{"$f":"BONAFIDE.!AE1166","v":0},null,{"$f":"BONAFIDE.!X1166","v":0},{"$f":"BONAFIDE.!Y1166","v":0},{"$f":"BONAFIDE.!Z1166","v":0},{"$f":"BONAFIDE.!AD1166","v":0},{"$f":"BONAFIDE.!AA1166","v":"00:00:00"},119,"119","VIII","01190VIII","00VIII EM"]
[{"$f":"BONAFIDE.!AB1167","v":"VIIIEM"},{"$f":"BONAFIDE.!AE1167","v":0},null,{"$f":"BONAFIDE.!X1167","v":0},{"$f":"BONAFIDE.!Y1167","v":0},{"$f":"BONAFIDE.!Z1167","v":0},{"$f":"BONAFIDE.!AD1167","v":0},{"$f":"BONAFIDE.!AA1167","v":"00:00:00"},119,"119","VIII","01190VIII","00VIII EM"]
[{"$f":"BONAFIDE.!AB1168","v":"VIIIEM"},{"$f":"BONAFIDE.!AE1168","v":0},null,{"$f":"BONAFIDE.!X1168","v":0},{"$f":"BONAFIDE.!Y1168","v":0},{"$f":"BONAFIDE.!Z1168","v":0},{"$f":"BONAFIDE.!AD1168","v":0},{"$f":"BONAFIDE.!AA1168","v":"00:00:00"},119,"119","VIII","01190VIII","00VIII EM"]
[{"$f":"BONAFIDE.!AB1169","v":"VIIIEM"},{"$f":"BONAFIDE.!AE1169","v":0},null,{"$f":"BONAFIDE.!X1169","v":0},{"$f":"BONAFIDE.!Y1169","v":0},{"$f":"BONAFIDE.!Z1169","v":0},{"$f":"BONAFIDE.!AD1169","v":0},{"$f":"BONAFIDE.!AA1169","v":"00:00:00"},119,"119","VIII","01190VIII","00VIII EM"]
[{"$f":"BONAFIDE.!AB1170","v":"VIIIEM"},{"$f":"BONAFIDE.!AE1170","v":0},null,{"$f":"BONAFIDE.!X1170","v":0},{"$f":"BONAFIDE.!Y1170","v":0},{"$f":"BONAFIDE.!Z1170","v":0},{"$f":"BONAFIDE.!AD1170","v":0},{"$f":"BONAFIDE.!AA1170","v":"00:00:00"},119,"119","VIII","01190VIII","00VIII EM"]
[{"$f":"BONAFIDE.!AB1171","v":"VIIIEM"},{"$f":"BONAFIDE.!AE1171","v":0},null,{"$f":"BONAFIDE.!X1171","v":0},{"$f":"BONAFIDE.!Y1171","v":0},{"$f":"BONAFIDE.!Z1171","v":0},{"$f":"BONAFIDE.!AD1171","v":0},{"$f":"BONAFIDE.!AA1171","v":"00:00:00"},119,"119","VIII","01190VIII","00VIII EM"]
[{"$f":"BONAFIDE.!AB1172","v":"VIIIEM"},{"$f":"BONAFIDE.!AE1172","v":0},null,{"$f":"BONAFIDE.!X1172","v":0},{"$f":"BONAFIDE.!Y1172","v":0},{"$f":"BONAFIDE.!Z1172","v":0},{"$f":"BONAFIDE.!AD1172","v":0},{"$f":"BONAFIDE.!AA1172","v":"00:00:00"},119,"119","VIII","01190VIII","00VIII EM"]
[{"$f":"BONAFIDE.!AB1173","v":"VIIIEM"},{"$f":"BONAFIDE.!AE1173","v":0},null,{"$f":"BONAFIDE.!X1173","v":0},{"$f":"BONAFIDE.!Y1173","v":0},{"$f":"BONAFIDE.!Z1173","v":0},{"$f":"BONAFIDE.!AD1173","v":0},{"$f":"BONAFIDE.!AA1173","v":"00:00:00"},119,"119","VIII","01190VIII","00VIII EM"]
[{"$f":"BONAFIDE.!AB1174","v":"VIIIEM"},{"$f":"BONAFIDE.!AE1174","v":0},null,{"$f":"BONAFIDE.!X1174","v":0},{"$f":"BONAFIDE.!Y1174","v":0},{"$f":"BONAFIDE.!Z1174","v":0},{"$f":"BONAFIDE.!AD1174","v":0},{"$f":"BONAFIDE.!AA1174","v":"00:00:00"},119,"119","VIII","01190VIII","00VIII EM"]
[{"$f":"BONAFIDE.!AB1175","v":"VIIIEM"},{"$f":"BONAFIDE.!AE1175","v":0},null,{"$f":"BONAFIDE.!X1175","v":0},{"$f":"BONAFIDE.!Y1175","v":0},{"$f":"BONAFIDE.!Z1175","v":0},{"$f":"BONAFIDE.!AD1175","v":0},{"$f":"BONAFIDE.!AA1175","v":"00:00:00"},119,"119","VIII","01190VIII","00VIII EM"]
[{"$f":"BONAFIDE.!AB1176","v":"VIIIEM"},{"$f":"BONAFIDE.!AE1176","v":0},null,{"$f":"BONAFIDE.!X1176","v":0},{"$f":"BONAFIDE.!Y1176","v":0},{"$f":"BONAFIDE.!Z1176","v":0},{"$f":"BONAFIDE.!AD1176","v":0},{"$f":"BONAFIDE.!AA1176","v":"00:00:00"},119,"119","VIII","01190VIII","00VIII EM"]
[{"$f":"BONAFIDE.!AB1177","v":"VIIIEM"},{"$f":"BONAFIDE.!AE1177","v":0},null,{"$f":"BONAFIDE.!X1177","v":0},{"$f":"BONAFIDE.!Y1177","v":0},{"$f":"BONAFIDE.!Z1177","v":0},{"$f":"BONAFIDE.!AD1177","v":0},{"$f":"BONAFIDE.!AA1177","v":"00:00:00"},119,"119","VIII","01190VIII","00VIII EM"]
[{"$f":"BONAFIDE.!AB1178","v":"VIIIEM"},{"$f":"BONAFIDE.!AE1178","v":0},null,{"$f":"BONAFIDE.!X1178","v":0},{"$f":"BONAFIDE.!Y1178","v":0},{"$f":"BONAFIDE.!Z1178","v":0},{"$f":"BONAFIDE.!AD1178","v":0},{"$f":"BONAFIDE.!AA1178","v":"00:00:00"},119,"119","VIII","01190VIII","00VIII EM"]
[{"$f":"BONAFIDE.!AB1179","v":"VIIIEM"},{"$f":"BONAFIDE.!AE1179","v":0},null,{"$f":"BONAFIDE.!X1179","v":0},{"$f":"BONAFIDE.!Y1179","v":0},{"$f":"BONAFIDE.!Z1179","v":0},{"$f":"BONAFIDE.!AD1179","v":0},{"$f":"BONAFIDE.!AA1179","v":"00:00:00"},119,"119","VIII","01190VIII","00VIII EM"]
[{"$f":"BONAFIDE.!AB1180","v":"VIIIEM"},{"$f":"BONAFIDE.!AE1180","v":0},null,{"$f":"BONAFIDE.!X1180","v":0},{"$f":"BONAFIDE.!Y1180","v":0},{"$f":"BONAFIDE.!Z1180","v":0},{"$f":"BONAFIDE.!AD1180","v":0},{"$f":"BONAFIDE.!AA1180","v":"00:00:00"},119,"119","VIII","01190VIII","00VIII EM"]
[{"$f":"BONAFIDE.!AB1181","v":"VIIIEM"},{"$f":"BONAFIDE.!AE1181","v":0},null,{"$f":"BONAFIDE.!X1181","v":0},{"$f":"BONAFIDE.!Y1181","v":0},{"$f":"BONAFIDE.!Z1181","v":0},{"$f":"BONAFIDE.!AD1181","v":0},{"$f":"BONAFIDE.!AA1181","v":"00:00:00"},119,"119","VIII","01190VIII","00VIII EM"]
[{"$f":"BONAFIDE.!AB1182","v":"VIIIEM"},{"$f":"BONAFIDE.!AE1182","v":0},null,{"$f":"BONAFIDE.!X1182","v":0},{"$f":"BONAFIDE.!Y1182","v":0},{"$f":"BONAFIDE.!Z1182","v":0},{"$f":"BONAFIDE.!AD1182","v":0},{"$f":"BONAFIDE.!AA1182","v":"00:00:00"},119,"119","VIII","01190VIII","00VIII EM"]
[{"$f":"BONAFIDE.!AB1183","v":"VIIIEM"},{"$f":"BONAFIDE.!AE1183","v":0},null,{"$f":"BONAFIDE.!X1183","v":0},{"$f":"BONAFIDE.!Y1183","v":0},{"$f":"BONAFIDE.!Z1183","v":0},{"$f":"BONAFIDE.!AD1183","v":0},{"$f":"BONAFIDE.!AA1183","v":"00:00:00"},119,"119","VIII","01190VIII","00VIII EM"]
[{"$f":"BONAFIDE.!AB1184","v":"VIIIEM"},{"$f":"BONAFIDE.!AE1184","v":0},null,{"$f":"BONAFIDE.!X1184","v":0},{"$f":"BONAFIDE.!Y1184","v":0},{"$f":"BONAFIDE.!Z1184","v":0},{"$f":"BONAFIDE.!AD1184","v":0},{"$f":"BONAFIDE.!AA1184","v":"00:00:00"},119,"119","VIII","01190VIII","00VIII EM"]
[{"$f":"BONAFIDE.!AB1185","v":"VIIIEM"},{"$f":"BONAFIDE.!AE1185","v":0},null,{"$f":"BONAFIDE.!X1185","v":0},{"$f":"BONAFIDE.!Y1185","v":0},{"$f":"BONAFIDE.!Z1185","v":0},{"$f":"BONAFIDE.!AD1185","v":0},{"$f":"BONAFIDE.!AA1185","v":"00:00:00"},119,"119","VIII","01190VIII","00VIII EM"]
[{"$f":"BONAFIDE.!AB1186","v":"VIIIEM"},{"$f":"BONAFIDE.!AE1186","v":0},null,{"$f":"BONAFIDE.!X1186","v":0},{"$f":"BONAFIDE.!Y1186","v":0},{"$f":"BONAFIDE.!Z1186","v":0},{"$f":"BONAFIDE.!AD1186","v":0},{"$f":"BONAFIDE.!AA1186","v":"00:00:00"},119,"119","VIII","01190VIII","00VIII EM"]
[{"$f":"BONAFIDE.!AB1187","v":"VIIIEM"},{"$f":"BONAFIDE.!AE1187","v":0},null,{"$f":"BONAFIDE.!X1187","v":0},{"$f":"BONAFIDE.!Y1187","v":0},{"$f":"BONAFIDE.!Z1187","v":0},{"$f":"BONAFIDE.!AD1187","v":0},{"$f":"BONAFIDE.!AA1187","v":"00:00:00"},119,"119","VIII","01190VIII","00VIII EM"]
[{"$f":"BONAFIDE.!AB1188","v":"VIIIEM"},{"$f":"BONAFIDE.!AE1188","v":0},null,{"$f":"BONAFIDE.!X1188","v":0},{"$f":"BONAFIDE.!Y1188","v":0},{"$f":"BONAFIDE.!Z1188","v":0},{"$f":"BONAFIDE.!AD1188","v":0},{"$f":"BONAFIDE.!AA1188","v":"00:00:00"},119,"119","VIII","01190VIII","00VIII EM"]
[{"$f":"BONAFIDE.!AB1189","v":"VIIIEM"},{"$f":"BONAFIDE.!AE1189","v":0},null,{"$f":"BONAFIDE.!X1189","v":0},{"$f":"BONAFIDE.!Y1189","v":0},{"$f":"BONAFIDE.!Z1189","v":0},{"$f":"BONAFIDE.!AD1189","v":0},{"$f":"BONAFIDE.!AA1189","v":"00:00:00"},119,"119","VIII","01190VIII","00VIII EM"]
[{"$f":"BONAFIDE.!AB1190","v":"VIIIEM"},{"$f":"BONAFIDE.!AE1190","v":0},null,{"$f":"BONAFIDE.!X1190","v":0},{"$f":"BONAFIDE.!Y1190","v":0},{"$f":"BONAFIDE.!Z1190","v":0},{"$f":"BONAFIDE.!AD1190","v":0},{"$f":"BONAFIDE.!AA1190","v":"00:00:00"},119,"119","VIII","01190VIII","00VIII EM"]
[{"$f":"BONAFIDE.!AB1191","v":"VIIIEM"},{"$f":"BONAFIDE.!AE1191","v":0},null,{"$f":"BONAFIDE.!X1191","v":0},{"$f":"BONAFIDE.!Y1191","v":0},{"$f":"BONAFIDE.!Z1191","v":0},{"$f":"BONAFIDE.!AD1191","v":0},{"$f":"BONAFIDE.!AA1191","v":"00:00:00"},119,"119","VIII","01190VIII","00VIII EM"]
[{"$f":"BONAFIDE.!AB1192","v":"VIIIEM"},{"$f":"BONAFIDE.!AE1192","v":0},null,{"$f":"BONAFIDE.!X1192","v":0},{"$f":"BONAFIDE.!Y1192","v":0},{"$f":"BONAFIDE.!Z1192","v":0},{"$f":"BONAFIDE.!AD1192","v":0},{"$f":"BONAFIDE.!AA1192","v":"00:00:00"},119,"119","VIII","01190VIII","00VIII EM"]
[{"$f":"BONAFIDE.!AB1193","v":"VIIIEM"},{"$f":"BONAFIDE.!AE1193","v":0},null,{"$f":"BONAFIDE.!X1193","v":0},{"$f":"BONAFIDE.!Y1193","v":0},{"$f":"BONAFIDE.!Z1193","v":0},{"$f":"BONAFIDE.!AD1193","v":0},{"$f":"BONAFIDE.!AA1193","v":"00:00:00"},119,"119","VIII","01190VIII","00VIII EM"]
[{"$f":"BONAFIDE.!AB1194","v":"VIIIEM"},{"$f":"BONAFIDE.!AE1194","v":0},null,{"$f":"BONAFIDE.!X1194","v":0},{"$f":"BONAFIDE.!Y1194","v":0},{"$f":"BONAFIDE.!Z1194","v":0},{"$f":"BONAFIDE.!AD1194","v":0},{"$f":"BONAFIDE.!AA1194","v":"00:00:00"},119,"119","VIII","01190VIII","00VIII EM"]
[{"$f":"BONAFIDE.!AB1195","v":"VIIIEM"},{"$f":"BONAFIDE.!AE1195","v":0},null,{"$f":"BONAFIDE.!X1195","v":0},{"$f":"BONAFIDE.!Y1195","v":0},{"$f":"BONAFIDE.!Z1195","v":0},{"$f":"BONAFIDE.!AD1195","v":0},{"$f":"BONAFIDE.!AA1195","v":"00:00:00"},119,"119","VIII","01190VIII","00VIII EM"]
[{"$f":"BONAFIDE.!AB1196","v":"VIIIEM"},{"$f":"BONAFIDE.!AE1196","v":0},null,{"$f":"BONAFIDE.!X1196","v":0},{"$f":"BONAFIDE.!Y1196","v":0},{"$f":"BONAFIDE.!Z1196","v":0},{"$f":"BONAFIDE.!AD1196","v":0},{"$f":"BONAFIDE.!AA1196","v":"00:00:00"},119,"119","VIII","01190VIII","00VIII EM"]
[{"$f":"BONAFIDE.!AB1197","v":"VIIIEM"},{"$f":"BONAFIDE.!AE1197","v":0},null,{"$f":"BONAFIDE.!X1197","v":0},{"$f":"BONAFIDE.!Y1197","v":0},{"$f":"BONAFIDE.!Z1197","v":0},{"$f":"BONAFIDE.!AD1197","v":0},{"$f":"BONAFIDE.!AA1197","v":"00:00:00"},119,"119","VIII","01190VIII","00VIII EM"]
[{"$f":"BONAFIDE.!AB1198","v":"VIIIEM"},{"$f":"BONAFIDE.!AE1198","v":0},null,{"$f":"BONAFIDE.!X1198","v":0},{"$f":"BONAFIDE.!Y1198","v":0},{"$f":"BONAFIDE.!Z1198","v":0},{"$f":"BONAFIDE.!AD1198","v":0},{"$f":"BONAFIDE.!AA1198","v":"00:00:00"},119,"119","VIII","01190VIII","00VIII EM"]
[{"$f":"BONAFIDE.!AB1199","v":"VIIIEM"},{"$f":"BONAFIDE.!AE1199","v":0},null,{"$f":"BONAFIDE.!X1199","v":0},{"$f":"BONAFIDE.!Y1199","v":0},{"$f":"BONAFIDE.!Z1199","v":0},{"$f":"BONAFIDE.!AD1199","v":0},{"$f":"BONAFIDE.!AA1199","v":"00:00:00"},119,"119","VIII","01190VIII","00VIII EM"]
[{"$f":"BONAFIDE.!AB1200","v":"VIIIEM"},{"$f":"BONAFIDE.!AE1200","v":0},null,{"$f":"BONAFIDE.!X1200","v":0},{"$f":"BONAFIDE.!Y1200","v":0},{"$f":"BONAFIDE.!Z1200","v":0},{"$f":"BONAFIDE.!AD1200","v":0},{"$f":"BONAFIDE.!AA1200","v":"00:00:00"},119,"119","VIII","01190VIII","00VIII EM"]
[{"$f":"BONAFIDE.!AB1201","v":"VIIIEM"},{"$f":"BONAFIDE.!AE1201","v":0},null,{"$f":"BONAFIDE.!X1201","v":0},{"$f":"BONAFIDE.!Y1201","v":0},{"$f":"BONAFIDE.!Z1201","v":0},{"$f":"BONAFIDE.!AD1201","v":0},{"$f":"BONAFIDE.!AA1201","v":"00:00:00"},119,"119","VIII","01190VIII","00VIII EM"]
[{"$f":"BONAFIDE.!AB1202","v":"VIIIEM"},{"$f":"BONAFIDE.!AE1202","v":0},null,{"$f":"BONAFIDE.!X1202","v":0},{"$f":"BONAFIDE.!Y1202","v":0},{"$f":"BONAFIDE.!Z1202","v":0},{"$f":"BONAFIDE.!AD1202","v":0},{"$f":"BONAFIDE.!AA1202","v":"00:00:00"},119,"119","VIII","01190VIII","00VIII EM"]
[{"$f":"BONAFIDE.!AB1203","v":"VIIIEM"},{"$f":"BONAFIDE.!AE1203","v":0},null,{"$f":"BONAFIDE.!X1203","v":0},{"$f":"BONAFIDE.!Y1203","v":0},{"$f":"BONAFIDE.!Z1203","v":0},{"$f":"BONAFIDE.!AD1203","v":0},{"$f":"BONAFIDE.!AA1203","v":"00:00:00"},119,"119","VIII","01190VIII","00VIII EM"]
[{"$f":"BONAFIDE.!AB1204","v":"VIIIEM"},{"$f":"BONAFIDE.!AE1204","v":0},null,{"$f":"BONAFIDE.!X1204","v":0},{"$f":"BONAFIDE.!Y1204","v":0},{"$f":"BONAFIDE.!Z1204","v":0},{"$f":"BONAFIDE.!AD1204","v":0},{"$f":"BONAFIDE.!AA1204","v":"00:00:00"},119,"119","VIII","01190VIII","00VIII EM"]
[{"$f":"BONAFIDE.!AB1205","v":"VIIIEM"},{"$f":"BONAFIDE.!AE1205","v":0},null,{"$f":"BONAFIDE.!X1205","v":0},{"$f":"BONAFIDE.!Y1205","v":0},{"$f":"BONAFIDE.!Z1205","v":0},{"$f":"BONAFIDE.!AD1205","v":0},{"$f":"BONAFIDE.!AA1205","v":"00:00:00"},119,"119","VIII","01190VIII","00VIII EM"]
[{"$f":"BONAFIDE.!AB1206","v":"VIIIEM"},{"$f":"BONAFIDE.!AE1206","v":0},null,{"$f":"BONAFIDE.!X1206","v":0},{"$f":"BONAFIDE.!Y1206","v":0},{"$f":"BONAFIDE.!Z1206","v":0},{"$f":"BONAFIDE.!AD1206","v":0},{"$f":"BONAFIDE.!AA1206","v":"00:00:00"},119,"119","VIII","01190VIII","00VIII EM"]
[{"$f":"BONAFIDE.!AB1207","v":"VIIIEM"},{"$f":"BONAFIDE.!AE1207","v":0},null,{"$f":"BONAFIDE.!X1207","v":0},{"$f":"BONAFIDE.!Y1207","v":0},{"$f":"BONAFIDE.!Z1207","v":0},{"$f":"BONAFIDE.!AD1207","v":0},{"$f":"BONAFIDE.!AA1207","v":"00:00:00"},119,"119","VIII","01190VIII","00VIII EM"]
[{"$f":"BONAFIDE.!AB1208","v":"VIIIEM"},{"$f":"BONAFIDE.!AE1208","v":0},null,{"$f":"BONAFIDE.!X1208","v":0},{"$f":"BONAFIDE.!Y1208","v":0},{"$f":"BONAFIDE.!Z1208","v":0},{"$f":"BONAFIDE.!AD1208","v":0},{"$f":"BONAFIDE.!AA1208","v":"00:00:00"},119,"119","VIII","01190VIII","00VIII EM"]
[{"$f":"BONAFIDE.!AB1209","v":"VIIIEM"},{"$f":"BONAFIDE.!AE1209","v":0},null,{"$f":"BONAFIDE.!X1209","v":0},{"$f":"BONAFIDE.!Y1209","v":0},{"$f":"BONAFIDE.!Z1209","v":0},{"$f":"BONAFIDE.!AD1209","v":0},{"$f":"BONAFIDE.!AA1209","v":"00:00:00"},119,"119","VIII","01190VIII","00VIII EM"]
[{"$f":"BONAFIDE.!AB1210","v":"VIIIEM"},{"$f":"BONAFIDE.!AE1210","v":0},null,{"$f":"BONAFIDE.!X1210","v":0},{"$f":"BONAFIDE.!Y1210","v":0},{"$f":"BONAFIDE.!Z1210","v":0},{"$f":"BONAFIDE.!AD1210","v":0},{"$f":"BONAFIDE.!AA1210","v":"00:00:00"},119,"119","VIII","01190VIII","00VIII EM"]
[{"$f":"BONAFIDE.!AB1211","v":"VIIIEM"},{"$f":"BONAFIDE.!AE1211","v":0},null,{"$f":"BONAFIDE.!X1211","v":0},{"$f":"BONAFIDE.!Y1211","v":0},{"$f":"BONAFIDE.!Z1211","v":0},{"$f":"BONAFIDE.!AD1211","v":0},{"$f":"BONAFIDE.!AA1211","v":"00:00:00"},119,"119","VIII","01190VIII","00VIII EM"]
[{"$f":"BONAFIDE.!AB1212","v":"VIIIEM"},{"$f":"BONAFIDE.!AE1212","v":0},null,{"$f":"BONAFIDE.!X1212","v":0},{"$f":"BONAFIDE.!Y1212","v":0},{"$f":"BONAFIDE.!Z1212","v":0},{"$f":"BONAFIDE.!AD1212","v":0},{"$f":"BONAFIDE.!AA1212","v":"00:00:00"},119,"119","VIII","01190VIII","00VIII EM"]
[{"$f":"BONAFIDE.!AB1213","v":"00:00:00"},{"$f":"BONAFIDE.!AE1213","v":0},null,{"$f":"BONAFIDE.!X1213","v":0},{"$f":"BONAFIDE.!Y1213","v":0},{"$f":"BONAFIDE.!Z1213","v":0},{"$f":"BONAFIDE.!AD1213","v":0},{"$f":"BONAFIDE.!AA1213","v":"00:00:00"},119,"119",{"$error":"#VALUE!"},{"$error":"#VALUE!"},{"$error":"#VALUE!"}]
[{"$f":"BONAFIDE.!AB1214","v":"IXEM"},{"$f":"BONAFIDE.!AE1214","v":0},null,{"$f":"BONAFIDE.!X1214","v":0},{"$f":"BONAFIDE.!Y1214","v":0},{"$f":"BONAFIDE.!Z1214","v":0},{"$f":"BONAFIDE.!AD1214","v":0},{"$f":"BONAFIDE.!AA1214","v":"00:00:00"},119,"119","IX","01190IX","00IX EM"]
[{"$f":"BONAFIDE.!AB1215","v":"IXEM"},{"$f":"BONAFIDE.!AE1215","v":0},null,{"$f":"BONAFIDE.!X1215","v":0},{"$f":"BONAFIDE.!Y1215","v":0},{"$f":"BONAFIDE.!Z1215","v":0},{"$f":"BONAFIDE.!AD1215","v":0},{"$f":"BONAFIDE.!AA1215","v":"00:00:00"},119,"119","IX","01190IX","00IX EM"]
[{"$f":"BONAFIDE.!AB1216","v":"IXEM"},{"$f":"BONAFIDE.!AE1216","v":0},null,{"$f":"BONAFIDE.!X1216","v":0},{"$f":"BONAFIDE.!Y1216","v":0},{"$f":"BONAFIDE.!Z1216","v":0},{"$f":"BONAFIDE.!AD1216","v":0},{"$f":"BONAFIDE.!AA1216","v":"00:00:00"},119,"119","IX","01190IX","00IX EM"]
[{"$f":"BONAFIDE.!AB1217","v":"IXEM"},{"$f":"BONAFIDE.!AE1217","v":0},null,{"$f":"BONAFIDE.!X1217","v":0},{"$f":"BONAFIDE.!Y1217","v":0},{"$f":"BONAFIDE.!Z1217","v":0},{"$f":"BONAFIDE.!AD1217","v":0},{"$f":"BONAFIDE.!AA1217","v":"00:00:00"},119,"119","IX","01190IX","00IX EM"]
[{"$f":"BONAFIDE.!AB1218","v":"IXEM"},{"$f":"BONAFIDE.!AE1218","v":0},null,{"$f":"BONAFIDE.!X1218","v":0},{"$f":"BONAFIDE.!Y1218","v":0},{"$f":"BONAFIDE.!Z1218","v":0},{"$f":"BONAFIDE.!AD1218","v":0},{"$f":"BONAFIDE.!AA1218","v":"00:00:00"},119,"119","IX","01190IX","00IX EM"]
[{"$f":"BONAFIDE.!AB1219","v":"IXEM"},{"$f":"BONAFIDE.!AE1219","v":0},null,{"$f":"BONAFIDE.!X1219","v":0},{"$f":"BONAFIDE.!Y1219","v":0},{"$f":"BONAFIDE.!Z1219","v":0},{"$f":"BONAFIDE.!AD1219","v":0},{"$f":"BONAFIDE.!AA1219","v":"00:00:00"},119,"119","IX","01190IX","00IX EM"]
[{"$f":"BONAFIDE.!AB1220","v":"IXEM"},{"$f":"BONAFIDE.!AE1220","v":0},null,{"$f":"BONAFIDE.!X1220","v":0},{"$f":"BONAFIDE.!Y1220","v":0},{"$f":"BONAFIDE.!Z1220","v":0},{"$f":"BONAFIDE.!AD1220","v":0},{"$f":"BONAFIDE.!AA1220","v":"00:00:00"},119,"119","IX","01190IX","00IX EM"]
[{"$f":"BONAFIDE.!AB1221","v":"IXEM"},{"$f":"BONAFIDE.!AE1221","v":0},null,{"$f":"BONAFIDE.!X1221","v":0},{"$f":"BONAFIDE.!Y1221","v":0},{"$f":"BONAFIDE.!Z1221","v":0},{"$f":"BONAFIDE.!AD1221","v":0},{"$f":"BONAFIDE.!AA1221","v":"00:00:00"},119,"119","IX","01190IX","00IX EM"]
[{"$f":"BONAFIDE.!AB1222","v":"IXEM"},{"$f":"BONAFIDE.!AE1222","v":0},null,{"$f":"BONAFIDE.!X1222","v":0},{"$f":"BONAFIDE.!Y1222","v":0},{"$f":"BONAFIDE.!Z1222","v":0},{"$f":"BONAFIDE.!AD1222","v":0},{"$f":"BONAFIDE.!AA1222","v":"00:00:00"},119,"119","IX","01190IX","00IX EM"]
[{"$f":"BONAFIDE.!AB1223","v":"IXEM"},{"$f":"BONAFIDE.!AE1223","v":0},null,{"$f":"BONAFIDE.!X1223","v":0},{"$f":"BONAFIDE.!Y1223","v":0},{"$f":"BONAFIDE.!Z1223","v":0},{"$f":"BONAFIDE.!AD1223","v":0},{"$f":"BONAFIDE.!AA1223","v":"00:00:00"},{"$f":"DATEDIF(H1220,CUTOFFDT,\"Y\")","v":119},{"$f":"fillno(I1220)","v":"119"},{"$f":"MID(A1220,1,LEN(A1220)-2)","v":"IX"},{"$f":"B1220&J1220&G1220&K1220","v":"01190IX"},{"$f":"B1220&G1220&MID(A1220,1,LEN(A1220)-2)&\" \" & RIGHT(A1220,2)","v":"00IX EM"}]
[{"$f":"BONAFIDE.!AB1224","v":"IXEM"},{"$f":"BONAFIDE.!AE1224","v":0},null,{"$f":"BONAFIDE.!X1224","v":0},{"$f":"BONAFIDE.!Y1224","v":0},{"$f":"BONAFIDE.!Z1224","v":0},{"$f":"BONAFIDE.!AD1224","v":0},{"$f":"BONAFIDE.!AA1224","v":"00:00:00"},119,"119","IX","01190IX","00IX EM"]
[{"$f":"BONAFIDE.!AB1225","v":"IXEM"},{"$f":"BONAFIDE.!AE1225","v":0},null,{"$f":"BONAFIDE.!X1225","v":0},{"$f":"BONAFIDE.!Y1225","v":0},{"$f":"BONAFIDE.!Z1225","v":0},{"$f":"BONAFIDE.!AD1225","v":0},{"$f":"BONAFIDE.!AA1225","v":"00:00:00"},119,"119","IX","01190IX","00IX EM"]
[{"$f":"BONAFIDE.!AB1226","v":"IXEM"},{"$f":"BONAFIDE.!AE1226","v":0},null,{"$f":"BONAFIDE.!X1226","v":0},{"$f":"BONAFIDE.!Y1226","v":0},{"$f":"BONAFIDE.!Z1226","v":0},{"$f":"BONAFIDE.!AD1226","v":0},{"$f":"BONAFIDE.!AA1226","v":"00:00:00"},119,"119","IX","01190IX","00IX EM"]
[{"$f":"BONAFIDE.!AB1227","v":"IXEM"},{"$f":"BONAFIDE.!AE1227","v":0},null,{"$f":"BONAFIDE.!X1227","v":0},{"$f":"BONAFIDE.!Y1227","v":0},{"$f":"BONAFIDE.!Z1227","v":0},{"$f":"BONAFIDE.!AD1227","v":0},{"$f":"BONAFIDE.!AA1227","v":"00:00:00"},119,"119","IX","01190IX","00IX EM"]
[{"$f":"BONAFIDE.!AB1228","v":"IXEM"},{"$f":"BONAFIDE.!AE1228","v":0},null,{"$f":"BONAFIDE.!X1228","v":0},{"$f":"BONAFIDE.!Y1228","v":0},{"$f":"BONAFIDE.!Z1228","v":0},{"$f":"BONAFIDE.!AD1228","v":0},{"$f":"BONAFIDE.!AA1228","v":"00:00:00"},119,"119","IX","01190IX","00IX EM"]
[{"$f":"BONAFIDE.!AB1229","v":"IXEM"},{"$f":"BONAFIDE.!AE1229","v":0},null,{"$f":"BONAFIDE.!X1229","v":0},{"$f":"BONAFIDE.!Y1229","v":0},{"$f":"BONAFIDE.!Z1229","v":0},{"$f":"BONAFIDE.!AD1229","v":0},{"$f":"BONAFIDE.!AA1229","v":"00:00:00"},119,"119","IX","01190IX","00IX EM"]
[{"$f":"BONAFIDE.!AB1230","v":"IXEM"},{"$f":"BONAFIDE.!AE1230","v":0},null,{"$f":"BONAFIDE.!X1230","v":0},{"$f":"BONAFIDE.!Y1230","v":0},{"$f":"BONAFIDE.!Z1230","v":0},{"$f":"BONAFIDE.!AD1230","v":0},{"$f":"BONAFIDE.!AA1230","v":"00:00:00"},119,"119","IX","01190IX","00IX EM"]
[{"$f":"BONAFIDE.!AB1231","v":"IXEM"},{"$f":"BONAFIDE.!AE1231","v":0},null,{"$f":"BONAFIDE.!X1231","v":0},{"$f":"BONAFIDE.!Y1231","v":0},{"$f":"BONAFIDE.!Z1231","v":0},{"$f":"BONAFIDE.!AD1231","v":0},{"$f":"BONAFIDE.!AA1231","v":"00:00:00"},119,"119","IX","01190IX","00IX EM"]
[{"$f":"BONAFIDE.!AB1232","v":"IXEM"},{"$f":"BONAFIDE.!AE1232","v":0},null,{"$f":"BONAFIDE.!X1232","v":0},{"$f":"BONAFIDE.!Y1232","v":0},{"$f":"BONAFIDE.!Z1232","v":0},{"$f":"BONAFIDE.!AD1232","v":0},{"$f":"BONAFIDE.!AA1232","v":"00:00:00"},119,"119","IX","01190IX","00IX EM"]
[{"$f":"BONAFIDE.!AB1233","v":"IXEM"},{"$f":"BONAFIDE.!AE1233","v":0},null,{"$f":"BONAFIDE.!X1233","v":0},{"$f":"BONAFIDE.!Y1233","v":0},{"$f":"BONAFIDE.!Z1233","v":0},{"$f":"BONAFIDE.!AD1233","v":0},{"$f":"BONAFIDE.!AA1233","v":"00:00:00"},119,"119","IX","01190IX","00IX EM"]
[{"$f":"BONAFIDE.!AB1234","v":"IXEM"},{"$f":"BONAFIDE.!AE1234","v":0},null,{"$f":"BONAFIDE.!X1234","v":0},{"$f":"BONAFIDE.!Y1234","v":0},{"$f":"BONAFIDE.!Z1234","v":0},{"$f":"BONAFIDE.!AD1234","v":0},{"$f":"BONAFIDE.!AA1234","v":"00:00:00"},119,"119","IX","01190IX","00IX EM"]
[{"$f":"BONAFIDE.!AB1235","v":"IXEM"},{"$f":"BONAFIDE.!AE1235","v":0},null,{"$f":"BONAFIDE.!X1235","v":0},{"$f":"BONAFIDE.!Y1235","v":0},{"$f":"BONAFIDE.!Z1235","v":0},{"$f":"BONAFIDE.!AD1235","v":0},{"$f":"BONAFIDE.!AA1235","v":"00:00:00"},119,"119","IX","01190IX","00IX EM"]
[{"$f":"BONAFIDE.!AB1236","v":"IXEM"},{"$f":"BONAFIDE.!AE1236","v":0},null,{"$f":"BONAFIDE.!X1236","v":0},{"$f":"BONAFIDE.!Y1236","v":0},{"$f":"BONAFIDE.!Z1236","v":0},{"$f":"BONAFIDE.!AD1236","v":0},{"$f":"BONAFIDE.!AA1236","v":"00:00:00"},119,"119","IX","01190IX","00IX EM"]
[{"$f":"BONAFIDE.!AB1237","v":"IXEM"},{"$f":"BONAFIDE.!AE1237","v":0},null,{"$f":"BONAFIDE.!X1237","v":0},{"$f":"BONAFIDE.!Y1237","v":0},{"$f":"BONAFIDE.!Z1237","v":0},{"$f":"BONAFIDE.!AD1237","v":0},{"$f":"BONAFIDE.!AA1237","v":"00:00:00"},119,"119","IX","01190IX","00IX EM"]
[{"$f":"BONAFIDE.!AB1238","v":"IXEM"},{"$f":"BONAFIDE.!AE1238","v":0},null,{"$f":"BONAFIDE.!X1238","v":0},{"$f":"BONAFIDE.!Y1238","v":0},{"$f":"BONAFIDE.!Z1238","v":0},{"$f":"BONAFIDE.!AD1238","v":0},{"$f":"BONAFIDE.!AA1238","v":"00:00:00"},119,"119","IX","01190IX","00IX EM"]
[{"$f":"BONAFIDE.!AB1239","v":"IXEM"},{"$f":"BONAFIDE.!AE1239","v":0},null,{"$f":"BONAFIDE.!X1239","v":0},{"$f":"BONAFIDE.!Y1239","v":0},{"$f":"BONAFIDE.!Z1239","v":0},{"$f":"BONAFIDE.!AD1239","v":0},{"$f":"BONAFIDE.!AA1239","v":"00:00:00"},119,"119","IX","01190IX","00IX EM"]
[{"$f":"BONAFIDE.!AB1240","v":"IXEM"},{"$f":"BONAFIDE.!AE1240","v":0},null,{"$f":"BONAFIDE.!X1240","v":0},{"$f":"BONAFIDE.!Y1240","v":0},{"$f":"BONAFIDE.!Z1240","v":0},{"$f":"BONAFIDE.!AD1240","v":0},{"$f":"BONAFIDE.!AA1240","v":"00:00:00"},119,"119","IX","01190IX","00IX EM"]
[{"$f":"BONAFIDE.!AB1241","v":"IXEM"},{"$f":"BONAFIDE.!AE1241","v":0},null,{"$f":"BONAFIDE.!X1241","v":0},{"$f":"BONAFIDE.!Y1241","v":0},{"$f":"BONAFIDE.!Z1241","v":0},{"$f":"BONAFIDE.!AD1241","v":0},{"$f":"BONAFIDE.!AA1241","v":"00:00:00"},119,"119","IX","01190IX","00IX EM"]
[{"$f":"BONAFIDE.!AB1242","v":"IXEM"},{"$f":"BONAFIDE.!AE1242","v":0},null,{"$f":"BONAFIDE.!X1242","v":0},{"$f":"BONAFIDE.!Y1242","v":0},{"$f":"BONAFIDE.!Z1242","v":0},{"$f":"BONAFIDE.!AD1242","v":0},{"$f":"BONAFIDE.!AA1242","v":"00:00:00"},119,"119","IX","01190IX","00IX EM"]
[{"$f":"BONAFIDE.!AB1243","v":"IXEM"},{"$f":"BONAFIDE.!AE1243","v":0},null,{"$f":"BONAFIDE.!X1243","v":0},{"$f":"BONAFIDE.!Y1243","v":0},{"$f":"BONAFIDE.!Z1243","v":0},{"$f":"BONAFIDE.!AD1243","v":0},{"$f":"BONAFIDE.!AA1243","v":"00:00:00"},119,"119","IX","01190IX","00IX EM"]
[{"$f":"BONAFIDE.!AB1244","v":"IXEM"},{"$f":"BONAFIDE.!AE1244","v":0},null,{"$f":"BONAFIDE.!X1244","v":0},{"$f":"BONAFIDE.!Y1244","v":0},{"$f":"BONAFIDE.!Z1244","v":0},{"$f":"BONAFIDE.!AD1244","v":0},{"$f":"BONAFIDE.!AA1244","v":"00:00:00"},119,"119","IX","01190IX","00IX EM"]
[{"$f":"BONAFIDE.!AB1245","v":"IXEM"},{"$f":"BONAFIDE.!AE1245","v":0},null,{"$f":"BONAFIDE.!X1245","v":0},{"$f":"BONAFIDE.!Y1245","v":0},{"$f":"BONAFIDE.!Z1245","v":0},{"$f":"BONAFIDE.!AD1245","v":0},{"$f":"BONAFIDE.!AA1245","v":"00:00:00"},119,"119","IX","01190IX","00IX EM"]
[{"$f":"BONAFIDE.!AB1246","v":"IXEM"},{"$f":"BONAFIDE.!AE1246","v":0},null,{"$f":"BONAFIDE.!X1246","v":0},{"$f":"BONAFIDE.!Y1246","v":0},{"$f":"BONAFIDE.!Z1246","v":0},{"$f":"BONAFIDE.!AD1246","v":0},{"$f":"BONAFIDE.!AA1246","v":"00:00:00"},119,"119","IX","01190IX","00IX EM"]
[{"$f":"BONAFIDE.!AB1247","v":"IXEM"},{"$f":"BONAFIDE.!AE1247","v":0},null,{"$f":"BONAFIDE.!X1247","v":0},{"$f":"BONAFIDE.!Y1247","v":0},{"$f":"BONAFIDE.!Z1247","v":0},{"$f":"BONAFIDE.!AD1247","v":0},{"$f":"BONAFIDE.!AA1247","v":"00:00:00"},119,"119","IX","01190IX","00IX EM"]
[{"$f":"BONAFIDE.!AB1248","v":"IXEM"},{"$f":"BONAFIDE.!AE1248","v":0},null,{"$f":"BONAFIDE.!X1248","v":0},{"$f":"BONAFIDE.!Y1248","v":0},{"$f":"BONAFIDE.!Z1248","v":0},{"$f":"BONAFIDE.!AD1248","v":0},{"$f":"BONAFIDE.!AA1248","v":"00:00:00"},119,"119","IX","01190IX","00IX EM"]
[{"$f":"BONAFIDE.!AB1249","v":"IXEM"},{"$f":"BONAFIDE.!AE1249","v":0},null,{"$f":"BONAFIDE.!X1249","v":0},{"$f":"BONAFIDE.!Y1249","v":0},{"$f":"BONAFIDE.!Z1249","v":0},{"$f":"BONAFIDE.!AD1249","v":0},{"$f":"BONAFIDE.!AA1249","v":"00:00:00"},119,"119","IX","01190IX","00IX EM"]
[{"$f":"BONAFIDE.!AB1250","v":"IXEM"},{"$f":"BONAFIDE.!AE1250","v":0},null,{"$f":"BONAFIDE.!X1250","v":0},{"$f":"BONAFIDE.!Y1250","v":0},{"$f":"BONAFIDE.!Z1250","v":0},{"$f":"BONAFIDE.!AD1250","v":0},{"$f":"BONAFIDE.!AA1250","v":"00:00:00"},119,"119","IX","01190IX","00IX EM"]
[{"$f":"BONAFIDE.!AB1251","v":"IXEM"},{"$f":"BONAFIDE.!AE1251","v":0},null,{"$f":"BONAFIDE.!X1251","v":0},{"$f":"BONAFIDE.!Y1251","v":0},{"$f":"BONAFIDE.!Z1251","v":0},{"$f":"BONAFIDE.!AD1251","v":0},{"$f":"BONAFIDE.!AA1251","v":"00:00:00"},119,"119","IX","01190IX","00IX EM"]
[{"$f":"BONAFIDE.!AB1252","v":"IXEM"},{"$f":"BONAFIDE.!AE1252","v":0},null,{"$f":"BONAFIDE.!X1252","v":0},{"$f":"BONAFIDE.!Y1252","v":0},{"$f":"BONAFIDE.!Z1252","v":0},{"$f":"BONAFIDE.!AD1252","v":0},{"$f":"BONAFIDE.!AA1252","v":"00:00:00"},119,"119","IX","01190IX","00IX EM"]
[{"$f":"BONAFIDE.!AB1253","v":"IXEM"},{"$f":"BONAFIDE.!AE1253","v":0},null,{"$f":"BONAFIDE.!X1253","v":0},{"$f":"BONAFIDE.!Y1253","v":0},{"$f":"BONAFIDE.!Z1253","v":0},{"$f":"BONAFIDE.!AD1253","v":0},{"$f":"BONAFIDE.!AA1253","v":"00:00:00"},119,"119","IX","01190IX","00IX EM"]
[{"$f":"BONAFIDE.!AB1254","v":"IXEM"},{"$f":"BONAFIDE.!AE1254","v":0},null,{"$f":"BONAFIDE.!X1254","v":0},{"$f":"BONAFIDE.!Y1254","v":0},{"$f":"BONAFIDE.!Z1254","v":0},{"$f":"BONAFIDE.!AD1254","v":0},{"$f":"BONAFIDE.!AA1254","v":"00:00:00"},119,"119","IX","01190IX","00IX EM"]
[{"$f":"BONAFIDE.!AB1255","v":"IXEM"},{"$f":"BONAFIDE.!AE1255","v":0},null,{"$f":"BONAFIDE.!X1255","v":0},{"$f":"BONAFIDE.!Y1255","v":0},{"$f":"BONAFIDE.!Z1255","v":0},{"$f":"BONAFIDE.!AD1255","v":0},{"$f":"BONAFIDE.!AA1255","v":"00:00:00"},119,"119","IX","01190IX","00IX EM"]
[{"$f":"BONAFIDE.!AB1256","v":"IXEM"},{"$f":"BONAFIDE.!AE1256","v":0},null,{"$f":"BONAFIDE.!X1256","v":0},{"$f":"BONAFIDE.!Y1256","v":0},{"$f":"BONAFIDE.!Z1256","v":0},{"$f":"BONAFIDE.!AD1256","v":0},{"$f":"BONAFIDE.!AA1256","v":"00:00:00"},119,"119","IX","01190IX","00IX EM"]
[{"$f":"BONAFIDE.!AB1257","v":"IXEM"},{"$f":"BONAFIDE.!AE1257","v":0},null,{"$f":"BONAFIDE.!X1257","v":0},{"$f":"BONAFIDE.!Y1257","v":0},{"$f":"BONAFIDE.!Z1257","v":0},{"$f":"BONAFIDE.!AD1257","v":0},{"$f":"BONAFIDE.!AA1257","v":"00:00:00"},119,"119","IX","01190IX","00IX EM"]
[{"$f":"BONAFIDE.!AB1258","v":"IXEM"},{"$f":"BONAFIDE.!AE1258","v":0},null,{"$f":"BONAFIDE.!X1258","v":0},{"$f":"BONAFIDE.!Y1258","v":0},{"$f":"BONAFIDE.!Z1258","v":0},{"$f":"BONAFIDE.!AD1258","v":0},{"$f":"BONAFIDE.!AA1258","v":"00:00:00"},119,"119","IX","01190IX","00IX EM"]
[{"$f":"BONAFIDE.!AB1259","v":"IXEM"},{"$f":"BONAFIDE.!AE1259","v":0},null,{"$f":"BONAFIDE.!X1259","v":0},{"$f":"BONAFIDE.!Y1259","v":0},{"$f":"BONAFIDE.!Z1259","v":0},{"$f":"BONAFIDE.!AD1259","v":0},{"$f":"BONAFIDE.!AA1259","v":"00:00:00"},119,"119","IX","01190IX","00IX EM"]
[{"$f":"BONAFIDE.!AB1260","v":"IXEM"},{"$f":"BONAFIDE.!AE1260","v":0},null,{"$f":"BONAFIDE.!X1260","v":0},{"$f":"BONAFIDE.!Y1260","v":0},{"$f":"BONAFIDE.!Z1260","v":0},{"$f":"BONAFIDE.!AD1260","v":0},{"$f":"BONAFIDE.!AA1260","v":"00:00:00"},119,"119","IX","01190IX","00IX EM"]
[{"$f":"BONAFIDE.!AB1261","v":"IXEM"},{"$f":"BONAFIDE.!AE1261","v":0},null,{"$f":"BONAFIDE.!X1261","v":0},{"$f":"BONAFIDE.!Y1261","v":0},{"$f":"BONAFIDE.!Z1261","v":0},{"$f":"BONAFIDE.!AD1261","v":0},{"$f":"BONAFIDE.!AA1261","v":"00:00:00"},119,"119","IX","01190IX","00IX EM"]
[{"$f":"BONAFIDE.!AB1262","v":"IXEM"},{"$f":"BONAFIDE.!AE1262","v":0},null,{"$f":"BONAFIDE.!X1262","v":0},{"$f":"BONAFIDE.!Y1262","v":0},{"$f":"BONAFIDE.!Z1262","v":0},{"$f":"BONAFIDE.!AD1262","v":0},{"$f":"BONAFIDE.!AA1262","v":"00:00:00"},119,"119","IX","01190IX","00IX EM"]
[{"$f":"BONAFIDE.!AB1263","v":"IXEM"},{"$f":"BONAFIDE.!AE1263","v":0},null,{"$f":"BONAFIDE.!X1263","v":0},{"$f":"BONAFIDE.!Y1263","v":0},{"$f":"BONAFIDE.!Z1263","v":0},{"$f":"BONAFIDE.!AD1263","v":0},{"$f":"BONAFIDE.!AA1263","v":"00:00:00"},119,"119","IX","01190IX","00IX EM"]
[{"$f":"BONAFIDE.!AB1264","v":"IXEM"},{"$f":"BONAFIDE.!AE1264","v":0},null,{"$f":"BONAFIDE.!X1264","v":0},{"$f":"BONAFIDE.!Y1264","v":0},{"$f":"BONAFIDE.!Z1264","v":0},{"$f":"BONAFIDE.!AD1264","v":0},{"$f":"BONAFIDE.!AA1264","v":"00:00:00"},119,"119","IX","01190IX","00IX EM"]
[{"$f":"BONAFIDE.!AB1265","v":"IXEM"},{"$f":"BONAFIDE.!AE1265","v":0},null,{"$f":"BONAFIDE.!X1265","v":0},{"$f":"BONAFIDE.!Y1265","v":0},{"$f":"BONAFIDE.!Z1265","v":0},{"$f":"BONAFIDE.!AD1265","v":0},{"$f":"BONAFIDE.!AA1265","v":"00:00:00"},119,"119","IX","01190IX","00IX EM"]
[{"$f":"BONAFIDE.!AB1266","v":"IXEM"},{"$f":"BONAFIDE.!AE1266","v":0},null,{"$f":"BONAFIDE.!X1266","v":0},{"$f":"BONAFIDE.!Y1266","v":0},{"$f":"BONAFIDE.!Z1266","v":0},{"$f":"BONAFIDE.!AD1266","v":0},{"$f":"BONAFIDE.!AA1266","v":"00:00:00"},119,"119","IX","01190IX","00IX EM"]
[{"$f":"BONAFIDE.!AB1267","v":"IXEM"},{"$f":"BONAFIDE.!AE1267","v":0},null,{"$f":"BONAFIDE.!X1267","v":0},{"$f":"BONAFIDE.!Y1267","v":0},{"$f":"BONAFIDE.!Z1267","v":0},{"$f":"BONAFIDE.!AD1267","v":0},{"$f":"BONAFIDE.!AA1267","v":"00:00:00"},119,"119","IX","01190IX","00IX EM"]
[{"$f":"BONAFIDE.!AB1268","v":"IXEM"},{"$f":"BONAFIDE.!AE1268","v":0},null,{"$f":"BONAFIDE.!X1268","v":0},{"$f":"BONAFIDE.!Y1268","v":0},{"$f":"BONAFIDE.!Z1268","v":0},{"$f":"BONAFIDE.!AD1268","v":0},{"$f":"BONAFIDE.!AA1268","v":"00:00:00"},119,"119","IX","01190IX","00IX EM"]
[{"$f":"BONAFIDE.!AB1269","v":"IXEM"},{"$f":"BONAFIDE.!AE1269","v":0},null,{"$f":"BONAFIDE.!X1269","v":0},{"$f":"BONAFIDE.!Y1269","v":0},{"$f":"BONAFIDE.!Z1269","v":0},{"$f":"BONAFIDE.!AD1269","v":0},{"$f":"BONAFIDE.!AA1269","v":"00:00:00"},119,"119","IX","01190IX","00IX EM"]
[{"$f":"BONAFIDE.!AB1270","v":"IXEM"},{"$f":"BONAFIDE.!AE1270","v":0},null,{"$f":"BONAFIDE.!X1270","v":0},{"$f":"BONAFIDE.!Y1270","v":0},{"$f":"BONAFIDE.!Z1270","v":0},{"$f":"BONAFIDE.!AD1270","v":0},{"$f":"BONAFIDE.!AA1270","v":"00:00:00"},119,"119","IX","01190IX","00IX EM"]
[{"$f":"BONAFIDE.!AB1271","v":"IXEM"},{"$f":"BONAFIDE.!AE1271","v":0},null,{"$f":"BONAFIDE.!X1271","v":0},{"$f":"BONAFIDE.!Y1271","v":0},{"$f":"BONAFIDE.!Z1271","v":0},{"$f":"BONAFIDE.!AD1271","v":0},{"$f":"BONAFIDE.!AA1271","v":"00:00:00"},119,"119","IX","01190IX","00IX EM"]
[{"$f":"BONAFIDE.!AB1272","v":"IXEM"},{"$f":"BONAFIDE.!AE1272","v":0},null,{"$f":"BONAFIDE.!X1272","v":0},{"$f":"BONAFIDE.!Y1272","v":0},{"$f":"BONAFIDE.!Z1272","v":0},{"$f":"BONAFIDE.!AD1272","v":0},{"$f":"BONAFIDE.!AA1272","v":"00:00:00"},119,"119","IX","01190IX","00IX EM"]
[{"$f":"BONAFIDE.!AB1273","v":"IXEM"},{"$f":"BONAFIDE.!AE1273","v":0},null,{"$f":"BONAFIDE.!X1273","v":0},{"$f":"BONAFIDE.!Y1273","v":0},{"$f":"BONAFIDE.!Z1273","v":0},{"$f":"BONAFIDE.!AD1273","v":0},{"$f":"BONAFIDE.!AA1273","v":"00:00:00"},119,"119","IX","01190IX","00IX EM"]
[{"$f":"BONAFIDE.!AB1274","v":"IXEM"},{"$f":"BONAFIDE.!AE1274","v":0},null,{"$f":"BONAFIDE.!X1274","v":0},{"$f":"BONAFIDE.!Y1274","v":0},{"$f":"BONAFIDE.!Z1274","v":0},{"$f":"BONAFIDE.!AD1274","v":0},{"$f":"BONAFIDE.!AA1274","v":"00:00:00"},119,"119","IX","01190IX","00IX EM"]
[{"$f":"BONAFIDE.!AB1275","v":"IXEM"},{"$f":"BONAFIDE.!AE1275","v":0},null,{"$f":"BONAFIDE.!X1275","v":0},{"$f":"BONAFIDE.!Y1275","v":0},{"$f":"BONAFIDE.!Z1275","v":0},{"$f":"BONAFIDE.!AD1275","v":0},{"$f":"BONAFIDE.!AA1275","v":"00:00:00"},119,"119","IX","01190IX","00IX EM"]
[{"$f":"BONAFIDE.!AB1276","v":"IXEM"},{"$f":"BONAFIDE.!AE1276","v":0},null,{"$f":"BONAFIDE.!X1276","v":0},{"$f":"BONAFIDE.!Y1276","v":0},{"$f":"BONAFIDE.!Z1276","v":0},{"$f":"BONAFIDE.!AD1276","v":0},{"$f":"BONAFIDE.!AA1276","v":"00:00:00"},119,"119","IX","01190IX","00IX EM"]
[{"$f":"BONAFIDE.!AB1277","v":"IXEM"},{"$f":"BONAFIDE.!AE1277","v":0},null,{"$f":"BONAFIDE.!X1277","v":0},{"$f":"BONAFIDE.!Y1277","v":0},{"$f":"BONAFIDE.!Z1277","v":0},{"$f":"BONAFIDE.!AD1277","v":0},{"$f":"BONAFIDE.!AA1277","v":"00:00:00"},119,"119","IX","01190IX","00IX EM"]
[{"$f":"BONAFIDE.!AB1278","v":"IXEM"},{"$f":"BONAFIDE.!AE1278","v":0},null,{"$f":"BONAFIDE.!X1278","v":0},{"$f":"BONAFIDE.!Y1278","v":0},{"$f":"BONAFIDE.!Z1278","v":0},{"$f":"BONAFIDE.!AD1278","v":0},{"$f":"BONAFIDE.!AA1278","v":"00:00:00"},119,"119","IX","01190IX","00IX EM"]
[{"$f":"BONAFIDE.!AB1279","v":"IXEM"},{"$f":"BONAFIDE.!AE1279","v":0},null,{"$f":"BONAFIDE.!X1279","v":0},{"$f":"BONAFIDE.!Y1279","v":0},{"$f":"BONAFIDE.!Z1279","v":0},{"$f":"BONAFIDE.!AD1279","v":0},{"$f":"BONAFIDE.!AA1279","v":"00:00:00"},119,"119","IX","01190IX","00IX EM"]
[{"$f":"BONAFIDE.!AB1280","v":"IXEM"},{"$f":"BONAFIDE.!AE1280","v":0},null,{"$f":"BONAFIDE.!X1280","v":0},{"$f":"BONAFIDE.!Y1280","v":0},{"$f":"BONAFIDE.!Z1280","v":0},{"$f":"BONAFIDE.!AD1280","v":0},{"$f":"BONAFIDE.!AA1280","v":"00:00:00"},119,"119","IX","01190IX","00IX EM"]
[{"$f":"BONAFIDE.!AB1281","v":"IXEM"},{"$f":"BONAFIDE.!AE1281","v":0},null,{"$f":"BONAFIDE.!X1281","v":0},{"$f":"BONAFIDE.!Y1281","v":0},{"$f":"BONAFIDE.!Z1281","v":0},{"$f":"BONAFIDE.!AD1281","v":0},{"$f":"BONAFIDE.!AA1281","v":"00:00:00"},119,"119","IX","01190IX","00IX EM"]
[{"$f":"BONAFIDE.!AB1282","v":"IXEM"},{"$f":"BONAFIDE.!AE1282","v":0},null,{"$f":"BONAFIDE.!X1282","v":0},{"$f":"BONAFIDE.!Y1282","v":0},{"$f":"BONAFIDE.!Z1282","v":0},{"$f":"BONAFIDE.!AD1282","v":0},{"$f":"BONAFIDE.!AA1282","v":"00:00:00"},119,"119","IX","01190IX","00IX EM"]
[{"$f":"BONAFIDE.!AB1283","v":"IXEM"},{"$f":"BONAFIDE.!AE1283","v":0},null,{"$f":"BONAFIDE.!X1283","v":0},{"$f":"BONAFIDE.!Y1283","v":0},{"$f":"BONAFIDE.!Z1283","v":0},{"$f":"BONAFIDE.!AD1283","v":0},{"$f":"BONAFIDE.!AA1283","v":"00:00:00"},119,"119","IX","01190IX","00IX EM"]
[{"$f":"BONAFIDE.!AB1284","v":"IXEM"},{"$f":"BONAFIDE.!AE1284","v":0},null,{"$f":"BONAFIDE.!X1284","v":0},{"$f":"BONAFIDE.!Y1284","v":0},{"$f":"BONAFIDE.!Z1284","v":0},{"$f":"BONAFIDE.!AD1284","v":0},{"$f":"BONAFIDE.!AA1284","v":"00:00:00"},119,"119","IX","01190IX","00IX EM"]
[{"$f":"BONAFIDE.!AB1285","v":"IXEM"},{"$f":"BONAFIDE.!AE1285","v":0},null,{"$f":"BONAFIDE.!X1285","v":0},{"$f":"BONAFIDE.!Y1285","v":0},{"$f":"BONAFIDE.!Z1285","v":0},{"$f":"BONAFIDE.!AD1285","v":0},{"$f":"BONAFIDE.!AA1285","v":"00:00:00"},119,"119","IX","01190IX","00IX EM"]
[{"$f":"BONAFIDE.!AB1286","v":"IXEM"},{"$f":"BONAFIDE.!AE1286","v":0},null,{"$f":"BONAFIDE.!X1286","v":0},{"$f":"BONAFIDE.!Y1286","v":0},{"$f":"BONAFIDE.!Z1286","v":0},{"$f":"BONAFIDE.!AD1286","v":0},{"$f":"BONAFIDE.!AA1286","v":"00:00:00"},119,"119","IX","01190IX","00IX EM"]
[{"$f":"BONAFIDE.!AB1287","v":"IXEM"},{"$f":"BONAFIDE.!AE1287","v":0},null,{"$f":"BONAFIDE.!X1287","v":0},{"$f":"BONAFIDE.!Y1287","v":0},{"$f":"BONAFIDE.!Z1287","v":0},{"$f":"BONAFIDE.!AD1287","v":0},{"$f":"BONAFIDE.!AA1287","v":"00:00:00"},{"$f":"DATEDIF(H1284,CUTOFFDT,\"Y\")","v":119},{"$f":"fillno(I1284)","v":"119"},{"$f":"MID(A1284,1,LEN(A1284)-2)","v":"IX"},{"$f":"B1284&J1284&G1284&K1284","v":"01190IX"},{"$f":"B1284&G1284&MID(A1284,1,LEN(A1284)-2)&\" \" & RIGHT(A1284,2)","v":"00IX EM"}]
[{"$f":"BONAFIDE.!AB1288","v":"IXEM"},{"$f":"BONAFIDE.!AE1288","v":0},null,{"$f":"BONAFIDE.!X1288","v":0},{"$f":"BONAFIDE.!Y1288","v":0},{"$f":"BONAFIDE.!Z1288","v":0},{"$f":"BONAFIDE.!AD1288","v":0},{"$f":"BONAFIDE.!AA1288","v":"00:00:00"},119,"119","IX","01190IX","00IX EM"]
[{"$f":"BONAFIDE.!AB1289","v":"IXEM"},{"$f":"BONAFIDE.!AE1289","v":0},null,{"$f":"BONAFIDE.!X1289","v":0},{"$f":"BONAFIDE.!Y1289","v":0},{"$f":"BONAFIDE.!Z1289","v":0},{"$f":"BONAFIDE.!AD1289","v":0},{"$f":"BONAFIDE.!AA1289","v":"00:00:00"},119,"119","IX","01190IX","00IX EM"]
[{"$f":"BONAFIDE.!AB1290","v":"IXEM"},{"$f":"BONAFIDE.!AE1290","v":0},null,{"$f":"BONAFIDE.!X1290","v":0},{"$f":"BONAFIDE.!Y1290","v":0},{"$f":"BONAFIDE.!Z1290","v":0},{"$f":"BONAFIDE.!AD1290","v":0},{"$f":"BONAFIDE.!AA1290","v":"00:00:00"},119,"119","IX","01190IX","00IX EM"]
[{"$f":"BONAFIDE.!AB1291","v":"IXEM"},{"$f":"BONAFIDE.!AE1291","v":0},null,{"$f":"BONAFIDE.!X1291","v":0},{"$f":"BONAFIDE.!Y1291","v":0},{"$f":"BONAFIDE.!Z1291","v":0},{"$f":"BONAFIDE.!AD1291","v":0},{"$f":"BONAFIDE.!AA1291","v":"00:00:00"},119,"119","IX","01190IX","00IX EM"]
[{"$f":"BONAFIDE.!AB1292","v":"IXEM"},{"$f":"BONAFIDE.!AE1292","v":0},null,{"$f":"BONAFIDE.!X1292","v":0},{"$f":"BONAFIDE.!Y1292","v":0},{"$f":"BONAFIDE.!Z1292","v":0},{"$f":"BONAFIDE.!AD1292","v":0},{"$f":"BONAFIDE.!AA1292","v":"00:00:00"},119,"119","IX","01190IX","00IX EM"]
[{"$f":"BONAFIDE.!AB1293","v":"IXEM"},{"$f":"BONAFIDE.!AE1293","v":0},null,{"$f":"BONAFIDE.!X1293","v":0},{"$f":"BONAFIDE.!Y1293","v":0},{"$f":"BONAFIDE.!Z1293","v":0},{"$f":"BONAFIDE.!AD1293","v":0},{"$f":"BONAFIDE.!AA1293","v":"00:00:00"},119,"119","IX","01190IX","00IX EM"]
[{"$f":"BONAFIDE.!AB1294","v":"IXEM"},{"$f":"BONAFIDE.!AE1294","v":0},null,{"$f":"BONAFIDE.!X1294","v":0},{"$f":"BONAFIDE.!Y1294","v":0},{"$f":"BONAFIDE.!Z1294","v":0},{"$f":"BONAFIDE.!AD1294","v":0},{"$f":"BONAFIDE.!AA1294","v":"00:00:00"},119,"119","IX","01190IX","00IX EM"]
[{"$f":"BONAFIDE.!AB1295","v":"IXEM"},{"$f":"BONAFIDE.!AE1295","v":0},null,{"$f":"BONAFIDE.!X1295","v":0},{"$f":"BONAFIDE.!Y1295","v":0},{"$f":"BONAFIDE.!Z1295","v":0},{"$f":"BONAFIDE.!AD1295","v":0},{"$f":"BONAFIDE.!AA1295","v":"00:00:00"},119,"119","IX","01190IX","00IX EM"]
[{"$f":"BONAFIDE.!AB1296","v":"IXEM"},{"$f":"BONAFIDE.!AE1296","v":0},null,{"$f":"BONAFIDE.!X1296","v":0},{"$f":"BONAFIDE.!Y1296","v":0},{"$f":"BONAFIDE.!Z1296","v":0},{"$f":"BONAFIDE.!AD1296","v":0},{"$f":"BONAFIDE.!AA1296","v":"00:00:00"},119,"119","IX","01190IX","00IX EM"]
[{"$f":"BONAFIDE.!AB1297","v":"IXEM"},{"$f":"BONAFIDE.!AE1297","v":0},null,{"$f":"BONAFIDE.!X1297","v":0},{"$f":"BONAFIDE.!Y1297","v":0},{"$f":"BONAFIDE.!Z1297","v":0},{"$f":"BONAFIDE.!AD1297","v":0},{"$f":"BONAFIDE.!AA1297","v":"00:00:00"},119,"119","IX","01190IX","00IX EM"]
[{"$f":"BONAFIDE.!AB1298","v":"IXEM"},{"$f":"BONAFIDE.!AE1298","v":0},null,{"$f":"BONAFIDE.!X1298","v":0},{"$f":"BONAFIDE.!Y1298","v":0},{"$f":"BONAFIDE.!Z1298","v":0},{"$f":"BONAFIDE.!AD1298","v":0},{"$f":"BONAFIDE.!AA1298","v":"00:00:00"},119,"119","IX","01190IX","00IX EM"]
[{"$f":"BONAFIDE.!AB1299","v":"IXEM"},{"$f":"BONAFIDE.!AE1299","v":0},null,{"$f":"BONAFIDE.!X1299","v":0},{"$f":"BONAFIDE.!Y1299","v":0},{"$f":"BONAFIDE.!Z1299","v":0},{"$f":"BONAFIDE.!AD1299","v":0},{"$f":"BONAFIDE.!AA1299","v":"00:00:00"},119,"119","IX","01190IX","00IX EM"]
[{"$f":"BONAFIDE.!AB1300","v":"IXEM"},{"$f":"BONAFIDE.!AE1300","v":0},null,{"$f":"BONAFIDE.!X1300","v":0},{"$f":"BONAFIDE.!Y1300","v":0},{"$f":"BONAFIDE.!Z1300","v":0},{"$f":"BONAFIDE.!AD1300","v":0},{"$f":"BONAFIDE.!AA1300","v":"00:00:00"},119,"119","IX","01190IX","00IX EM"]
[{"$f":"BONAFIDE.!AB1301","v":"IXEM"},{"$f":"BONAFIDE.!AE1301","v":0},null,{"$f":"BONAFIDE.!X1301","v":0},{"$f":"BONAFIDE.!Y1301","v":0},{"$f":"BONAFIDE.!Z1301","v":0},{"$f":"BONAFIDE.!AD1301","v":0},{"$f":"BONAFIDE.!AA1301","v":"00:00:00"},119,"119","IX","01190IX","00IX EM"]
[{"$f":"BONAFIDE.!AB1302","v":"IXEM"},{"$f":"BONAFIDE.!AE1302","v":0},null,{"$f":"BONAFIDE.!X1302","v":0},{"$f":"BONAFIDE.!Y1302","v":0},{"$f":"BONAFIDE.!Z1302","v":0},{"$f":"BONAFIDE.!AD1302","v":0},{"$f":"BONAFIDE.!AA1302","v":"00:00:00"},119,"119","IX","01190IX","00IX EM"]
[{"$f":"BONAFIDE.!AB1303","v":"IXEM"},{"$f":"BONAFIDE.!AE1303","v":0},null,{"$f":"BONAFIDE.!X1303","v":0},{"$f":"BONAFIDE.!Y1303","v":0},{"$f":"BONAFIDE.!Z1303","v":0},{"$f":"BONAFIDE.!AD1303","v":0},{"$f":"BONAFIDE.!AA1303","v":"00:00:00"},119,"119","IX","01190IX","00IX EM"]
[{"$f":"BONAFIDE.!AB1304","v":"IXEM"},{"$f":"BONAFIDE.!AE1304","v":0},null,{"$f":"BONAFIDE.!X1304","v":0},{"$f":"BONAFIDE.!Y1304","v":0},{"$f":"BONAFIDE.!Z1304","v":0},{"$f":"BONAFIDE.!AD1304","v":0},{"$f":"BONAFIDE.!AA1304","v":"00:00:00"},119,"119","IX","01190IX","00IX EM"]
[{"$f":"BONAFIDE.!AB1305","v":"IXEM"},{"$f":"BONAFIDE.!AE1305","v":0},null,{"$f":"BONAFIDE.!X1305","v":0},{"$f":"BONAFIDE.!Y1305","v":0},{"$f":"BONAFIDE.!Z1305","v":0},{"$f":"BONAFIDE.!AD1305","v":0},{"$f":"BONAFIDE.!AA1305","v":"00:00:00"},119,"119","IX","01190IX","00IX EM"]
[{"$f":"BONAFIDE.!AB1306","v":"IXEM"},{"$f":"BONAFIDE.!AE1306","v":0},null,{"$f":"BONAFIDE.!X1306","v":0},{"$f":"BONAFIDE.!Y1306","v":0},{"$f":"BONAFIDE.!Z1306","v":0},{"$f":"BONAFIDE.!AD1306","v":0},{"$f":"BONAFIDE.!AA1306","v":"00:00:00"},119,"119","IX","01190IX","00IX EM"]
[{"$f":"BONAFIDE.!AB1307","v":"IXEM"},{"$f":"BONAFIDE.!AE1307","v":0},null,{"$f":"BONAFIDE.!X1307","v":0},{"$f":"BONAFIDE.!Y1307","v":0},{"$f":"BONAFIDE.!Z1307","v":0},{"$f":"BONAFIDE.!AD1307","v":0},{"$f":"BONAFIDE.!AA1307","v":"00:00:00"},119,"119","IX","01190IX","00IX EM"]
[{"$f":"BONAFIDE.!AB1308","v":"IXEM"},{"$f":"BONAFIDE.!AE1308","v":0},null,{"$f":"BONAFIDE.!X1308","v":0},{"$f":"BONAFIDE.!Y1308","v":0},{"$f":"BONAFIDE.!Z1308","v":0},{"$f":"BONAFIDE.!AD1308","v":0},{"$f":"BONAFIDE.!AA1308","v":"00:00:00"},119,"119","IX","01190IX","00IX EM"]
[{"$f":"BONAFIDE.!AB1309","v":"IXEM"},{"$f":"BONAFIDE.!AE1309","v":0},null,{"$f":"BONAFIDE.!X1309","v":0},{"$f":"BONAFIDE.!Y1309","v":0},{"$f":"BONAFIDE.!Z1309","v":0},{"$f":"BONAFIDE.!AD1309","v":0},{"$f":"BONAFIDE.!AA1309","v":"00:00:00"},119,"119","IX","01190IX","00IX EM"]
[{"$f":"BONAFIDE.!AB1310","v":"IXEM"},{"$f":"BONAFIDE.!AE1310","v":0},null,{"$f":"BONAFIDE.!X1310","v":0},{"$f":"BONAFIDE.!Y1310","v":0},{"$f":"BONAFIDE.!Z1310","v":0},{"$f":"BONAFIDE.!AD1310","v":0},{"$f":"BONAFIDE.!AA1310","v":"00:00:00"},119,"119","IX","01190IX","00IX EM"]
[{"$f":"BONAFIDE.!AB1311","v":"IXEM"},{"$f":"BONAFIDE.!AE1311","v":0},null,{"$f":"BONAFIDE.!X1311","v":0},{"$f":"BONAFIDE.!Y1311","v":0},{"$f":"BONAFIDE.!Z1311","v":0},{"$f":"BONAFIDE.!AD1311","v":0},{"$f":"BONAFIDE.!AA1311","v":"00:00:00"},119,"119","IX","01190IX","00IX EM"]
[{"$f":"BONAFIDE.!AB1312","v":"IXEM"},{"$f":"BONAFIDE.!AE1312","v":0},null,{"$f":"BONAFIDE.!X1312","v":0},{"$f":"BONAFIDE.!Y1312","v":0},{"$f":"BONAFIDE.!Z1312","v":0},{"$f":"BONAFIDE.!AD1312","v":0},{"$f":"BONAFIDE.!AA1312","v":"00:00:00"},119,"119","IX","01190IX","00IX EM"]
[{"$f":"BONAFIDE.!AB1313","v":"IXEM"},{"$f":"BONAFIDE.!AE1313","v":0},null,{"$f":"BONAFIDE.!X1313","v":0},{"$f":"BONAFIDE.!Y1313","v":0},{"$f":"BONAFIDE.!Z1313","v":0},{"$f":"BONAFIDE.!AD1313","v":0},{"$f":"BONAFIDE.!AA1313","v":"00:00:00"},119,"119","IX","01190IX","00IX EM"]
[{"$f":"BONAFIDE.!AB1314","v":"IXEM"},{"$f":"BONAFIDE.!AE1314","v":0},null,{"$f":"BONAFIDE.!X1314","v":0},{"$f":"BONAFIDE.!Y1314","v":0},{"$f":"BONAFIDE.!Z1314","v":0},{"$f":"BONAFIDE.!AD1314","v":0},{"$f":"BONAFIDE.!AA1314","v":"00:00:00"},119,"119","IX","01190IX","00IX EM"]
[{"$f":"BONAFIDE.!AB1315","v":"IXEM"},{"$f":"BONAFIDE.!AE1315","v":0},null,{"$f":"BONAFIDE.!X1315","v":0},{"$f":"BONAFIDE.!Y1315","v":0},{"$f":"BONAFIDE.!Z1315","v":0},{"$f":"BONAFIDE.!AD1315","v":0},{"$f":"BONAFIDE.!AA1315","v":"00:00:00"},119,"119","IX","01190IX","00IX EM"]
[{"$f":"BONAFIDE.!AB1316","v":"IXEM"},{"$f":"BONAFIDE.!AE1316","v":0},null,{"$f":"BONAFIDE.!X1316","v":0},{"$f":"BONAFIDE.!Y1316","v":0},{"$f":"BONAFIDE.!Z1316","v":0},{"$f":"BONAFIDE.!AD1316","v":0},{"$f":"BONAFIDE.!AA1316","v":"00:00:00"},119,"119","IX","01190IX","00IX EM"]
[{"$f":"BONAFIDE.!AB1317","v":"IXEM"},{"$f":"BONAFIDE.!AE1317","v":0},null,{"$f":"BONAFIDE.!X1317","v":0},{"$f":"BONAFIDE.!Y1317","v":0},{"$f":"BONAFIDE.!Z1317","v":0},{"$f":"BONAFIDE.!AD1317","v":0},{"$f":"BONAFIDE.!AA1317","v":"00:00:00"},119,"119","IX","01190IX","00IX EM"]
[{"$f":"BONAFIDE.!AB1318","v":"IXEM"},{"$f":"BONAFIDE.!AE1318","v":0},null,{"$f":"BONAFIDE.!X1318","v":0},{"$f":"BONAFIDE.!Y1318","v":0},{"$f":"BONAFIDE.!Z1318","v":0},{"$f":"BONAFIDE.!AD1318","v":0},{"$f":"BONAFIDE.!AA1318","v":"00:00:00"},119,"119","IX","01190IX","00IX EM"]
[{"$f":"BONAFIDE.!AB1319","v":"IXEM"},{"$f":"BONAFIDE.!AE1319","v":0},null,{"$f":"BONAFIDE.!X1319","v":0},{"$f":"BONAFIDE.!Y1319","v":0},{"$f":"BONAFIDE.!Z1319","v":0},{"$f":"BONAFIDE.!AD1319","v":0},{"$f":"BONAFIDE.!AA1319","v":"00:00:00"},119,"119","IX","01190IX","00IX EM"]
[{"$f":"BONAFIDE.!AB1320","v":"IXEM"},{"$f":"BONAFIDE.!AE1320","v":0},null,{"$f":"BONAFIDE.!X1320","v":0},{"$f":"BONAFIDE.!Y1320","v":0},{"$f":"BONAFIDE.!Z1320","v":0},{"$f":"BONAFIDE.!AD1320","v":0},{"$f":"BONAFIDE.!AA1320","v":"00:00:00"},119,"119","IX","01190IX","00IX EM"]
[{"$f":"BONAFIDE.!AB1321","v":"IXEM"},{"$f":"BONAFIDE.!AE1321","v":0},null,{"$f":"BONAFIDE.!X1321","v":0},{"$f":"BONAFIDE.!Y1321","v":0},{"$f":"BONAFIDE.!Z1321","v":0},{"$f":"BONAFIDE.!AD1321","v":0},{"$f":"BONAFIDE.!AA1321","v":"00:00:00"},119,"119","IX","01190IX","00IX EM"]
[{"$f":"BONAFIDE.!AB1322","v":"IXEM"},{"$f":"BONAFIDE.!AE1322","v":0},null,{"$f":"BONAFIDE.!X1322","v":0},{"$f":"BONAFIDE.!Y1322","v":0},{"$f":"BONAFIDE.!Z1322","v":0},{"$f":"BONAFIDE.!AD1322","v":0},{"$f":"BONAFIDE.!AA1322","v":"00:00:00"},119,"119","IX","01190IX","00IX EM"]
[{"$f":"BONAFIDE.!AB1323","v":"IXEM"},{"$f":"BONAFIDE.!AE1323","v":0},null,{"$f":"BONAFIDE.!X1323","v":0},{"$f":"BONAFIDE.!Y1323","v":0},{"$f":"BONAFIDE.!Z1323","v":0},{"$f":"BONAFIDE.!AD1323","v":0},{"$f":"BONAFIDE.!AA1323","v":"00:00:00"},119,"119","IX","01190IX","00IX EM"]
[{"$f":"BONAFIDE.!AB1324","v":"IXEM"},{"$f":"BONAFIDE.!AE1324","v":0},null,{"$f":"BONAFIDE.!X1324","v":0},{"$f":"BONAFIDE.!Y1324","v":0},{"$f":"BONAFIDE.!Z1324","v":0},{"$f":"BONAFIDE.!AD1324","v":0},{"$f":"BONAFIDE.!AA1324","v":"00:00:00"},119,"119","IX","01190IX","00IX EM"]
[{"$f":"BONAFIDE.!AB1325","v":"IXEM"},{"$f":"BONAFIDE.!AE1325","v":0},null,{"$f":"BONAFIDE.!X1325","v":0},{"$f":"BONAFIDE.!Y1325","v":0},{"$f":"BONAFIDE.!Z1325","v":0},{"$f":"BONAFIDE.!AD1325","v":0},{"$f":"BONAFIDE.!AA1325","v":"00:00:00"},119,"119","IX","01190IX","00IX EM"]
[{"$f":"BONAFIDE.!AB1326","v":"IXEM"},{"$f":"BONAFIDE.!AE1326","v":0},null,{"$f":"BONAFIDE.!X1326","v":0},{"$f":"BONAFIDE.!Y1326","v":0},{"$f":"BONAFIDE.!Z1326","v":0},{"$f":"BONAFIDE.!AD1326","v":0},{"$f":"BONAFIDE.!AA1326","v":"00:00:00"},119,"119","IX","01190IX","00IX EM"]
[{"$f":"BONAFIDE.!AB1327","v":"IXEM"},{"$f":"BONAFIDE.!AE1327","v":0},null,{"$f":"BONAFIDE.!X1327","v":0},{"$f":"BONAFIDE.!Y1327","v":0},{"$f":"BONAFIDE.!Z1327","v":0},{"$f":"BONAFIDE.!AD1327","v":0},{"$f":"BONAFIDE.!AA1327","v":"00:00:00"},119,"119","IX","01190IX","00IX EM"]
[{"$f":"BONAFIDE.!AB1328","v":"IXEM"},{"$f":"BONAFIDE.!AE1328","v":0},null,{"$f":"BONAFIDE.!X1328","v":0},{"$f":"BONAFIDE.!Y1328","v":0},{"$f":"BONAFIDE.!Z1328","v":0},{"$f":"BONAFIDE.!AD1328","v":0},{"$f":"BONAFIDE.!AA1328","v":"00:00:00"},119,"119","IX","01190IX","00IX EM"]
[{"$f":"BONAFIDE.!AB1329","v":"IXEM"},{"$f":"BONAFIDE.!AE1329","v":0},null,{"$f":"BONAFIDE.!X1329","v":0},{"$f":"BONAFIDE.!Y1329","v":0},{"$f":"BONAFIDE.!Z1329","v":0},{"$f":"BONAFIDE.!AD1329","v":0},{"$f":"BONAFIDE.!AA1329","v":"00:00:00"},119,"119","IX","01190IX","00IX EM"]
[{"$f":"BONAFIDE.!AB1330","v":"IXEM"},{"$f":"BONAFIDE.!AE1330","v":0},null,{"$f":"BONAFIDE.!X1330","v":0},{"$f":"BONAFIDE.!Y1330","v":0},{"$f":"BONAFIDE.!Z1330","v":0},{"$f":"BONAFIDE.!AD1330","v":0},{"$f":"BONAFIDE.!AA1330","v":"00:00:00"},119,"119","IX","01190IX","00IX EM"]
[{"$f":"BONAFIDE.!AB1331","v":"IXEM"},{"$f":"BONAFIDE.!AE1331","v":0},null,{"$f":"BONAFIDE.!X1331","v":0},{"$f":"BONAFIDE.!Y1331","v":0},{"$f":"BONAFIDE.!Z1331","v":0},{"$f":"BONAFIDE.!AD1331","v":0},{"$f":"BONAFIDE.!AA1331","v":"00:00:00"},119,"119","IX","01190IX","00IX EM"]
[{"$f":"BONAFIDE.!AB1332","v":"IXEM"},{"$f":"BONAFIDE.!AE1332","v":0},null,{"$f":"BONAFIDE.!X1332","v":0},{"$f":"BONAFIDE.!Y1332","v":0},{"$f":"BONAFIDE.!Z1332","v":0},{"$f":"BONAFIDE.!AD1332","v":0},{"$f":"BONAFIDE.!AA1332","v":"00:00:00"},119,"119","IX","01190IX","00IX EM"]
[{"$f":"BONAFIDE.!AB1333","v":"IXEM"},{"$f":"BONAFIDE.!AE1333","v":0},null,{"$f":"BONAFIDE.!X1333","v":0},{"$f":"BONAFIDE.!Y1333","v":0},{"$f":"BONAFIDE.!Z1333","v":0},{"$f":"BONAFIDE.!AD1333","v":0},{"$f":"BONAFIDE.!AA1333","v":"00:00:00"},119,"119","IX","01190IX","00IX EM"]
[{"$f":"BONAFIDE.!AB1334","v":"IXEM"},{"$f":"BONAFIDE.!AE1334","v":0},null,{"$f":"BONAFIDE.!X1334","v":0},{"$f":"BONAFIDE.!Y1334","v":0},{"$f":"BONAFIDE.!Z1334","v":0},{"$f":"BONAFIDE.!AD1334","v":0},{"$f":"BONAFIDE.!AA1334","v":"00:00:00"},119,"119","IX","01190IX","00IX EM"]
[{"$f":"BONAFIDE.!AB1335","v":"IXEM"},{"$f":"BONAFIDE.!AE1335","v":0},null,{"$f":"BONAFIDE.!X1335","v":0},{"$f":"BONAFIDE.!Y1335","v":0},{"$f":"BONAFIDE.!Z1335","v":0},{"$f":"BONAFIDE.!AD1335","v":0},{"$f":"BONAFIDE.!AA1335","v":"00:00:00"},119,"119","IX","01190IX","00IX EM"]
[{"$f":"BONAFIDE.!AB1336","v":"IXEM"},{"$f":"BONAFIDE.!AE1336","v":0},null,{"$f":"BONAFIDE.!X1336","v":0},{"$f":"BONAFIDE.!Y1336","v":0},{"$f":"BONAFIDE.!Z1336","v":0},{"$f":"BONAFIDE.!AD1336","v":0},{"$f":"BONAFIDE.!AA1336","v":"00:00:00"},119,"119","IX","01190IX","00IX EM"]
[{"$f":"BONAFIDE.!AB1337","v":"IXEM"},{"$f":"BONAFIDE.!AE1337","v":0},null,{"$f":"BONAFIDE.!X1337","v":0},{"$f":"BONAFIDE.!Y1337","v":0},{"$f":"BONAFIDE.!Z1337","v":0},{"$f":"BONAFIDE.!AD1337","v":0},{"$f":"BONAFIDE.!AA1337","v":"00:00:00"},119,"119","IX","01190IX","00IX EM"]
[{"$f":"BONAFIDE.!AB1338","v":"IXEM"},{"$f":"BONAFIDE.!AE1338","v":0},null,{"$f":"BONAFIDE.!X1338","v":0},{"$f":"BONAFIDE.!Y1338","v":0},{"$f":"BONAFIDE.!Z1338","v":0},{"$f":"BONAFIDE.!AD1338","v":0},{"$f":"BONAFIDE.!AA1338","v":"00:00:00"},119,"119","IX","01190IX","00IX EM"]
[{"$f":"BONAFIDE.!AB1339","v":"IXEM"},{"$f":"BONAFIDE.!AE1339","v":0},null,{"$f":"BONAFIDE.!X1339","v":0},{"$f":"BONAFIDE.!Y1339","v":0},{"$f":"BONAFIDE.!Z1339","v":0},{"$f":"BONAFIDE.!AD1339","v":0},{"$f":"BONAFIDE.!AA1339","v":"00:00:00"},119,"119","IX","01190IX","00IX EM"]
[{"$f":"BONAFIDE.!AB1340","v":"IXEM"},{"$f":"BONAFIDE.!AE1340","v":0},null,{"$f":"BONAFIDE.!X1340","v":0},{"$f":"BONAFIDE.!Y1340","v":0},{"$f":"BONAFIDE.!Z1340","v":0},{"$f":"BONAFIDE.!AD1340","v":0},{"$f":"BONAFIDE.!AA1340","v":"00:00:00"},119,"119","IX","01190IX","00IX EM"]
[{"$f":"BONAFIDE.!AB1341","v":"IXEM"},{"$f":"BONAFIDE.!AE1341","v":0},null,{"$f":"BONAFIDE.!X1341","v":0},{"$f":"BONAFIDE.!Y1341","v":0},{"$f":"BONAFIDE.!Z1341","v":0},{"$f":"BONAFIDE.!AD1341","v":0},{"$f":"BONAFIDE.!AA1341","v":"00:00:00"},119,"119","IX","01190IX","00IX EM"]
[{"$f":"BONAFIDE.!AB1342","v":"IXEM"},{"$f":"BONAFIDE.!AE1342","v":0},null,{"$f":"BONAFIDE.!X1342","v":0},{"$f":"BONAFIDE.!Y1342","v":0},{"$f":"BONAFIDE.!Z1342","v":0},{"$f":"BONAFIDE.!AD1342","v":0},{"$f":"BONAFIDE.!AA1342","v":"00:00:00"},119,"119","IX","01190IX","00IX EM"]
[{"$f":"BONAFIDE.!AB1343","v":"IXEM"},{"$f":"BONAFIDE.!AE1343","v":0},null,{"$f":"BONAFIDE.!X1343","v":0},{"$f":"BONAFIDE.!Y1343","v":0},{"$f":"BONAFIDE.!Z1343","v":0},{"$f":"BONAFIDE.!AD1343","v":0},{"$f":"BONAFIDE.!AA1343","v":"00:00:00"},119,"119","IX","01190IX","00IX EM"]
[{"$f":"BONAFIDE.!AB1344","v":"IXEM"},{"$f":"BONAFIDE.!AE1344","v":0},null,{"$f":"BONAFIDE.!X1344","v":0},{"$f":"BONAFIDE.!Y1344","v":0},{"$f":"BONAFIDE.!Z1344","v":0},{"$f":"BONAFIDE.!AD1344","v":0},{"$f":"BONAFIDE.!AA1344","v":"00:00:00"},119,"119","IX","01190IX","00IX EM"]
[{"$f":"BONAFIDE.!AB1345","v":"IXEM"},{"$f":"BONAFIDE.!AE1345","v":0},null,{"$f":"BONAFIDE.!X1345","v":0},{"$f":"BONAFIDE.!Y1345","v":0},{"$f":"BONAFIDE.!Z1345","v":0},{"$f":"BONAFIDE.!AD1345","v":0},{"$f":"BONAFIDE.!AA1345","v":"00:00:00"},119,"119","IX","01190IX","00IX EM"]
[{"$f":"BONAFIDE.!AB1346","v":"IXEM"},{"$f":"BONAFIDE.!AE1346","v":0},null,{"$f":"BONAFIDE.!X1346","v":0},{"$f":"BONAFIDE.!Y1346","v":0},{"$f":"BONAFIDE.!Z1346","v":0},{"$f":"BONAFIDE.!AD1346","v":0},{"$f":"BONAFIDE.!AA1346","v":"00:00:00"},119,"119","IX","01190IX","00IX EM"]
[{"$f":"BONAFIDE.!AB1347","v":"IXEM"},{"$f":"BONAFIDE.!AE1347","v":0},null,{"$f":"BONAFIDE.!X1347","v":0},{"$f":"BONAFIDE.!Y1347","v":0},{"$f":"BONAFIDE.!Z1347","v":0},{"$f":"BONAFIDE.!AD1347","v":0},{"$f":"BONAFIDE.!AA1347","v":"00:00:00"},119,"119","IX","01190IX","00IX EM"]
[{"$f":"BONAFIDE.!AB1348","v":"IXEM"},{"$f":"BONAFIDE.!AE1348","v":0},null,{"$f":"BONAFIDE.!X1348","v":0},{"$f":"BONAFIDE.!Y1348","v":0},{"$f":"BONAFIDE.!Z1348","v":0},{"$f":"BONAFIDE.!AD1348","v":0},{"$f":"BONAFIDE.!AA1348","v":"00:00:00"},119,"119","IX","01190IX","00IX EM"]
[{"$f":"BONAFIDE.!AB1349","v":"IXEM"},{"$f":"BONAFIDE.!AE1349","v":0},null,{"$f":"BONAFIDE.!X1349","v":0},{"$f":"BONAFIDE.!Y1349","v":0},{"$f":"BONAFIDE.!Z1349","v":0},{"$f":"BONAFIDE.!AD1349","v":0},{"$f":"BONAFIDE.!AA1349","v":"00:00:00"},119,"119","IX","01190IX","00IX EM"]
[{"$f":"BONAFIDE.!AB1350","v":"IXEM"},{"$f":"BONAFIDE.!AE1350","v":0},null,{"$f":"BONAFIDE.!X1350","v":0},{"$f":"BONAFIDE.!Y1350","v":0},{"$f":"BONAFIDE.!Z1350","v":0},{"$f":"BONAFIDE.!AD1350","v":0},{"$f":"BONAFIDE.!AA1350","v":"00:00:00"},119,"119","IX","01190IX","00IX EM"]
[{"$f":"BONAFIDE.!AB1351","v":"IXEM"},{"$f":"BONAFIDE.!AE1351","v":0},null,{"$f":"BONAFIDE.!X1351","v":0},{"$f":"BONAFIDE.!Y1351","v":0},{"$f":"BONAFIDE.!Z1351","v":0},{"$f":"BONAFIDE.!AD1351","v":0},{"$f":"BONAFIDE.!AA1351","v":"00:00:00"},{"$f":"DATEDIF(H1348,CUTOFFDT,\"Y\")","v":119},{"$f":"fillno(I1348)","v":"119"},{"$f":"MID(A1348,1,LEN(A1348)-2)","v":"IX"},{"$f":"B1348&J1348&G1348&K1348","v":"01190IX"},{"$f":"B1348&G1348&MID(A1348,1,LEN(A1348)-2)&\" \" & RIGHT(A1348,2)","v":"00IX EM"}]
[{"$f":"BONAFIDE.!AB1352","v":"IXEM"},{"$f":"BONAFIDE.!AE1352","v":0},null,{"$f":"BONAFIDE.!X1352","v":0},{"$f":"BONAFIDE.!Y1352","v":0},{"$f":"BONAFIDE.!Z1352","v":0},{"$f":"BONAFIDE.!AD1352","v":0},{"$f":"BONAFIDE.!AA1352","v":"00:00:00"},119,"119","IX","01190IX","00IX EM"]
[{"$f":"BONAFIDE.!AB1353","v":"IXEM"},{"$f":"BONAFIDE.!AE1353","v":0},null,{"$f":"BONAFIDE.!X1353","v":0},{"$f":"BONAFIDE.!Y1353","v":0},{"$f":"BONAFIDE.!Z1353","v":0},{"$f":"BONAFIDE.!AD1353","v":0},{"$f":"BONAFIDE.!AA1353","v":"00:00:00"},119,"119","IX","01190IX","00IX EM"]
[{"$f":"BONAFIDE.!AB1354","v":"IXEM"},{"$f":"BONAFIDE.!AE1354","v":0},null,{"$f":"BONAFIDE.!X1354","v":0},{"$f":"BONAFIDE.!Y1354","v":0},{"$f":"BONAFIDE.!Z1354","v":0},{"$f":"BONAFIDE.!AD1354","v":0},{"$f":"BONAFIDE.!AA1354","v":"00:00:00"},119,"119","IX","01190IX","00IX EM"]
[{"$f":"BONAFIDE.!AB1355","v":"IXEM"},{"$f":"BONAFIDE.!AE1355","v":0},null,{"$f":"BONAFIDE.!X1355","v":0},{"$f":"BONAFIDE.!Y1355","v":0},{"$f":"BONAFIDE.!Z1355","v":0},{"$f":"BONAFIDE.!AD1355","v":0},{"$f":"BONAFIDE.!AA1355","v":"00:00:00"},119,"119","IX","01190IX","00IX EM"]
[{"$f":"BONAFIDE.!AB1356","v":"IXEM"},{"$f":"BONAFIDE.!AE1356","v":0},null,{"$f":"BONAFIDE.!X1356","v":0},{"$f":"BONAFIDE.!Y1356","v":0},{"$f":"BONAFIDE.!Z1356","v":0},{"$f":"BONAFIDE.!AD1356","v":0},{"$f":"BONAFIDE.!AA1356","v":"00:00:00"},119,"119","IX","01190IX","00IX EM"]
[{"$f":"BONAFIDE.!AB1357","v":"IXEM"},{"$f":"BONAFIDE.!AE1357","v":0},null,{"$f":"BONAFIDE.!X1357","v":0},{"$f":"BONAFIDE.!Y1357","v":0},{"$f":"BONAFIDE.!Z1357","v":0},{"$f":"BONAFIDE.!AD1357","v":0},{"$f":"BONAFIDE.!AA1357","v":"00:00:00"},119,"119","IX","01190IX","00IX EM"]
[{"$f":"BONAFIDE.!AB1358","v":"IXEM"},{"$f":"BONAFIDE.!AE1358","v":0},null,{"$f":"BONAFIDE.!X1358","v":0},{"$f":"BONAFIDE.!Y1358","v":0},{"$f":"BONAFIDE.!Z1358","v":0},{"$f":"BONAFIDE.!AD1358","v":0},{"$f":"BONAFIDE.!AA1358","v":"00:00:00"},119,"119","IX","01190IX","00IX EM"]
[{"$f":"BONAFIDE.!AB1359","v":"IXEM"},{"$f":"BONAFIDE.!AE1359","v":0},null,{"$f":"BONAFIDE.!X1359","v":0},{"$f":"BONAFIDE.!Y1359","v":0},{"$f":"BONAFIDE.!Z1359","v":0},{"$f":"BONAFIDE.!AD1359","v":0},{"$f":"BONAFIDE.!AA1359","v":"00:00:00"},119,"119","IX","01190IX","00IX EM"]
[{"$f":"BONAFIDE.!AB1360","v":"IXEM"},{"$f":"BONAFIDE.!AE1360","v":0},null,{"$f":"BONAFIDE.!X1360","v":0},{"$f":"BONAFIDE.!Y1360","v":0},{"$f":"BONAFIDE.!Z1360","v":0},{"$f":"BONAFIDE.!AD1360","v":0},{"$f":"BONAFIDE.!AA1360","v":"00:00:00"},119,"119","IX","01190IX","00IX EM"]
[{"$f":"BONAFIDE.!AB1361","v":"IXEM"},{"$f":"BONAFIDE.!AE1361","v":0},null,{"$f":"BONAFIDE.!X1361","v":0},{"$f":"BONAFIDE.!Y1361","v":0},{"$f":"BONAFIDE.!Z1361","v":0},{"$f":"BONAFIDE.!AD1361","v":0},{"$f":"BONAFIDE.!AA1361","v":"00:00:00"},119,"119","IX","01190IX","00IX EM"]
[{"$f":"BONAFIDE.!AB1362","v":"IXEM"},{"$f":"BONAFIDE.!AE1362","v":0},null,{"$f":"BONAFIDE.!X1362","v":0},{"$f":"BONAFIDE.!Y1362","v":0},{"$f":"BONAFIDE.!Z1362","v":0},{"$f":"BONAFIDE.!AD1362","v":0},{"$f":"BONAFIDE.!AA1362","v":"00:00:00"},119,"119","IX","01190IX","00IX EM"]
[{"$f":"BONAFIDE.!AB1363","v":"IXEM"},{"$f":"BONAFIDE.!AE1363","v":0},null,{"$f":"BONAFIDE.!X1363","v":0},{"$f":"BONAFIDE.!Y1363","v":0},{"$f":"BONAFIDE.!Z1363","v":0},{"$f":"BONAFIDE.!AD1363","v":0},{"$f":"BONAFIDE.!AA1363","v":"00:00:00"},119,"119","IX","01190IX","00IX EM"]
[{"$f":"BONAFIDE.!AB1364","v":"00:00:00"},{"$f":"BONAFIDE.!AE1364","v":0},null,{"$f":"BONAFIDE.!X1364","v":0},{"$f":"BONAFIDE.!Y1364","v":0},{"$f":"BONAFIDE.!Z1364","v":0},{"$f":"BONAFIDE.!AD1364","v":0},{"$f":"BONAFIDE.!AA1364","v":"00:00:00"},119,"119",{"$error":"#VALUE!"},{"$error":"#VALUE!"},{"$error":"#VALUE!"}]
[{"$f":"BONAFIDE.!AB1365","v":"XEM"},{"$f":"BONAFIDE.!AE1365","v":0},null,{"$f":"BONAFIDE.!X1365","v":0},{"$f":"BONAFIDE.!Y1365","v":0},{"$f":"BONAFIDE.!Z1365","v":0},{"$f":"BONAFIDE.!AD1365","v":0},{"$f":"BONAFIDE.!AA1365","v":"00:00:00"},119,"119","X","01190X","00X EM"]
[{"$f":"BONAFIDE.!AB1366","v":"XEM"},{"$f":"BONAFIDE.!AE1366","v":0},null,{"$f":"BONAFIDE.!X1366","v":0},{"$f":"BONAFIDE.!Y1366","v":0},{"$f":"BONAFIDE.!Z1366","v":0},{"$f":"BONAFIDE.!AD1366","v":0},{"$f":"BONAFIDE.!AA1366","v":"00:00:00"},119,"119","X","01190X","00X EM"]
[{"$f":"BONAFIDE.!AB1367","v":"XEM"},{"$f":"BONAFIDE.!AE1367","v":0},null,{"$f":"BONAFIDE.!X1367","v":0},{"$f":"BONAFIDE.!Y1367","v":0},{"$f":"BONAFIDE.!Z1367","v":0},{"$f":"BONAFIDE.!AD1367","v":0},{"$f":"BONAFIDE.!AA1367","v":"00:00:00"},119,"119","X","01190X","00X EM"]
[{"$f":"BONAFIDE.!AB1368","v":"XEM"},{"$f":"BONAFIDE.!AE1368","v":0},null,{"$f":"BONAFIDE.!X1368","v":0},{"$f":"BONAFIDE.!Y1368","v":0},{"$f":"BONAFIDE.!Z1368","v":0},{"$f":"BONAFIDE.!AD1368","v":0},{"$f":"BONAFIDE.!AA1368","v":"00:00:00"},119,"119","X","01190X","00X EM"]
[{"$f":"BONAFIDE.!AB1369","v":"XEM"},{"$f":"BONAFIDE.!AE1369","v":0},null,{"$f":"BONAFIDE.!X1369","v":0},{"$f":"BONAFIDE.!Y1369","v":0},{"$f":"BONAFIDE.!Z1369","v":0},{"$f":"BONAFIDE.!AD1369","v":0},{"$f":"BONAFIDE.!AA1369","v":"00:00:00"},119,"119","X","01190X","00X EM"]
[{"$f":"BONAFIDE.!AB1370","v":"XEM"},{"$f":"BONAFIDE.!AE1370","v":0},null,{"$f":"BONAFIDE.!X1370","v":0},{"$f":"BONAFIDE.!Y1370","v":0},{"$f":"BONAFIDE.!Z1370","v":0},{"$f":"BONAFIDE.!AD1370","v":0},{"$f":"BONAFIDE.!AA1370","v":"00:00:00"},119,"119","X","01190X","00X EM"]
[{"$f":"BONAFIDE.!AB1371","v":"XEM"},{"$f":"BONAFIDE.!AE1371","v":0},null,{"$f":"BONAFIDE.!X1371","v":0},{"$f":"BONAFIDE.!Y1371","v":0},{"$f":"BONAFIDE.!Z1371","v":0},{"$f":"BONAFIDE.!AD1371","v":0},{"$f":"BONAFIDE.!AA1371","v":"00:00:00"},119,"119","X","01190X","00X EM"]
[{"$f":"BONAFIDE.!AB1372","v":"XEM"},{"$f":"BONAFIDE.!AE1372","v":0},null,{"$f":"BONAFIDE.!X1372","v":0},{"$f":"BONAFIDE.!Y1372","v":0},{"$f":"BONAFIDE.!Z1372","v":0},{"$f":"BONAFIDE.!AD1372","v":0},{"$f":"BONAFIDE.!AA1372","v":"00:00:00"},119,"119","X","01190X","00X EM"]
[{"$f":"BONAFIDE.!AB1373","v":"XEM"},{"$f":"BONAFIDE.!AE1373","v":0},null,{"$f":"BONAFIDE.!X1373","v":0},{"$f":"BONAFIDE.!Y1373","v":0},{"$f":"BONAFIDE.!Z1373","v":0},{"$f":"BONAFIDE.!AD1373","v":0},{"$f":"BONAFIDE.!AA1373","v":"00:00:00"},119,"119","X","01190X","00X EM"]
[{"$f":"BONAFIDE.!AB1374","v":"XEM"},{"$f":"BONAFIDE.!AE1374","v":0},null,{"$f":"BONAFIDE.!X1374","v":0},{"$f":"BONAFIDE.!Y1374","v":0},{"$f":"BONAFIDE.!Z1374","v":0},{"$f":"BONAFIDE.!AD1374","v":0},{"$f":"BONAFIDE.!AA1374","v":"00:00:00"},119,"119","X","01190X","00X EM"]
[{"$f":"BONAFIDE.!AB1375","v":"XEM"},{"$f":"BONAFIDE.!AE1375","v":0},null,{"$f":"BONAFIDE.!X1375","v":0},{"$f":"BONAFIDE.!Y1375","v":0},{"$f":"BONAFIDE.!Z1375","v":0},{"$f":"BONAFIDE.!AD1375","v":0},{"$f":"BONAFIDE.!AA1375","v":"00:00:00"},119,"119","X","01190X","00X EM"]
[{"$f":"BONAFIDE.!AB1376","v":"XEM"},{"$f":"BONAFIDE.!AE1376","v":0},null,{"$f":"BONAFIDE.!X1376","v":0},{"$f":"BONAFIDE.!Y1376","v":0},{"$f":"BONAFIDE.!Z1376","v":0},{"$f":"BONAFIDE.!AD1376","v":0},{"$f":"BONAFIDE.!AA1376","v":"00:00:00"},119,"119","X","01190X","00X EM"]
[{"$f":"BONAFIDE.!AB1377","v":"XEM"},{"$f":"BONAFIDE.!AE1377","v":0},null,{"$f":"BONAFIDE.!X1377","v":0},{"$f":"BONAFIDE.!Y1377","v":0},{"$f":"BONAFIDE.!Z1377","v":0},{"$f":"BONAFIDE.!AD1377","v":0},{"$f":"BONAFIDE.!AA1377","v":"00:00:00"},119,"119","X","01190X","00X EM"]
[{"$f":"BONAFIDE.!AB1378","v":"XEM"},{"$f":"BONAFIDE.!AE1378","v":0},null,{"$f":"BONAFIDE.!X1378","v":0},{"$f":"BONAFIDE.!Y1378","v":0},{"$f":"BONAFIDE.!Z1378","v":0},{"$f":"BONAFIDE.!AD1378","v":0},{"$f":"BONAFIDE.!AA1378","v":"00:00:00"},119,"119","X","01190X","00X EM"]
[{"$f":"BONAFIDE.!AB1379","v":"XEM"},{"$f":"BONAFIDE.!AE1379","v":0},null,{"$f":"BONAFIDE.!X1379","v":0},{"$f":"BONAFIDE.!Y1379","v":0},{"$f":"BONAFIDE.!Z1379","v":0},{"$f":"BONAFIDE.!AD1379","v":0},{"$f":"BONAFIDE.!AA1379","v":"00:00:00"},119,"119","X","01190X","00X EM"]
[{"$f":"BONAFIDE.!AB1380","v":"XEM"},{"$f":"BONAFIDE.!AE1380","v":0},null,{"$f":"BONAFIDE.!X1380","v":0},{"$f":"BONAFIDE.!Y1380","v":0},{"$f":"BONAFIDE.!Z1380","v":0},{"$f":"BONAFIDE.!AD1380","v":0},{"$f":"BONAFIDE.!AA1380","v":"00:00:00"},119,"119","X","01190X","00X EM"]
[{"$f":"BONAFIDE.!AB1381","v":"XEM"},{"$f":"BONAFIDE.!AE1381","v":0},null,{"$f":"BONAFIDE.!X1381","v":0},{"$f":"BONAFIDE.!Y1381","v":0},{"$f":"BONAFIDE.!Z1381","v":0},{"$f":"BONAFIDE.!AD1381","v":0},{"$f":"BONAFIDE.!AA1381","v":"00:00:00"},119,"119","X","01190X","00X EM"]
[{"$f":"BONAFIDE.!AB1382","v":"XEM"},{"$f":"BONAFIDE.!AE1382","v":0},null,{"$f":"BONAFIDE.!X1382","v":0},{"$f":"BONAFIDE.!Y1382","v":0},{"$f":"BONAFIDE.!Z1382","v":0},{"$f":"BONAFIDE.!AD1382","v":0},{"$f":"BONAFIDE.!AA1382","v":"00:00:00"},119,"119","X","01190X","00X EM"]
[{"$f":"BONAFIDE.!AB1383","v":"XEM"},{"$f":"BONAFIDE.!AE1383","v":0},null,{"$f":"BONAFIDE.!X1383","v":0},{"$f":"BONAFIDE.!Y1383","v":0},{"$f":"BONAFIDE.!Z1383","v":0},{"$f":"BONAFIDE.!AD1383","v":0},{"$f":"BONAFIDE.!AA1383","v":"00:00:00"},119,"119","X","01190X","00X EM"]
[{"$f":"BONAFIDE.!AB1384","v":"XEM"},{"$f":"BONAFIDE.!AE1384","v":0},null,{"$f":"BONAFIDE.!X1384","v":0},{"$f":"BONAFIDE.!Y1384","v":0},{"$f":"BONAFIDE.!Z1384","v":0},{"$f":"BONAFIDE.!AD1384","v":0},{"$f":"BONAFIDE.!AA1384","v":"00:00:00"},119,"119","X","01190X","00X EM"]
[{"$f":"BONAFIDE.!AB1385","v":"XEM"},{"$f":"BONAFIDE.!AE1385","v":0},null,{"$f":"BONAFIDE.!X1385","v":0},{"$f":"BONAFIDE.!Y1385","v":0},{"$f":"BONAFIDE.!Z1385","v":0},{"$f":"BONAFIDE.!AD1385","v":0},{"$f":"BONAFIDE.!AA1385","v":"00:00:00"},119,"119","X","01190X","00X EM"]
[{"$f":"BONAFIDE.!AB1386","v":"XEM"},{"$f":"BONAFIDE.!AE1386","v":0},null,{"$f":"BONAFIDE.!X1386","v":0},{"$f":"BONAFIDE.!Y1386","v":0},{"$f":"BONAFIDE.!Z1386","v":0},{"$f":"BONAFIDE.!AD1386","v":0},{"$f":"BONAFIDE.!AA1386","v":"00:00:00"},119,"119","X","01190X","00X EM"]
[{"$f":"BONAFIDE.!AB1387","v":"XEM"},{"$f":"BONAFIDE.!AE1387","v":0},null,{"$f":"BONAFIDE.!X1387","v":0},{"$f":"BONAFIDE.!Y1387","v":0},{"$f":"BONAFIDE.!Z1387","v":0},{"$f":"BONAFIDE.!AD1387","v":0},{"$f":"BONAFIDE.!AA1387","v":"00:00:00"},119,"119","X","01190X","00X EM"]
[{"$f":"BONAFIDE.!AB1388","v":"XEM"},{"$f":"BONAFIDE.!AE1388","v":0},null,{"$f":"BONAFIDE.!X1388","v":0},{"$f":"BONAFIDE.!Y1388","v":0},{"$f":"BONAFIDE.!Z1388","v":0},{"$f":"BONAFIDE.!AD1388","v":0},{"$f":"BONAFIDE.!AA1388","v":"00:00:00"},119,"119","X","01190X","00X EM"]
[{"$f":"BONAFIDE.!AB1389","v":"XEM"},{"$f":"BONAFIDE.!AE1389","v":0},null,{"$f":"BONAFIDE.!X1389","v":0},{"$f":"BONAFIDE.!Y1389","v":0},{"$f":"BONAFIDE.!Z1389","v":0},{"$f":"BONAFIDE.!AD1389","v":0},{"$f":"BONAFIDE.!AA1389","v":"00:00:00"},119,"119","X","01190X","00X EM"]
[{"$f":"BONAFIDE.!AB1390","v":"XEM"},{"$f":"BONAFIDE.!AE1390","v":0},null,{"$f":"BONAFIDE.!X1390","v":0},{"$f":"BONAFIDE.!Y1390","v":0},{"$f":"BONAFIDE.!Z1390","v":0},{"$f":"BONAFIDE.!AD1390","v":0},{"$f":"BONAFIDE.!AA1390","v":"00:00:00"},119,"119","X","01190X","00X EM"]
[{"$f":"BONAFIDE.!AB1391","v":"XEM"},{"$f":"BONAFIDE.!AE1391","v":0},null,{"$f":"BONAFIDE.!X1391","v":0},{"$f":"BONAFIDE.!Y1391","v":0},{"$f":"BONAFIDE.!Z1391","v":0},{"$f":"BONAFIDE.!AD1391","v":0},{"$f":"BONAFIDE.!AA1391","v":"00:00:00"},119,"119","X","01190X","00X EM"]
[{"$f":"BONAFIDE.!AB1392","v":"XEM"},{"$f":"BONAFIDE.!AE1392","v":0},null,{"$f":"BONAFIDE.!X1392","v":0},{"$f":"BONAFIDE.!Y1392","v":0},{"$f":"BONAFIDE.!Z1392","v":0},{"$f":"BONAFIDE.!AD1392","v":0},{"$f":"BONAFIDE.!AA1392","v":"00:00:00"},119,"119","X","01190X","00X EM"]
[{"$f":"BONAFIDE.!AB1393","v":"XEM"},{"$f":"BONAFIDE.!AE1393","v":0},null,{"$f":"BONAFIDE.!X1393","v":0},{"$f":"BONAFIDE.!Y1393","v":0},{"$f":"BONAFIDE.!Z1393","v":0},{"$f":"BONAFIDE.!AD1393","v":0},{"$f":"BONAFIDE.!AA1393","v":"00:00:00"},119,"119","X","01190X","00X EM"]
[{"$f":"BONAFIDE.!AB1394","v":"XEM"},{"$f":"BONAFIDE.!AE1394","v":0},null,{"$f":"BONAFIDE.!X1394","v":0},{"$f":"BONAFIDE.!Y1394","v":0},{"$f":"BONAFIDE.!Z1394","v":0},{"$f":"BONAFIDE.!AD1394","v":0},{"$f":"BONAFIDE.!AA1394","v":"00:00:00"},119,"119","X","01190X","00X EM"]
[{"$f":"BONAFIDE.!AB1395","v":"XEM"},{"$f":"BONAFIDE.!AE1395","v":0},null,{"$f":"BONAFIDE.!X1395","v":0},{"$f":"BONAFIDE.!Y1395","v":0},{"$f":"BONAFIDE.!Z1395","v":0},{"$f":"BONAFIDE.!AD1395","v":0},{"$f":"BONAFIDE.!AA1395","v":"00:00:00"},119,"119","X","01190X","00X EM"]
[{"$f":"BONAFIDE.!AB1396","v":"XEM"},{"$f":"BONAFIDE.!AE1396","v":0},null,{"$f":"BONAFIDE.!X1396","v":0},{"$f":"BONAFIDE.!Y1396","v":0},{"$f":"BONAFIDE.!Z1396","v":0},{"$f":"BONAFIDE.!AD1396","v":0},{"$f":"BONAFIDE.!AA1396","v":"00:00:00"},119,"119","X","01190X","00X EM"]
[{"$f":"BONAFIDE.!AB1397","v":"XEM"},{"$f":"BONAFIDE.!AE1397","v":0},null,{"$f":"BONAFIDE.!X1397","v":0},{"$f":"BONAFIDE.!Y1397","v":0},{"$f":"BONAFIDE.!Z1397","v":0},{"$f":"BONAFIDE.!AD1397","v":0},{"$f":"BONAFIDE.!AA1397","v":"00:00:00"},119,"119","X","01190X","00X EM"]
[{"$f":"BONAFIDE.!AB1398","v":"XEM"},{"$f":"BONAFIDE.!AE1398","v":0},null,{"$f":"BONAFIDE.!X1398","v":0},{"$f":"BONAFIDE.!Y1398","v":0},{"$f":"BONAFIDE.!Z1398","v":0},{"$f":"BONAFIDE.!AD1398","v":0},{"$f":"BONAFIDE.!AA1398","v":"00:00:00"},119,"119","X","01190X","00X EM"]
[{"$f":"BONAFIDE.!AB1399","v":"XEM"},{"$f":"BONAFIDE.!AE1399","v":0},null,{"$f":"BONAFIDE.!X1399","v":0},{"$f":"BONAFIDE.!Y1399","v":0},{"$f":"BONAFIDE.!Z1399","v":0},{"$f":"BONAFIDE.!AD1399","v":0},{"$f":"BONAFIDE.!AA1399","v":"00:00:00"},119,"119","X","01190X","00X EM"]
[{"$f":"BONAFIDE.!AB1400","v":"XEM"},{"$f":"BONAFIDE.!AE1400","v":0},null,{"$f":"BONAFIDE.!X1400","v":0},{"$f":"BONAFIDE.!Y1400","v":0},{"$f":"BONAFIDE.!Z1400","v":0},{"$f":"BONAFIDE.!AD1400","v":0},{"$f":"BONAFIDE.!AA1400","v":"00:00:00"},119,"119","X","01190X","00X EM"]
[{"$f":"BONAFIDE.!AB1401","v":"XEM"},{"$f":"BONAFIDE.!AE1401","v":0},null,{"$f":"BONAFIDE.!X1401","v":0},{"$f":"BONAFIDE.!Y1401","v":0},{"$f":"BONAFIDE.!Z1401","v":0},{"$f":"BONAFIDE.!AD1401","v":0},{"$f":"BONAFIDE.!AA1401","v":"00:00:00"},119,"119","X","01190X","00X EM"]
[{"$f":"BONAFIDE.!AB1402","v":"XEM"},{"$f":"BONAFIDE.!AE1402","v":0},null,{"$f":"BONAFIDE.!X1402","v":0},{"$f":"BONAFIDE.!Y1402","v":0},{"$f":"BONAFIDE.!Z1402","v":0},{"$f":"BONAFIDE.!AD1402","v":0},{"$f":"BONAFIDE.!AA1402","v":"00:00:00"},119,"119","X","01190X","00X EM"]
[{"$f":"BONAFIDE.!AB1403","v":"XEM"},{"$f":"BONAFIDE.!AE1403","v":0},null,{"$f":"BONAFIDE.!X1403","v":0},{"$f":"BONAFIDE.!Y1403","v":0},{"$f":"BONAFIDE.!Z1403","v":0},{"$f":"BONAFIDE.!AD1403","v":0},{"$f":"BONAFIDE.!AA1403","v":"00:00:00"},119,"119","X","01190X","00X EM"]
[{"$f":"BONAFIDE.!AB1404","v":"XEM"},{"$f":"BONAFIDE.!AE1404","v":0},null,{"$f":"BONAFIDE.!X1404","v":0},{"$f":"BONAFIDE.!Y1404","v":0},{"$f":"BONAFIDE.!Z1404","v":0},{"$f":"BONAFIDE.!AD1404","v":0},{"$f":"BONAFIDE.!AA1404","v":"00:00:00"},119,"119","X","01190X","00X EM"]
[{"$f":"BONAFIDE.!AB1405","v":"XEM"},{"$f":"BONAFIDE.!AE1405","v":0},null,{"$f":"BONAFIDE.!X1405","v":0},{"$f":"BONAFIDE.!Y1405","v":0},{"$f":"BONAFIDE.!Z1405","v":0},{"$f":"BONAFIDE.!AD1405","v":0},{"$f":"BONAFIDE.!AA1405","v":"00:00:00"},119,"119","X","01190X","00X EM"]
[{"$f":"BONAFIDE.!AB1406","v":"XEM"},{"$f":"BONAFIDE.!AE1406","v":0},null,{"$f":"BONAFIDE.!X1406","v":0},{"$f":"BONAFIDE.!Y1406","v":0},{"$f":"BONAFIDE.!Z1406","v":0},{"$f":"BONAFIDE.!AD1406","v":0},{"$f":"BONAFIDE.!AA1406","v":"00:00:00"},119,"119","X","01190X","00X EM"]
[{"$f":"BONAFIDE.!AB1407","v":"XEM"},{"$f":"BONAFIDE.!AE1407","v":0},null,{"$f":"BONAFIDE.!X1407","v":0},{"$f":"BONAFIDE.!Y1407","v":0},{"$f":"BONAFIDE.!Z1407","v":0},{"$f":"BONAFIDE.!AD1407","v":0},{"$f":"BONAFIDE.!AA1407","v":"00:00:00"},119,"119","X","01190X","00X EM"]
[{"$f":"BONAFIDE.!AB1408","v":"XEM"},{"$f":"BONAFIDE.!AE1408","v":0},null,{"$f":"BONAFIDE.!X1408","v":0},{"$f":"BONAFIDE.!Y1408","v":0},{"$f":"BONAFIDE.!Z1408","v":0},{"$f":"BONAFIDE.!AD1408","v":0},{"$f":"BONAFIDE.!AA1408","v":"00:00:00"},119,"119","X","01190X","00X EM"]
[{"$f":"BONAFIDE.!AB1409","v":"XEM"},{"$f":"BONAFIDE.!AE1409","v":0},null,{"$f":"BONAFIDE.!X1409","v":0},{"$f":"BONAFIDE.!Y1409","v":0},{"$f":"BONAFIDE.!Z1409","v":0},{"$f":"BONAFIDE.!AD1409","v":0},{"$f":"BONAFIDE.!AA1409","v":"00:00:00"},119,"119","X","01190X","00X EM"]
[{"$f":"BONAFIDE.!AB1410","v":"XEM"},{"$f":"BONAFIDE.!AE1410","v":0},null,{"$f":"BONAFIDE.!X1410","v":0},{"$f":"BONAFIDE.!Y1410","v":0},{"$f":"BONAFIDE.!Z1410","v":0},{"$f":"BONAFIDE.!AD1410","v":0},{"$f":"BONAFIDE.!AA1410","v":"00:00:00"},119,"119","X","01190X","00X EM"]
[{"$f":"BONAFIDE.!AB1411","v":"XEM"},{"$f":"BONAFIDE.!AE1411","v":0},null,{"$f":"BONAFIDE.!X1411","v":0},{"$f":"BONAFIDE.!Y1411","v":0},{"$f":"BONAFIDE.!Z1411","v":0},{"$f":"BONAFIDE.!AD1411","v":0},{"$f":"BONAFIDE.!AA1411","v":"00:00:00"},119,"119","X","01190X","00X EM"]
[{"$f":"BONAFIDE.!AB1412","v":"XEM"},{"$f":"BONAFIDE.!AE1412","v":0},null,{"$f":"BONAFIDE.!X1412","v":0},{"$f":"BONAFIDE.!Y1412","v":0},{"$f":"BONAFIDE.!Z1412","v":0},{"$f":"BONAFIDE.!AD1412","v":0},{"$f":"BONAFIDE.!AA1412","v":"00:00:00"},119,"119","X","01190X","00X EM"]
[{"$f":"BONAFIDE.!AB1413","v":"XEM"},{"$f":"BONAFIDE.!AE1413","v":0},null,{"$f":"BONAFIDE.!X1413","v":0},{"$f":"BONAFIDE.!Y1413","v":0},{"$f":"BONAFIDE.!Z1413","v":0},{"$f":"BONAFIDE.!AD1413","v":0},{"$f":"BONAFIDE.!AA1413","v":"00:00:00"},119,"119","X","01190X","00X EM"]
[{"$f":"BONAFIDE.!AB1414","v":"XEM"},{"$f":"BONAFIDE.!AE1414","v":0},null,{"$f":"BONAFIDE.!X1414","v":0},{"$f":"BONAFIDE.!Y1414","v":0},{"$f":"BONAFIDE.!Z1414","v":0},{"$f":"BONAFIDE.!AD1414","v":0},{"$f":"BONAFIDE.!AA1414","v":"00:00:00"},119,"119","X","01190X","00X EM"]
[{"$f":"BONAFIDE.!AB1415","v":"XEM"},{"$f":"BONAFIDE.!AE1415","v":0},null,{"$f":"BONAFIDE.!X1415","v":0},{"$f":"BONAFIDE.!Y1415","v":0},{"$f":"BONAFIDE.!Z1415","v":0},{"$f":"BONAFIDE.!AD1415","v":0},{"$f":"BONAFIDE.!AA1415","v":"00:00:00"},{"$f":"DATEDIF(H1412,CUTOFFDT,\"Y\")","v":119},{"$f":"fillno(I1412)","v":"119"},{"$f":"MID(A1412,1,LEN(A1412)-2)","v":"X"},{"$f":"B1412&J1412&G1412&K1412","v":"01190X"},{"$f":"B1412&G1412&MID(A1412,1,LEN(A1412)-2)&\" \" & RIGHT(A1412,2)","v":"00X EM"}]
[{"$f":"BONAFIDE.!AB1416","v":"XEM"},{"$f":"BONAFIDE.!AE1416","v":0},null,{"$f":"BONAFIDE.!X1416","v":0},{"$f":"BONAFIDE.!Y1416","v":0},{"$f":"BONAFIDE.!Z1416","v":0},{"$f":"BONAFIDE.!AD1416","v":0},{"$f":"BONAFIDE.!AA1416","v":"00:00:00"},119,"119","X","01190X","00X EM"]
[{"$f":"BONAFIDE.!AB1417","v":"XEM"},{"$f":"BONAFIDE.!AE1417","v":0},null,{"$f":"BONAFIDE.!X1417","v":0},{"$f":"BONAFIDE.!Y1417","v":0},{"$f":"BONAFIDE.!Z1417","v":0},{"$f":"BONAFIDE.!AD1417","v":0},{"$f":"BONAFIDE.!AA1417","v":"00:00:00"},119,"119","X","01190X","00X EM"]
[{"$f":"BONAFIDE.!AB1418","v":"XEM"},{"$f":"BONAFIDE.!AE1418","v":0},null,{"$f":"BONAFIDE.!X1418","v":0},{"$f":"BONAFIDE.!Y1418","v":0},{"$f":"BONAFIDE.!Z1418","v":0},{"$f":"BONAFIDE.!AD1418","v":0},{"$f":"BONAFIDE.!AA1418","v":"00:00:00"},119,"119","X","01190X","00X EM"]
[{"$f":"BONAFIDE.!AB1419","v":"XEM"},{"$f":"BONAFIDE.!AE1419","v":0},null,{"$f":"BONAFIDE.!X1419","v":0},{"$f":"BONAFIDE.!Y1419","v":0},{"$f":"BONAFIDE.!Z1419","v":0},{"$f":"BONAFIDE.!AD1419","v":0},{"$f":"BONAFIDE.!AA1419","v":"00:00:00"},119,"119","X","01190X","00X EM"]
[{"$f":"BONAFIDE.!AB1420","v":"XEM"},{"$f":"BONAFIDE.!AE1420","v":0},null,{"$f":"BONAFIDE.!X1420","v":0},{"$f":"BONAFIDE.!Y1420","v":0},{"$f":"BONAFIDE.!Z1420","v":0},{"$f":"BONAFIDE.!AD1420","v":0},{"$f":"BONAFIDE.!AA1420","v":"00:00:00"},119,"119","X","01190X","00X EM"]
[{"$f":"BONAFIDE.!AB1421","v":"XEM"},{"$f":"BONAFIDE.!AE1421","v":0},null,{"$f":"BONAFIDE.!X1421","v":0},{"$f":"BONAFIDE.!Y1421","v":0},{"$f":"BONAFIDE.!Z1421","v":0},{"$f":"BONAFIDE.!AD1421","v":0},{"$f":"BONAFIDE.!AA1421","v":"00:00:00"},119,"119","X","01190X","00X EM"]
[{"$f":"BONAFIDE.!AB1422","v":"XEM"},{"$f":"BONAFIDE.!AE1422","v":0},null,{"$f":"BONAFIDE.!X1422","v":0},{"$f":"BONAFIDE.!Y1422","v":0},{"$f":"BONAFIDE.!Z1422","v":0},{"$f":"BONAFIDE.!AD1422","v":0},{"$f":"BONAFIDE.!AA1422","v":"00:00:00"},119,"119","X","01190X","00X EM"]
[{"$f":"BONAFIDE.!AB1423","v":"XEM"},{"$f":"BONAFIDE.!AE1423","v":0},null,{"$f":"BONAFIDE.!X1423","v":0},{"$f":"BONAFIDE.!Y1423","v":0},{"$f":"BONAFIDE.!Z1423","v":0},{"$f":"BONAFIDE.!AD1423","v":0},{"$f":"BONAFIDE.!AA1423","v":"00:00:00"},119,"119","X","01190X","00X EM"]
[{"$f":"BONAFIDE.!AB1424","v":"XEM"},{"$f":"BONAFIDE.!AE1424","v":0},null,{"$f":"BONAFIDE.!X1424","v":0},{"$f":"BONAFIDE.!Y1424","v":0},{"$f":"BONAFIDE.!Z1424","v":0},{"$f":"BONAFIDE.!AD1424","v":0},{"$f":"BONAFIDE.!AA1424","v":"00:00:00"},119,"119","X","01190X","00X EM"]
[{"$f":"BONAFIDE.!AB1425","v":"XEM"},{"$f":"BONAFIDE.!AE1425","v":0},null,{"$f":"BONAFIDE.!X1425","v":0},{"$f":"BONAFIDE.!Y1425","v":0},{"$f":"BONAFIDE.!Z1425","v":0},{"$f":"BONAFIDE.!AD1425","v":0},{"$f":"BONAFIDE.!AA1425","v":"00:00:00"},119,"119","X","01190X","00X EM"]
[{"$f":"BONAFIDE.!AB1426","v":"XEM"},{"$f":"BONAFIDE.!AE1426","v":0},null,{"$f":"BONAFIDE.!X1426","v":0},{"$f":"BONAFIDE.!Y1426","v":0},{"$f":"BONAFIDE.!Z1426","v":0},{"$f":"BONAFIDE.!AD1426","v":0},{"$f":"BONAFIDE.!AA1426","v":"00:00:00"},119,"119","X","01190X","00X EM"]
[{"$f":"BONAFIDE.!AB1427","v":"XEM"},{"$f":"BONAFIDE.!AE1427","v":0},null,{"$f":"BONAFIDE.!X1427","v":0},{"$f":"BONAFIDE.!Y1427","v":0},{"$f":"BONAFIDE.!Z1427","v":0},{"$f":"BONAFIDE.!AD1427","v":0},{"$f":"BONAFIDE.!AA1427","v":"00:00:00"},119,"119","X","01190X","00X EM"]
[{"$f":"BONAFIDE.!AB1428","v":"XEM"},{"$f":"BONAFIDE.!AE1428","v":0},null,{"$f":"BONAFIDE.!X1428","v":0},{"$f":"BONAFIDE.!Y1428","v":0},{"$f":"BONAFIDE.!Z1428","v":0},{"$f":"BONAFIDE.!AD1428","v":0},{"$f":"BONAFIDE.!AA1428","v":"00:00:00"},119,"119","X","01190X","00X EM"]
[{"$f":"BONAFIDE.!AB1429","v":"XEM"},{"$f":"BONAFIDE.!AE1429","v":0},null,{"$f":"BONAFIDE.!X1429","v":0},{"$f":"BONAFIDE.!Y1429","v":0},{"$f":"BONAFIDE.!Z1429","v":0},{"$f":"BONAFIDE.!AD1429","v":0},{"$f":"BONAFIDE.!AA1429","v":"00:00:00"},119,"119","X","01190X","00X EM"]
[{"$f":"BONAFIDE.!AB1430","v":"XEM"},{"$f":"BONAFIDE.!AE1430","v":0},null,{"$f":"BONAFIDE.!X1430","v":0},{"$f":"BONAFIDE.!Y1430","v":0},{"$f":"BONAFIDE.!Z1430","v":0},{"$f":"BONAFIDE.!AD1430","v":0},{"$f":"BONAFIDE.!AA1430","v":"00:00:00"},119,"119","X","01190X","00X EM"]
[{"$f":"BONAFIDE.!AB1431","v":"XEM"},{"$f":"BONAFIDE.!AE1431","v":0},null,{"$f":"BONAFIDE.!X1431","v":0},{"$f":"BONAFIDE.!Y1431","v":0},{"$f":"BONAFIDE.!Z1431","v":0},{"$f":"BONAFIDE.!AD1431","v":0},{"$f":"BONAFIDE.!AA1431","v":"00:00:00"},119,"119","X","01190X","00X EM"]
[{"$f":"BONAFIDE.!AB1432","v":"XEM"},{"$f":"BONAFIDE.!AE1432","v":0},null,{"$f":"BONAFIDE.!X1432","v":0},{"$f":"BONAFIDE.!Y1432","v":0},{"$f":"BONAFIDE.!Z1432","v":0},{"$f":"BONAFIDE.!AD1432","v":0},{"$f":"BONAFIDE.!AA1432","v":"00:00:00"},119,"119","X","01190X","00X EM"]
[{"$f":"BONAFIDE.!AB1433","v":"XEM"},{"$f":"BONAFIDE.!AE1433","v":0},null,{"$f":"BONAFIDE.!X1433","v":0},{"$f":"BONAFIDE.!Y1433","v":0},{"$f":"BONAFIDE.!Z1433","v":0},{"$f":"BONAFIDE.!AD1433","v":0},{"$f":"BONAFIDE.!AA1433","v":"00:00:00"},119,"119","X","01190X","00X EM"]
[{"$f":"BONAFIDE.!AB1434","v":"XEM"},{"$f":"BONAFIDE.!AE1434","v":0},null,{"$f":"BONAFIDE.!X1434","v":0},{"$f":"BONAFIDE.!Y1434","v":0},{"$f":"BONAFIDE.!Z1434","v":0},{"$f":"BONAFIDE.!AD1434","v":0},{"$f":"BONAFIDE.!AA1434","v":"00:00:00"},119,"119","X","01190X","00X EM"]
[{"$f":"BONAFIDE.!AB1435","v":"XEM"},{"$f":"BONAFIDE.!AE1435","v":0},null,{"$f":"BONAFIDE.!X1435","v":0},{"$f":"BONAFIDE.!Y1435","v":0},{"$f":"BONAFIDE.!Z1435","v":0},{"$f":"BONAFIDE.!AD1435","v":0},{"$f":"BONAFIDE.!AA1435","v":"00:00:00"},119,"119","X","01190X","00X EM"]
[{"$f":"BONAFIDE.!AB1436","v":"XEM"},{"$f":"BONAFIDE.!AE1436","v":0},null,{"$f":"BONAFIDE.!X1436","v":0},{"$f":"BONAFIDE.!Y1436","v":0},{"$f":"BONAFIDE.!Z1436","v":0},{"$f":"BONAFIDE.!AD1436","v":0},{"$f":"BONAFIDE.!AA1436","v":"00:00:00"},119,"119","X","01190X","00X EM"]
[{"$f":"BONAFIDE.!AB1437","v":"XEM"},{"$f":"BONAFIDE.!AE1437","v":0},null,{"$f":"BONAFIDE.!X1437","v":0},{"$f":"BONAFIDE.!Y1437","v":0},{"$f":"BONAFIDE.!Z1437","v":0},{"$f":"BONAFIDE.!AD1437","v":0},{"$f":"BONAFIDE.!AA1437","v":"00:00:00"},119,"119","X","01190X","00X EM"]
[{"$f":"BONAFIDE.!AB1438","v":"XEM"},{"$f":"BONAFIDE.!AE1438","v":0},null,{"$f":"BONAFIDE.!X1438","v":0},{"$f":"BONAFIDE.!Y1438","v":0},{"$f":"BONAFIDE.!Z1438","v":0},{"$f":"BONAFIDE.!AD1438","v":0},{"$f":"BONAFIDE.!AA1438","v":"00:00:00"},119,"119","X","01190X","00X EM"]
[{"$f":"BONAFIDE.!AB1439","v":"XEM"},{"$f":"BONAFIDE.!AE1439","v":0},null,{"$f":"BONAFIDE.!X1439","v":0},{"$f":"BONAFIDE.!Y1439","v":0},{"$f":"BONAFIDE.!Z1439","v":0},{"$f":"BONAFIDE.!AD1439","v":0},{"$f":"BONAFIDE.!AA1439","v":"00:00:00"},119,"119","X","01190X","00X EM"]
[{"$f":"BONAFIDE.!AB1440","v":"XEM"},{"$f":"BONAFIDE.!AE1440","v":0},null,{"$f":"BONAFIDE.!X1440","v":0},{"$f":"BONAFIDE.!Y1440","v":0},{"$f":"BONAFIDE.!Z1440","v":0},{"$f":"BONAFIDE.!AD1440","v":0},{"$f":"BONAFIDE.!AA1440","v":"00:00:00"},119,"119","X","01190X","00X EM"]
[{"$f":"BONAFIDE.!AB1441","v":"XEM"},{"$f":"BONAFIDE.!AE1441","v":0},null,{"$f":"BONAFIDE.!X1441","v":0},{"$f":"BONAFIDE.!Y1441","v":0},{"$f":"BONAFIDE.!Z1441","v":0},{"$f":"BONAFIDE.!AD1441","v":0},{"$f":"BONAFIDE.!AA1441","v":"00:00:00"},119,"119","X","01190X","00X EM"]
[{"$f":"BONAFIDE.!AB1442","v":"XEM"},{"$f":"BONAFIDE.!AE1442","v":0},null,{"$f":"BONAFIDE.!X1442","v":0},{"$f":"BONAFIDE.!Y1442","v":0},{"$f":"BONAFIDE.!Z1442","v":0},{"$f":"BONAFIDE.!AD1442","v":0},{"$f":"BONAFIDE.!AA1442","v":"00:00:00"},119,"119","X","01190X","00X EM"]
[{"$f":"BONAFIDE.!AB1443","v":"XEM"},{"$f":"BONAFIDE.!AE1443","v":0},null,{"$f":"BONAFIDE.!X1443","v":0},{"$f":"BONAFIDE.!Y1443","v":0},{"$f":"BONAFIDE.!Z1443","v":0},{"$f":"BONAFIDE.!AD1443","v":0},{"$f":"BONAFIDE.!AA1443","v":"00:00:00"},119,"119","X","01190X","00X EM"]
[{"$f":"BONAFIDE.!AB1444","v":"XEM"},{"$f":"BONAFIDE.!AE1444","v":0},null,{"$f":"BONAFIDE.!X1444","v":0},{"$f":"BONAFIDE.!Y1444","v":0},{"$f":"BONAFIDE.!Z1444","v":0},{"$f":"BONAFIDE.!AD1444","v":0},{"$f":"BONAFIDE.!AA1444","v":"00:00:00"},119,"119","X","01190X","00X EM"]
[{"$f":"BONAFIDE.!AB1445","v":"XEM"},{"$f":"BONAFIDE.!AE1445","v":0},null,{"$f":"BONAFIDE.!X1445","v":0},{"$f":"BONAFIDE.!Y1445","v":0},{"$f":"BONAFIDE.!Z1445","v":0},{"$f":"BONAFIDE.!AD1445","v":0},{"$f":"BONAFIDE.!AA1445","v":"00:00:00"},119,"119","X","01190X","00X EM"]
[{"$f":"BONAFIDE.!AB1446","v":"XEM"},{"$f":"BONAFIDE.!AE1446","v":0},null,{"$f":"BONAFIDE.!X1446","v":0},{"$f":"BONAFIDE.!Y1446","v":0},{"$f":"BONAFIDE.!Z1446","v":0},{"$f":"BONAFIDE.!AD1446","v":0},{"$f":"BONAFIDE.!AA1446","v":"00:00:00"},119,"119","X","01190X","00X EM"]
[{"$f":"BONAFIDE.!AB1447","v":"XEM"},{"$f":"BONAFIDE.!AE1447","v":0},null,{"$f":"BONAFIDE.!X1447","v":0},{"$f":"BONAFIDE.!Y1447","v":0},{"$f":"BONAFIDE.!Z1447","v":0},{"$f":"BONAFIDE.!AD1447","v":0},{"$f":"BONAFIDE.!AA1447","v":"00:00:00"},119,"119","X","01190X","00X EM"]
[{"$f":"BONAFIDE.!AB1448","v":"XEM"},{"$f":"BONAFIDE.!AE1448","v":0},null,{"$f":"BONAFIDE.!X1448","v":0},{"$f":"BONAFIDE.!Y1448","v":0},{"$f":"BONAFIDE.!Z1448","v":0},{"$f":"BONAFIDE.!AD1448","v":0},{"$f":"BONAFIDE.!AA1448","v":"00:00:00"},119,"119","X","01190X","00X EM"]
[{"$f":"BONAFIDE.!AB1449","v":"XEM"},{"$f":"BONAFIDE.!AE1449","v":0},null,{"$f":"BONAFIDE.!X1449","v":0},{"$f":"BONAFIDE.!Y1449","v":0},{"$f":"BONAFIDE.!Z1449","v":0},{"$f":"BONAFIDE.!AD1449","v":0},{"$f":"BONAFIDE.!AA1449","v":"00:00:00"},119,"119","X","01190X","00X EM"]
[{"$f":"BONAFIDE.!AB1450","v":"XEM"},{"$f":"BONAFIDE.!AE1450","v":0},null,{"$f":"BONAFIDE.!X1450","v":0},{"$f":"BONAFIDE.!Y1450","v":0},{"$f":"BONAFIDE.!Z1450","v":0},{"$f":"BONAFIDE.!AD1450","v":0},{"$f":"BONAFIDE.!AA1450","v":"00:00:00"},119,"119","X","01190X","00X EM"]
[{"$f":"BONAFIDE.!AB1451","v":"XEM"},{"$f":"BONAFIDE.!AE1451","v":0},null,{"$f":"BONAFIDE.!X1451","v":0},{"$f":"BONAFIDE.!Y1451","v":0},{"$f":"BONAFIDE.!Z1451","v":0},{"$f":"BONAFIDE.!AD1451","v":0},{"$f":"BONAFIDE.!AA1451","v":"00:00:00"},119,"119","X","01190X","00X EM"]
[{"$f":"BONAFIDE.!AB1452","v":"XEM"},{"$f":"BONAFIDE.!AE1452","v":0},null,{"$f":"BONAFIDE.!X1452","v":0},{"$f":"BONAFIDE.!Y1452","v":0},{"$f":"BONAFIDE.!Z1452","v":0},{"$f":"BONAFIDE.!AD1452","v":0},{"$f":"BONAFIDE.!AA1452","v":"00:00:00"},119,"119","X","01190X","00X EM"]
[{"$f":"BONAFIDE.!AB1453","v":"XEM"},{"$f":"BONAFIDE.!AE1453","v":0},null,{"$f":"BONAFIDE.!X1453","v":0},{"$f":"BONAFIDE.!Y1453","v":0},{"$f":"BONAFIDE.!Z1453","v":0},{"$f":"BONAFIDE.!AD1453","v":0},{"$f":"BONAFIDE.!AA1453","v":"00:00:00"},119,"119","X","01190X","00X EM"]
[{"$f":"BONAFIDE.!AB1454","v":"XEM"},{"$f":"BONAFIDE.!AE1454","v":0},null,{"$f":"BONAFIDE.!X1454","v":0},{"$f":"BONAFIDE.!Y1454","v":0},{"$f":"BONAFIDE.!Z1454","v":0},{"$f":"BONAFIDE.!AD1454","v":0},{"$f":"BONAFIDE.!AA1454","v":"00:00:00"},119,"119","X","01190X","00X EM"]
[{"$f":"BONAFIDE.!AB1455","v":"XEM"},{"$f":"BONAFIDE.!AE1455","v":0},null,{"$f":"BONAFIDE.!X1455","v":0},{"$f":"BONAFIDE.!Y1455","v":0},{"$f":"BONAFIDE.!Z1455","v":0},{"$f":"BONAFIDE.!AD1455","v":0},{"$f":"BONAFIDE.!AA1455","v":"00:00:00"},119,"119","X","01190X","00X EM"]
[{"$f":"BONAFIDE.!AB1456","v":"XEM"},{"$f":"BONAFIDE.!AE1456","v":0},null,{"$f":"BONAFIDE.!X1456","v":0},{"$f":"BONAFIDE.!Y1456","v":0},{"$f":"BONAFIDE.!Z1456","v":0},{"$f":"BONAFIDE.!AD1456","v":0},{"$f":"BONAFIDE.!AA1456","v":"00:00:00"},119,"119","X","01190X","00X EM"]
[{"$f":"BONAFIDE.!AB1457","v":"XEM"},{"$f":"BONAFIDE.!AE1457","v":0},null,{"$f":"BONAFIDE.!X1457","v":0},{"$f":"BONAFIDE.!Y1457","v":0},{"$f":"BONAFIDE.!Z1457","v":0},{"$f":"BONAFIDE.!AD1457","v":0},{"$f":"BONAFIDE.!AA1457","v":"00:00:00"},119,"119","X","01190X","00X EM"]
[{"$f":"BONAFIDE.!AB1458","v":"XEM"},{"$f":"BONAFIDE.!AE1458","v":0},null,{"$f":"BONAFIDE.!X1458","v":0},{"$f":"BONAFIDE.!Y1458","v":0},{"$f":"BONAFIDE.!Z1458","v":0},{"$f":"BONAFIDE.!AD1458","v":0},{"$f":"BONAFIDE.!AA1458","v":"00:00:00"},119,"119","X","01190X","00X EM"]
[{"$f":"BONAFIDE.!AB1459","v":"XEM"},{"$f":"BONAFIDE.!AE1459","v":0},null,{"$f":"BONAFIDE.!X1459","v":0},{"$f":"BONAFIDE.!Y1459","v":0},{"$f":"BONAFIDE.!Z1459","v":0},{"$f":"BONAFIDE.!AD1459","v":0},{"$f":"BONAFIDE.!AA1459","v":"00:00:00"},119,"119","X","01190X","00X EM"]
[{"$f":"BONAFIDE.!AB1460","v":"XEM"},{"$f":"BONAFIDE.!AE1460","v":0},null,{"$f":"BONAFIDE.!X1460","v":0},{"$f":"BONAFIDE.!Y1460","v":0},{"$f":"BONAFIDE.!Z1460","v":0},{"$f":"BONAFIDE.!AD1460","v":0},{"$f":"BONAFIDE.!AA1460","v":"00:00:00"},119,"119","X","01190X","00X EM"]
[{"$f":"BONAFIDE.!AB1461","v":"XEM"},{"$f":"BONAFIDE.!AE1461","v":0},null,{"$f":"BONAFIDE.!X1461","v":0},{"$f":"BONAFIDE.!Y1461","v":0},{"$f":"BONAFIDE.!Z1461","v":0},{"$f":"BONAFIDE.!AD1461","v":0},{"$f":"BONAFIDE.!AA1461","v":"00:00:00"},119,"119","X","01190X","00X EM"]
[{"$f":"BONAFIDE.!AB1462","v":"XEM"},{"$f":"BONAFIDE.!AE1462","v":0},null,{"$f":"BONAFIDE.!X1462","v":0},{"$f":"BONAFIDE.!Y1462","v":0},{"$f":"BONAFIDE.!Z1462","v":0},{"$f":"BONAFIDE.!AD1462","v":0},{"$f":"BONAFIDE.!AA1462","v":"00:00:00"},119,"119","X","01190X","00X EM"]
[{"$f":"BONAFIDE.!AB1463","v":"XEM"},{"$f":"BONAFIDE.!AE1463","v":0},null,{"$f":"BONAFIDE.!X1463","v":0},{"$f":"BONAFIDE.!Y1463","v":0},{"$f":"BONAFIDE.!Z1463","v":0},{"$f":"BONAFIDE.!AD1463","v":0},{"$f":"BONAFIDE.!AA1463","v":"00:00:00"},119,"119","X","01190X","00X EM"]
[{"$f":"BONAFIDE.!AB1464","v":"XEM"},{"$f":"BONAFIDE.!AE1464","v":0},null,{"$f":"BONAFIDE.!X1464","v":0},{"$f":"BONAFIDE.!Y1464","v":0},{"$f":"BONAFIDE.!Z1464","v":0},{"$f":"BONAFIDE.!AD1464","v":0},{"$f":"BONAFIDE.!AA1464","v":"00:00:00"},119,"119","X","01190X","00X EM"]
[{"$f":"BONAFIDE.!AB1465","v":"XEM"},{"$f":"BONAFIDE.!AE1465","v":0},null,{"$f":"BONAFIDE.!X1465","v":0},{"$f":"BONAFIDE.!Y1465","v":0},{"$f":"BONAFIDE.!Z1465","v":0},{"$f":"BONAFIDE.!AD1465","v":0},{"$f":"BONAFIDE.!AA1465","v":"00:00:00"},119,"119","X","01190X","00X EM"]
[{"$f":"BONAFIDE.!AB1466","v":"XEM"},{"$f":"BONAFIDE.!AE1466","v":0},null,{"$f":"BONAFIDE.!X1466","v":0},{"$f":"BONAFIDE.!Y1466","v":0},{"$f":"BONAFIDE.!Z1466","v":0},{"$f":"BONAFIDE.!AD1466","v":0},{"$f":"BONAFIDE.!AA1466","v":"00:00:00"},119,"119","X","01190X","00X EM"]
[{"$f":"BONAFIDE.!AB1467","v":"XEM"},{"$f":"BONAFIDE.!AE1467","v":0},null,{"$f":"BONAFIDE.!X1467","v":0},{"$f":"BONAFIDE.!Y1467","v":0},{"$f":"BONAFIDE.!Z1467","v":0},{"$f":"BONAFIDE.!AD1467","v":0},{"$f":"BONAFIDE.!AA1467","v":"00:00:00"},119,"119","X","01190X","00X EM"]
[{"$f":"BONAFIDE.!AB1468","v":"XEM"},{"$f":"BONAFIDE.!AE1468","v":0},null,{"$f":"BONAFIDE.!X1468","v":0},{"$f":"BONAFIDE.!Y1468","v":0},{"$f":"BONAFIDE.!Z1468","v":0},{"$f":"BONAFIDE.!AD1468","v":0},{"$f":"BONAFIDE.!AA1468","v":"00:00:00"},119,"119","X","01190X","00X EM"]
[{"$f":"BONAFIDE.!AB1469","v":"XEM"},{"$f":"BONAFIDE.!AE1469","v":0},null,{"$f":"BONAFIDE.!X1469","v":0},{"$f":"BONAFIDE.!Y1469","v":0},{"$f":"BONAFIDE.!Z1469","v":0},{"$f":"BONAFIDE.!AD1469","v":0},{"$f":"BONAFIDE.!AA1469","v":"00:00:00"},119,"119","X","01190X","00X EM"]
[{"$f":"BONAFIDE.!AB1470","v":"XEM"},{"$f":"BONAFIDE.!AE1470","v":0},null,{"$f":"BONAFIDE.!X1470","v":0},{"$f":"BONAFIDE.!Y1470","v":0},{"$f":"BONAFIDE.!Z1470","v":0},{"$f":"BONAFIDE.!AD1470","v":0},{"$f":"BONAFIDE.!AA1470","v":"00:00:00"},119,"119","X","01190X","00X EM"]
[{"$f":"BONAFIDE.!AB1471","v":"XEM"},{"$f":"BONAFIDE.!AE1471","v":0},null,{"$f":"BONAFIDE.!X1471","v":0},{"$f":"BONAFIDE.!Y1471","v":0},{"$f":"BONAFIDE.!Z1471","v":0},{"$f":"BONAFIDE.!AD1471","v":0},{"$f":"BONAFIDE.!AA1471","v":"00:00:00"},119,"119","X","01190X","00X EM"]
[{"$f":"BONAFIDE.!AB1472","v":"XEM"},{"$f":"BONAFIDE.!AE1472","v":0},null,{"$f":"BONAFIDE.!X1472","v":0},{"$f":"BONAFIDE.!Y1472","v":0},{"$f":"BONAFIDE.!Z1472","v":0},{"$f":"BONAFIDE.!AD1472","v":0},{"$f":"BONAFIDE.!AA1472","v":"00:00:00"},119,"119","X","01190X","00X EM"]
[{"$f":"BONAFIDE.!AB1473","v":"XEM"},{"$f":"BONAFIDE.!AE1473","v":0},null,{"$f":"BONAFIDE.!X1473","v":0},{"$f":"BONAFIDE.!Y1473","v":0},{"$f":"BONAFIDE.!Z1473","v":0},{"$f":"BONAFIDE.!AD1473","v":0},{"$f":"BONAFIDE.!AA1473","v":"00:00:00"},119,"119","X","01190X","00X EM"]
[{"$f":"BONAFIDE.!AB1474","v":"XEM"},{"$f":"BONAFIDE.!AE1474","v":0},null,{"$f":"BONAFIDE.!X1474","v":0},{"$f":"BONAFIDE.!Y1474","v":0},{"$f":"BONAFIDE.!Z1474","v":0},{"$f":"BONAFIDE.!AD1474","v":0},{"$f":"BONAFIDE.!AA1474","v":"00:00:00"},119,"119","X","01190X","00X EM"]
[{"$f":"BONAFIDE.!AB1475","v":"XEM"},{"$f":"BONAFIDE.!AE1475","v":0},null,{"$f":"BONAFIDE.!X1475","v":0},{"$f":"BONAFIDE.!Y1475","v":0},{"$f":"BONAFIDE.!Z1475","v":0},{"$f":"BONAFIDE.!AD1475","v":0},{"$f":"BONAFIDE.!AA1475","v":"00:00:00"},119,"119","X","01190X","00X EM"]
[{"$f":"BONAFIDE.!AB1476","v":"XEM"},{"$f":"BONAFIDE.!AE1476","v":0},null,{"$f":"BONAFIDE.!X1476","v":0},{"$f":"BONAFIDE.!Y1476","v":0},{"$f":"BONAFIDE.!Z1476","v":0},{"$f":"BONAFIDE.!AD1476","v":0},{"$f":"BONAFIDE.!AA1476","v":"00:00:00"},119,"119","X","01190X","00X EM"]
[{"$f":"BONAFIDE.!AB1477","v":"XEM"},{"$f":"BONAFIDE.!AE1477","v":0},null,{"$f":"BONAFIDE.!X1477","v":0},{"$f":"BONAFIDE.!Y1477","v":0},{"$f":"BONAFIDE.!Z1477","v":0},{"$f":"BONAFIDE.!AD1477","v":0},{"$f":"BONAFIDE.!AA1477","v":"00:00:00"},119,"119","X","01190X","00X EM"]
[{"$f":"BONAFIDE.!AB1478","v":"XEM"},{"$f":"BONAFIDE.!AE1478","v":0},null,{"$f":"BONAFIDE.!X1478","v":0},{"$f":"BONAFIDE.!Y1478","v":0},{"$f":"BONAFIDE.!Z1478","v":0},{"$f":"BONAFIDE.!AD1478","v":0},{"$f":"BONAFIDE.!AA1478","v":"00:00:00"},119,"119","X","01190X","00X EM"]
[{"$f":"BONAFIDE.!AB1479","v":"XEM"},{"$f":"BONAFIDE.!AE1479","v":0},null,{"$f":"BONAFIDE.!X1479","v":0},{"$f":"BONAFIDE.!Y1479","v":0},{"$f":"BONAFIDE.!Z1479","v":0},{"$f":"BONAFIDE.!AD1479","v":0},{"$f":"BONAFIDE.!AA1479","v":"00:00:00"},{"$f":"DATEDIF(H1476,CUTOFFDT,\"Y\")","v":119},{"$f":"fillno(I1476)","v":"119"},{"$f":"MID(A1476,1,LEN(A1476)-2)","v":"X"},{"$f":"B1476&J1476&G1476&K1476","v":"01190X"},{"$f":"B1476&G1476&MID(A1476,1,LEN(A1476)-2)&\" \" & RIGHT(A1476,2)","v":"00X EM"}]
[{"$f":"BONAFIDE.!AB1480","v":"XEM"},{"$f":"BONAFIDE.!AE1480","v":0},null,{"$f":"BONAFIDE.!X1480","v":0},{"$f":"BONAFIDE.!Y1480","v":0},{"$f":"BONAFIDE.!Z1480","v":0},{"$f":"BONAFIDE.!AD1480","v":0},{"$f":"BONAFIDE.!AA1480","v":"00:00:00"},119,"119","X","01190X","00X EM"]
[{"$f":"BONAFIDE.!AB1481","v":"XEM"},{"$f":"BONAFIDE.!AE1481","v":0},null,{"$f":"BONAFIDE.!X1481","v":0},{"$f":"BONAFIDE.!Y1481","v":0},{"$f":"BONAFIDE.!Z1481","v":0},{"$f":"BONAFIDE.!AD1481","v":0},{"$f":"BONAFIDE.!AA1481","v":"00:00:00"},119,"119","X","01190X","00X EM"]
[{"$f":"BONAFIDE.!AB1482","v":"XEM"},{"$f":"BONAFIDE.!AE1482","v":0},null,{"$f":"BONAFIDE.!X1482","v":0},{"$f":"BONAFIDE.!Y1482","v":0},{"$f":"BONAFIDE.!Z1482","v":0},{"$f":"BONAFIDE.!AD1482","v":0},{"$f":"BONAFIDE.!AA1482","v":"00:00:00"},119,"119","X","01190X","00X EM"]
[{"$f":"BONAFIDE.!AB1483","v":"XEM"},{"$f":"BONAFIDE.!AE1483","v":0},null,{"$f":"BONAFIDE.!X1483","v":0},{"$f":"BONAFIDE.!Y1483","v":0},{"$f":"BONAFIDE.!Z1483","v":0},{"$f":"BONAFIDE.!AD1483","v":0},{"$f":"BONAFIDE.!AA1483","v":"00:00:00"},119,"119","X","01190X","00X EM"]
[{"$f":"BONAFIDE.!AB1484","v":"XEM"},{"$f":"BONAFIDE.!AE1484","v":0},null,{"$f":"BONAFIDE.!X1484","v":0},{"$f":"BONAFIDE.!Y1484","v":0},{"$f":"BONAFIDE.!Z1484","v":0},{"$f":"BONAFIDE.!AD1484","v":0},{"$f":"BONAFIDE.!AA1484","v":"00:00:00"},119,"119","X","01190X","00X EM"]
[{"$f":"BONAFIDE.!AB1485","v":"XEM"},{"$f":"BONAFIDE.!AE1485","v":0},null,{"$f":"BONAFIDE.!X1485","v":0},{"$f":"BONAFIDE.!Y1485","v":0},{"$f":"BONAFIDE.!Z1485","v":0},{"$f":"BONAFIDE.!AD1485","v":0},{"$f":"BONAFIDE.!AA1485","v":"00:00:00"},119,"119","X","01190X","00X EM"]
[{"$f":"BONAFIDE.!AB1486","v":"XEM"},{"$f":"BONAFIDE.!AE1486","v":0},null,{"$f":"BONAFIDE.!X1486","v":0},{"$f":"BONAFIDE.!Y1486","v":0},{"$f":"BONAFIDE.!Z1486","v":0},{"$f":"BONAFIDE.!AD1486","v":0},{"$f":"BONAFIDE.!AA1486","v":"00:00:00"},119,"119","X","01190X","00X EM"]
[{"$f":"BONAFIDE.!AB1487","v":"XEM"},{"$f":"BONAFIDE.!AE1487","v":0},null,{"$f":"BONAFIDE.!X1487","v":0},{"$f":"BONAFIDE.!Y1487","v":0},{"$f":"BONAFIDE.!Z1487","v":0},{"$f":"BONAFIDE.!AD1487","v":0},{"$f":"BONAFIDE.!AA1487","v":"00:00:00"},119,"119","X","01190X","00X EM"]
[{"$f":"BONAFIDE.!AB1488","v":"XEM"},{"$f":"BONAFIDE.!AE1488","v":0},null,{"$f":"BONAFIDE.!X1488","v":0},{"$f":"BONAFIDE.!Y1488","v":0},{"$f":"BONAFIDE.!Z1488","v":0},{"$f":"BONAFIDE.!AD1488","v":0},{"$f":"BONAFIDE.!AA1488","v":"00:00:00"},119,"119","X","01190X","00X EM"]
[{"$f":"BONAFIDE.!AB1489","v":"XEM"},{"$f":"BONAFIDE.!AE1489","v":0},null,{"$f":"BONAFIDE.!X1489","v":0},{"$f":"BONAFIDE.!Y1489","v":0},{"$f":"BONAFIDE.!Z1489","v":0},{"$f":"BONAFIDE.!AD1489","v":0},{"$f":"BONAFIDE.!AA1489","v":"00:00:00"},119,"119","X","01190X","00X EM"]
[{"$f":"BONAFIDE.!AB1490","v":"XEM"},{"$f":"BONAFIDE.!AE1490","v":0},null,{"$f":"BONAFIDE.!X1490","v":0},{"$f":"BONAFIDE.!Y1490","v":0},{"$f":"BONAFIDE.!Z1490","v":0},{"$f":"BONAFIDE.!AD1490","v":0},{"$f":"BONAFIDE.!AA1490","v":"00:00:00"},119,"119","X","01190X","00X EM"]
[{"$f":"BONAFIDE.!AB1491","v":"XEM"},{"$f":"BONAFIDE.!AE1491","v":0},null,{"$f":"BONAFIDE.!X1491","v":0},{"$f":"BONAFIDE.!Y1491","v":0},{"$f":"BONAFIDE.!Z1491","v":0},{"$f":"BONAFIDE.!AD1491","v":0},{"$f":"BONAFIDE.!AA1491","v":"00:00:00"},119,"119","X","01190X","00X EM"]
[{"$f":"BONAFIDE.!AB1492","v":"XEM"},{"$f":"BONAFIDE.!AE1492","v":0},null,{"$f":"BONAFIDE.!X1492","v":0},{"$f":"BONAFIDE.!Y1492","v":0},{"$f":"BONAFIDE.!Z1492","v":0},{"$f":"BONAFIDE.!AD1492","v":0},{"$f":"BONAFIDE.!AA1492","v":"00:00:00"},119,"119","X","01190X","00X EM"]
[{"$f":"BONAFIDE.!AB1493","v":"XEM"},{"$f":"BONAFIDE.!AE1493","v":0},null,{"$f":"BONAFIDE.!X1493","v":0},{"$f":"BONAFIDE.!Y1493","v":0},{"$f":"BONAFIDE.!Z1493","v":0},{"$f":"BONAFIDE.!AD1493","v":0},{"$f":"BONAFIDE.!AA1493","v":"00:00:00"},119,"119","X","01190X","00X EM"]
[{"$f":"BONAFIDE.!AB1494","v":"XEM"},{"$f":"BONAFIDE.!AE1494","v":0},null,{"$f":"BONAFIDE.!X1494","v":0},{"$f":"BONAFIDE.!Y1494","v":0},{"$f":"BONAFIDE.!Z1494","v":0},{"$f":"BONAFIDE.!AD1494","v":0},{"$f":"BONAFIDE.!AA1494","v":"00:00:00"},119,"119","X","01190X","00X EM"]
[{"$f":"BONAFIDE.!AB1495","v":"XEM"},{"$f":"BONAFIDE.!AE1495","v":0},null,{"$f":"BONAFIDE.!X1495","v":0},{"$f":"BONAFIDE.!Y1495","v":0},{"$f":"BONAFIDE.!Z1495","v":0},{"$f":"BONAFIDE.!AD1495","v":0},{"$f":"BONAFIDE.!AA1495","v":"00:00:00"},119,"119","X","01190X","00X EM"]
[{"$f":"BONAFIDE.!AB1496","v":"XEM"},{"$f":"BONAFIDE.!AE1496","v":0},null,{"$f":"BONAFIDE.!X1496","v":0},{"$f":"BONAFIDE.!Y1496","v":0},{"$f":"BONAFIDE.!Z1496","v":0},{"$f":"BONAFIDE.!AD1496","v":0},{"$f":"BONAFIDE.!AA1496","v":"00:00:00"},119,"119","X","01190X","00X EM"]
[{"$f":"BONAFIDE.!AB1497","v":"XEM"},{"$f":"BONAFIDE.!AE1497","v":0},null,{"$f":"BONAFIDE.!X1497","v":0},{"$f":"BONAFIDE.!Y1497","v":0},{"$f":"BONAFIDE.!Z1497","v":0},{"$f":"BONAFIDE.!AD1497","v":0},{"$f":"BONAFIDE.!AA1497","v":"00:00:00"},119,"119","X","01190X","00X EM"]
[{"$f":"BONAFIDE.!AB1498","v":"XEM"},{"$f":"BONAFIDE.!AE1498","v":0},null,{"$f":"BONAFIDE.!X1498","v":0},{"$f":"BONAFIDE.!Y1498","v":0},{"$f":"BONAFIDE.!Z1498","v":0},{"$f":"BONAFIDE.!AD1498","v":0},{"$f":"BONAFIDE.!AA1498","v":"00:00:00"},119,"119","X","01190X","00X EM"]
[{"$f":"BONAFIDE.!AB1499","v":"XEM"},{"$f":"BONAFIDE.!AE1499","v":0},null,{"$f":"BONAFIDE.!X1499","v":0},{"$f":"BONAFIDE.!Y1499","v":0},{"$f":"BONAFIDE.!Z1499","v":0},{"$f":"BONAFIDE.!AD1499","v":0},{"$f":"BONAFIDE.!AA1499","v":"00:00:00"},119,"119","X","01190X","00X EM"]
[{"$f":"BONAFIDE.!AB1500","v":"XEM"},{"$f":"BONAFIDE.!AE1500","v":0},null,{"$f":"BONAFIDE.!X1500","v":0},{"$f":"BONAFIDE.!Y1500","v":0},{"$f":"BONAFIDE.!Z1500","v":0},{"$f":"BONAFIDE.!AD1500","v":0},{"$f":"BONAFIDE.!AA1500","v":"00:00:00"},119,"119","X","01190X","00X EM"]
[{"$f":"BONAFIDE.!AB1501","v":"XEM"},{"$f":"BONAFIDE.!AE1501","v":0},null,{"$f":"BONAFIDE.!X1501","v":0},{"$f":"BONAFIDE.!Y1501","v":0},{"$f":"BONAFIDE.!Z1501","v":0},{"$f":"BONAFIDE.!AD1501","v":0},{"$f":"BONAFIDE.!AA1501","v":"00:00:00"},119,"119","X","01190X","00X EM"]
[{"$f":"BONAFIDE.!AB1502","v":"XEM"},{"$f":"BONAFIDE.!AE1502","v":0},null,{"$f":"BONAFIDE.!X1502","v":0},{"$f":"BONAFIDE.!Y1502","v":0},{"$f":"BONAFIDE.!Z1502","v":0},{"$f":"BONAFIDE.!AD1502","v":0},{"$f":"BONAFIDE.!AA1502","v":"00:00:00"},119,"119","X","01190X","00X EM"]
[{"$f":"BONAFIDE.!AB1503","v":"XEM"},{"$f":"BONAFIDE.!AE1503","v":0},null,{"$f":"BONAFIDE.!X1503","v":0},{"$f":"BONAFIDE.!Y1503","v":0},{"$f":"BONAFIDE.!Z1503","v":0},{"$f":"BONAFIDE.!AD1503","v":0},{"$f":"BONAFIDE.!AA1503","v":"00:00:00"},119,"119","X","01190X","00X EM"]
[{"$f":"BONAFIDE.!AB1504","v":"XEM"},{"$f":"BONAFIDE.!AE1504","v":0},null,{"$f":"BONAFIDE.!X1504","v":0},{"$f":"BONAFIDE.!Y1504","v":0},{"$f":"BONAFIDE.!Z1504","v":0},{"$f":"BONAFIDE.!AD1504","v":0},{"$f":"BONAFIDE.!AA1504","v":"00:00:00"},119,"119","X","01190X","00X EM"]
[{"$f":"BONAFIDE.!AB1505","v":"XEM"},{"$f":"BONAFIDE.!AE1505","v":0},null,{"$f":"BONAFIDE.!X1505","v":0},{"$f":"BONAFIDE.!Y1505","v":0},{"$f":"BONAFIDE.!Z1505","v":0},{"$f":"BONAFIDE.!AD1505","v":0},{"$f":"BONAFIDE.!AA1505","v":"00:00:00"},119,"119","X","01190X","00X EM"]
[{"$f":"BONAFIDE.!AB1506","v":"XEM"},{"$f":"BONAFIDE.!AE1506","v":0},null,{"$f":"BONAFIDE.!X1506","v":0},{"$f":"BONAFIDE.!Y1506","v":0},{"$f":"BONAFIDE.!Z1506","v":0},{"$f":"BONAFIDE.!AD1506","v":0},{"$f":"BONAFIDE.!AA1506","v":"00:00:00"},119,"119","X","01190X","00X EM"]
[{"$f":"BONAFIDE.!AB1507","v":"XEM"},{"$f":"BONAFIDE.!AE1507","v":0},null,{"$f":"BONAFIDE.!X1507","v":0},{"$f":"BONAFIDE.!Y1507","v":0},{"$f":"BONAFIDE.!Z1507","v":0},{"$f":"BONAFIDE.!AD1507","v":0},{"$f":"BONAFIDE.!AA1507","v":"00:00:00"},119,"119","X","01190X","00X EM"]
[{"$f":"BONAFIDE.!AB1508","v":"XEM"},{"$f":"BONAFIDE.!AE1508","v":0},null,{"$f":"BONAFIDE.!X1508","v":0},{"$f":"BONAFIDE.!Y1508","v":0},{"$f":"BONAFIDE.!Z1508","v":0},{"$f":"BONAFIDE.!AD1508","v":0},{"$f":"BONAFIDE.!AA1508","v":"00:00:00"},119,"119","X","01190X","00X EM"]
[{"$f":"BONAFIDE.!AB1509","v":"XEM"},{"$f":"BONAFIDE.!AE1509","v":0},null,{"$f":"BONAFIDE.!X1509","v":0},{"$f":"BONAFIDE.!Y1509","v":0},{"$f":"BONAFIDE.!Z1509","v":0},{"$f":"BONAFIDE.!AD1509","v":0},{"$f":"BONAFIDE.!AA1509","v":"00:00:00"},119,"119","X","01190X","00X EM"]
[{"$f":"BONAFIDE.!AB1510","v":"XEM"},{"$f":"BONAFIDE.!AE1510","v":0},null,{"$f":"BONAFIDE.!X1510","v":0},{"$f":"BONAFIDE.!Y1510","v":0},{"$f":"BONAFIDE.!Z1510","v":0},{"$f":"BONAFIDE.!AD1510","v":0},{"$f":"BONAFIDE.!AA1510","v":"00:00:00"},119,"119","X","01190X","00X EM"]
[{"$f":"BONAFIDE.!AB1511","v":"XEM"},{"$f":"BONAFIDE.!AE1511","v":0},null,{"$f":"BONAFIDE.!X1511","v":0},{"$f":"BONAFIDE.!Y1511","v":0},{"$f":"BONAFIDE.!Z1511","v":0},{"$f":"BONAFIDE.!AD1511","v":0},{"$f":"BONAFIDE.!AA1511","v":"00:00:00"},119,"119","X","01190X","00X EM"]
[{"$f":"BONAFIDE.!AB1512","v":"XEM"},{"$f":"BONAFIDE.!AE1512","v":0},null,{"$f":"BONAFIDE.!X1512","v":0},{"$f":"BONAFIDE.!Y1512","v":0},{"$f":"BONAFIDE.!Z1512","v":0},{"$f":"BONAFIDE.!AD1512","v":0},{"$f":"BONAFIDE.!AA1512","v":"00:00:00"},119,"119","X","01190X","00X EM"]
[{"$f":"BONAFIDE.!AB1513","v":"XEM"},{"$f":"BONAFIDE.!AE1513","v":0},null,{"$f":"BONAFIDE.!X1513","v":0},{"$f":"BONAFIDE.!Y1513","v":0},{"$f":"BONAFIDE.!Z1513","v":0},{"$f":"BONAFIDE.!AD1513","v":0},{"$f":"BONAFIDE.!AA1513","v":"00:00:00"},119,"119","X","01190X","00X EM"]
[{"$f":"BONAFIDE.!AB1514","v":"XEM"},{"$f":"BONAFIDE.!AE1514","v":0},null,{"$f":"BONAFIDE.!X1514","v":0},{"$f":"BONAFIDE.!Y1514","v":0},{"$f":"BONAFIDE.!Z1514","v":0},{"$f":"BONAFIDE.!AD1514","v":0},{"$f":"BONAFIDE.!AA1514","v":"00:00:00"},119,"119","X","01190X","00X EM"]
[{"$f":"BONAFIDE.!AB1515","v":"00:00:00"},{"$f":"BONAFIDE.!AE1515","v":0},null,{"$f":"BONAFIDE.!X1515","v":0},{"$f":"BONAFIDE.!Y1515","v":0},{"$f":"BONAFIDE.!Z1515","v":0},{"$f":"BONAFIDE.!AD1515","v":0},{"$f":"BONAFIDE.!AA1515","v":"00:00:00"},119,"119",{"$error":"#VALUE!"},{"$error":"#VALUE!"},{"$error":"#VALUE!"}]
[{"$f":"BONAFIDE.!AB1516","v":"EXTRA1"},{"$f":"BONAFIDE.!AE1516","v":0},null,{"$f":"BONAFIDE.!X1516","v":0},{"$f":"BONAFIDE.!Y1516","v":0},{"$f":"BONAFIDE.!Z1516","v":0},{"$f":"BONAFIDE.!AD1516","v":0},{"$f":"BONAFIDE.!AA1516","v":"00:00:00"},119,"119","EXTR","01190EXTR","00EXTR A1"]
[{"$f":"BONAFIDE.!AB1517","v":"EXTRA1"},{"$f":"BONAFIDE.!AE1517","v":0},null,{"$f":"BONAFIDE.!X1517","v":0},{"$f":"BONAFIDE.!Y1517","v":0},{"$f":"BONAFIDE.!Z1517","v":0},{"$f":"BONAFIDE.!AD1517","v":0},{"$f":"BONAFIDE.!AA1517","v":"00:00:00"},119,"119","EXTR","01190EXTR","00EXTR A1"]
[{"$f":"BONAFIDE.!AB1518","v":"EXTRA1"},{"$f":"BONAFIDE.!AE1518","v":0},null,{"$f":"BONAFIDE.!X1518","v":0},{"$f":"BONAFIDE.!Y1518","v":0},{"$f":"BONAFIDE.!Z1518","v":0},{"$f":"BONAFIDE.!AD1518","v":0},{"$f":"BONAFIDE.!AA1518","v":"00:00:00"},119,"119","EXTR","01190EXTR","00EXTR A1"]
[{"$f":"BONAFIDE.!AB1519","v":"EXTRA1"},{"$f":"BONAFIDE.!AE1519","v":0},null,{"$f":"BONAFIDE.!X1519","v":0},{"$f":"BONAFIDE.!Y1519","v":0},{"$f":"BONAFIDE.!Z1519","v":0},{"$f":"BONAFIDE.!AD1519","v":0},{"$f":"BONAFIDE.!AA1519","v":"00:00:00"},119,"119","EXTR","01190EXTR","00EXTR A1"]
[{"$f":"BONAFIDE.!AB1520","v":"EXTRA1"},{"$f":"BONAFIDE.!AE1520","v":0},null,{"$f":"BONAFIDE.!X1520","v":0},{"$f":"BONAFIDE.!Y1520","v":0},{"$f":"BONAFIDE.!Z1520","v":0},{"$f":"BONAFIDE.!AD1520","v":0},{"$f":"BONAFIDE.!AA1520","v":"00:00:00"},119,"119","EXTR","01190EXTR","00EXTR A1"]
[{"$f":"BONAFIDE.!AB1521","v":"EXTRA1"},{"$f":"BONAFIDE.!AE1521","v":0},null,{"$f":"BONAFIDE.!X1521","v":0},{"$f":"BONAFIDE.!Y1521","v":0},{"$f":"BONAFIDE.!Z1521","v":0},{"$f":"BONAFIDE.!AD1521","v":0},{"$f":"BONAFIDE.!AA1521","v":"00:00:00"},119,"119","EXTR","01190EXTR","00EXTR A1"]
[{"$f":"BONAFIDE.!AB1522","v":"EXTRA1"},{"$f":"BONAFIDE.!AE1522","v":0},null,{"$f":"BONAFIDE.!X1522","v":0},{"$f":"BONAFIDE.!Y1522","v":0},{"$f":"BONAFIDE.!Z1522","v":0},{"$f":"BONAFIDE.!AD1522","v":0},{"$f":"BONAFIDE.!AA1522","v":"00:00:00"},119,"119","EXTR","01190EXTR","00EXTR A1"]
[{"$f":"BONAFIDE.!AB1523","v":"EXTRA1"},{"$f":"BONAFIDE.!AE1523","v":0},null,{"$f":"BONAFIDE.!X1523","v":0},{"$f":"BONAFIDE.!Y1523","v":0},{"$f":"BONAFIDE.!Z1523","v":0},{"$f":"BONAFIDE.!AD1523","v":0},{"$f":"BONAFIDE.!AA1523","v":"00:00:00"},119,"119","EXTR","01190EXTR","00EXTR A1"]
[{"$f":"BONAFIDE.!AB1524","v":"EXTRA1"},{"$f":"BONAFIDE.!AE1524","v":0},null,{"$f":"BONAFIDE.!X1524","v":0},{"$f":"BONAFIDE.!Y1524","v":0},{"$f":"BONAFIDE.!Z1524","v":0},{"$f":"BONAFIDE.!AD1524","v":0},{"$f":"BONAFIDE.!AA1524","v":"00:00:00"},119,"119","EXTR","01190EXTR","00EXTR A1"]
[{"$f":"BONAFIDE.!AB1525","v":"EXTRA1"},{"$f":"BONAFIDE.!AE1525","v":0},null,{"$f":"BONAFIDE.!X1525","v":0},{"$f":"BONAFIDE.!Y1525","v":0},{"$f":"BONAFIDE.!Z1525","v":0},{"$f":"BONAFIDE.!AD1525","v":0},{"$f":"BONAFIDE.!AA1525","v":"00:00:00"},119,"119","EXTR","01190EXTR","00EXTR A1"]
[{"$f":"BONAFIDE.!AB1526","v":"EXTRA1"},{"$f":"BONAFIDE.!AE1526","v":0},null,{"$f":"BONAFIDE.!X1526","v":0},{"$f":"BONAFIDE.!Y1526","v":0},{"$f":"BONAFIDE.!Z1526","v":0},{"$f":"BONAFIDE.!AD1526","v":0},{"$f":"BONAFIDE.!AA1526","v":"00:00:00"},119,"119","EXTR","01190EXTR","00EXTR A1"]
[{"$f":"BONAFIDE.!AB1527","v":"EXTRA1"},{"$f":"BONAFIDE.!AE1527","v":0},null,{"$f":"BONAFIDE.!X1527","v":0},{"$f":"BONAFIDE.!Y1527","v":0},{"$f":"BONAFIDE.!Z1527","v":0},{"$f":"BONAFIDE.!AD1527","v":0},{"$f":"BONAFIDE.!AA1527","v":"00:00:00"},119,"119","EXTR","01190EXTR","00EXTR A1"]
[{"$f":"BONAFIDE.!AB1528","v":"EXTRA1"},{"$f":"BONAFIDE.!AE1528","v":0},null,{"$f":"BONAFIDE.!X1528","v":0},{"$f":"BONAFIDE.!Y1528","v":0},{"$f":"BONAFIDE.!Z1528","v":0},{"$f":"BONAFIDE.!AD1528","v":0},{"$f":"BONAFIDE.!AA1528","v":"00:00:00"},119,"119","EXTR","01190EXTR","00EXTR A1"]
[{"$f":"BONAFIDE.!AB1529","v":"EXTRA1"},{"$f":"BONAFIDE.!AE1529","v":0},null,{"$f":"BONAFIDE.!X1529","v":0},{"$f":"BONAFIDE.!Y1529","v":0},{"$f":"BONAFIDE.!Z1529","v":0},{"$f":"BONAFIDE.!AD1529","v":0},{"$f":"BONAFIDE.!AA1529","v":"00:00:00"},119,"119","EXTR","01190EXTR","00EXTR A1"]
[{"$f":"BONAFIDE.!AB1530","v":"EXTRA1"},{"$f":"BONAFIDE.!AE1530","v":0},null,{"$f":"BONAFIDE.!X1530","v":0},{"$f":"BONAFIDE.!Y1530","v":0},{"$f":"BONAFIDE.!Z1530","v":0},{"$f":"BONAFIDE.!AD1530","v":0},{"$f":"BONAFIDE.!AA1530","v":"00:00:00"},119,"119","EXTR","01190EXTR","00EXTR A1"]
[{"$f":"BONAFIDE.!AB1531","v":"EXTRA1"},{"$f":"BONAFIDE.!AE1531","v":0},null,{"$f":"BONAFIDE.!X1531","v":0},{"$f":"BONAFIDE.!Y1531","v":0},{"$f":"BONAFIDE.!Z1531","v":0},{"$f":"BONAFIDE.!AD1531","v":0},{"$f":"BONAFIDE.!AA1531","v":"00:00:00"},119,"119","EXTR","01190EXTR","00EXTR A1"]
[{"$f":"BONAFIDE.!AB1532","v":"EXTRA1"},{"$f":"BONAFIDE.!AE1532","v":0},null,{"$f":"BONAFIDE.!X1532","v":0},{"$f":"BONAFIDE.!Y1532","v":0},{"$f":"BONAFIDE.!Z1532","v":0},{"$f":"BONAFIDE.!AD1532","v":0},{"$f":"BONAFIDE.!AA1532","v":"00:00:00"},119,"119","EXTR","01190EXTR","00EXTR A1"]
[{"$f":"BONAFIDE.!AB1533","v":"EXTRA1"},{"$f":"BONAFIDE.!AE1533","v":0},null,{"$f":"BONAFIDE.!X1533","v":0},{"$f":"BONAFIDE.!Y1533","v":0},{"$f":"BONAFIDE.!Z1533","v":0},{"$f":"BONAFIDE.!AD1533","v":0},{"$f":"BONAFIDE.!AA1533","v":"00:00:00"},119,"119","EXTR","01190EXTR","00EXTR A1"]
[{"$f":"BONAFIDE.!AB1534","v":"EXTRA1"},{"$f":"BONAFIDE.!AE1534","v":0},null,{"$f":"BONAFIDE.!X1534","v":0},{"$f":"BONAFIDE.!Y1534","v":0},{"$f":"BONAFIDE.!Z1534","v":0},{"$f":"BONAFIDE.!AD1534","v":0},{"$f":"BONAFIDE.!AA1534","v":"00:00:00"},119,"119","EXTR","01190EXTR","00EXTR A1"]
[{"$f":"BONAFIDE.!AB1535","v":"EXTRA1"},{"$f":"BONAFIDE.!AE1535","v":0},null,{"$f":"BONAFIDE.!X1535","v":0},{"$f":"BONAFIDE.!Y1535","v":0},{"$f":"BONAFIDE.!Z1535","v":0},{"$f":"BONAFIDE.!AD1535","v":0},{"$f":"BONAFIDE.!AA1535","v":"00:00:00"},119,"119","EXTR","01190EXTR","00EXTR A1"]
[{"$f":"BONAFIDE.!AB1536","v":"EXTRA1"},{"$f":"BONAFIDE.!AE1536","v":0},null,{"$f":"BONAFIDE.!X1536","v":0},{"$f":"BONAFIDE.!Y1536","v":0},{"$f":"BONAFIDE.!Z1536","v":0},{"$f":"BONAFIDE.!AD1536","v":0},{"$f":"BONAFIDE.!AA1536","v":"00:00:00"},119,"119","EXTR","01190EXTR","00EXTR A1"]
[{"$f":"BONAFIDE.!AB1537","v":"EXTRA1"},{"$f":"BONAFIDE.!AE1537","v":0},null,{"$f":"BONAFIDE.!X1537","v":0},{"$f":"BONAFIDE.!Y1537","v":0},{"$f":"BONAFIDE.!Z1537","v":0},{"$f":"BONAFIDE.!AD1537","v":0},{"$f":"BONAFIDE.!AA1537","v":"00:00:00"},119,"119","EXTR","01190EXTR","00EXTR A1"]
[{"$f":"BONAFIDE.!AB1538","v":"EXTRA1"},{"$f":"BONAFIDE.!AE1538","v":0},null,{"$f":"BONAFIDE.!X1538","v":0},{"$f":"BONAFIDE.!Y1538","v":0},{"$f":"BONAFIDE.!Z1538","v":0},{"$f":"BONAFIDE.!AD1538","v":0},{"$f":"BONAFIDE.!AA1538","v":"00:00:00"},119,"119","EXTR","01190EXTR","00EXTR A1"]
[{"$f":"BONAFIDE.!AB1539","v":"EXTRA1"},{"$f":"BONAFIDE.!AE1539","v":0},null,{"$f":"BONAFIDE.!X1539","v":0},{"$f":"BONAFIDE.!Y1539","v":0},{"$f":"BONAFIDE.!Z1539","v":0},{"$f":"BONAFIDE.!AD1539","v":0},{"$f":"BONAFIDE.!AA1539","v":"00:00:00"},119,"119","EXTR","01190EXTR","00EXTR A1"]
[{"$f":"BONAFIDE.!AB1540","v":"EXTRA1"},{"$f":"BONAFIDE.!AE1540","v":0},null,{"$f":"BONAFIDE.!X1540","v":0},{"$f":"BONAFIDE.!Y1540","v":0},{"$f":"BONAFIDE.!Z1540","v":0},{"$f":"BONAFIDE.!AD1540","v":0},{"$f":"BONAFIDE.!AA1540","v":"00:00:00"},119,"119","EXTR","01190EXTR","00EXTR A1"]
[{"$f":"BONAFIDE.!AB1541","v":"EXTRA1"},{"$f":"BONAFIDE.!AE1541","v":0},null,{"$f":"BONAFIDE.!X1541","v":0},{"$f":"BONAFIDE.!Y1541","v":0},{"$f":"BONAFIDE.!Z1541","v":0},{"$f":"BONAFIDE.!AD1541","v":0},{"$f":"BONAFIDE.!AA1541","v":"00:00:00"},119,"119","EXTR","01190EXTR","00EXTR A1"]
[{"$f":"BONAFIDE.!AB1542","v":"EXTRA1"},{"$f":"BONAFIDE.!AE1542","v":0},null,{"$f":"BONAFIDE.!X1542","v":0},{"$f":"BONAFIDE.!Y1542","v":0},{"$f":"BONAFIDE.!Z1542","v":0},{"$f":"BONAFIDE.!AD1542","v":0},{"$f":"BONAFIDE.!AA1542","v":"00:00:00"},119,"119","EXTR","01190EXTR","00EXTR A1"]
[{"$f":"BONAFIDE.!AB1543","v":"EXTRA1"},{"$f":"BONAFIDE.!AE1543","v":0},null,{"$f":"BONAFIDE.!X1543","v":0},{"$f":"BONAFIDE.!Y1543","v":0},{"$f":"BONAFIDE.!Z1543","v":0},{"$f":"BONAFIDE.!AD1543","v":0},{"$f":"BONAFIDE.!AA1543","v":"00:00:00"},{"$f":"DATEDIF(H1540,CUTOFFDT,\"Y\")","v":119},{"$f":"fillno(I1540)","v":"119"},{"$f":"MID(A1540,1,LEN(A1540)-2)","v":"EXTR"},{"$f":"B1540&J1540&G1540&K1540","v":"01190EXTR"},{"$f":"B1540&G1540&MID(A1540,1,LEN(A1540)-2)&\" \" & RIGHT(A1540,2)","v":"00EXTR A1"}]
[{"$f":"BONAFIDE.!AB1544","v":"EXTRA1"},{"$f":"BONAFIDE.!AE1544","v":0},null,{"$f":"BONAFIDE.!X1544","v":0},{"$f":"BONAFIDE.!Y1544","v":0},{"$f":"BONAFIDE.!Z1544","v":0},{"$f":"BONAFIDE.!AD1544","v":0},{"$f":"BONAFIDE.!AA1544","v":"00:00:00"},119,"119","EXTR","01190EXTR","00EXTR A1"]
[{"$f":"BONAFIDE.!AB1545","v":"EXTRA1"},{"$f":"BONAFIDE.!AE1545","v":0},null,{"$f":"BONAFIDE.!X1545","v":0},{"$f":"BONAFIDE.!Y1545","v":0},{"$f":"BONAFIDE.!Z1545","v":0},{"$f":"BONAFIDE.!AD1545","v":0},{"$f":"BONAFIDE.!AA1545","v":"00:00:00"},119,"119","EXTR","01190EXTR","00EXTR A1"]
[{"$f":"BONAFIDE.!AB1546","v":"EXTRA1"},{"$f":"BONAFIDE.!AE1546","v":0},null,{"$f":"BONAFIDE.!X1546","v":0},{"$f":"BONAFIDE.!Y1546","v":0},{"$f":"BONAFIDE.!Z1546","v":0},{"$f":"BONAFIDE.!AD1546","v":0},{"$f":"BONAFIDE.!AA1546","v":"00:00:00"},119,"119","EXTR","01190EXTR","00EXTR A1"]
[{"$f":"BONAFIDE.!AB1547","v":"EXTRA1"},{"$f":"BONAFIDE.!AE1547","v":0},null,{"$f":"BONAFIDE.!X1547","v":0},{"$f":"BONAFIDE.!Y1547","v":0},{"$f":"BONAFIDE.!Z1547","v":0},{"$f":"BONAFIDE.!AD1547","v":0},{"$f":"BONAFIDE.!AA1547","v":"00:00:00"},119,"119","EXTR","01190EXTR","00EXTR A1"]
[{"$f":"BONAFIDE.!AB1548","v":"EXTRA1"},{"$f":"BONAFIDE.!AE1548","v":0},null,{"$f":"BONAFIDE.!X1548","v":0},{"$f":"BONAFIDE.!Y1548","v":0},{"$f":"BONAFIDE.!Z1548","v":0},{"$f":"BONAFIDE.!AD1548","v":0},{"$f":"BONAFIDE.!AA1548","v":"00:00:00"},119,"119","EXTR","01190EXTR","00EXTR A1"]
[{"$f":"BONAFIDE.!AB1549","v":"EXTRA1"},{"$f":"BONAFIDE.!AE1549","v":0},null,{"$f":"BONAFIDE.!X1549","v":0},{"$f":"BONAFIDE.!Y1549","v":0},{"$f":"BONAFIDE.!Z1549","v":0},{"$f":"BONAFIDE.!AD1549","v":0},{"$f":"BONAFIDE.!AA1549","v":"00:00:00"},119,"119","EXTR","01190EXTR","00EXTR A1"]
[{"$f":"BONAFIDE.!AB1550","v":"EXTRA1"},{"$f":"BONAFIDE.!AE1550","v":0},null,{"$f":"BONAFIDE.!X1550","v":0},{"$f":"BONAFIDE.!Y1550","v":0},{"$f":"BONAFIDE.!Z1550","v":0},{"$f":"BONAFIDE.!AD1550","v":0},{"$f":"BONAFIDE.!AA1550","v":"00:00:00"},119,"119","EXTR","01190EXTR","00EXTR A1"]
[{"$f":"BONAFIDE.!AB1551","v":"EXTRA1"},{"$f":"BONAFIDE.!AE1551","v":0},null,{"$f":"BONAFIDE.!X1551","v":0},{"$f":"BONAFIDE.!Y1551","v":0},{"$f":"BONAFIDE.!Z1551","v":0},{"$f":"BONAFIDE.!AD1551","v":0},{"$f":"BONAFIDE.!AA1551","v":"00:00:00"},119,"119","EXTR","01190EXTR","00EXTR A1"]
[{"$f":"BONAFIDE.!AB1552","v":"EXTRA1"},{"$f":"BONAFIDE.!AE1552","v":0},null,{"$f":"BONAFIDE.!X1552","v":0},{"$f":"BONAFIDE.!Y1552","v":0},{"$f":"BONAFIDE.!Z1552","v":0},{"$f":"BONAFIDE.!AD1552","v":0},{"$f":"BONAFIDE.!AA1552","v":"00:00:00"},119,"119","EXTR","01190EXTR","00EXTR A1"]
[{"$f":"BONAFIDE.!AB1553","v":"EXTRA1"},{"$f":"BONAFIDE.!AE1553","v":0},null,{"$f":"BONAFIDE.!X1553","v":0},{"$f":"BONAFIDE.!Y1553","v":0},{"$f":"BONAFIDE.!Z1553","v":0},{"$f":"BONAFIDE.!AD1553","v":0},{"$f":"BONAFIDE.!AA1553","v":"00:00:00"},119,"119","EXTR","01190EXTR","00EXTR A1"]
[{"$f":"BONAFIDE.!AB1554","v":"EXTRA1"},{"$f":"BONAFIDE.!AE1554","v":0},null,{"$f":"BONAFIDE.!X1554","v":0},{"$f":"BONAFIDE.!Y1554","v":0},{"$f":"BONAFIDE.!Z1554","v":0},{"$f":"BONAFIDE.!AD1554","v":0},{"$f":"BONAFIDE.!AA1554","v":"00:00:00"},119,"119","EXTR","01190EXTR","00EXTR A1"]
[{"$f":"BONAFIDE.!AB1555","v":"EXTRA1"},{"$f":"BONAFIDE.!AE1555","v":0},null,{"$f":"BONAFIDE.!X1555","v":0},{"$f":"BONAFIDE.!Y1555","v":0},{"$f":"BONAFIDE.!Z1555","v":0},{"$f":"BONAFIDE.!AD1555","v":0},{"$f":"BONAFIDE.!AA1555","v":"00:00:00"},119,"119","EXTR","01190EXTR","00EXTR A1"]
[{"$f":"BONAFIDE.!AB1556","v":"EXTRA1"},{"$f":"BONAFIDE.!AE1556","v":0},null,{"$f":"BONAFIDE.!X1556","v":0},{"$f":"BONAFIDE.!Y1556","v":0},{"$f":"BONAFIDE.!Z1556","v":0},{"$f":"BONAFIDE.!AD1556","v":0},{"$f":"BONAFIDE.!AA1556","v":"00:00:00"},119,"119","EXTR","01190EXTR","00EXTR A1"]
[{"$f":"BONAFIDE.!AB1557","v":"EXTRA1"},{"$f":"BONAFIDE.!AE1557","v":0},null,{"$f":"BONAFIDE.!X1557","v":0},{"$f":"BONAFIDE.!Y1557","v":0},{"$f":"BONAFIDE.!Z1557","v":0},{"$f":"BONAFIDE.!AD1557","v":0},{"$f":"BONAFIDE.!AA1557","v":"00:00:00"},119,"119","EXTR","01190EXTR","00EXTR A1"]
[{"$f":"BONAFIDE.!AB1558","v":"EXTRA1"},{"$f":"BONAFIDE.!AE1558","v":0},null,{"$f":"BONAFIDE.!X1558","v":0},{"$f":"BONAFIDE.!Y1558","v":0},{"$f":"BONAFIDE.!Z1558","v":0},{"$f":"BONAFIDE.!AD1558","v":0},{"$f":"BONAFIDE.!AA1558","v":"00:00:00"},119,"119","EXTR","01190EXTR","00EXTR A1"]
[{"$f":"BONAFIDE.!AB1559","v":"EXTRA1"},{"$f":"BONAFIDE.!AE1559","v":0},null,{"$f":"BONAFIDE.!X1559","v":0},{"$f":"BONAFIDE.!Y1559","v":0},{"$f":"BONAFIDE.!Z1559","v":0},{"$f":"BONAFIDE.!AD1559","v":0},{"$f":"BONAFIDE.!AA1559","v":"00:00:00"},119,"119","EXTR","01190EXTR","00EXTR A1"]
[{"$f":"BONAFIDE.!AB1560","v":"EXTRA1"},{"$f":"BONAFIDE.!AE1560","v":0},null,{"$f":"BONAFIDE.!X1560","v":0},{"$f":"BONAFIDE.!Y1560","v":0},{"$f":"BONAFIDE.!Z1560","v":0},{"$f":"BONAFIDE.!AD1560","v":0},{"$f":"BONAFIDE.!AA1560","v":"00:00:00"},119,"119","EXTR","01190EXTR","00EXTR A1"]
[{"$f":"BONAFIDE.!AB1561","v":"EXTRA1"},{"$f":"BONAFIDE.!AE1561","v":0},null,{"$f":"BONAFIDE.!X1561","v":0},{"$f":"BONAFIDE.!Y1561","v":0},{"$f":"BONAFIDE.!Z1561","v":0},{"$f":"BONAFIDE.!AD1561","v":0},{"$f":"BONAFIDE.!AA1561","v":"00:00:00"},119,"119","EXTR","01190EXTR","00EXTR A1"]
[{"$f":"BONAFIDE.!AB1562","v":"EXTRA1"},{"$f":"BONAFIDE.!AE1562","v":0},null,{"$f":"BONAFIDE.!X1562","v":0},{"$f":"BONAFIDE.!Y1562","v":0},{"$f":"BONAFIDE.!Z1562","v":0},{"$f":"BONAFIDE.!AD1562","v":0},{"$f":"BONAFIDE.!AA1562","v":"00:00:00"},119,"119","EXTR","01190EXTR","00EXTR A1"]
[{"$f":"BONAFIDE.!AB1563","v":"EXTRA1"},{"$f":"BONAFIDE.!AE1563","v":0},null,{"$f":"BONAFIDE.!X1563","v":0},{"$f":"BONAFIDE.!Y1563","v":0},{"$f":"BONAFIDE.!Z1563","v":0},{"$f":"BONAFIDE.!AD1563","v":0},{"$f":"BONAFIDE.!AA1563","v":"00:00:00"},119,"119","EXTR","01190EXTR","00EXTR A1"]
[{"$f":"BONAFIDE.!AB1564","v":"EXTRA1"},{"$f":"BONAFIDE.!AE1564","v":0},null,{"$f":"BONAFIDE.!X1564","v":0},{"$f":"BONAFIDE.!Y1564","v":0},{"$f":"BONAFIDE.!Z1564","v":0},{"$f":"BONAFIDE.!AD1564","v":0},{"$f":"BONAFIDE.!AA1564","v":"00:00:00"},119,"119","EXTR","01190EXTR","00EXTR A1"]
[{"$f":"BONAFIDE.!AB1565","v":"EXTRA1"},{"$f":"BONAFIDE.!AE1565","v":0},null,{"$f":"BONAFIDE.!X1565","v":0},{"$f":"BONAFIDE.!Y1565","v":0},{"$f":"BONAFIDE.!Z1565","v":0},{"$f":"BONAFIDE.!AD1565","v":0},{"$f":"BONAFIDE.!AA1565","v":"00:00:00"},119,"119","EXTR","01190EXTR","00EXTR A1"]
[{"$f":"BONAFIDE.!AB1566","v":"EXTRA1"},{"$f":"BONAFIDE.!AE1566","v":0},null,{"$f":"BONAFIDE.!X1566","v":0},{"$f":"BONAFIDE.!Y1566","v":0},{"$f":"BONAFIDE.!Z1566","v":0},{"$f":"BONAFIDE.!AD1566","v":0},{"$f":"BONAFIDE.!AA1566","v":"00:00:00"},119,"119","EXTR","01190EXTR","00EXTR A1"]
[{"$f":"BONAFIDE.!AB1567","v":"EXTRA1"},{"$f":"BONAFIDE.!AE1567","v":0},null,{"$f":"BONAFIDE.!X1567","v":0},{"$f":"BONAFIDE.!Y1567","v":0},{"$f":"BONAFIDE.!Z1567","v":0},{"$f":"BONAFIDE.!AD1567","v":0},{"$f":"BONAFIDE.!AA1567","v":"00:00:00"},119,"119","EXTR","01190EXTR","00EXTR A1"]
[{"$f":"BONAFIDE.!AB1568","v":"EXTRA1"},{"$f":"BONAFIDE.!AE1568","v":0},null,{"$f":"BONAFIDE.!X1568","v":0},{"$f":"BONAFIDE.!Y1568","v":0},{"$f":"BONAFIDE.!Z1568","v":0},{"$f":"BONAFIDE.!AD1568","v":0},{"$f":"BONAFIDE.!AA1568","v":"00:00:00"},119,"119","EXTR","01190EXTR","00EXTR A1"]
[{"$f":"BONAFIDE.!AB1569","v":"EXTRA1"},{"$f":"BONAFIDE.!AE1569","v":0},null,{"$f":"BONAFIDE.!X1569","v":0},{"$f":"BONAFIDE.!Y1569","v":0},{"$f":"BONAFIDE.!Z1569","v":0},{"$f":"BONAFIDE.!AD1569","v":0},{"$f":"BONAFIDE.!AA1569","v":"00:00:00"},119,"119","EXTR","01190EXTR","00EXTR A1"]
[{"$f":"BONAFIDE.!AB1570","v":"EXTRA1"},{"$f":"BONAFIDE.!AE1570","v":0},null,{"$f":"BONAFIDE.!X1570","v":0},{"$f":"BONAFIDE.!Y1570","v":0},{"$f":"BONAFIDE.!Z1570","v":0},{"$f":"BONAFIDE.!AD1570","v":0},{"$f":"BONAFIDE.!AA1570","v":"00:00:00"},119,"119","EXTR","01190EXTR","00EXTR A1"]
[{"$f":"BONAFIDE.!AB1571","v":"EXTRA1"},{"$f":"BONAFIDE.!AE1571","v":0},null,{"$f":"BONAFIDE.!X1571","v":0},{"$f":"BONAFIDE.!Y1571","v":0},{"$f":"BONAFIDE.!Z1571","v":0},{"$f":"BONAFIDE.!AD1571","v":0},{"$f":"BONAFIDE.!AA1571","v":"00:00:00"},119,"119","EXTR","01190EXTR","00EXTR A1"]
[{"$f":"BONAFIDE.!AB1572","v":"EXTRA1"},{"$f":"BONAFIDE.!AE1572","v":0},null,{"$f":"BONAFIDE.!X1572","v":0},{"$f":"BONAFIDE.!Y1572","v":0},{"$f":"BONAFIDE.!Z1572","v":0},{"$f":"BONAFIDE.!AD1572","v":0},{"$f":"BONAFIDE.!AA1572","v":"00:00:00"},119,"119","EXTR","01190EXTR","00EXTR A1"]
[{"$f":"BONAFIDE.!AB1573","v":"EXTRA1"},{"$f":"BONAFIDE.!AE1573","v":0},null,{"$f":"BONAFIDE.!X1573","v":0},{"$f":"BONAFIDE.!Y1573","v":0},{"$f":"BONAFIDE.!Z1573","v":0},{"$f":"BONAFIDE.!AD1573","v":0},{"$f":"BONAFIDE.!AA1573","v":"00:00:00"},119,"119","EXTR","01190EXTR","00EXTR A1"]
[{"$f":"BONAFIDE.!AB1574","v":"EXTRA1"},{"$f":"BONAFIDE.!AE1574","v":0},null,{"$f":"BONAFIDE.!X1574","v":0},{"$f":"BONAFIDE.!Y1574","v":0},{"$f":"BONAFIDE.!Z1574","v":0},{"$f":"BONAFIDE.!AD1574","v":0},{"$f":"BONAFIDE.!AA1574","v":"00:00:00"},119,"119","EXTR","01190EXTR","00EXTR A1"]
[{"$f":"BONAFIDE.!AB1575","v":"EXTRA1"},{"$f":"BONAFIDE.!AE1575","v":0},null,{"$f":"BONAFIDE.!X1575","v":0},{"$f":"BONAFIDE.!Y1575","v":0},{"$f":"BONAFIDE.!Z1575","v":0},{"$f":"BONAFIDE.!AD1575","v":0},{"$f":"BONAFIDE.!AA1575","v":"00:00:00"},119,"119","EXTR","01190EXTR","00EXTR A1"]
[{"$f":"BONAFIDE.!AB1576","v":"EXTRA1"},{"$f":"BONAFIDE.!AE1576","v":0},null,{"$f":"BONAFIDE.!X1576","v":0},{"$f":"BONAFIDE.!Y1576","v":0},{"$f":"BONAFIDE.!Z1576","v":0},{"$f":"BONAFIDE.!AD1576","v":0},{"$f":"BONAFIDE.!AA1576","v":"00:00:00"},119,"119","EXTR","01190EXTR","00EXTR A1"]
[{"$f":"BONAFIDE.!AB1577","v":"EXTRA1"},{"$f":"BONAFIDE.!AE1577","v":0},null,{"$f":"BONAFIDE.!X1577","v":0},{"$f":"BONAFIDE.!Y1577","v":0},{"$f":"BONAFIDE.!Z1577","v":0},{"$f":"BONAFIDE.!AD1577","v":0},{"$f":"BONAFIDE.!AA1577","v":"00:00:00"},119,"119","EXTR","01190EXTR","00EXTR A1"]
[{"$f":"BONAFIDE.!AB1578","v":"EXTRA1"},{"$f":"BONAFIDE.!AE1578","v":0},null,{"$f":"BONAFIDE.!X1578","v":0},{"$f":"BONAFIDE.!Y1578","v":0},{"$f":"BONAFIDE.!Z1578","v":0},{"$f":"BONAFIDE.!AD1578","v":0},{"$f":"BONAFIDE.!AA1578","v":"00:00:00"},119,"119","EXTR","01190EXTR","00EXTR A1"]
[{"$f":"BONAFIDE.!AB1579","v":"EXTRA1"},{"$f":"BONAFIDE.!AE1579","v":0},null,{"$f":"BONAFIDE.!X1579","v":0},{"$f":"BONAFIDE.!Y1579","v":0},{"$f":"BONAFIDE.!Z1579","v":0},{"$f":"BONAFIDE.!AD1579","v":0},{"$f":"BONAFIDE.!AA1579","v":"00:00:00"},119,"119","EXTR","01190EXTR","00EXTR A1"]
[{"$f":"BONAFIDE.!AB1580","v":"EXTRA1"},{"$f":"BONAFIDE.!AE1580","v":0},null,{"$f":"BONAFIDE.!X1580","v":0},{"$f":"BONAFIDE.!Y1580","v":0},{"$f":"BONAFIDE.!Z1580","v":0},{"$f":"BONAFIDE.!AD1580","v":0},{"$f":"BONAFIDE.!AA1580","v":"00:00:00"},119,"119","EXTR","01190EXTR","00EXTR A1"]
[{"$f":"BONAFIDE.!AB1581","v":"EXTRA1"},{"$f":"BONAFIDE.!AE1581","v":0},null,{"$f":"BONAFIDE.!X1581","v":0},{"$f":"BONAFIDE.!Y1581","v":0},{"$f":"BONAFIDE.!Z1581","v":0},{"$f":"BONAFIDE.!AD1581","v":0},{"$f":"BONAFIDE.!AA1581","v":"00:00:00"},119,"119","EXTR","01190EXTR","00EXTR A1"]
[{"$f":"BONAFIDE.!AB1582","v":"EXTRA1"},{"$f":"BONAFIDE.!AE1582","v":0},null,{"$f":"BONAFIDE.!X1582","v":0},{"$f":"BONAFIDE.!Y1582","v":0},{"$f":"BONAFIDE.!Z1582","v":0},{"$f":"BONAFIDE.!AD1582","v":0},{"$f":"BONAFIDE.!AA1582","v":"00:00:00"},119,"119","EXTR","01190EXTR","00EXTR A1"]
[{"$f":"BONAFIDE.!AB1583","v":"EXTRA1"},{"$f":"BONAFIDE.!AE1583","v":0},null,{"$f":"BONAFIDE.!X1583","v":0},{"$f":"BONAFIDE.!Y1583","v":0},{"$f":"BONAFIDE.!Z1583","v":0},{"$f":"BONAFIDE.!AD1583","v":0},{"$f":"BONAFIDE.!AA1583","v":"00:00:00"},119,"119","EXTR","01190EXTR","00EXTR A1"]
[{"$f":"BONAFIDE.!AB1584","v":"EXTRA1"},{"$f":"BONAFIDE.!AE1584","v":0},null,{"$f":"BONAFIDE.!X1584","v":0},{"$f":"BONAFIDE.!Y1584","v":0},{"$f":"BONAFIDE.!Z1584","v":0},{"$f":"BONAFIDE.!AD1584","v":0},{"$f":"BONAFIDE.!AA1584","v":"00:00:00"},119,"119","EXTR","01190EXTR","00EXTR A1"]
[{"$f":"BONAFIDE.!AB1585","v":"EXTRA1"},{"$f":"BONAFIDE.!AE1585","v":0},null,{"$f":"BONAFIDE.!X1585","v":0},{"$f":"BONAFIDE.!Y1585","v":0},{"$f":"BONAFIDE.!Z1585","v":0},{"$f":"BONAFIDE.!AD1585","v":0},{"$f":"BONAFIDE.!AA1585","v":"00:00:00"},119,"119","EXTR","01190EXTR","00EXTR A1"]
[{"$f":"BONAFIDE.!AB1586","v":"EXTRA1"},{"$f":"BONAFIDE.!AE1586","v":0},null,{"$f":"BONAFIDE.!X1586","v":0},{"$f":"BONAFIDE.!Y1586","v":0},{"$f":"BONAFIDE.!Z1586","v":0},{"$f":"BONAFIDE.!AD1586","v":0},{"$f":"BONAFIDE.!AA1586","v":"00:00:00"},119,"119","EXTR","01190EXTR","00EXTR A1"]
[{"$f":"BONAFIDE.!AB1587","v":"EXTRA1"},{"$f":"BONAFIDE.!AE1587","v":0},null,{"$f":"BONAFIDE.!X1587","v":0},{"$f":"BONAFIDE.!Y1587","v":0},{"$f":"BONAFIDE.!Z1587","v":0},{"$f":"BONAFIDE.!AD1587","v":0},{"$f":"BONAFIDE.!AA1587","v":"00:00:00"},119,"119","EXTR","01190EXTR","00EXTR A1"]
[{"$f":"BONAFIDE.!AB1588","v":"EXTRA1"},{"$f":"BONAFIDE.!AE1588","v":0},null,{"$f":"BONAFIDE.!X1588","v":0},{"$f":"BONAFIDE.!Y1588","v":0},{"$f":"BONAFIDE.!Z1588","v":0},{"$f":"BONAFIDE.!AD1588","v":0},{"$f":"BONAFIDE.!AA1588","v":"00:00:00"},119,"119","EXTR","01190EXTR","00EXTR A1"]
[{"$f":"BONAFIDE.!AB1589","v":"EXTRA1"},{"$f":"BONAFIDE.!AE1589","v":0},null,{"$f":"BONAFIDE.!X1589","v":0},{"$f":"BONAFIDE.!Y1589","v":0},{"$f":"BONAFIDE.!Z1589","v":0},{"$f":"BONAFIDE.!AD1589","v":0},{"$f":"BONAFIDE.!AA1589","v":"00:00:00"},119,"119","EXTR","01190EXTR","00EXTR A1"]
[{"$f":"BONAFIDE.!AB1590","v":"EXTRA1"},{"$f":"BONAFIDE.!AE1590","v":0},null,{"$f":"BONAFIDE.!X1590","v":0},{"$f":"BONAFIDE.!Y1590","v":0},{"$f":"BONAFIDE.!Z1590","v":0},{"$f":"BONAFIDE.!AD1590","v":0},{"$f":"BONAFIDE.!AA1590","v":"00:00:00"},119,"119","EXTR","01190EXTR","00EXTR A1"]
[{"$f":"BONAFIDE.!AB1591","v":"EXTRA1"},{"$f":"BONAFIDE.!AE1591","v":0},null,{"$f":"BONAFIDE.!X1591","v":0},{"$f":"BONAFIDE.!Y1591","v":0},{"$f":"BONAFIDE.!Z1591","v":0},{"$f":"BONAFIDE.!AD1591","v":0},{"$f":"BONAFIDE.!AA1591","v":"00:00:00"},119,"119","EXTR","01190EXTR","00EXTR A1"]
[{"$f":"BONAFIDE.!AB1592","v":"EXTRA1"},{"$f":"BONAFIDE.!AE1592","v":0},null,{"$f":"BONAFIDE.!X1592","v":0},{"$f":"BONAFIDE.!Y1592","v":0},{"$f":"BONAFIDE.!Z1592","v":0},{"$f":"BONAFIDE.!AD1592","v":0},{"$f":"BONAFIDE.!AA1592","v":"00:00:00"},119,"119","EXTR","01190EXTR","00EXTR A1"]
[{"$f":"BONAFIDE.!AB1593","v":"EXTRA1"},{"$f":"BONAFIDE.!AE1593","v":0},null,{"$f":"BONAFIDE.!X1593","v":0},{"$f":"BONAFIDE.!Y1593","v":0},{"$f":"BONAFIDE.!Z1593","v":0},{"$f":"BONAFIDE.!AD1593","v":0},{"$f":"BONAFIDE.!AA1593","v":"00:00:00"},119,"119","EXTR","01190EXTR","00EXTR A1"]
[{"$f":"BONAFIDE.!AB1594","v":"EXTRA1"},{"$f":"BONAFIDE.!AE1594","v":0},null,{"$f":"BONAFIDE.!X1594","v":0},{"$f":"BONAFIDE.!Y1594","v":0},{"$f":"BONAFIDE.!Z1594","v":0},{"$f":"BONAFIDE.!AD1594","v":0},{"$f":"BONAFIDE.!AA1594","v":"00:00:00"},119,"119","EXTR","01190EXTR","00EXTR A1"]
[{"$f":"BONAFIDE.!AB1595","v":"EXTRA1"},{"$f":"BONAFIDE.!AE1595","v":0},null,{"$f":"BONAFIDE.!X1595","v":0},{"$f":"BONAFIDE.!Y1595","v":0},{"$f":"BONAFIDE.!Z1595","v":0},{"$f":"BONAFIDE.!AD1595","v":0},{"$f":"BONAFIDE.!AA1595","v":"00:00:00"},119,"119","EXTR","01190EXTR","00EXTR A1"]
[{"$f":"BONAFIDE.!AB1596","v":"EXTRA1"},{"$f":"BONAFIDE.!AE1596","v":0},null,{"$f":"BONAFIDE.!X1596","v":0},{"$f":"BONAFIDE.!Y1596","v":0},{"$f":"BONAFIDE.!Z1596","v":0},{"$f":"BONAFIDE.!AD1596","v":0},{"$f":"BONAFIDE.!AA1596","v":"00:00:00"},119,"119","EXTR","01190EXTR","00EXTR A1"]
[{"$f":"BONAFIDE.!AB1597","v":"EXTRA1"},{"$f":"BONAFIDE.!AE1597","v":0},null,{"$f":"BONAFIDE.!X1597","v":0},{"$f":"BONAFIDE.!Y1597","v":0},{"$f":"BONAFIDE.!Z1597","v":0},{"$f":"BONAFIDE.!AD1597","v":0},{"$f":"BONAFIDE.!AA1597","v":"00:00:00"},119,"119","EXTR","01190EXTR","00EXTR A1"]
[{"$f":"BONAFIDE.!AB1598","v":"EXTRA1"},{"$f":"BONAFIDE.!AE1598","v":0},null,{"$f":"BONAFIDE.!X1598","v":0},{"$f":"BONAFIDE.!Y1598","v":0},{"$f":"BONAFIDE.!Z1598","v":0},{"$f":"BONAFIDE.!AD1598","v":0},{"$f":"BONAFIDE.!AA1598","v":"00:00:00"},119,"119","EXTR","01190EXTR","00EXTR A1"]
[{"$f":"BONAFIDE.!AB1599","v":"EXTRA1"},{"$f":"BONAFIDE.!AE1599","v":0},null,{"$f":"BONAFIDE.!X1599","v":0},{"$f":"BONAFIDE.!Y1599","v":0},{"$f":"BONAFIDE.!Z1599","v":0},{"$f":"BONAFIDE.!AD1599","v":0},{"$f":"BONAFIDE.!AA1599","v":"00:00:00"},119,"119","EXTR","01190EXTR","00EXTR A1"]
[{"$f":"BONAFIDE.!AB1600","v":"EXTRA1"},{"$f":"BONAFIDE.!AE1600","v":0},null,{"$f":"BONAFIDE.!X1600","v":0},{"$f":"BONAFIDE.!Y1600","v":0},{"$f":"BONAFIDE.!Z1600","v":0},{"$f":"BONAFIDE.!AD1600","v":0},{"$f":"BONAFIDE.!AA1600","v":"00:00:00"},119,"119","EXTR","01190EXTR","00EXTR A1"]
[{"$f":"BONAFIDE.!AB1601","v":"EXTRA1"},{"$f":"BONAFIDE.!AE1601","v":0},null,{"$f":"BONAFIDE.!X1601","v":0},{"$f":"BONAFIDE.!Y1601","v":0},{"$f":"BONAFIDE.!Z1601","v":0},{"$f":"BONAFIDE.!AD1601","v":0},{"$f":"BONAFIDE.!AA1601","v":"00:00:00"},119,"119","EXTR","01190EXTR","00EXTR A1"]
[{"$f":"BONAFIDE.!AB1602","v":"EXTRA1"},{"$f":"BONAFIDE.!AE1602","v":0},null,{"$f":"BONAFIDE.!X1602","v":0},{"$f":"BONAFIDE.!Y1602","v":0},{"$f":"BONAFIDE.!Z1602","v":0},{"$f":"BONAFIDE.!AD1602","v":0},{"$f":"BONAFIDE.!AA1602","v":"00:00:00"},119,"119","EXTR","01190EXTR","00EXTR A1"]
[{"$f":"BONAFIDE.!AB1603","v":"EXTRA1"},{"$f":"BONAFIDE.!AE1603","v":0},null,{"$f":"BONAFIDE.!X1603","v":0},{"$f":"BONAFIDE.!Y1603","v":0},{"$f":"BONAFIDE.!Z1603","v":0},{"$f":"BONAFIDE.!AD1603","v":0},{"$f":"BONAFIDE.!AA1603","v":"00:00:00"},119,"119","EXTR","01190EXTR","00EXTR A1"]
[{"$f":"BONAFIDE.!AB1604","v":"EXTRA1"},{"$f":"BONAFIDE.!AE1604","v":0},null,{"$f":"BONAFIDE.!X1604","v":0},{"$f":"BONAFIDE.!Y1604","v":0},{"$f":"BONAFIDE.!Z1604","v":0},{"$f":"BONAFIDE.!AD1604","v":0},{"$f":"BONAFIDE.!AA1604","v":"00:00:00"},119,"119","EXTR","01190EXTR","00EXTR A1"]
[{"$f":"BONAFIDE.!AB1605","v":"EXTRA1"},{"$f":"BONAFIDE.!AE1605","v":0},null,{"$f":"BONAFIDE.!X1605","v":0},{"$f":"BONAFIDE.!Y1605","v":0},{"$f":"BONAFIDE.!Z1605","v":0},{"$f":"BONAFIDE.!AD1605","v":0},{"$f":"BONAFIDE.!AA1605","v":"00:00:00"},119,"119","EXTR","01190EXTR","00EXTR A1"]
[{"$f":"BONAFIDE.!AB1606","v":"EXTRA1"},{"$f":"BONAFIDE.!AE1606","v":0},null,{"$f":"BONAFIDE.!X1606","v":0},{"$f":"BONAFIDE.!Y1606","v":0},{"$f":"BONAFIDE.!Z1606","v":0},{"$f":"BONAFIDE.!AD1606","v":0},{"$f":"BONAFIDE.!AA1606","v":"00:00:00"},119,"119","EXTR","01190EXTR","00EXTR A1"]
[{"$f":"BONAFIDE.!AB1607","v":"EXTRA1"},{"$f":"BONAFIDE.!AE1607","v":0},null,{"$f":"BONAFIDE.!X1607","v":0},{"$f":"BONAFIDE.!Y1607","v":0},{"$f":"BONAFIDE.!Z1607","v":0},{"$f":"BONAFIDE.!AD1607","v":0},{"$f":"BONAFIDE.!AA1607","v":"00:00:00"},{"$f":"DATEDIF(H1604,CUTOFFDT,\"Y\")","v":119},{"$f":"fillno(I1604)","v":"119"},{"$f":"MID(A1604,1,LEN(A1604)-2)","v":"EXTR"},{"$f":"B1604&J1604&G1604&K1604","v":"01190EXTR"},{"$f":"B1604&G1604&MID(A1604,1,LEN(A1604)-2)&\" \" & RIGHT(A1604,2)","v":"00EXTR A1"}]
[{"$f":"BONAFIDE.!AB1608","v":"EXTRA1"},{"$f":"BONAFIDE.!AE1608","v":0},null,{"$f":"BONAFIDE.!X1608","v":0},{"$f":"BONAFIDE.!Y1608","v":0},{"$f":"BONAFIDE.!Z1608","v":0},{"$f":"BONAFIDE.!AD1608","v":0},{"$f":"BONAFIDE.!AA1608","v":"00:00:00"},119,"119","EXTR","01190EXTR","00EXTR A1"]
[{"$f":"BONAFIDE.!AB1609","v":"EXTRA1"},{"$f":"BONAFIDE.!AE1609","v":0},null,{"$f":"BONAFIDE.!X1609","v":0},{"$f":"BONAFIDE.!Y1609","v":0},{"$f":"BONAFIDE.!Z1609","v":0},{"$f":"BONAFIDE.!AD1609","v":0},{"$f":"BONAFIDE.!AA1609","v":"00:00:00"},119,"119","EXTR","01190EXTR","00EXTR A1"]
[{"$f":"BONAFIDE.!AB1610","v":"EXTRA1"},{"$f":"BONAFIDE.!AE1610","v":0},null,{"$f":"BONAFIDE.!X1610","v":0},{"$f":"BONAFIDE.!Y1610","v":0},{"$f":"BONAFIDE.!Z1610","v":0},{"$f":"BONAFIDE.!AD1610","v":0},{"$f":"BONAFIDE.!AA1610","v":"00:00:00"},119,"119","EXTR","01190EXTR","00EXTR A1"]
[{"$f":"BONAFIDE.!AB1611","v":"EXTRA1"},{"$f":"BONAFIDE.!AE1611","v":0},null,{"$f":"BONAFIDE.!X1611","v":0},{"$f":"BONAFIDE.!Y1611","v":0},{"$f":"BONAFIDE.!Z1611","v":0},{"$f":"BONAFIDE.!AD1611","v":0},{"$f":"BONAFIDE.!AA1611","v":"00:00:00"},119,"119","EXTR","01190EXTR","00EXTR A1"]
[{"$f":"BONAFIDE.!AB1612","v":"EXTRA1"},{"$f":"BONAFIDE.!AE1612","v":0},null,{"$f":"BONAFIDE.!X1612","v":0},{"$f":"BONAFIDE.!Y1612","v":0},{"$f":"BONAFIDE.!Z1612","v":0},{"$f":"BONAFIDE.!AD1612","v":0},{"$f":"BONAFIDE.!AA1612","v":"00:00:00"},119,"119","EXTR","01190EXTR","00EXTR A1"]
[{"$f":"BONAFIDE.!AB1613","v":"EXTRA1"},{"$f":"BONAFIDE.!AE1613","v":0},null,{"$f":"BONAFIDE.!X1613","v":0},{"$f":"BONAFIDE.!Y1613","v":0},{"$f":"BONAFIDE.!Z1613","v":0},{"$f":"BONAFIDE.!AD1613","v":0},{"$f":"BONAFIDE.!AA1613","v":"00:00:00"},119,"119","EXTR","01190EXTR","00EXTR A1"]
[{"$f":"BONAFIDE.!AB1614","v":"EXTRA1"},{"$f":"BONAFIDE.!AE1614","v":0},null,{"$f":"BONAFIDE.!X1614","v":0},{"$f":"BONAFIDE.!Y1614","v":0},{"$f":"BONAFIDE.!Z1614","v":0},{"$f":"BONAFIDE.!AD1614","v":0},{"$f":"BONAFIDE.!AA1614","v":"00:00:00"},119,"119","EXTR","01190EXTR","00EXTR A1"]
[{"$f":"BONAFIDE.!AB1615","v":"EXTRA1"},{"$f":"BONAFIDE.!AE1615","v":0},null,{"$f":"BONAFIDE.!X1615","v":0},{"$f":"BONAFIDE.!Y1615","v":0},{"$f":"BONAFIDE.!Z1615","v":0},{"$f":"BONAFIDE.!AD1615","v":0},{"$f":"BONAFIDE.!AA1615","v":"00:00:00"},119,"119","EXTR","01190EXTR","00EXTR A1"]
[{"$f":"BONAFIDE.!AB1616","v":"EXTRA1"},{"$f":"BONAFIDE.!AE1616","v":0},null,{"$f":"BONAFIDE.!X1616","v":0},{"$f":"BONAFIDE.!Y1616","v":0},{"$f":"BONAFIDE.!Z1616","v":0},{"$f":"BONAFIDE.!AD1616","v":0},{"$f":"BONAFIDE.!AA1616","v":"00:00:00"},119,"119","EXTR","01190EXTR","00EXTR A1"]
[{"$f":"BONAFIDE.!AB1617","v":"EXTRA1"},{"$f":"BONAFIDE.!AE1617","v":0},null,{"$f":"BONAFIDE.!X1617","v":0},{"$f":"BONAFIDE.!Y1617","v":0},{"$f":"BONAFIDE.!Z1617","v":0},{"$f":"BONAFIDE.!AD1617","v":0},{"$f":"BONAFIDE.!AA1617","v":"00:00:00"},119,"119","EXTR","01190EXTR","00EXTR A1"]
[{"$f":"BONAFIDE.!AB1618","v":"EXTRA1"},{"$f":"BONAFIDE.!AE1618","v":0},null,{"$f":"BONAFIDE.!X1618","v":0},{"$f":"BONAFIDE.!Y1618","v":0},{"$f":"BONAFIDE.!Z1618","v":0},{"$f":"BONAFIDE.!AD1618","v":0},{"$f":"BONAFIDE.!AA1618","v":"00:00:00"},119,"119","EXTR","01190EXTR","00EXTR A1"]
[{"$f":"BONAFIDE.!AB1619","v":"EXTRA1"},{"$f":"BONAFIDE.!AE1619","v":0},null,{"$f":"BONAFIDE.!X1619","v":0},{"$f":"BONAFIDE.!Y1619","v":0},{"$f":"BONAFIDE.!Z1619","v":0},{"$f":"BONAFIDE.!AD1619","v":0},{"$f":"BONAFIDE.!AA1619","v":"00:00:00"},119,"119","EXTR","01190EXTR","00EXTR A1"]
[{"$f":"BONAFIDE.!AB1620","v":"EXTRA1"},{"$f":"BONAFIDE.!AE1620","v":0},null,{"$f":"BONAFIDE.!X1620","v":0},{"$f":"BONAFIDE.!Y1620","v":0},{"$f":"BONAFIDE.!Z1620","v":0},{"$f":"BONAFIDE.!AD1620","v":0},{"$f":"BONAFIDE.!AA1620","v":"00:00:00"},119,"119","EXTR","01190EXTR","00EXTR A1"]
[{"$f":"BONAFIDE.!AB1621","v":"EXTRA1"},{"$f":"BONAFIDE.!AE1621","v":0},null,{"$f":"BONAFIDE.!X1621","v":0},{"$f":"BONAFIDE.!Y1621","v":0},{"$f":"BONAFIDE.!Z1621","v":0},{"$f":"BONAFIDE.!AD1621","v":0},{"$f":"BONAFIDE.!AA1621","v":"00:00:00"},119,"119","EXTR","01190EXTR","00EXTR A1"]
[{"$f":"BONAFIDE.!AB1622","v":"EXTRA1"},{"$f":"BONAFIDE.!AE1622","v":0},null,{"$f":"BONAFIDE.!X1622","v":0},{"$f":"BONAFIDE.!Y1622","v":0},{"$f":"BONAFIDE.!Z1622","v":0},{"$f":"BONAFIDE.!AD1622","v":0},{"$f":"BONAFIDE.!AA1622","v":"00:00:00"},119,"119","EXTR","01190EXTR","00EXTR A1"]
[{"$f":"BONAFIDE.!AB1623","v":"EXTRA1"},{"$f":"BONAFIDE.!AE1623","v":0},null,{"$f":"BONAFIDE.!X1623","v":0},{"$f":"BONAFIDE.!Y1623","v":0},{"$f":"BONAFIDE.!Z1623","v":0},{"$f":"BONAFIDE.!AD1623","v":0},{"$f":"BONAFIDE.!AA1623","v":"00:00:00"},119,"119","EXTR","01190EXTR","00EXTR A1"]
[{"$f":"BONAFIDE.!AB1624","v":"EXTRA1"},{"$f":"BONAFIDE.!AE1624","v":0},null,{"$f":"BONAFIDE.!X1624","v":0},{"$f":"BONAFIDE.!Y1624","v":0},{"$f":"BONAFIDE.!Z1624","v":0},{"$f":"BONAFIDE.!AD1624","v":0},{"$f":"BONAFIDE.!AA1624","v":"00:00:00"},119,"119","EXTR","01190EXTR","00EXTR A1"]
[{"$f":"BONAFIDE.!AB1625","v":"EXTRA1"},{"$f":"BONAFIDE.!AE1625","v":0},null,{"$f":"BONAFIDE.!X1625","v":0},{"$f":"BONAFIDE.!Y1625","v":0},{"$f":"BONAFIDE.!Z1625","v":0},{"$f":"BONAFIDE.!AD1625","v":0},{"$f":"BONAFIDE.!AA1625","v":"00:00:00"},119,"119","EXTR","01190EXTR","00EXTR A1"]
[{"$f":"BONAFIDE.!AB1626","v":"EXTRA1"},{"$f":"BONAFIDE.!AE1626","v":0},null,{"$f":"BONAFIDE.!X1626","v":0},{"$f":"BONAFIDE.!Y1626","v":0},{"$f":"BONAFIDE.!Z1626","v":0},{"$f":"BONAFIDE.!AD1626","v":0},{"$f":"BONAFIDE.!AA1626","v":"00:00:00"},119,"119","EXTR","01190EXTR","00EXTR A1"]
[{"$f":"BONAFIDE.!AB1627","v":"EXTRA1"},{"$f":"BONAFIDE.!AE1627","v":0},null,{"$f":"BONAFIDE.!X1627","v":0},{"$f":"BONAFIDE.!Y1627","v":0},{"$f":"BONAFIDE.!Z1627","v":0},{"$f":"BONAFIDE.!AD1627","v":0},{"$f":"BONAFIDE.!AA1627","v":"00:00:00"},119,"119","EXTR","01190EXTR","00EXTR A1"]
[{"$f":"BONAFIDE.!AB1628","v":"EXTRA1"},{"$f":"BONAFIDE.!AE1628","v":0},null,{"$f":"BONAFIDE.!X1628","v":0},{"$f":"BONAFIDE.!Y1628","v":0},{"$f":"BONAFIDE.!Z1628","v":0},{"$f":"BONAFIDE.!AD1628","v":0},{"$f":"BONAFIDE.!AA1628","v":"00:00:00"},119,"119","EXTR","01190EXTR","00EXTR A1"]
[{"$f":"BONAFIDE.!AB1629","v":"EXTRA1"},{"$f":"BONAFIDE.!AE1629","v":0},null,{"$f":"BONAFIDE.!X1629","v":0},{"$f":"BONAFIDE.!Y1629","v":0},{"$f":"BONAFIDE.!Z1629","v":0},{"$f":"BONAFIDE.!AD1629","v":0},{"$f":"BONAFIDE.!AA1629","v":"00:00:00"},119,"119","EXTR","01190EXTR","00EXTR A1"]
[{"$f":"BONAFIDE.!AB1630","v":"EXTRA1"},{"$f":"BONAFIDE.!AE1630","v":0},null,{"$f":"BONAFIDE.!X1630","v":0},{"$f":"BONAFIDE.!Y1630","v":0},{"$f":"BONAFIDE.!Z1630","v":0},{"$f":"BONAFIDE.!AD1630","v":0},{"$f":"BONAFIDE.!AA1630","v":"00:00:00"},119,"119","EXTR","01190EXTR","00EXTR A1"]
[{"$f":"BONAFIDE.!AB1631","v":"EXTRA1"},{"$f":"BONAFIDE.!AE1631","v":0},null,{"$f":"BONAFIDE.!X1631","v":0},{"$f":"BONAFIDE.!Y1631","v":0},{"$f":"BONAFIDE.!Z1631","v":0},{"$f":"BONAFIDE.!AD1631","v":0},{"$f":"BONAFIDE.!AA1631","v":"00:00:00"},119,"119","EXTR","01190EXTR","00EXTR A1"]
[{"$f":"BONAFIDE.!AB1632","v":"EXTRA1"},{"$f":"BONAFIDE.!AE1632","v":0},null,{"$f":"BONAFIDE.!X1632","v":0},{"$f":"BONAFIDE.!Y1632","v":0},{"$f":"BONAFIDE.!Z1632","v":0},{"$f":"BONAFIDE.!AD1632","v":0},{"$f":"BONAFIDE.!AA1632","v":"00:00:00"},119,"119","EXTR","01190EXTR","00EXTR A1"]
[{"$f":"BONAFIDE.!AB1633","v":"EXTRA1"},{"$f":"BONAFIDE.!AE1633","v":0},null,{"$f":"BONAFIDE.!X1633","v":0},{"$f":"BONAFIDE.!Y1633","v":0},{"$f":"BONAFIDE.!Z1633","v":0},{"$f":"BONAFIDE.!AD1633","v":0},{"$f":"BONAFIDE.!AA1633","v":"00:00:00"},119,"119","EXTR","01190EXTR","00EXTR A1"]
[{"$f":"BONAFIDE.!AB1634","v":"EXTRA1"},{"$f":"BONAFIDE.!AE1634","v":0},null,{"$f":"BONAFIDE.!X1634","v":0},{"$f":"BONAFIDE.!Y1634","v":0},{"$f":"BONAFIDE.!Z1634","v":0},{"$f":"BONAFIDE.!AD1634","v":0},{"$f":"BONAFIDE.!AA1634","v":"00:00:00"},119,"119","EXTR","01190EXTR","00EXTR A1"]
[{"$f":"BONAFIDE.!AB1635","v":"EXTRA1"},{"$f":"BONAFIDE.!AE1635","v":0},null,{"$f":"BONAFIDE.!X1635","v":0},{"$f":"BONAFIDE.!Y1635","v":0},{"$f":"BONAFIDE.!Z1635","v":0},{"$f":"BONAFIDE.!AD1635","v":0},{"$f":"BONAFIDE.!AA1635","v":"00:00:00"},119,"119","EXTR","01190EXTR","00EXTR A1"]
[{"$f":"BONAFIDE.!AB1636","v":"EXTRA1"},{"$f":"BONAFIDE.!AE1636","v":0},null,{"$f":"BONAFIDE.!X1636","v":0},{"$f":"BONAFIDE.!Y1636","v":0},{"$f":"BONAFIDE.!Z1636","v":0},{"$f":"BONAFIDE.!AD1636","v":0},{"$f":"BONAFIDE.!AA1636","v":"00:00:00"},119,"119","EXTR","01190EXTR","00EXTR A1"]
[{"$f":"BONAFIDE.!AB1637","v":"EXTRA1"},{"$f":"BONAFIDE.!AE1637","v":0},null,{"$f":"BONAFIDE.!X1637","v":0},{"$f":"BONAFIDE.!Y1637","v":0},{"$f":"BONAFIDE.!Z1637","v":0},{"$f":"BONAFIDE.!AD1637","v":0},{"$f":"BONAFIDE.!AA1637","v":"00:00:00"},119,"119","EXTR","01190EXTR","00EXTR A1"]
[{"$f":"BONAFIDE.!AB1638","v":"EXTRA1"},{"$f":"BONAFIDE.!AE1638","v":0},null,{"$f":"BONAFIDE.!X1638","v":0},{"$f":"BONAFIDE.!Y1638","v":0},{"$f":"BONAFIDE.!Z1638","v":0},{"$f":"BONAFIDE.!AD1638","v":0},{"$f":"BONAFIDE.!AA1638","v":"00:00:00"},119,"119","EXTR","01190EXTR","00EXTR A1"]
[{"$f":"BONAFIDE.!AB1639","v":"EXTRA1"},{"$f":"BONAFIDE.!AE1639","v":0},null,{"$f":"BONAFIDE.!X1639","v":0},{"$f":"BONAFIDE.!Y1639","v":0},{"$f":"BONAFIDE.!Z1639","v":0},{"$f":"BONAFIDE.!AD1639","v":0},{"$f":"BONAFIDE.!AA1639","v":"00:00:00"},119,"119","EXTR","01190EXTR","00EXTR A1"]
[{"$f":"BONAFIDE.!AB1640","v":"EXTRA1"},{"$f":"BONAFIDE.!AE1640","v":0},null,{"$f":"BONAFIDE.!X1640","v":0},{"$f":"BONAFIDE.!Y1640","v":0},{"$f":"BONAFIDE.!Z1640","v":0},{"$f":"BONAFIDE.!AD1640","v":0},{"$f":"BONAFIDE.!AA1640","v":"00:00:00"},119,"119","EXTR","01190EXTR","00EXTR A1"]
[{"$f":"BONAFIDE.!AB1641","v":"EXTRA1"},{"$f":"BONAFIDE.!AE1641","v":0},null,{"$f":"BONAFIDE.!X1641","v":0},{"$f":"BONAFIDE.!Y1641","v":0},{"$f":"BONAFIDE.!Z1641","v":0},{"$f":"BONAFIDE.!AD1641","v":0},{"$f":"BONAFIDE.!AA1641","v":"00:00:00"},119,"119","EXTR","01190EXTR","00EXTR A1"]
[{"$f":"BONAFIDE.!AB1642","v":"EXTRA1"},{"$f":"BONAFIDE.!AE1642","v":0},null,{"$f":"BONAFIDE.!X1642","v":0},{"$f":"BONAFIDE.!Y1642","v":0},{"$f":"BONAFIDE.!Z1642","v":0},{"$f":"BONAFIDE.!AD1642","v":0},{"$f":"BONAFIDE.!AA1642","v":"00:00:00"},119,"119","EXTR","01190EXTR","00EXTR A1"]
[{"$f":"BONAFIDE.!AB1643","v":"EXTRA1"},{"$f":"BONAFIDE.!AE1643","v":0},null,{"$f":"BONAFIDE.!X1643","v":0},{"$f":"BONAFIDE.!Y1643","v":0},{"$f":"BONAFIDE.!Z1643","v":0},{"$f":"BONAFIDE.!AD1643","v":0},{"$f":"BONAFIDE.!AA1643","v":"00:00:00"},119,"119","EXTR","01190EXTR","00EXTR A1"]
[{"$f":"BONAFIDE.!AB1644","v":"EXTRA1"},{"$f":"BONAFIDE.!AE1644","v":0},null,{"$f":"BONAFIDE.!X1644","v":0},{"$f":"BONAFIDE.!Y1644","v":0},{"$f":"BONAFIDE.!Z1644","v":0},{"$f":"BONAFIDE.!AD1644","v":0},{"$f":"BONAFIDE.!AA1644","v":"00:00:00"},119,"119","EXTR","01190EXTR","00EXTR A1"]
[{"$f":"BONAFIDE.!AB1645","v":"EXTRA1"},{"$f":"BONAFIDE.!AE1645","v":0},null,{"$f":"BONAFIDE.!X1645","v":0},{"$f":"BONAFIDE.!Y1645","v":0},{"$f":"BONAFIDE.!Z1645","v":0},{"$f":"BONAFIDE.!AD1645","v":0},{"$f":"BONAFIDE.!AA1645","v":"00:00:00"},119,"119","EXTR","01190EXTR","00EXTR A1"]
[{"$f":"BONAFIDE.!AB1646","v":"EXTRA1"},{"$f":"BONAFIDE.!AE1646","v":0},null,{"$f":"BONAFIDE.!X1646","v":0},{"$f":"BONAFIDE.!Y1646","v":0},{"$f":"BONAFIDE.!Z1646","v":0},{"$f":"BONAFIDE.!AD1646","v":0},{"$f":"BONAFIDE.!AA1646","v":"00:00:00"},119,"119","EXTR","01190EXTR","00EXTR A1"]
[{"$f":"BONAFIDE.!AB1647","v":"EXTRA1"},{"$f":"BONAFIDE.!AE1647","v":0},null,{"$f":"BONAFIDE.!X1647","v":0},{"$f":"BONAFIDE.!Y1647","v":0},{"$f":"BONAFIDE.!Z1647","v":0},{"$f":"BONAFIDE.!AD1647","v":0},{"$f":"BONAFIDE.!AA1647","v":"00:00:00"},119,"119","EXTR","01190EXTR","00EXTR A1"]
[{"$f":"BONAFIDE.!AB1648","v":"EXTRA1"},{"$f":"BONAFIDE.!AE1648","v":0},null,{"$f":"BONAFIDE.!X1648","v":0},{"$f":"BONAFIDE.!Y1648","v":0},{"$f":"BONAFIDE.!Z1648","v":0},{"$f":"BONAFIDE.!AD1648","v":0},{"$f":"BONAFIDE.!AA1648","v":"00:00:00"},119,"119","EXTR","01190EXTR","00EXTR A1"]
[{"$f":"BONAFIDE.!AB1649","v":"EXTRA1"},{"$f":"BONAFIDE.!AE1649","v":0},null,{"$f":"BONAFIDE.!X1649","v":0},{"$f":"BONAFIDE.!Y1649","v":0},{"$f":"BONAFIDE.!Z1649","v":0},{"$f":"BONAFIDE.!AD1649","v":0},{"$f":"BONAFIDE.!AA1649","v":"00:00:00"},119,"119","EXTR","01190EXTR","00EXTR A1"]
[{"$f":"BONAFIDE.!AB1650","v":"EXTRA1"},{"$f":"BONAFIDE.!AE1650","v":0},null,{"$f":"BONAFIDE.!X1650","v":0},{"$f":"BONAFIDE.!Y1650","v":0},{"$f":"BONAFIDE.!Z1650","v":0},{"$f":"BONAFIDE.!AD1650","v":0},{"$f":"BONAFIDE.!AA1650","v":"00:00:00"},119,"119","EXTR","01190EXTR","00EXTR A1"]
[{"$f":"BONAFIDE.!AB1651","v":"EXTRA1"},{"$f":"BONAFIDE.!AE1651","v":0},null,{"$f":"BONAFIDE.!X1651","v":0},{"$f":"BONAFIDE.!Y1651","v":0},{"$f":"BONAFIDE.!Z1651","v":0},{"$f":"BONAFIDE.!AD1651","v":0},{"$f":"BONAFIDE.!AA1651","v":"00:00:00"},119,"119","EXTR","01190EXTR","00EXTR A1"]
[{"$f":"BONAFIDE.!AB1652","v":"EXTRA1"},{"$f":"BONAFIDE.!AE1652","v":0},null,{"$f":"BONAFIDE.!X1652","v":0},{"$f":"BONAFIDE.!Y1652","v":0},{"$f":"BONAFIDE.!Z1652","v":0},{"$f":"BONAFIDE.!AD1652","v":0},{"$f":"BONAFIDE.!AA1652","v":"00:00:00"},119,"119","EXTR","01190EXTR","00EXTR A1"]
[{"$f":"BONAFIDE.!AB1653","v":"EXTRA1"},{"$f":"BONAFIDE.!AE1653","v":0},null,{"$f":"BONAFIDE.!X1653","v":0},{"$f":"BONAFIDE.!Y1653","v":0},{"$f":"BONAFIDE.!Z1653","v":0},{"$f":"BONAFIDE.!AD1653","v":0},{"$f":"BONAFIDE.!AA1653","v":"00:00:00"},119,"119","EXTR","01190EXTR","00EXTR A1"]
[{"$f":"BONAFIDE.!AB1654","v":"EXTRA1"},{"$f":"BONAFIDE.!AE1654","v":0},null,{"$f":"BONAFIDE.!X1654","v":0},{"$f":"BONAFIDE.!Y1654","v":0},{"$f":"BONAFIDE.!Z1654","v":0},{"$f":"BONAFIDE.!AD1654","v":0},{"$f":"BONAFIDE.!AA1654","v":"00:00:00"},119,"119","EXTR","01190EXTR","00EXTR A1"]
[{"$f":"BONAFIDE.!AB1655","v":"EXTRA1"},{"$f":"BONAFIDE.!AE1655","v":0},null,{"$f":"BONAFIDE.!X1655","v":0},{"$f":"BONAFIDE.!Y1655","v":0},{"$f":"BONAFIDE.!Z1655","v":0},{"$f":"BONAFIDE.!AD1655","v":0},{"$f":"BONAFIDE.!AA1655","v":"00:00:00"},119,"119","EXTR","01190EXTR","00EXTR A1"]
[{"$f":"BONAFIDE.!AB1656","v":"EXTRA1"},{"$f":"BONAFIDE.!AE1656","v":0},null,{"$f":"BONAFIDE.!X1656","v":0},{"$f":"BONAFIDE.!Y1656","v":0},{"$f":"BONAFIDE.!Z1656","v":0},{"$f":"BONAFIDE.!AD1656","v":0},{"$f":"BONAFIDE.!AA1656","v":"00:00:00"},119,"119","EXTR","01190EXTR","00EXTR A1"]
[{"$f":"BONAFIDE.!AB1657","v":"EXTRA1"},{"$f":"BONAFIDE.!AE1657","v":0},null,{"$f":"BONAFIDE.!X1657","v":0},{"$f":"BONAFIDE.!Y1657","v":0},{"$f":"BONAFIDE.!Z1657","v":0},{"$f":"BONAFIDE.!AD1657","v":0},{"$f":"BONAFIDE.!AA1657","v":"00:00:00"},119,"119","EXTR","01190EXTR","00EXTR A1"]
[{"$f":"BONAFIDE.!AB1658","v":"EXTRA1"},{"$f":"BONAFIDE.!AE1658","v":0},null,{"$f":"BONAFIDE.!X1658","v":0},{"$f":"BONAFIDE.!Y1658","v":0},{"$f":"BONAFIDE.!Z1658","v":0},{"$f":"BONAFIDE.!AD1658","v":0},{"$f":"BONAFIDE.!AA1658","v":"00:00:00"},119,"119","EXTR","01190EXTR","00EXTR A1"]
[{"$f":"BONAFIDE.!AB1659","v":"EXTRA1"},{"$f":"BONAFIDE.!AE1659","v":0},null,{"$f":"BONAFIDE.!X1659","v":0},{"$f":"BONAFIDE.!Y1659","v":0},{"$f":"BONAFIDE.!Z1659","v":0},{"$f":"BONAFIDE.!AD1659","v":0},{"$f":"BONAFIDE.!AA1659","v":"00:00:00"},119,"119","EXTR","01190EXTR","00EXTR A1"]
[{"$f":"BONAFIDE.!AB1660","v":"EXTRA1"},{"$f":"BONAFIDE.!AE1660","v":0},null,{"$f":"BONAFIDE.!X1660","v":0},{"$f":"BONAFIDE.!Y1660","v":0},{"$f":"BONAFIDE.!Z1660","v":0},{"$f":"BONAFIDE.!AD1660","v":0},{"$f":"BONAFIDE.!AA1660","v":"00:00:00"},119,"119","EXTR","01190EXTR","00EXTR A1"]
[{"$f":"BONAFIDE.!AB1661","v":"EXTRA1"},{"$f":"BONAFIDE.!AE1661","v":0},null,{"$f":"BONAFIDE.!X1661","v":0},{"$f":"BONAFIDE.!Y1661","v":0},{"$f":"BONAFIDE.!Z1661","v":0},{"$f":"BONAFIDE.!AD1661","v":0},{"$f":"BONAFIDE.!AA1661","v":"00:00:00"},119,"119","EXTR","01190EXTR","00EXTR A1"]
[{"$f":"BONAFIDE.!AB1662","v":"EXTRA1"},{"$f":"BONAFIDE.!AE1662","v":0},null,{"$f":"BONAFIDE.!X1662","v":0},{"$f":"BONAFIDE.!Y1662","v":0},{"$f":"BONAFIDE.!Z1662","v":0},{"$f":"BONAFIDE.!AD1662","v":0},{"$f":"BONAFIDE.!AA1662","v":"00:00:00"},119,"119","EXTR","01190EXTR","00EXTR A1"]
[{"$f":"BONAFIDE.!AB1663","v":"EXTRA1"},{"$f":"BONAFIDE.!AE1663","v":0},null,{"$f":"BONAFIDE.!X1663","v":0},{"$f":"BONAFIDE.!Y1663","v":0},{"$f":"BONAFIDE.!Z1663","v":0},{"$f":"BONAFIDE.!AD1663","v":0},{"$f":"BONAFIDE.!AA1663","v":"00:00:00"},119,"119","EXTR","01190EXTR","00EXTR A1"]
[{"$f":"BONAFIDE.!AB1664","v":"EXTRA1"},{"$f":"BONAFIDE.!AE1664","v":0},null,{"$f":"BONAFIDE.!X1664","v":0},{"$f":"BONAFIDE.!Y1664","v":0},{"$f":"BONAFIDE.!Z1664","v":0},{"$f":"BONAFIDE.!AD1664","v":0},{"$f":"BONAFIDE.!AA1664","v":"00:00:00"},119,"119","EXTR","01190EXTR","00EXTR A1"]
[{"$f":"BONAFIDE.!AB1665","v":"EXTRA1"},{"$f":"BONAFIDE.!AE1665","v":0},null,{"$f":"BONAFIDE.!X1665","v":0},{"$f":"BONAFIDE.!Y1665","v":0},{"$f":"BONAFIDE.!Z1665","v":0},{"$f":"BONAFIDE.!AD1665","v":0},{"$f":"BONAFIDE.!AA1665","v":"00:00:00"},119,"119","EXTR","01190EXTR","00EXTR A1"]
[{"$f":"BONAFIDE.!AB1666","v":"00:00:00"},{"$f":"BONAFIDE.!AE1666","v":0},null,{"$f":"BONAFIDE.!X1666","v":0},{"$f":"BONAFIDE.!Y1666","v":0},{"$f":"BONAFIDE.!Z1666","v":0},{"$f":"BONAFIDE.!AD1666","v":0},{"$f":"BONAFIDE.!AA1666","v":"00:00:00"},119,"119",{"$error":"#VALUE!"},{"$error":"#VALUE!"},{"$error":"#VALUE!"}]
[{"$f":"BONAFIDE.!AB1667","v":"EXTRA2"},{"$f":"BONAFIDE.!AE1667","v":0},null,{"$f":"BONAFIDE.!X1667","v":0},{"$f":"BONAFIDE.!Y1667","v":0},{"$f":"BONAFIDE.!Z1667","v":0},{"$f":"BONAFIDE.!AD1667","v":0},{"$f":"BONAFIDE.!AA1667","v":"00:00:00"},119,"119","EXTR","01190EXTR","00EXTR A2"]
[{"$f":"BONAFIDE.!AB1668","v":"EXTRA2"},{"$f":"BONAFIDE.!AE1668","v":0},null,{"$f":"BONAFIDE.!X1668","v":0},{"$f":"BONAFIDE.!Y1668","v":0},{"$f":"BONAFIDE.!Z1668","v":0},{"$f":"BONAFIDE.!AD1668","v":0},{"$f":"BONAFIDE.!AA1668","v":"00:00:00"},119,"119","EXTR","01190EXTR","00EXTR A2"]
[{"$f":"BONAFIDE.!AB1669","v":"EXTRA2"},{"$f":"BONAFIDE.!AE1669","v":0},null,{"$f":"BONAFIDE.!X1669","v":0},{"$f":"BONAFIDE.!Y1669","v":0},{"$f":"BONAFIDE.!Z1669","v":0},{"$f":"BONAFIDE.!AD1669","v":0},{"$f":"BONAFIDE.!AA1669","v":"00:00:00"},119,"119","EXTR","01190EXTR","00EXTR A2"]
[{"$f":"BONAFIDE.!AB1670","v":"EXTRA2"},{"$f":"BONAFIDE.!AE1670","v":0},null,{"$f":"BONAFIDE.!X1670","v":0},{"$f":"BONAFIDE.!Y1670","v":0},{"$f":"BONAFIDE.!Z1670","v":0},{"$f":"BONAFIDE.!AD1670","v":0},{"$f":"BONAFIDE.!AA1670","v":"00:00:00"},119,"119","EXTR","01190EXTR","00EXTR A2"]
[{"$f":"BONAFIDE.!AB1671","v":"EXTRA2"},{"$f":"BONAFIDE.!AE1671","v":0},null,{"$f":"BONAFIDE.!X1671","v":0},{"$f":"BONAFIDE.!Y1671","v":0},{"$f":"BONAFIDE.!Z1671","v":0},{"$f":"BONAFIDE.!AD1671","v":0},{"$f":"BONAFIDE.!AA1671","v":"00:00:00"},{"$f":"DATEDIF(H1668,CUTOFFDT,\"Y\")","v":119},{"$f":"fillno(I1668)","v":"119"},{"$f":"MID(A1668,1,LEN(A1668)-2)","v":"EXTR"},{"$f":"B1668&J1668&G1668&K1668","v":"01190EXTR"},{"$f":"B1668&G1668&MID(A1668,1,LEN(A1668)-2)&\" \" & RIGHT(A1668,2)","v":"00EXTR A2"}]
[{"$f":"BONAFIDE.!AB1672","v":"EXTRA2"},{"$f":"BONAFIDE.!AE1672","v":0},null,{"$f":"BONAFIDE.!X1672","v":0},{"$f":"BONAFIDE.!Y1672","v":0},{"$f":"BONAFIDE.!Z1672","v":0},{"$f":"BONAFIDE.!AD1672","v":0},{"$f":"BONAFIDE.!AA1672","v":"00:00:00"},119,"119","EXTR","01190EXTR","00EXTR A2"]
[{"$f":"BONAFIDE.!AB1673","v":"EXTRA2"},{"$f":"BONAFIDE.!AE1673","v":0},null,{"$f":"BONAFIDE.!X1673","v":0},{"$f":"BONAFIDE.!Y1673","v":0},{"$f":"BONAFIDE.!Z1673","v":0},{"$f":"BONAFIDE.!AD1673","v":0},{"$f":"BONAFIDE.!AA1673","v":"00:00:00"},119,"119","EXTR","01190EXTR","00EXTR A2"]
[{"$f":"BONAFIDE.!AB1674","v":"EXTRA2"},{"$f":"BONAFIDE.!AE1674","v":0},null,{"$f":"BONAFIDE.!X1674","v":0},{"$f":"BONAFIDE.!Y1674","v":0},{"$f":"BONAFIDE.!Z1674","v":0},{"$f":"BONAFIDE.!AD1674","v":0},{"$f":"BONAFIDE.!AA1674","v":"00:00:00"},119,"119","EXTR","01190EXTR","00EXTR A2"]
[{"$f":"BONAFIDE.!AB1675","v":"EXTRA2"},{"$f":"BONAFIDE.!AE1675","v":0},null,{"$f":"BONAFIDE.!X1675","v":0},{"$f":"BONAFIDE.!Y1675","v":0},{"$f":"BONAFIDE.!Z1675","v":0},{"$f":"BONAFIDE.!AD1675","v":0},{"$f":"BONAFIDE.!AA1675","v":"00:00:00"},119,"119","EXTR","01190EXTR","00EXTR A2"]
[{"$f":"BONAFIDE.!AB1676","v":"EXTRA2"},{"$f":"BONAFIDE.!AE1676","v":0},null,{"$f":"BONAFIDE.!X1676","v":0},{"$f":"BONAFIDE.!Y1676","v":0},{"$f":"BONAFIDE.!Z1676","v":0},{"$f":"BONAFIDE.!AD1676","v":0},{"$f":"BONAFIDE.!AA1676","v":"00:00:00"},119,"119","EXTR","01190EXTR","00EXTR A2"]
[{"$f":"BONAFIDE.!AB1677","v":"EXTRA2"},{"$f":"BONAFIDE.!AE1677","v":0},null,{"$f":"BONAFIDE.!X1677","v":0},{"$f":"BONAFIDE.!Y1677","v":0},{"$f":"BONAFIDE.!Z1677","v":0},{"$f":"BONAFIDE.!AD1677","v":0},{"$f":"BONAFIDE.!AA1677","v":"00:00:00"},119,"119","EXTR","01190EXTR","00EXTR A2"]
[{"$f":"BONAFIDE.!AB1678","v":"EXTRA2"},{"$f":"BONAFIDE.!AE1678","v":0},null,{"$f":"BONAFIDE.!X1678","v":0},{"$f":"BONAFIDE.!Y1678","v":0},{"$f":"BONAFIDE.!Z1678","v":0},{"$f":"BONAFIDE.!AD1678","v":0},{"$f":"BONAFIDE.!AA1678","v":"00:00:00"},119,"119","EXTR","01190EXTR","00EXTR A2"]
[{"$f":"BONAFIDE.!AB1679","v":"EXTRA2"},{"$f":"BONAFIDE.!AE1679","v":0},null,{"$f":"BONAFIDE.!X1679","v":0},{"$f":"BONAFIDE.!Y1679","v":0},{"$f":"BONAFIDE.!Z1679","v":0},{"$f":"BONAFIDE.!AD1679","v":0},{"$f":"BONAFIDE.!AA1679","v":"00:00:00"},119,"119","EXTR","01190EXTR","00EXTR A2"]
[{"$f":"BONAFIDE.!AB1680","v":"EXTRA2"},{"$f":"BONAFIDE.!AE1680","v":0},null,{"$f":"BONAFIDE.!X1680","v":0},{"$f":"BONAFIDE.!Y1680","v":0},{"$f":"BONAFIDE.!Z1680","v":0},{"$f":"BONAFIDE.!AD1680","v":0},{"$f":"BONAFIDE.!AA1680","v":"00:00:00"},119,"119","EXTR","01190EXTR","00EXTR A2"]
[{"$f":"BONAFIDE.!AB1681","v":"EXTRA2"},{"$f":"BONAFIDE.!AE1681","v":0},null,{"$f":"BONAFIDE.!X1681","v":0},{"$f":"BONAFIDE.!Y1681","v":0},{"$f":"BONAFIDE.!Z1681","v":0},{"$f":"BONAFIDE.!AD1681","v":0},{"$f":"BONAFIDE.!AA1681","v":"00:00:00"},119,"119","EXTR","01190EXTR","00EXTR A2"]
[{"$f":"BONAFIDE.!AB1682","v":"EXTRA2"},{"$f":"BONAFIDE.!AE1682","v":0},null,{"$f":"BONAFIDE.!X1682","v":0},{"$f":"BONAFIDE.!Y1682","v":0},{"$f":"BONAFIDE.!Z1682","v":0},{"$f":"BONAFIDE.!AD1682","v":0},{"$f":"BONAFIDE.!AA1682","v":"00:00:00"},119,"119","EXTR","01190EXTR","00EXTR A2"]
[{"$f":"BONAFIDE.!AB1683","v":"EXTRA2"},{"$f":"BONAFIDE.!AE1683","v":0},null,{"$f":"BONAFIDE.!X1683","v":0},{"$f":"BONAFIDE.!Y1683","v":0},{"$f":"BONAFIDE.!Z1683","v":0},{"$f":"BONAFIDE.!AD1683","v":0},{"$f":"BONAFIDE.!AA1683","v":"00:00:00"},119,"119","EXTR","01190EXTR","00EXTR A2"]
[{"$f":"BONAFIDE.!AB1684","v":"EXTRA2"},{"$f":"BONAFIDE.!AE1684","v":0},null,{"$f":"BONAFIDE.!X1684","v":0},{"$f":"BONAFIDE.!Y1684","v":0},{"$f":"BONAFIDE.!Z1684","v":0},{"$f":"BONAFIDE.!AD1684","v":0},{"$f":"BONAFIDE.!AA1684","v":"00:00:00"},119,"119","EXTR","01190EXTR","00EXTR A2"]
[{"$f":"BONAFIDE.!AB1685","v":"EXTRA2"},{"$f":"BONAFIDE.!AE1685","v":0},null,{"$f":"BONAFIDE.!X1685","v":0},{"$f":"BONAFIDE.!Y1685","v":0},{"$f":"BONAFIDE.!Z1685","v":0},{"$f":"BONAFIDE.!AD1685","v":0},{"$f":"BONAFIDE.!AA1685","v":"00:00:00"},119,"119","EXTR","01190EXTR","00EXTR A2"]
[{"$f":"BONAFIDE.!AB1686","v":"EXTRA2"},{"$f":"BONAFIDE.!AE1686","v":0},null,{"$f":"BONAFIDE.!X1686","v":0},{"$f":"BONAFIDE.!Y1686","v":0},{"$f":"BONAFIDE.!Z1686","v":0},{"$f":"BONAFIDE.!AD1686","v":0},{"$f":"BONAFIDE.!AA1686","v":"00:00:00"},119,"119","EXTR","01190EXTR","00EXTR A2"]
[{"$f":"BONAFIDE.!AB1687","v":"EXTRA2"},{"$f":"BONAFIDE.!AE1687","v":0},null,{"$f":"BONAFIDE.!X1687","v":0},{"$f":"BONAFIDE.!Y1687","v":0},{"$f":"BONAFIDE.!Z1687","v":0},{"$f":"BONAFIDE.!AD1687","v":0},{"$f":"BONAFIDE.!AA1687","v":"00:00:00"},119,"119","EXTR","01190EXTR","00EXTR A2"]
[{"$f":"BONAFIDE.!AB1688","v":"EXTRA2"},{"$f":"BONAFIDE.!AE1688","v":0},null,{"$f":"BONAFIDE.!X1688","v":0},{"$f":"BONAFIDE.!Y1688","v":0},{"$f":"BONAFIDE.!Z1688","v":0},{"$f":"BONAFIDE.!AD1688","v":0},{"$f":"BONAFIDE.!AA1688","v":"00:00:00"},119,"119","EXTR","01190EXTR","00EXTR A2"]
[{"$f":"BONAFIDE.!AB1689","v":"EXTRA2"},{"$f":"BONAFIDE.!AE1689","v":0},null,{"$f":"BONAFIDE.!X1689","v":0},{"$f":"BONAFIDE.!Y1689","v":0},{"$f":"BONAFIDE.!Z1689","v":0},{"$f":"BONAFIDE.!AD1689","v":0},{"$f":"BONAFIDE.!AA1689","v":"00:00:00"},119,"119","EXTR","01190EXTR","00EXTR A2"]
[{"$f":"BONAFIDE.!AB1690","v":"EXTRA2"},{"$f":"BONAFIDE.!AE1690","v":0},null,{"$f":"BONAFIDE.!X1690","v":0},{"$f":"BONAFIDE.!Y1690","v":0},{"$f":"BONAFIDE.!Z1690","v":0},{"$f":"BONAFIDE.!AD1690","v":0},{"$f":"BONAFIDE.!AA1690","v":"00:00:00"},119,"119","EXTR","01190EXTR","00EXTR A2"]
[{"$f":"BONAFIDE.!AB1691","v":"EXTRA2"},{"$f":"BONAFIDE.!AE1691","v":0},null,{"$f":"BONAFIDE.!X1691","v":0},{"$f":"BONAFIDE.!Y1691","v":0},{"$f":"BONAFIDE.!Z1691","v":0},{"$f":"BONAFIDE.!AD1691","v":0},{"$f":"BONAFIDE.!AA1691","v":"00:00:00"},119,"119","EXTR","01190EXTR","00EXTR A2"]
[{"$f":"BONAFIDE.!AB1692","v":"EXTRA2"},{"$f":"BONAFIDE.!AE1692","v":0},null,{"$f":"BONAFIDE.!X1692","v":0},{"$f":"BONAFIDE.!Y1692","v":0},{"$f":"BONAFIDE.!Z1692","v":0},{"$f":"BONAFIDE.!AD1692","v":0},{"$f":"BONAFIDE.!AA1692","v":"00:00:00"},119,"119","EXTR","01190EXTR","00EXTR A2"]
[{"$f":"BONAFIDE.!AB1693","v":"EXTRA2"},{"$f":"BONAFIDE.!AE1693","v":0},null,{"$f":"BONAFIDE.!X1693","v":0},{"$f":"BONAFIDE.!Y1693","v":0},{"$f":"BONAFIDE.!Z1693","v":0},{"$f":"BONAFIDE.!AD1693","v":0},{"$f":"BONAFIDE.!AA1693","v":"00:00:00"},119,"119","EXTR","01190EXTR","00EXTR A2"]
[{"$f":"BONAFIDE.!AB1694","v":"EXTRA2"},{"$f":"BONAFIDE.!AE1694","v":0},null,{"$f":"BONAFIDE.!X1694","v":0},{"$f":"BONAFIDE.!Y1694","v":0},{"$f":"BONAFIDE.!Z1694","v":0},{"$f":"BONAFIDE.!AD1694","v":0},{"$f":"BONAFIDE.!AA1694","v":"00:00:00"},119,"119","EXTR","01190EXTR","00EXTR A2"]
[{"$f":"BONAFIDE.!AB1695","v":"EXTRA2"},{"$f":"BONAFIDE.!AE1695","v":0},null,{"$f":"BONAFIDE.!X1695","v":0},{"$f":"BONAFIDE.!Y1695","v":0},{"$f":"BONAFIDE.!Z1695","v":0},{"$f":"BONAFIDE.!AD1695","v":0},{"$f":"BONAFIDE.!AA1695","v":"00:00:00"},119,"119","EXTR","01190EXTR","00EXTR A2"]
[{"$f":"BONAFIDE.!AB1696","v":"EXTRA2"},{"$f":"BONAFIDE.!AE1696","v":0},null,{"$f":"BONAFIDE.!X1696","v":0},{"$f":"BONAFIDE.!Y1696","v":0},{"$f":"BONAFIDE.!Z1696","v":0},{"$f":"BONAFIDE.!AD1696","v":0},{"$f":"BONAFIDE.!AA1696","v":"00:00:00"},119,"119","EXTR","01190EXTR","00EXTR A2"]
[{"$f":"BONAFIDE.!AB1697","v":"EXTRA2"},{"$f":"BONAFIDE.!AE1697","v":0},null,{"$f":"BONAFIDE.!X1697","v":0},{"$f":"BONAFIDE.!Y1697","v":0},{"$f":"BONAFIDE.!Z1697","v":0},{"$f":"BONAFIDE.!AD1697","v":0},{"$f":"BONAFIDE.!AA1697","v":"00:00:00"},119,"119","EXTR","01190EXTR","00EXTR A2"]
[{"$f":"BONAFIDE.!AB1698","v":"EXTRA2"},{"$f":"BONAFIDE.!AE1698","v":0},null,{"$f":"BONAFIDE.!X1698","v":0},{"$f":"BONAFIDE.!Y1698","v":0},{"$f":"BONAFIDE.!Z1698","v":0},{"$f":"BONAFIDE.!AD1698","v":0},{"$f":"BONAFIDE.!AA1698","v":"00:00:00"},119,"119","EXTR","01190EXTR","00EXTR A2"]
[{"$f":"BONAFIDE.!AB1699","v":"EXTRA2"},{"$f":"BONAFIDE.!AE1699","v":0},null,{"$f":"BONAFIDE.!X1699","v":0},{"$f":"BONAFIDE.!Y1699","v":0},{"$f":"BONAFIDE.!Z1699","v":0},{"$f":"BONAFIDE.!AD1699","v":0},{"$f":"BONAFIDE.!AA1699","v":"00:00:00"},119,"119","EXTR","01190EXTR","00EXTR A2"]
[{"$f":"BONAFIDE.!AB1700","v":"EXTRA2"},{"$f":"BONAFIDE.!AE1700","v":0},null,{"$f":"BONAFIDE.!X1700","v":0},{"$f":"BONAFIDE.!Y1700","v":0},{"$f":"BONAFIDE.!Z1700","v":0},{"$f":"BONAFIDE.!AD1700","v":0},{"$f":"BONAFIDE.!AA1700","v":"00:00:00"},119,"119","EXTR","01190EXTR","00EXTR A2"]
[{"$f":"BONAFIDE.!AB1701","v":"EXTRA2"},{"$f":"BONAFIDE.!AE1701","v":0},null,{"$f":"BONAFIDE.!X1701","v":0},{"$f":"BONAFIDE.!Y1701","v":0},{"$f":"BONAFIDE.!Z1701","v":0},{"$f":"BONAFIDE.!AD1701","v":0},{"$f":"BONAFIDE.!AA1701","v":"00:00:00"},119,"119","EXTR","01190EXTR","00EXTR A2"]
[{"$f":"BONAFIDE.!AB1702","v":"EXTRA2"},{"$f":"BONAFIDE.!AE1702","v":0},null,{"$f":"BONAFIDE.!X1702","v":0},{"$f":"BONAFIDE.!Y1702","v":0},{"$f":"BONAFIDE.!Z1702","v":0},{"$f":"BONAFIDE.!AD1702","v":0},{"$f":"BONAFIDE.!AA1702","v":"00:00:00"},119,"119","EXTR","01190EXTR","00EXTR A2"]
[{"$f":"BONAFIDE.!AB1703","v":"EXTRA2"},{"$f":"BONAFIDE.!AE1703","v":0},null,{"$f":"BONAFIDE.!X1703","v":0},{"$f":"BONAFIDE.!Y1703","v":0},{"$f":"BONAFIDE.!Z1703","v":0},{"$f":"BONAFIDE.!AD1703","v":0},{"$f":"BONAFIDE.!AA1703","v":"00:00:00"},119,"119","EXTR","01190EXTR","00EXTR A2"]
[{"$f":"BONAFIDE.!AB1704","v":"EXTRA2"},{"$f":"BONAFIDE.!AE1704","v":0},null,{"$f":"BONAFIDE.!X1704","v":0},{"$f":"BONAFIDE.!Y1704","v":0},{"$f":"BONAFIDE.!Z1704","v":0},{"$f":"BONAFIDE.!AD1704","v":0},{"$f":"BONAFIDE.!AA1704","v":"00:00:00"},119,"119","EXTR","01190EXTR","00EXTR A2"]
[{"$f":"BONAFIDE.!AB1705","v":"EXTRA2"},{"$f":"BONAFIDE.!AE1705","v":0},null,{"$f":"BONAFIDE.!X1705","v":0},{"$f":"BONAFIDE.!Y1705","v":0},{"$f":"BONAFIDE.!Z1705","v":0},{"$f":"BONAFIDE.!AD1705","v":0},{"$f":"BONAFIDE.!AA1705","v":"00:00:00"},119,"119","EXTR","01190EXTR","00EXTR A2"]
[{"$f":"BONAFIDE.!AB1706","v":"EXTRA2"},{"$f":"BONAFIDE.!AE1706","v":0},null,{"$f":"BONAFIDE.!X1706","v":0},{"$f":"BONAFIDE.!Y1706","v":0},{"$f":"BONAFIDE.!Z1706","v":0},{"$f":"BONAFIDE.!AD1706","v":0},{"$f":"BONAFIDE.!AA1706","v":"00:00:00"},119,"119","EXTR","01190EXTR","00EXTR A2"]
[{"$f":"BONAFIDE.!AB1707","v":"EXTRA2"},{"$f":"BONAFIDE.!AE1707","v":0},null,{"$f":"BONAFIDE.!X1707","v":0},{"$f":"BONAFIDE.!Y1707","v":0},{"$f":"BONAFIDE.!Z1707","v":0},{"$f":"BONAFIDE.!AD1707","v":0},{"$f":"BONAFIDE.!AA1707","v":"00:00:00"},119,"119","EXTR","01190EXTR","00EXTR A2"]
[{"$f":"BONAFIDE.!AB1708","v":"EXTRA2"},{"$f":"BONAFIDE.!AE1708","v":0},null,{"$f":"BONAFIDE.!X1708","v":0},{"$f":"BONAFIDE.!Y1708","v":0},{"$f":"BONAFIDE.!Z1708","v":0},{"$f":"BONAFIDE.!AD1708","v":0},{"$f":"BONAFIDE.!AA1708","v":"00:00:00"},119,"119","EXTR","01190EXTR","00EXTR A2"]
[{"$f":"BONAFIDE.!AB1709","v":"EXTRA2"},{"$f":"BONAFIDE.!AE1709","v":0},null,{"$f":"BONAFIDE.!X1709","v":0},{"$f":"BONAFIDE.!Y1709","v":0},{"$f":"BONAFIDE.!Z1709","v":0},{"$f":"BONAFIDE.!AD1709","v":0},{"$f":"BONAFIDE.!AA1709","v":"00:00:00"},119,"119","EXTR","01190EXTR","00EXTR A2"]
[{"$f":"BONAFIDE.!AB1710","v":"EXTRA2"},{"$f":"BONAFIDE.!AE1710","v":0},null,{"$f":"BONAFIDE.!X1710","v":0},{"$f":"BONAFIDE.!Y1710","v":0},{"$f":"BONAFIDE.!Z1710","v":0},{"$f":"BONAFIDE.!AD1710","v":0},{"$f":"BONAFIDE.!AA1710","v":"00:00:00"},119,"119","EXTR","01190EXTR","00EXTR A2"]
[{"$f":"BONAFIDE.!AB1711","v":"EXTRA2"},{"$f":"BONAFIDE.!AE1711","v":0},null,{"$f":"BONAFIDE.!X1711","v":0},{"$f":"BONAFIDE.!Y1711","v":0},{"$f":"BONAFIDE.!Z1711","v":0},{"$f":"BONAFIDE.!AD1711","v":0},{"$f":"BONAFIDE.!AA1711","v":"00:00:00"},119,"119","EXTR","01190EXTR","00EXTR A2"]
[{"$f":"BONAFIDE.!AB1712","v":"EXTRA2"},{"$f":"BONAFIDE.!AE1712","v":0},null,{"$f":"BONAFIDE.!X1712","v":0},{"$f":"BONAFIDE.!Y1712","v":0},{"$f":"BONAFIDE.!Z1712","v":0},{"$f":"BONAFIDE.!AD1712","v":0},{"$f":"BONAFIDE.!AA1712","v":"00:00:00"},119,"119","EXTR","01190EXTR","00EXTR A2"]
[{"$f":"BONAFIDE.!AB1713","v":"EXTRA2"},{"$f":"BONAFIDE.!AE1713","v":0},null,{"$f":"BONAFIDE.!X1713","v":0},{"$f":"BONAFIDE.!Y1713","v":0},{"$f":"BONAFIDE.!Z1713","v":0},{"$f":"BONAFIDE.!AD1713","v":0},{"$f":"BONAFIDE.!AA1713","v":"00:00:00"},119,"119","EXTR","01190EXTR","00EXTR A2"]
[{"$f":"BONAFIDE.!AB1714","v":"EXTRA2"},{"$f":"BONAFIDE.!AE1714","v":0},null,{"$f":"BONAFIDE.!X1714","v":0},{"$f":"BONAFIDE.!Y1714","v":0},{"$f":"BONAFIDE.!Z1714","v":0},{"$f":"BONAFIDE.!AD1714","v":0},{"$f":"BONAFIDE.!AA1714","v":"00:00:00"},119,"119","EXTR","01190EXTR","00EXTR A2"]
[{"$f":"BONAFIDE.!AB1715","v":"EXTRA2"},{"$f":"BONAFIDE.!AE1715","v":0},null,{"$f":"BONAFIDE.!X1715","v":0},{"$f":"BONAFIDE.!Y1715","v":0},{"$f":"BONAFIDE.!Z1715","v":0},{"$f":"BONAFIDE.!AD1715","v":0},{"$f":"BONAFIDE.!AA1715","v":"00:00:00"},119,"119","EXTR","01190EXTR","00EXTR A2"]
[{"$f":"BONAFIDE.!AB1716","v":"EXTRA2"},{"$f":"BONAFIDE.!AE1716","v":0},null,{"$f":"BONAFIDE.!X1716","v":0},{"$f":"BONAFIDE.!Y1716","v":0},{"$f":"BONAFIDE.!Z1716","v":0},{"$f":"BONAFIDE.!AD1716","v":0},{"$f":"BONAFIDE.!AA1716","v":"00:00:00"},119,"119","EXTR","01190EXTR","00EXTR A2"]
[{"$f":"BONAFIDE.!AB1717","v":"EXTRA2"},{"$f":"BONAFIDE.!AE1717","v":0},null,{"$f":"BONAFIDE.!X1717","v":0},{"$f":"BONAFIDE.!Y1717","v":0},{"$f":"BONAFIDE.!Z1717","v":0},{"$f":"BONAFIDE.!AD1717","v":0},{"$f":"BONAFIDE.!AA1717","v":"00:00:00"},119,"119","EXTR","01190EXTR","00EXTR A2"]
[{"$f":"BONAFIDE.!AB1718","v":"EXTRA2"},{"$f":"BONAFIDE.!AE1718","v":0},null,{"$f":"BONAFIDE.!X1718","v":0},{"$f":"BONAFIDE.!Y1718","v":0},{"$f":"BONAFIDE.!Z1718","v":0},{"$f":"BONAFIDE.!AD1718","v":0},{"$f":"BONAFIDE.!AA1718","v":"00:00:00"},119,"119","EXTR","01190EXTR","00EXTR A2"]
[{"$f":"BONAFIDE.!AB1719","v":"EXTRA2"},{"$f":"BONAFIDE.!AE1719","v":0},null,{"$f":"BONAFIDE.!X1719","v":0},{"$f":"BONAFIDE.!Y1719","v":0},{"$f":"BONAFIDE.!Z1719","v":0},{"$f":"BONAFIDE.!AD1719","v":0},{"$f":"BONAFIDE.!AA1719","v":"00:00:00"},119,"119","EXTR","01190EXTR","00EXTR A2"]
[{"$f":"BONAFIDE.!AB1720","v":"EXTRA2"},{"$f":"BONAFIDE.!AE1720","v":0},null,{"$f":"BONAFIDE.!X1720","v":0},{"$f":"BONAFIDE.!Y1720","v":0},{"$f":"BONAFIDE.!Z1720","v":0},{"$f":"BONAFIDE.!AD1720","v":0},{"$f":"BONAFIDE.!AA1720","v":"00:00:00"},119,"119","EXTR","01190EXTR","00EXTR A2"]
[{"$f":"BONAFIDE.!AB1721","v":"EXTRA2"},{"$f":"BONAFIDE.!AE1721","v":0},null,{"$f":"BONAFIDE.!X1721","v":0},{"$f":"BONAFIDE.!Y1721","v":0},{"$f":"BONAFIDE.!Z1721","v":0},{"$f":"BONAFIDE.!AD1721","v":0},{"$f":"BONAFIDE.!AA1721","v":"00:00:00"},119,"119","EXTR","01190EXTR","00EXTR A2"]
[{"$f":"BONAFIDE.!AB1722","v":"EXTRA2"},{"$f":"BONAFIDE.!AE1722","v":0},null,{"$f":"BONAFIDE.!X1722","v":0},{"$f":"BONAFIDE.!Y1722","v":0},{"$f":"BONAFIDE.!Z1722","v":0},{"$f":"BONAFIDE.!AD1722","v":0},{"$f":"BONAFIDE.!AA1722","v":"00:00:00"},119,"119","EXTR","01190EXTR","00EXTR A2"]
[{"$f":"BONAFIDE.!AB1723","v":"EXTRA2"},{"$f":"BONAFIDE.!AE1723","v":0},null,{"$f":"BONAFIDE.!X1723","v":0},{"$f":"BONAFIDE.!Y1723","v":0},{"$f":"BONAFIDE.!Z1723","v":0},{"$f":"BONAFIDE.!AD1723","v":0},{"$f":"BONAFIDE.!AA1723","v":"00:00:00"},119,"119","EXTR","01190EXTR","00EXTR A2"]
[{"$f":"BONAFIDE.!AB1724","v":"EXTRA2"},{"$f":"BONAFIDE.!AE1724","v":0},null,{"$f":"BONAFIDE.!X1724","v":0},{"$f":"BONAFIDE.!Y1724","v":0},{"$f":"BONAFIDE.!Z1724","v":0},{"$f":"BONAFIDE.!AD1724","v":0},{"$f":"BONAFIDE.!AA1724","v":"00:00:00"},119,"119","EXTR","01190EXTR","00EXTR A2"]
[{"$f":"BONAFIDE.!AB1725","v":"EXTRA2"},{"$f":"BONAFIDE.!AE1725","v":0},null,{"$f":"BONAFIDE.!X1725","v":0},{"$f":"BONAFIDE.!Y1725","v":0},{"$f":"BONAFIDE.!Z1725","v":0},{"$f":"BONAFIDE.!AD1725","v":0},{"$f":"BONAFIDE.!AA1725","v":"00:00:00"},119,"119","EXTR","01190EXTR","00EXTR A2"]
[{"$f":"BONAFIDE.!AB1726","v":"EXTRA2"},{"$f":"BONAFIDE.!AE1726","v":0},null,{"$f":"BONAFIDE.!X1726","v":0},{"$f":"BONAFIDE.!Y1726","v":0},{"$f":"BONAFIDE.!Z1726","v":0},{"$f":"BONAFIDE.!AD1726","v":0},{"$f":"BONAFIDE.!AA1726","v":"00:00:00"},119,"119","EXTR","01190EXTR","00EXTR A2"]
[{"$f":"BONAFIDE.!AB1727","v":"EXTRA2"},{"$f":"BONAFIDE.!AE1727","v":0},null,{"$f":"BONAFIDE.!X1727","v":0},{"$f":"BONAFIDE.!Y1727","v":0},{"$f":"BONAFIDE.!Z1727","v":0},{"$f":"BONAFIDE.!AD1727","v":0},{"$f":"BONAFIDE.!AA1727","v":"00:00:00"},119,"119","EXTR","01190EXTR","00EXTR A2"]
[{"$f":"BONAFIDE.!AB1728","v":"EXTRA2"},{"$f":"BONAFIDE.!AE1728","v":0},null,{"$f":"BONAFIDE.!X1728","v":0},{"$f":"BONAFIDE.!Y1728","v":0},{"$f":"BONAFIDE.!Z1728","v":0},{"$f":"BONAFIDE.!AD1728","v":0},{"$f":"BONAFIDE.!AA1728","v":"00:00:00"},119,"119","EXTR","01190EXTR","00EXTR A2"]
[{"$f":"BONAFIDE.!AB1729","v":"EXTRA2"},{"$f":"BONAFIDE.!AE1729","v":0},null,{"$f":"BONAFIDE.!X1729","v":0},{"$f":"BONAFIDE.!Y1729","v":0},{"$f":"BONAFIDE.!Z1729","v":0},{"$f":"BONAFIDE.!AD1729","v":0},{"$f":"BONAFIDE.!AA1729","v":"00:00:00"},119,"119","EXTR","01190EXTR","00EXTR A2"]
[{"$f":"BONAFIDE.!AB1730","v":"EXTRA2"},{"$f":"BONAFIDE.!AE1730","v":0},null,{"$f":"BONAFIDE.!X1730","v":0},{"$f":"BONAFIDE.!Y1730","v":0},{"$f":"BONAFIDE.!Z1730","v":0},{"$f":"BONAFIDE.!AD1730","v":0},{"$f":"BONAFIDE.!AA1730","v":"00:00:00"},119,"119","EXTR","01190EXTR","00EXTR A2"]
[{"$f":"BONAFIDE.!AB1731","v":"EXTRA2"},{"$f":"BONAFIDE.!AE1731","v":0},null,{"$f":"BONAFIDE.!X1731","v":0},{"$f":"BONAFIDE.!Y1731","v":0},{"$f":"BONAFIDE.!Z1731","v":0},{"$f":"BONAFIDE.!AD1731","v":0},{"$f":"BONAFIDE.!AA1731","v":"00:00:00"},119,"119","EXTR","01190EXTR","00EXTR A2"]
[{"$f":"BONAFIDE.!AB1732","v":"EXTRA2"},{"$f":"BONAFIDE.!AE1732","v":0},null,{"$f":"BONAFIDE.!X1732","v":0},{"$f":"BONAFIDE.!Y1732","v":0},{"$f":"BONAFIDE.!Z1732","v":0},{"$f":"BONAFIDE.!AD1732","v":0},{"$f":"BONAFIDE.!AA1732","v":"00:00:00"},119,"119","EXTR","01190EXTR","00EXTR A2"]
[{"$f":"BONAFIDE.!AB1733","v":"EXTRA2"},{"$f":"BONAFIDE.!AE1733","v":0},null,{"$f":"BONAFIDE.!X1733","v":0},{"$f":"BONAFIDE.!Y1733","v":0},{"$f":"BONAFIDE.!Z1733","v":0},{"$f":"BONAFIDE.!AD1733","v":0},{"$f":"BONAFIDE.!AA1733","v":"00:00:00"},119,"119","EXTR","01190EXTR","00EXTR A2"]
[{"$f":"BONAFIDE.!AB1734","v":"EXTRA2"},{"$f":"BONAFIDE.!AE1734","v":0},null,{"$f":"BONAFIDE.!X1734","v":0},{"$f":"BONAFIDE.!Y1734","v":0},{"$f":"BONAFIDE.!Z1734","v":0},{"$f":"BONAFIDE.!AD1734","v":0},{"$f":"BONAFIDE.!AA1734","v":"00:00:00"},119,"119","EXTR","01190EXTR","00EXTR A2"]
[{"$f":"BONAFIDE.!AB1735","v":"EXTRA2"},{"$f":"BONAFIDE.!AE1735","v":0},null,{"$f":"BONAFIDE.!X1735","v":0},{"$f":"BONAFIDE.!Y1735","v":0},{"$f":"BONAFIDE.!Z1735","v":0},{"$f":"BONAFIDE.!AD1735","v":0},{"$f":"BONAFIDE.!AA1735","v":"00:00:00"},{"$f":"DATEDIF(H1732,CUTOFFDT,\"Y\")","v":119},{"$f":"fillno(I1732)","v":"119"},{"$f":"MID(A1732,1,LEN(A1732)-2)","v":"EXTR"},{"$f":"B1732&J1732&G1732&K1732","v":"01190EXTR"},{"$f":"B1732&G1732&MID(A1732,1,LEN(A1732)-2)&\" \" & RIGHT(A1732,2)","v":"00EXTR A2"}]
[{"$f":"BONAFIDE.!AB1736","v":"EXTRA2"},{"$f":"BONAFIDE.!AE1736","v":0},null,{"$f":"BONAFIDE.!X1736","v":0},{"$f":"BONAFIDE.!Y1736","v":0},{"$f":"BONAFIDE.!Z1736","v":0},{"$f":"BONAFIDE.!AD1736","v":0},{"$f":"BONAFIDE.!AA1736","v":"00:00:00"},119,"119","EXTR","01190EXTR","00EXTR A2"]
[{"$f":"BONAFIDE.!AB1737","v":"EXTRA2"},{"$f":"BONAFIDE.!AE1737","v":0},null,{"$f":"BONAFIDE.!X1737","v":0},{"$f":"BONAFIDE.!Y1737","v":0},{"$f":"BONAFIDE.!Z1737","v":0},{"$f":"BONAFIDE.!AD1737","v":0},{"$f":"BONAFIDE.!AA1737","v":"00:00:00"},119,"119","EXTR","01190EXTR","00EXTR A2"]
[{"$f":"BONAFIDE.!AB1738","v":"EXTRA2"},{"$f":"BONAFIDE.!AE1738","v":0},null,{"$f":"BONAFIDE.!X1738","v":0},{"$f":"BONAFIDE.!Y1738","v":0},{"$f":"BONAFIDE.!Z1738","v":0},{"$f":"BONAFIDE.!AD1738","v":0},{"$f":"BONAFIDE.!AA1738","v":"00:00:00"},119,"119","EXTR","01190EXTR","00EXTR A2"]
[{"$f":"BONAFIDE.!AB1739","v":"EXTRA2"},{"$f":"BONAFIDE.!AE1739","v":0},null,{"$f":"BONAFIDE.!X1739","v":0},{"$f":"BONAFIDE.!Y1739","v":0},{"$f":"BONAFIDE.!Z1739","v":0},{"$f":"BONAFIDE.!AD1739","v":0},{"$f":"BONAFIDE.!AA1739","v":"00:00:00"},119,"119","EXTR","01190EXTR","00EXTR A2"]
[{"$f":"BONAFIDE.!AB1740","v":"EXTRA2"},{"$f":"BONAFIDE.!AE1740","v":0},null,{"$f":"BONAFIDE.!X1740","v":0},{"$f":"BONAFIDE.!Y1740","v":0},{"$f":"BONAFIDE.!Z1740","v":0},{"$f":"BONAFIDE.!AD1740","v":0},{"$f":"BONAFIDE.!AA1740","v":"00:00:00"},119,"119","EXTR","01190EXTR","00EXTR A2"]
[{"$f":"BONAFIDE.!AB1741","v":"EXTRA2"},{"$f":"BONAFIDE.!AE1741","v":0},null,{"$f":"BONAFIDE.!X1741","v":0},{"$f":"BONAFIDE.!Y1741","v":0},{"$f":"BONAFIDE.!Z1741","v":0},{"$f":"BONAFIDE.!AD1741","v":0},{"$f":"BONAFIDE.!AA1741","v":"00:00:00"},119,"119","EXTR","01190EXTR","00EXTR A2"]
[{"$f":"BONAFIDE.!AB1742","v":"EXTRA2"},{"$f":"BONAFIDE.!AE1742","v":0},null,{"$f":"BONAFIDE.!X1742","v":0},{"$f":"BONAFIDE.!Y1742","v":0},{"$f":"BONAFIDE.!Z1742","v":0},{"$f":"BONAFIDE.!AD1742","v":0},{"$f":"BONAFIDE.!AA1742","v":"00:00:00"},119,"119","EXTR","01190EXTR","00EXTR A2"]
[{"$f":"BONAFIDE.!AB1743","v":"EXTRA2"},{"$f":"BONAFIDE.!AE1743","v":0},null,{"$f":"BONAFIDE.!X1743","v":0},{"$f":"BONAFIDE.!Y1743","v":0},{"$f":"BONAFIDE.!Z1743","v":0},{"$f":"BONAFIDE.!AD1743","v":0},{"$f":"BONAFIDE.!AA1743","v":"00:00:00"},119,"119","EXTR","01190EXTR","00EXTR A2"]
[{"$f":"BONAFIDE.!AB1744","v":"EXTRA2"},{"$f":"BONAFIDE.!AE1744","v":0},null,{"$f":"BONAFIDE.!X1744","v":0},{"$f":"BONAFIDE.!Y1744","v":0},{"$f":"BONAFIDE.!Z1744","v":0},{"$f":"BONAFIDE.!AD1744","v":0},{"$f":"BONAFIDE.!AA1744","v":"00:00:00"},119,"119","EXTR","01190EXTR","00EXTR A2"]
[{"$f":"BONAFIDE.!AB1745","v":"EXTRA2"},{"$f":"BONAFIDE.!AE1745","v":0},null,{"$f":"BONAFIDE.!X1745","v":0},{"$f":"BONAFIDE.!Y1745","v":0},{"$f":"BONAFIDE.!Z1745","v":0},{"$f":"BONAFIDE.!AD1745","v":0},{"$f":"BONAFIDE.!AA1745","v":"00:00:00"},119,"119","EXTR","01190EXTR","00EXTR A2"]
[{"$f":"BONAFIDE.!AB1746","v":"EXTRA2"},{"$f":"BONAFIDE.!AE1746","v":0},null,{"$f":"BONAFIDE.!X1746","v":0},{"$f":"BONAFIDE.!Y1746","v":0},{"$f":"BONAFIDE.!Z1746","v":0},{"$f":"BONAFIDE.!AD1746","v":0},{"$f":"BONAFIDE.!AA1746","v":"00:00:00"},119,"119","EXTR","01190EXTR","00EXTR A2"]
[{"$f":"BONAFIDE.!AB1747","v":"EXTRA2"},{"$f":"BONAFIDE.!AE1747","v":0},null,{"$f":"BONAFIDE.!X1747","v":0},{"$f":"BONAFIDE.!Y1747","v":0},{"$f":"BONAFIDE.!Z1747","v":0},{"$f":"BONAFIDE.!AD1747","v":0},{"$f":"BONAFIDE.!AA1747","v":"00:00:00"},119,"119","EXTR","01190EXTR","00EXTR A2"]
[{"$f":"BONAFIDE.!AB1748","v":"EXTRA2"},{"$f":"BONAFIDE.!AE1748","v":0},null,{"$f":"BONAFIDE.!X1748","v":0},{"$f":"BONAFIDE.!Y1748","v":0},{"$f":"BONAFIDE.!Z1748","v":0},{"$f":"BONAFIDE.!AD1748","v":0},{"$f":"BONAFIDE.!AA1748","v":"00:00:00"},119,"119","EXTR","01190EXTR","00EXTR A2"]
[{"$f":"BONAFIDE.!AB1749","v":"EXTRA2"},{"$f":"BONAFIDE.!AE1749","v":0},null,{"$f":"BONAFIDE.!X1749","v":0},{"$f":"BONAFIDE.!Y1749","v":0},{"$f":"BONAFIDE.!Z1749","v":0},{"$f":"BONAFIDE.!AD1749","v":0},{"$f":"BONAFIDE.!AA1749","v":"00:00:00"},119,"119","EXTR","01190EXTR","00EXTR A2"]
[{"$f":"BONAFIDE.!AB1750","v":"EXTRA2"},{"$f":"BONAFIDE.!AE1750","v":0},null,{"$f":"BONAFIDE.!X1750","v":0},{"$f":"BONAFIDE.!Y1750","v":0},{"$f":"BONAFIDE.!Z1750","v":0},{"$f":"BONAFIDE.!AD1750","v":0},{"$f":"BONAFIDE.!AA1750","v":"00:00:00"},119,"119","EXTR","01190EXTR","00EXTR A2"]
[{"$f":"BONAFIDE.!AB1751","v":"EXTRA2"},{"$f":"BONAFIDE.!AE1751","v":0},null,{"$f":"BONAFIDE.!X1751","v":0},{"$f":"BONAFIDE.!Y1751","v":0},{"$f":"BONAFIDE.!Z1751","v":0},{"$f":"BONAFIDE.!AD1751","v":0},{"$f":"BONAFIDE.!AA1751","v":"00:00:00"},119,"119","EXTR","01190EXTR","00EXTR A2"]
[{"$f":"BONAFIDE.!AB1752","v":"EXTRA2"},{"$f":"BONAFIDE.!AE1752","v":0},null,{"$f":"BONAFIDE.!X1752","v":0},{"$f":"BONAFIDE.!Y1752","v":0},{"$f":"BONAFIDE.!Z1752","v":0},{"$f":"BONAFIDE.!AD1752","v":0},{"$f":"BONAFIDE.!AA1752","v":"00:00:00"},119,"119","EXTR","01190EXTR","00EXTR A2"]
[{"$f":"BONAFIDE.!AB1753","v":"EXTRA2"},{"$f":"BONAFIDE.!AE1753","v":0},null,{"$f":"BONAFIDE.!X1753","v":0},{"$f":"BONAFIDE.!Y1753","v":0},{"$f":"BONAFIDE.!Z1753","v":0},{"$f":"BONAFIDE.!AD1753","v":0},{"$f":"BONAFIDE.!AA1753","v":"00:00:00"},119,"119","EXTR","01190EXTR","00EXTR A2"]
[{"$f":"BONAFIDE.!AB1754","v":"EXTRA2"},{"$f":"BONAFIDE.!AE1754","v":0},null,{"$f":"BONAFIDE.!X1754","v":0},{"$f":"BONAFIDE.!Y1754","v":0},{"$f":"BONAFIDE.!Z1754","v":0},{"$f":"BONAFIDE.!AD1754","v":0},{"$f":"BONAFIDE.!AA1754","v":"00:00:00"},119,"119","EXTR","01190EXTR","00EXTR A2"]
[{"$f":"BONAFIDE.!AB1755","v":"EXTRA2"},{"$f":"BONAFIDE.!AE1755","v":0},null,{"$f":"BONAFIDE.!X1755","v":0},{"$f":"BONAFIDE.!Y1755","v":0},{"$f":"BONAFIDE.!Z1755","v":0},{"$f":"BONAFIDE.!AD1755","v":0},{"$f":"BONAFIDE.!AA1755","v":"00:00:00"},119,"119","EXTR","01190EXTR","00EXTR A2"]
[{"$f":"BONAFIDE.!AB1756","v":"EXTRA2"},{"$f":"BONAFIDE.!AE1756","v":0},null,{"$f":"BONAFIDE.!X1756","v":0},{"$f":"BONAFIDE.!Y1756","v":0},{"$f":"BONAFIDE.!Z1756","v":0},{"$f":"BONAFIDE.!AD1756","v":0},{"$f":"BONAFIDE.!AA1756","v":"00:00:00"},119,"119","EXTR","01190EXTR","00EXTR A2"]
[{"$f":"BONAFIDE.!AB1757","v":"EXTRA2"},{"$f":"BONAFIDE.!AE1757","v":0},null,{"$f":"BONAFIDE.!X1757","v":0},{"$f":"BONAFIDE.!Y1757","v":0},{"$f":"BONAFIDE.!Z1757","v":0},{"$f":"BONAFIDE.!AD1757","v":0},{"$f":"BONAFIDE.!AA1757","v":"00:00:00"},119,"119","EXTR","01190EXTR","00EXTR A2"]
[{"$f":"BONAFIDE.!AB1758","v":"EXTRA2"},{"$f":"BONAFIDE.!AE1758","v":0},null,{"$f":"BONAFIDE.!X1758","v":0},{"$f":"BONAFIDE.!Y1758","v":0},{"$f":"BONAFIDE.!Z1758","v":0},{"$f":"BONAFIDE.!AD1758","v":0},{"$f":"BONAFIDE.!AA1758","v":"00:00:00"},119,"119","EXTR","01190EXTR","00EXTR A2"]
[{"$f":"BONAFIDE.!AB1759","v":"EXTRA2"},{"$f":"BONAFIDE.!AE1759","v":0},null,{"$f":"BONAFIDE.!X1759","v":0},{"$f":"BONAFIDE.!Y1759","v":0},{"$f":"BONAFIDE.!Z1759","v":0},{"$f":"BONAFIDE.!AD1759","v":0},{"$f":"BONAFIDE.!AA1759","v":"00:00:00"},119,"119","EXTR","01190EXTR","00EXTR A2"]
[{"$f":"BONAFIDE.!AB1760","v":"EXTRA2"},{"$f":"BONAFIDE.!AE1760","v":0},null,{"$f":"BONAFIDE.!X1760","v":0},{"$f":"BONAFIDE.!Y1760","v":0},{"$f":"BONAFIDE.!Z1760","v":0},{"$f":"BONAFIDE.!AD1760","v":0},{"$f":"BONAFIDE.!AA1760","v":"00:00:00"},119,"119","EXTR","01190EXTR","00EXTR A2"]
[{"$f":"BONAFIDE.!AB1761","v":"EXTRA2"},{"$f":"BONAFIDE.!AE1761","v":0},null,{"$f":"BONAFIDE.!X1761","v":0},{"$f":"BONAFIDE.!Y1761","v":0},{"$f":"BONAFIDE.!Z1761","v":0},{"$f":"BONAFIDE.!AD1761","v":0},{"$f":"BONAFIDE.!AA1761","v":"00:00:00"},119,"119","EXTR","01190EXTR","00EXTR A2"]
[{"$f":"BONAFIDE.!AB1762","v":"EXTRA2"},{"$f":"BONAFIDE.!AE1762","v":0},null,{"$f":"BONAFIDE.!X1762","v":0},{"$f":"BONAFIDE.!Y1762","v":0},{"$f":"BONAFIDE.!Z1762","v":0},{"$f":"BONAFIDE.!AD1762","v":0},{"$f":"BONAFIDE.!AA1762","v":"00:00:00"},119,"119","EXTR","01190EXTR","00EXTR A2"]
[{"$f":"BONAFIDE.!AB1763","v":"EXTRA2"},{"$f":"BONAFIDE.!AE1763","v":0},null,{"$f":"BONAFIDE.!X1763","v":0},{"$f":"BONAFIDE.!Y1763","v":0},{"$f":"BONAFIDE.!Z1763","v":0},{"$f":"BONAFIDE.!AD1763","v":0},{"$f":"BONAFIDE.!AA1763","v":"00:00:00"},119,"119","EXTR","01190EXTR","00EXTR A2"]
[{"$f":"BONAFIDE.!AB1764","v":"EXTRA2"},{"$f":"BONAFIDE.!AE1764","v":0},null,{"$f":"BONAFIDE.!X1764","v":0},{"$f":"BONAFIDE.!Y1764","v":0},{"$f":"BONAFIDE.!Z1764","v":0},{"$f":"BONAFIDE.!AD1764","v":0},{"$f":"BONAFIDE.!AA1764","v":"00:00:00"},119,"119","EXTR","01190EXTR","00EXTR A2"]
[{"$f":"BONAFIDE.!AB1765","v":"EXTRA2"},{"$f":"BONAFIDE.!AE1765","v":0},null,{"$f":"BONAFIDE.!X1765","v":0},{"$f":"BONAFIDE.!Y1765","v":0},{"$f":"BONAFIDE.!Z1765","v":0},{"$f":"BONAFIDE.!AD1765","v":0},{"$f":"BONAFIDE.!AA1765","v":"00:00:00"},119,"119","EXTR","01190EXTR","00EXTR A2"]
[{"$f":"BONAFIDE.!AB1766","v":"EXTRA2"},{"$f":"BONAFIDE.!AE1766","v":0},null,{"$f":"BONAFIDE.!X1766","v":0},{"$f":"BONAFIDE.!Y1766","v":0},{"$f":"BONAFIDE.!Z1766","v":0},{"$f":"BONAFIDE.!AD1766","v":0},{"$f":"BONAFIDE.!AA1766","v":"00:00:00"},119,"119","EXTR","01190EXTR","00EXTR A2"]
[{"$f":"BONAFIDE.!AB1767","v":"EXTRA2"},{"$f":"BONAFIDE.!AE1767","v":0},null,{"$f":"BONAFIDE.!X1767","v":0},{"$f":"BONAFIDE.!Y1767","v":0},{"$f":"BONAFIDE.!Z1767","v":0},{"$f":"BONAFIDE.!AD1767","v":0},{"$f":"BONAFIDE.!AA1767","v":"00:00:00"},119,"119","EXTR","01190EXTR","00EXTR A2"]
[{"$f":"BONAFIDE.!AB1768","v":"EXTRA2"},{"$f":"BONAFIDE.!AE1768","v":0},null,{"$f":"BONAFIDE.!X1768","v":0},{"$f":"BONAFIDE.!Y1768","v":0},{"$f":"BONAFIDE.!Z1768","v":0},{"$f":"BONAFIDE.!AD1768","v":0},{"$f":"BONAFIDE.!AA1768","v":"00:00:00"},119,"119","EXTR","01190EXTR","00EXTR A2"]
[{"$f":"BONAFIDE.!AB1769","v":"EXTRA2"},{"$f":"BONAFIDE.!AE1769","v":0},null,{"$f":"BONAFIDE.!X1769","v":0},{"$f":"BONAFIDE.!Y1769","v":0},{"$f":"BONAFIDE.!Z1769","v":0},{"$f":"BONAFIDE.!AD1769","v":0},{"$f":"BONAFIDE.!AA1769","v":"00:00:00"},119,"119","EXTR","01190EXTR","00EXTR A2"]
[{"$f":"BONAFIDE.!AB1770","v":"EXTRA2"},{"$f":"BONAFIDE.!AE1770","v":0},null,{"$f":"BONAFIDE.!X1770","v":0},{"$f":"BONAFIDE.!Y1770","v":0},{"$f":"BONAFIDE.!Z1770","v":0},{"$f":"BONAFIDE.!AD1770","v":0},{"$f":"BONAFIDE.!AA1770","v":"00:00:00"},119,"119","EXTR","01190EXTR","00EXTR A2"]
[{"$f":"BONAFIDE.!AB1771","v":"EXTRA2"},{"$f":"BONAFIDE.!AE1771","v":0},null,{"$f":"BONAFIDE.!X1771","v":0},{"$f":"BONAFIDE.!Y1771","v":0},{"$f":"BONAFIDE.!Z1771","v":0},{"$f":"BONAFIDE.!AD1771","v":0},{"$f":"BONAFIDE.!AA1771","v":"00:00:00"},119,"119","EXTR","01190EXTR","00EXTR A2"]
[{"$f":"BONAFIDE.!AB1772","v":"EXTRA2"},{"$f":"BONAFIDE.!AE1772","v":0},null,{"$f":"BONAFIDE.!X1772","v":0},{"$f":"BONAFIDE.!Y1772","v":0},{"$f":"BONAFIDE.!Z1772","v":0},{"$f":"BONAFIDE.!AD1772","v":0},{"$f":"BONAFIDE.!AA1772","v":"00:00:00"},119,"119","EXTR","01190EXTR","00EXTR A2"]
[{"$f":"BONAFIDE.!AB1773","v":"EXTRA2"},{"$f":"BONAFIDE.!AE1773","v":0},null,{"$f":"BONAFIDE.!X1773","v":0},{"$f":"BONAFIDE.!Y1773","v":0},{"$f":"BONAFIDE.!Z1773","v":0},{"$f":"BONAFIDE.!AD1773","v":0},{"$f":"BONAFIDE.!AA1773","v":"00:00:00"},119,"119","EXTR","01190EXTR","00EXTR A2"]
[{"$f":"BONAFIDE.!AB1774","v":"EXTRA2"},{"$f":"BONAFIDE.!AE1774","v":0},null,{"$f":"BONAFIDE.!X1774","v":0},{"$f":"BONAFIDE.!Y1774","v":0},{"$f":"BONAFIDE.!Z1774","v":0},{"$f":"BONAFIDE.!AD1774","v":0},{"$f":"BONAFIDE.!AA1774","v":"00:00:00"},119,"119","EXTR","01190EXTR","00EXTR A2"]
[{"$f":"BONAFIDE.!AB1775","v":"EXTRA2"},{"$f":"BONAFIDE.!AE1775","v":0},null,{"$f":"BONAFIDE.!X1775","v":0},{"$f":"BONAFIDE.!Y1775","v":0},{"$f":"BONAFIDE.!Z1775","v":0},{"$f":"BONAFIDE.!AD1775","v":0},{"$f":"BONAFIDE.!AA1775","v":"00:00:00"},119,"119","EXTR","01190EXTR","00EXTR A2"]
[{"$f":"BONAFIDE.!AB1776","v":"EXTRA2"},{"$f":"BONAFIDE.!AE1776","v":0},null,{"$f":"BONAFIDE.!X1776","v":0},{"$f":"BONAFIDE.!Y1776","v":0},{"$f":"BONAFIDE.!Z1776","v":0},{"$f":"BONAFIDE.!AD1776","v":0},{"$f":"BONAFIDE.!AA1776","v":"00:00:00"},119,"119","EXTR","01190EXTR","00EXTR A2"]
[{"$f":"BONAFIDE.!AB1777","v":"EXTRA2"},{"$f":"BONAFIDE.!AE1777","v":0},null,{"$f":"BONAFIDE.!X1777","v":0},{"$f":"BONAFIDE.!Y1777","v":0},{"$f":"BONAFIDE.!Z1777","v":0},{"$f":"BONAFIDE.!AD1777","v":0},{"$f":"BONAFIDE.!AA1777","v":"00:00:00"},119,"119","EXTR","01190EXTR","00EXTR A2"]
[{"$f":"BONAFIDE.!AB1778","v":"EXTRA2"},{"$f":"BONAFIDE.!AE1778","v":0},null,{"$f":"BONAFIDE.!X1778","v":0},{"$f":"BONAFIDE.!Y1778","v":0},{"$f":"BONAFIDE.!Z1778","v":0},{"$f":"BONAFIDE.!AD1778","v":0},{"$f":"BONAFIDE.!AA1778","v":"00:00:00"},119,"119","EXTR","01190EXTR","00EXTR A2"]
[{"$f":"BONAFIDE.!AB1779","v":"EXTRA2"},{"$f":"BONAFIDE.!AE1779","v":0},null,{"$f":"BONAFIDE.!X1779","v":0},{"$f":"BONAFIDE.!Y1779","v":0},{"$f":"BONAFIDE.!Z1779","v":0},{"$f":"BONAFIDE.!AD1779","v":0},{"$f":"BONAFIDE.!AA1779","v":"00:00:00"},119,"119","EXTR","01190EXTR","00EXTR A2"]
[{"$f":"BONAFIDE.!AB1780","v":"EXTRA2"},{"$f":"BONAFIDE.!AE1780","v":0},null,{"$f":"BONAFIDE.!X1780","v":0},{"$f":"BONAFIDE.!Y1780","v":0},{"$f":"BONAFIDE.!Z1780","v":0},{"$f":"BONAFIDE.!AD1780","v":0},{"$f":"BONAFIDE.!AA1780","v":"00:00:00"},119,"119","EXTR","01190EXTR","00EXTR A2"]
[{"$f":"BONAFIDE.!AB1781","v":"EXTRA2"},{"$f":"BONAFIDE.!AE1781","v":0},null,{"$f":"BONAFIDE.!X1781","v":0},{"$f":"BONAFIDE.!Y1781","v":0},{"$f":"BONAFIDE.!Z1781","v":0},{"$f":"BONAFIDE.!AD1781","v":0},{"$f":"BONAFIDE.!AA1781","v":"00:00:00"},119,"119","EXTR","01190EXTR","00EXTR A2"]
[{"$f":"BONAFIDE.!AB1782","v":"EXTRA2"},{"$f":"BONAFIDE.!AE1782","v":0},null,{"$f":"BONAFIDE.!X1782","v":0},{"$f":"BONAFIDE.!Y1782","v":0},{"$f":"BONAFIDE.!Z1782","v":0},{"$f":"BONAFIDE.!AD1782","v":0},{"$f":"BONAFIDE.!AA1782","v":"00:00:00"},119,"119","EXTR","01190EXTR","00EXTR A2"]
[{"$f":"BONAFIDE.!AB1783","v":"EXTRA2"},{"$f":"BONAFIDE.!AE1783","v":0},null,{"$f":"BONAFIDE.!X1783","v":0},{"$f":"BONAFIDE.!Y1783","v":0},{"$f":"BONAFIDE.!Z1783","v":0},{"$f":"BONAFIDE.!AD1783","v":0},{"$f":"BONAFIDE.!AA1783","v":"00:00:00"},119,"119","EXTR","01190EXTR","00EXTR A2"]
[{"$f":"BONAFIDE.!AB1784","v":"EXTRA2"},{"$f":"BONAFIDE.!AE1784","v":0},null,{"$f":"BONAFIDE.!X1784","v":0},{"$f":"BONAFIDE.!Y1784","v":0},{"$f":"BONAFIDE.!Z1784","v":0},{"$f":"BONAFIDE.!AD1784","v":0},{"$f":"BONAFIDE.!AA1784","v":"00:00:00"},119,"119","EXTR","01190EXTR","00EXTR A2"]
[{"$f":"BONAFIDE.!AB1785","v":"EXTRA2"},{"$f":"BONAFIDE.!AE1785","v":0},null,{"$f":"BONAFIDE.!X1785","v":0},{"$f":"BONAFIDE.!Y1785","v":0},{"$f":"BONAFIDE.!Z1785","v":0},{"$f":"BONAFIDE.!AD1785","v":0},{"$f":"BONAFIDE.!AA1785","v":"00:00:00"},119,"119","EXTR","01190EXTR","00EXTR A2"]
[{"$f":"BONAFIDE.!AB1786","v":"EXTRA2"},{"$f":"BONAFIDE.!AE1786","v":0},null,{"$f":"BONAFIDE.!X1786","v":0},{"$f":"BONAFIDE.!Y1786","v":0},{"$f":"BONAFIDE.!Z1786","v":0},{"$f":"BONAFIDE.!AD1786","v":0},{"$f":"BONAFIDE.!AA1786","v":"00:00:00"},119,"119","EXTR","01190EXTR","00EXTR A2"]
[{"$f":"BONAFIDE.!AB1787","v":"EXTRA2"},{"$f":"BONAFIDE.!AE1787","v":0},null,{"$f":"BONAFIDE.!X1787","v":0},{"$f":"BONAFIDE.!Y1787","v":0},{"$f":"BONAFIDE.!Z1787","v":0},{"$f":"BONAFIDE.!AD1787","v":0},{"$f":"BONAFIDE.!AA1787","v":"00:00:00"},119,"119","EXTR","01190EXTR","00EXTR A2"]
[{"$f":"BONAFIDE.!AB1788","v":"EXTRA2"},{"$f":"BONAFIDE.!AE1788","v":0},null,{"$f":"BONAFIDE.!X1788","v":0},{"$f":"BONAFIDE.!Y1788","v":0},{"$f":"BONAFIDE.!Z1788","v":0},{"$f":"BONAFIDE.!AD1788","v":0},{"$f":"BONAFIDE.!AA1788","v":"00:00:00"},119,"119","EXTR","01190EXTR","00EXTR A2"]
[{"$f":"BONAFIDE.!AB1789","v":"EXTRA2"},{"$f":"BONAFIDE.!AE1789","v":0},null,{"$f":"BONAFIDE.!X1789","v":0},{"$f":"BONAFIDE.!Y1789","v":0},{"$f":"BONAFIDE.!Z1789","v":0},{"$f":"BONAFIDE.!AD1789","v":0},{"$f":"BONAFIDE.!AA1789","v":"00:00:00"},119,"119","EXTR","01190EXTR","00EXTR A2"]
[{"$f":"BONAFIDE.!AB1790","v":"EXTRA2"},{"$f":"BONAFIDE.!AE1790","v":0},null,{"$f":"BONAFIDE.!X1790","v":0},{"$f":"BONAFIDE.!Y1790","v":0},{"$f":"BONAFIDE.!Z1790","v":0},{"$f":"BONAFIDE.!AD1790","v":0},{"$f":"BONAFIDE.!AA1790","v":"00:00:00"},119,"119","EXTR","01190EXTR","00EXTR A2"]
[{"$f":"BONAFIDE.!AB1791","v":"EXTRA2"},{"$f":"BONAFIDE.!AE1791","v":0},null,{"$f":"BONAFIDE.!X1791","v":0},{"$f":"BONAFIDE.!Y1791","v":0},{"$f":"BONAFIDE.!Z1791","v":0},{"$f":"BONAFIDE.!AD1791","v":0},{"$f":"BONAFIDE.!AA1791","v":"00:00:00"},119,"119","EXTR","01190EXTR","00EXTR A2"]
[{"$f":"BONAFIDE.!AB1792","v":"EXTRA2"},{"$f":"BONAFIDE.!AE1792","v":0},null,{"$f":"BONAFIDE.!X1792","v":0},{"$f":"BONAFIDE.!Y1792","v":0},{"$f":"BONAFIDE.!Z1792","v":0},{"$f":"BONAFIDE.!AD1792","v":0},{"$f":"BONAFIDE.!AA1792","v":"00:00:00"},119,"119","EXTR","01190EXTR","00EXTR A2"]
[{"$f":"BONAFIDE.!AB1793","v":"EXTRA2"},{"$f":"BONAFIDE.!AE1793","v":0},null,{"$f":"BONAFIDE.!X1793","v":0},{"$f":"BONAFIDE.!Y1793","v":0},{"$f":"BONAFIDE.!Z1793","v":0},{"$f":"BONAFIDE.!AD1793","v":0},{"$f":"BONAFIDE.!AA1793","v":"00:00:00"},119,"119","EXTR","01190EXTR","00EXTR A2"]
[{"$f":"BONAFIDE.!AB1794","v":"EXTRA2"},{"$f":"BONAFIDE.!AE1794","v":0},null,{"$f":"BONAFIDE.!X1794","v":0},{"$f":"BONAFIDE.!Y1794","v":0},{"$f":"BONAFIDE.!Z1794","v":0},{"$f":"BONAFIDE.!AD1794","v":0},{"$f":"BONAFIDE.!AA1794","v":"00:00:00"},119,"119","EXTR","01190EXTR","00EXTR A2"]
[{"$f":"BONAFIDE.!AB1795","v":"EXTRA2"},{"$f":"BONAFIDE.!AE1795","v":0},null,{"$f":"BONAFIDE.!X1795","v":0},{"$f":"BONAFIDE.!Y1795","v":0},{"$f":"BONAFIDE.!Z1795","v":0},{"$f":"BONAFIDE.!AD1795","v":0},{"$f":"BONAFIDE.!AA1795","v":"00:00:00"},119,"119","EXTR","01190EXTR","00EXTR A2"]
[{"$f":"BONAFIDE.!AB1796","v":"EXTRA2"},{"$f":"BONAFIDE.!AE1796","v":0},null,{"$f":"BONAFIDE.!X1796","v":0},{"$f":"BONAFIDE.!Y1796","v":0},{"$f":"BONAFIDE.!Z1796","v":0},{"$f":"BONAFIDE.!AD1796","v":0},{"$f":"BONAFIDE.!AA1796","v":"00:00:00"},119,"119","EXTR","01190EXTR","00EXTR A2"]
[{"$f":"BONAFIDE.!AB1797","v":"EXTRA2"},{"$f":"BONAFIDE.!AE1797","v":0},null,{"$f":"BONAFIDE.!X1797","v":0},{"$f":"BONAFIDE.!Y1797","v":0},{"$f":"BONAFIDE.!Z1797","v":0},{"$f":"BONAFIDE.!AD1797","v":0},{"$f":"BONAFIDE.!AA1797","v":"00:00:00"},119,"119","EXTR","01190EXTR","00EXTR A2"]
[{"$f":"BONAFIDE.!AB1798","v":"EXTRA2"},{"$f":"BONAFIDE.!AE1798","v":0},null,{"$f":"BONAFIDE.!X1798","v":0},{"$f":"BONAFIDE.!Y1798","v":0},{"$f":"BONAFIDE.!Z1798","v":0},{"$f":"BONAFIDE.!AD1798","v":0},{"$f":"BONAFIDE.!AA1798","v":"00:00:00"},119,"119","EXTR","01190EXTR","00EXTR A2"]
[{"$f":"BONAFIDE.!AB1799","v":"EXTRA2"},{"$f":"BONAFIDE.!AE1799","v":0},null,{"$f":"BONAFIDE.!X1799","v":0},{"$f":"BONAFIDE.!Y1799","v":0},{"$f":"BONAFIDE.!Z1799","v":0},{"$f":"BONAFIDE.!AD1799","v":0},{"$f":"BONAFIDE.!AA1799","v":"00:00:00"},{"$f":"DATEDIF(H1796,CUTOFFDT,\"Y\")","v":119},{"$f":"fillno(I1796)","v":"119"},{"$f":"MID(A1796,1,LEN(A1796)-2)","v":"EXTR"},{"$f":"B1796&J1796&G1796&K1796","v":"01190EXTR"},{"$f":"B1796&G1796&MID(A1796,1,LEN(A1796)-2)&\" \" & RIGHT(A1796,2)","v":"00EXTR A2"}]
[{"$f":"BONAFIDE.!AB1800","v":"EXTRA2"},{"$f":"BONAFIDE.!AE1800","v":0},null,{"$f":"BONAFIDE.!X1800","v":0},{"$f":"BONAFIDE.!Y1800","v":0},{"$f":"BONAFIDE.!Z1800","v":0},{"$f":"BONAFIDE.!AD1800","v":0},{"$f":"BONAFIDE.!AA1800","v":"00:00:00"},119,"119","EXTR","01190EXTR","00EXTR A2"]
[{"$f":"BONAFIDE.!AB1801","v":"EXTRA2"},{"$f":"BONAFIDE.!AE1801","v":0},null,{"$f":"BONAFIDE.!X1801","v":0},{"$f":"BONAFIDE.!Y1801","v":0},{"$f":"BONAFIDE.!Z1801","v":0},{"$f":"BONAFIDE.!AD1801","v":0},{"$f":"BONAFIDE.!AA1801","v":"00:00:00"},119,"119","EXTR","01190EXTR","00EXTR A2"]
[{"$f":"BONAFIDE.!AB1802","v":"EXTRA2"},{"$f":"BONAFIDE.!AE1802","v":0},null,{"$f":"BONAFIDE.!X1802","v":0},{"$f":"BONAFIDE.!Y1802","v":0},{"$f":"BONAFIDE.!Z1802","v":0},{"$f":"BONAFIDE.!AD1802","v":0},{"$f":"BONAFIDE.!AA1802","v":"00:00:00"},119,"119","EXTR","01190EXTR","00EXTR A2"]
[{"$f":"BONAFIDE.!AB1803","v":"EXTRA2"},{"$f":"BONAFIDE.!AE1803","v":0},null,{"$f":"BONAFIDE.!X1803","v":0},{"$f":"BONAFIDE.!Y1803","v":0},{"$f":"BONAFIDE.!Z1803","v":0},{"$f":"BONAFIDE.!AD1803","v":0},{"$f":"BONAFIDE.!AA1803","v":"00:00:00"},119,"119","EXTR","01190EXTR","00EXTR A2"]
[{"$f":"BONAFIDE.!AB1804","v":"EXTRA2"},{"$f":"BONAFIDE.!AE1804","v":0},null,{"$f":"BONAFIDE.!X1804","v":0},{"$f":"BONAFIDE.!Y1804","v":0},{"$f":"BONAFIDE.!Z1804","v":0},{"$f":"BONAFIDE.!AD1804","v":0},{"$f":"BONAFIDE.!AA1804","v":"00:00:00"},119,"119","EXTR","01190EXTR","00EXTR A2"]
[{"$f":"BONAFIDE.!AB1805","v":"EXTRA2"},{"$f":"BONAFIDE.!AE1805","v":0},null,{"$f":"BONAFIDE.!X1805","v":0},{"$f":"BONAFIDE.!Y1805","v":0},{"$f":"BONAFIDE.!Z1805","v":0},{"$f":"BONAFIDE.!AD1805","v":0},{"$f":"BONAFIDE.!AA1805","v":"00:00:00"},119,"119","EXTR","01190EXTR","00EXTR A2"]
[{"$f":"BONAFIDE.!AB1806","v":"EXTRA2"},{"$f":"BONAFIDE.!AE1806","v":0},null,{"$f":"BONAFIDE.!X1806","v":0},{"$f":"BONAFIDE.!Y1806","v":0},{"$f":"BONAFIDE.!Z1806","v":0},{"$f":"BONAFIDE.!AD1806","v":0},{"$f":"BONAFIDE.!AA1806","v":"00:00:00"},119,"119","EXTR","01190EXTR","00EXTR A2"]
[{"$f":"BONAFIDE.!AB1807","v":"EXTRA2"},{"$f":"BONAFIDE.!AE1807","v":0},null,{"$f":"BONAFIDE.!X1807","v":0},{"$f":"BONAFIDE.!Y1807","v":0},{"$f":"BONAFIDE.!Z1807","v":0},{"$f":"BONAFIDE.!AD1807","v":0},{"$f":"BONAFIDE.!AA1807","v":"00:00:00"},119,"119","EXTR","01190EXTR","00EXTR A2"]
[{"$f":"BONAFIDE.!AB1808","v":"EXTRA2"},{"$f":"BONAFIDE.!AE1808","v":0},null,{"$f":"BONAFIDE.!X1808","v":0},{"$f":"BONAFIDE.!Y1808","v":0},{"$f":"BONAFIDE.!Z1808","v":0},{"$f":"BONAFIDE.!AD1808","v":0},{"$f":"BONAFIDE.!AA1808","v":"00:00:00"},119,"119","EXTR","01190EXTR","00EXTR A2"]
[{"$f":"BONAFIDE.!AB1809","v":"EXTRA2"},{"$f":"BONAFIDE.!AE1809","v":0},null,{"$f":"BONAFIDE.!X1809","v":0},{"$f":"BONAFIDE.!Y1809","v":0},{"$f":"BONAFIDE.!Z1809","v":0},{"$f":"BONAFIDE.!AD1809","v":0},{"$f":"BONAFIDE.!AA1809","v":"00:00:00"},119,"119","EXTR","01190EXTR","00EXTR A2"]
[{"$f":"BONAFIDE.!AB1810","v":"EXTRA2"},{"$f":"BONAFIDE.!AE1810","v":0},null,{"$f":"BONAFIDE.!X1810","v":0},{"$f":"BONAFIDE.!Y1810","v":0},{"$f":"BONAFIDE.!Z1810","v":0},{"$f":"BONAFIDE.!AD1810","v":0},{"$f":"BONAFIDE.!AA1810","v":"00:00:00"},119,"119","EXTR","01190EXTR","00EXTR A2"]
[{"$f":"BONAFIDE.!AB1811","v":"EXTRA2"},{"$f":"BONAFIDE.!AE1811","v":0},null,{"$f":"BONAFIDE.!X1811","v":0},{"$f":"BONAFIDE.!Y1811","v":0},{"$f":"BONAFIDE.!Z1811","v":0},{"$f":"BONAFIDE.!AD1811","v":0},{"$f":"BONAFIDE.!AA1811","v":"00:00:00"},119,"119","EXTR","01190EXTR","00EXTR A2"]
[{"$f":"BONAFIDE.!AB1812","v":"EXTRA2"},{"$f":"BONAFIDE.!AE1812","v":0},null,{"$f":"BONAFIDE.!X1812","v":0},{"$f":"BONAFIDE.!Y1812","v":0},{"$f":"BONAFIDE.!Z1812","v":0},{"$f":"BONAFIDE.!AD1812","v":0},{"$f":"BONAFIDE.!AA1812","v":"00:00:00"},119,"119","EXTR","01190EXTR","00EXTR A2"]
[{"$f":"BONAFIDE.!AB1813","v":"EXTRA2"},{"$f":"BONAFIDE.!AE1813","v":0},null,{"$f":"BONAFIDE.!X1813","v":0},{"$f":"BONAFIDE.!Y1813","v":0},{"$f":"BONAFIDE.!Z1813","v":0},{"$f":"BONAFIDE.!AD1813","v":0},{"$f":"BONAFIDE.!AA1813","v":"00:00:00"},119,"119","EXTR","01190EXTR","00EXTR A2"]
[{"$f":"BONAFIDE.!AB1814","v":"EXTRA2"},{"$f":"BONAFIDE.!AE1814","v":0},null,{"$f":"BONAFIDE.!X1814","v":0},{"$f":"BONAFIDE.!Y1814","v":0},{"$f":"BONAFIDE.!Z1814","v":0},{"$f":"BONAFIDE.!AD1814","v":0},{"$f":"BONAFIDE.!AA1814","v":"00:00:00"},119,"119","EXTR","01190EXTR","00EXTR A2"]
[{"$f":"BONAFIDE.!AB1815","v":"EXTRA2"},{"$f":"BONAFIDE.!AE1815","v":0},null,{"$f":"BONAFIDE.!X1815","v":0},{"$f":"BONAFIDE.!Y1815","v":0},{"$f":"BONAFIDE.!Z1815","v":0},{"$f":"BONAFIDE.!AD1815","v":0},{"$f":"BONAFIDE.!AA1815","v":"00:00:00"},119,"119","EXTR","01190EXTR","00EXTR A2"]
[{"$f":"BONAFIDE.!AB1816","v":"EXTRA2"},{"$f":"BONAFIDE.!AE1816","v":0},null,{"$f":"BONAFIDE.!X1816","v":0},{"$f":"BONAFIDE.!Y1816","v":0},{"$f":"BONAFIDE.!Z1816","v":0},{"$f":"BONAFIDE.!AD1816","v":0},{"$f":"BONAFIDE.!AA1816","v":"00:00:00"},119,"119","EXTR","01190EXTR","00EXTR A2"]
[{"$f":"BONAFIDE.!AB1817","v":"00:00:00"},{"$f":"BONAFIDE.!AE1817","v":0},null,{"$f":"BONAFIDE.!X1817","v":0},{"$f":"BONAFIDE.!Y1817","v":0},{"$f":"BONAFIDE.!Z1817","v":0},{"$f":"BONAFIDE.!AD1817","v":0},{"$f":"BONAFIDE.!AA1817","v":"00:00:00"},119,"119",{"$error":"#VALUE!"},{"$error":"#VALUE!"},{"$error":"#VALUE!"}]
[{"$f":"BONAFIDE.!AB1818","v":"EXTRA3"},{"$f":"BONAFIDE.!AE1818","v":0},null,{"$f":"BONAFIDE.!X1818","v":0},{"$f":"BONAFIDE.!Y1818","v":0},{"$f":"BONAFIDE.!Z1818","v":0},{"$f":"BONAFIDE.!AD1818","v":0},{"$f":"BONAFIDE.!AA1818","v":"00:00:00"},119,"119","EXTR","01190EXTR","00EXTR A3"]
[{"$f":"BONAFIDE.!AB1819","v":"EXTRA3"},{"$f":"BONAFIDE.!AE1819","v":0},null,{"$f":"BONAFIDE.!X1819","v":0},{"$f":"BONAFIDE.!Y1819","v":0},{"$f":"BONAFIDE.!Z1819","v":0},{"$f":"BONAFIDE.!AD1819","v":0},{"$f":"BONAFIDE.!AA1819","v":"00:00:00"},119,"119","EXTR","01190EXTR","00EXTR A3"]
[{"$f":"BONAFIDE.!AB1820","v":"EXTRA3"},{"$f":"BONAFIDE.!AE1820","v":0},null,{"$f":"BONAFIDE.!X1820","v":0},{"$f":"BONAFIDE.!Y1820","v":0},{"$f":"BONAFIDE.!Z1820","v":0},{"$f":"BONAFIDE.!AD1820","v":0},{"$f":"BONAFIDE.!AA1820","v":"00:00:00"},119,"119","EXTR","01190EXTR","00EXTR A3"]
[{"$f":"BONAFIDE.!AB1821","v":"EXTRA3"},{"$f":"BONAFIDE.!AE1821","v":0},null,{"$f":"BONAFIDE.!X1821","v":0},{"$f":"BONAFIDE.!Y1821","v":0},{"$f":"BONAFIDE.!Z1821","v":0},{"$f":"BONAFIDE.!AD1821","v":0},{"$f":"BONAFIDE.!AA1821","v":"00:00:00"},119,"119","EXTR","01190EXTR","00EXTR A3"]
[{"$f":"BONAFIDE.!AB1822","v":"EXTRA3"},{"$f":"BONAFIDE.!AE1822","v":0},null,{"$f":"BONAFIDE.!X1822","v":0},{"$f":"BONAFIDE.!Y1822","v":0},{"$f":"BONAFIDE.!Z1822","v":0},{"$f":"BONAFIDE.!AD1822","v":0},{"$f":"BONAFIDE.!AA1822","v":"00:00:00"},119,"119","EXTR","01190EXTR","00EXTR A3"]
[{"$f":"BONAFIDE.!AB1823","v":"EXTRA3"},{"$f":"BONAFIDE.!AE1823","v":0},null,{"$f":"BONAFIDE.!X1823","v":0},{"$f":"BONAFIDE.!Y1823","v":0},{"$f":"BONAFIDE.!Z1823","v":0},{"$f":"BONAFIDE.!AD1823","v":0},{"$f":"BONAFIDE.!AA1823","v":"00:00:00"},119,"119","EXTR","01190EXTR","00EXTR A3"]
[{"$f":"BONAFIDE.!AB1824","v":"EXTRA3"},{"$f":"BONAFIDE.!AE1824","v":0},null,{"$f":"BONAFIDE.!X1824","v":0},{"$f":"BONAFIDE.!Y1824","v":0},{"$f":"BONAFIDE.!Z1824","v":0},{"$f":"BONAFIDE.!AD1824","v":0},{"$f":"BONAFIDE.!AA1824","v":"00:00:00"},119,"119","EXTR","01190EXTR","00EXTR A3"]
[{"$f":"BONAFIDE.!AB1825","v":"EXTRA3"},{"$f":"BONAFIDE.!AE1825","v":0},null,{"$f":"BONAFIDE.!X1825","v":0},{"$f":"BONAFIDE.!Y1825","v":0},{"$f":"BONAFIDE.!Z1825","v":0},{"$f":"BONAFIDE.!AD1825","v":0},{"$f":"BONAFIDE.!AA1825","v":"00:00:00"},119,"119","EXTR","01190EXTR","00EXTR A3"]
[{"$f":"BONAFIDE.!AB1826","v":"EXTRA3"},{"$f":"BONAFIDE.!AE1826","v":0},null,{"$f":"BONAFIDE.!X1826","v":0},{"$f":"BONAFIDE.!Y1826","v":0},{"$f":"BONAFIDE.!Z1826","v":0},{"$f":"BONAFIDE.!AD1826","v":0},{"$f":"BONAFIDE.!AA1826","v":"00:00:00"},119,"119","EXTR","01190EXTR","00EXTR A3"]
[{"$f":"BONAFIDE.!AB1827","v":"EXTRA3"},{"$f":"BONAFIDE.!AE1827","v":0},null,{"$f":"BONAFIDE.!X1827","v":0},{"$f":"BONAFIDE.!Y1827","v":0},{"$f":"BONAFIDE.!Z1827","v":0},{"$f":"BONAFIDE.!AD1827","v":0},{"$f":"BONAFIDE.!AA1827","v":"00:00:00"},119,"119","EXTR","01190EXTR","00EXTR A3"]
[{"$f":"BONAFIDE.!AB1828","v":"EXTRA3"},{"$f":"BONAFIDE.!AE1828","v":0},null,{"$f":"BONAFIDE.!X1828","v":0},{"$f":"BONAFIDE.!Y1828","v":0},{"$f":"BONAFIDE.!Z1828","v":0},{"$f":"BONAFIDE.!AD1828","v":0},{"$f":"BONAFIDE.!AA1828","v":"00:00:00"},119,"119","EXTR","01190EXTR","00EXTR A3"]
[{"$f":"BONAFIDE.!AB1829","v":"EXTRA3"},{"$f":"BONAFIDE.!AE1829","v":0},null,{"$f":"BONAFIDE.!X1829","v":0},{"$f":"BONAFIDE.!Y1829","v":0},{"$f":"BONAFIDE.!Z1829","v":0},{"$f":"BONAFIDE.!AD1829","v":0},{"$f":"BONAFIDE.!AA1829","v":"00:00:00"},119,"119","EXTR","01190EXTR","00EXTR A3"]
[{"$f":"BONAFIDE.!AB1830","v":"EXTRA3"},{"$f":"BONAFIDE.!AE1830","v":0},null,{"$f":"BONAFIDE.!X1830","v":0},{"$f":"BONAFIDE.!Y1830","v":0},{"$f":"BONAFIDE.!Z1830","v":0},{"$f":"BONAFIDE.!AD1830","v":0},{"$f":"BONAFIDE.!AA1830","v":"00:00:00"},119,"119","EXTR","01190EXTR","00EXTR A3"]
[{"$f":"BONAFIDE.!AB1831","v":"EXTRA3"},{"$f":"BONAFIDE.!AE1831","v":0},null,{"$f":"BONAFIDE.!X1831","v":0},{"$f":"BONAFIDE.!Y1831","v":0},{"$f":"BONAFIDE.!Z1831","v":0},{"$f":"BONAFIDE.!AD1831","v":0},{"$f":"BONAFIDE.!AA1831","v":"00:00:00"},119,"119","EXTR","01190EXTR","00EXTR A3"]
[{"$f":"BONAFIDE.!AB1832","v":"EXTRA3"},{"$f":"BONAFIDE.!AE1832","v":0},null,{"$f":"BONAFIDE.!X1832","v":0},{"$f":"BONAFIDE.!Y1832","v":0},{"$f":"BONAFIDE.!Z1832","v":0},{"$f":"BONAFIDE.!AD1832","v":0},{"$f":"BONAFIDE.!AA1832","v":"00:00:00"},119,"119","EXTR","01190EXTR","00EXTR A3"]
[{"$f":"BONAFIDE.!AB1833","v":"EXTRA3"},{"$f":"BONAFIDE.!AE1833","v":0},null,{"$f":"BONAFIDE.!X1833","v":0},{"$f":"BONAFIDE.!Y1833","v":0},{"$f":"BONAFIDE.!Z1833","v":0},{"$f":"BONAFIDE.!AD1833","v":0},{"$f":"BONAFIDE.!AA1833","v":"00:00:00"},119,"119","EXTR","01190EXTR","00EXTR A3"]
[{"$f":"BONAFIDE.!AB1834","v":"EXTRA3"},{"$f":"BONAFIDE.!AE1834","v":0},null,{"$f":"BONAFIDE.!X1834","v":0},{"$f":"BONAFIDE.!Y1834","v":0},{"$f":"BONAFIDE.!Z1834","v":0},{"$f":"BONAFIDE.!AD1834","v":0},{"$f":"BONAFIDE.!AA1834","v":"00:00:00"},119,"119","EXTR","01190EXTR","00EXTR A3"]
[{"$f":"BONAFIDE.!AB1835","v":"EXTRA3"},{"$f":"BONAFIDE.!AE1835","v":0},null,{"$f":"BONAFIDE.!X1835","v":0},{"$f":"BONAFIDE.!Y1835","v":0},{"$f":"BONAFIDE.!Z1835","v":0},{"$f":"BONAFIDE.!AD1835","v":0},{"$f":"BONAFIDE.!AA1835","v":"00:00:00"},119,"119","EXTR","01190EXTR","00EXTR A3"]
[{"$f":"BONAFIDE.!AB1836","v":"EXTRA3"},{"$f":"BONAFIDE.!AE1836","v":0},null,{"$f":"BONAFIDE.!X1836","v":0},{"$f":"BONAFIDE.!Y1836","v":0},{"$f":"BONAFIDE.!Z1836","v":0},{"$f":"BONAFIDE.!AD1836","v":0},{"$f":"BONAFIDE.!AA1836","v":"00:00:00"},119,"119","EXTR","01190EXTR","00EXTR A3"]
[{"$f":"BONAFIDE.!AB1837","v":"EXTRA3"},{"$f":"BONAFIDE.!AE1837","v":0},null,{"$f":"BONAFIDE.!X1837","v":0},{"$f":"BONAFIDE.!Y1837","v":0},{"$f":"BONAFIDE.!Z1837","v":0},{"$f":"BONAFIDE.!AD1837","v":0},{"$f":"BONAFIDE.!AA1837","v":"00:00:00"},119,"119","EXTR","01190EXTR","00EXTR A3"]
[{"$f":"BONAFIDE.!AB1838","v":"EXTRA3"},{"$f":"BONAFIDE.!AE1838","v":0},null,{"$f":"BONAFIDE.!X1838","v":0},{"$f":"BONAFIDE.!Y1838","v":0},{"$f":"BONAFIDE.!Z1838","v":0},{"$f":"BONAFIDE.!AD1838","v":0},{"$f":"BONAFIDE.!AA1838","v":"00:00:00"},119,"119","EXTR","01190EXTR","00EXTR A3"]
[{"$f":"BONAFIDE.!AB1839","v":"EXTRA3"},{"$f":"BONAFIDE.!AE1839","v":0},null,{"$f":"BONAFIDE.!X1839","v":0},{"$f":"BONAFIDE.!Y1839","v":0},{"$f":"BONAFIDE.!Z1839","v":0},{"$f":"BONAFIDE.!AD1839","v":0},{"$f":"BONAFIDE.!AA1839","v":"00:00:00"},119,"119","EXTR","01190EXTR","00EXTR A3"]
[{"$f":"BONAFIDE.!AB1840","v":"EXTRA3"},{"$f":"BONAFIDE.!AE1840","v":0},null,{"$f":"BONAFIDE.!X1840","v":0},{"$f":"BONAFIDE.!Y1840","v":0},{"$f":"BONAFIDE.!Z1840","v":0},{"$f":"BONAFIDE.!AD1840","v":0},{"$f":"BONAFIDE.!AA1840","v":"00:00:00"},119,"119","EXTR","01190EXTR","00EXTR A3"]
[{"$f":"BONAFIDE.!AB1841","v":"EXTRA3"},{"$f":"BONAFIDE.!AE1841","v":0},null,{"$f":"BONAFIDE.!X1841","v":0},{"$f":"BONAFIDE.!Y1841","v":0},{"$f":"BONAFIDE.!Z1841","v":0},{"$f":"BONAFIDE.!AD1841","v":0},{"$f":"BONAFIDE.!AA1841","v":"00:00:00"},119,"119","EXTR","01190EXTR","00EXTR A3"]
[{"$f":"BONAFIDE.!AB1842","v":"EXTRA3"},{"$f":"BONAFIDE.!AE1842","v":0},null,{"$f":"BONAFIDE.!X1842","v":0},{"$f":"BONAFIDE.!Y1842","v":0},{"$f":"BONAFIDE.!Z1842","v":0},{"$f":"BONAFIDE.!AD1842","v":0},{"$f":"BONAFIDE.!AA1842","v":"00:00:00"},119,"119","EXTR","01190EXTR","00EXTR A3"]
[{"$f":"BONAFIDE.!AB1843","v":"EXTRA3"},{"$f":"BONAFIDE.!AE1843","v":0},null,{"$f":"BONAFIDE.!X1843","v":0},{"$f":"BONAFIDE.!Y1843","v":0},{"$f":"BONAFIDE.!Z1843","v":0},{"$f":"BONAFIDE.!AD1843","v":0},{"$f":"BONAFIDE.!AA1843","v":"00:00:00"},119,"119","EXTR","01190EXTR","00EXTR A3"]
[{"$f":"BONAFIDE.!AB1844","v":"EXTRA3"},{"$f":"BONAFIDE.!AE1844","v":0},null,{"$f":"BONAFIDE.!X1844","v":0},{"$f":"BONAFIDE.!Y1844","v":0},{"$f":"BONAFIDE.!Z1844","v":0},{"$f":"BONAFIDE.!AD1844","v":0},{"$f":"BONAFIDE.!AA1844","v":"00:00:00"},119,"119","EXTR","01190EXTR","00EXTR A3"]
[{"$f":"BONAFIDE.!AB1845","v":"EXTRA3"},{"$f":"BONAFIDE.!AE1845","v":0},null,{"$f":"BONAFIDE.!X1845","v":0},{"$f":"BONAFIDE.!Y1845","v":0},{"$f":"BONAFIDE.!Z1845","v":0},{"$f":"BONAFIDE.!AD1845","v":0},{"$f":"BONAFIDE.!AA1845","v":"00:00:00"},119,"119","EXTR","01190EXTR","00EXTR A3"]
[{"$f":"BONAFIDE.!AB1846","v":"EXTRA3"},{"$f":"BONAFIDE.!AE1846","v":0},null,{"$f":"BONAFIDE.!X1846","v":0},{"$f":"BONAFIDE.!Y1846","v":0},{"$f":"BONAFIDE.!Z1846","v":0},{"$f":"BONAFIDE.!AD1846","v":0},{"$f":"BONAFIDE.!AA1846","v":"00:00:00"},119,"119","EXTR","01190EXTR","00EXTR A3"]
[{"$f":"BONAFIDE.!AB1847","v":"EXTRA3"},{"$f":"BONAFIDE.!AE1847","v":0},null,{"$f":"BONAFIDE.!X1847","v":0},{"$f":"BONAFIDE.!Y1847","v":0},{"$f":"BONAFIDE.!Z1847","v":0},{"$f":"BONAFIDE.!AD1847","v":0},{"$f":"BONAFIDE.!AA1847","v":"00:00:00"},119,"119","EXTR","01190EXTR","00EXTR A3"]
[{"$f":"BONAFIDE.!AB1848","v":"EXTRA3"},{"$f":"BONAFIDE.!AE1848","v":0},null,{"$f":"BONAFIDE.!X1848","v":0},{"$f":"BONAFIDE.!Y1848","v":0},{"$f":"BONAFIDE.!Z1848","v":0},{"$f":"BONAFIDE.!AD1848","v":0},{"$f":"BONAFIDE.!AA1848","v":"00:00:00"},119,"119","EXTR","01190EXTR","00EXTR A3"]
[{"$f":"BONAFIDE.!AB1849","v":"EXTRA3"},{"$f":"BONAFIDE.!AE1849","v":0},null,{"$f":"BONAFIDE.!X1849","v":0},{"$f":"BONAFIDE.!Y1849","v":0},{"$f":"BONAFIDE.!Z1849","v":0},{"$f":"BONAFIDE.!AD1849","v":0},{"$f":"BONAFIDE.!AA1849","v":"00:00:00"},119,"119","EXTR","01190EXTR","00EXTR A3"]
[{"$f":"BONAFIDE.!AB1850","v":"EXTRA3"},{"$f":"BONAFIDE.!AE1850","v":0},null,{"$f":"BONAFIDE.!X1850","v":0},{"$f":"BONAFIDE.!Y1850","v":0},{"$f":"BONAFIDE.!Z1850","v":0},{"$f":"BONAFIDE.!AD1850","v":0},{"$f":"BONAFIDE.!AA1850","v":"00:00:00"},119,"119","EXTR","01190EXTR","00EXTR A3"]
[{"$f":"BONAFIDE.!AB1851","v":"EXTRA3"},{"$f":"BONAFIDE.!AE1851","v":0},null,{"$f":"BONAFIDE.!X1851","v":0},{"$f":"BONAFIDE.!Y1851","v":0},{"$f":"BONAFIDE.!Z1851","v":0},{"$f":"BONAFIDE.!AD1851","v":0},{"$f":"BONAFIDE.!AA1851","v":"00:00:00"},119,"119","EXTR","01190EXTR","00EXTR A3"]
[{"$f":"BONAFIDE.!AB1852","v":"EXTRA3"},{"$f":"BONAFIDE.!AE1852","v":0},null,{"$f":"BONAFIDE.!X1852","v":0},{"$f":"BONAFIDE.!Y1852","v":0},{"$f":"BONAFIDE.!Z1852","v":0},{"$f":"BONAFIDE.!AD1852","v":0},{"$f":"BONAFIDE.!AA1852","v":"00:00:00"},119,"119","EXTR","01190EXTR","00EXTR A3"]
[{"$f":"BONAFIDE.!AB1853","v":"EXTRA3"},{"$f":"BONAFIDE.!AE1853","v":0},null,{"$f":"BONAFIDE.!X1853","v":0},{"$f":"BONAFIDE.!Y1853","v":0},{"$f":"BONAFIDE.!Z1853","v":0},{"$f":"BONAFIDE.!AD1853","v":0},{"$f":"BONAFIDE.!AA1853","v":"00:00:00"},119,"119","EXTR","01190EXTR","00EXTR A3"]
[{"$f":"BONAFIDE.!AB1854","v":"EXTRA3"},{"$f":"BONAFIDE.!AE1854","v":0},null,{"$f":"BONAFIDE.!X1854","v":0},{"$f":"BONAFIDE.!Y1854","v":0},{"$f":"BONAFIDE.!Z1854","v":0},{"$f":"BONAFIDE.!AD1854","v":0},{"$f":"BONAFIDE.!AA1854","v":"00:00:00"},119,"119","EXTR","01190EXTR","00EXTR A3"]
[{"$f":"BONAFIDE.!AB1855","v":"EXTRA3"},{"$f":"BONAFIDE.!AE1855","v":0},null,{"$f":"BONAFIDE.!X1855","v":0},{"$f":"BONAFIDE.!Y1855","v":0},{"$f":"BONAFIDE.!Z1855","v":0},{"$f":"BONAFIDE.!AD1855","v":0},{"$f":"BONAFIDE.!AA1855","v":"00:00:00"},119,"119","EXTR","01190EXTR","00EXTR A3"]
[{"$f":"BONAFIDE.!AB1856","v":"EXTRA3"},{"$f":"BONAFIDE.!AE1856","v":0},null,{"$f":"BONAFIDE.!X1856","v":0},{"$f":"BONAFIDE.!Y1856","v":0},{"$f":"BONAFIDE.!Z1856","v":0},{"$f":"BONAFIDE.!AD1856","v":0},{"$f":"BONAFIDE.!AA1856","v":"00:00:00"},119,"119","EXTR","01190EXTR","00EXTR A3"]
[{"$f":"BONAFIDE.!AB1857","v":"EXTRA3"},{"$f":"BONAFIDE.!AE1857","v":0},null,{"$f":"BONAFIDE.!X1857","v":0},{"$f":"BONAFIDE.!Y1857","v":0},{"$f":"BONAFIDE.!Z1857","v":0},{"$f":"BONAFIDE.!AD1857","v":0},{"$f":"BONAFIDE.!AA1857","v":"00:00:00"},119,"119","EXTR","01190EXTR","00EXTR A3"]
[{"$f":"BONAFIDE.!AB1858","v":"EXTRA3"},{"$f":"BONAFIDE.!AE1858","v":0},null,{"$f":"BONAFIDE.!X1858","v":0},{"$f":"BONAFIDE.!Y1858","v":0},{"$f":"BONAFIDE.!Z1858","v":0},{"$f":"BONAFIDE.!AD1858","v":0},{"$f":"BONAFIDE.!AA1858","v":"00:00:00"},119,"119","EXTR","01190EXTR","00EXTR A3"]
[{"$f":"BONAFIDE.!AB1859","v":"EXTRA3"},{"$f":"BONAFIDE.!AE1859","v":0},null,{"$f":"BONAFIDE.!X1859","v":0},{"$f":"BONAFIDE.!Y1859","v":0},{"$f":"BONAFIDE.!Z1859","v":0},{"$f":"BONAFIDE.!AD1859","v":0},{"$f":"BONAFIDE.!AA1859","v":"00:00:00"},119,"119","EXTR","01190EXTR","00EXTR A3"]
[{"$f":"BONAFIDE.!AB1860","v":"EXTRA3"},{"$f":"BONAFIDE.!AE1860","v":0},null,{"$f":"BONAFIDE.!X1860","v":0},{"$f":"BONAFIDE.!Y1860","v":0},{"$f":"BONAFIDE.!Z1860","v":0},{"$f":"BONAFIDE.!AD1860","v":0},{"$f":"BONAFIDE.!AA1860","v":"00:00:00"},119,"119","EXTR","01190EXTR","00EXTR A3"]
[{"$f":"BONAFIDE.!AB1861","v":"EXTRA3"},{"$f":"BONAFIDE.!AE1861","v":0},null,{"$f":"BONAFIDE.!X1861","v":0},{"$f":"BONAFIDE.!Y1861","v":0},{"$f":"BONAFIDE.!Z1861","v":0},{"$f":"BONAFIDE.!AD1861","v":0},{"$f":"BONAFIDE.!AA1861","v":"00:00:00"},119,"119","EXTR","01190EXTR","00EXTR A3"]
[{"$f":"BONAFIDE.!AB1862","v":"EXTRA3"},{"$f":"BONAFIDE.!AE1862","v":0},null,{"$f":"BONAFIDE.!X1862","v":0},{"$f":"BONAFIDE.!Y1862","v":0},{"$f":"BONAFIDE.!Z1862","v":0},{"$f":"BONAFIDE.!AD1862","v":0},{"$f":"BONAFIDE.!AA1862","v":"00:00:00"},119,"119","EXTR","01190EXTR","00EXTR A3"]
[{"$f":"BONAFIDE.!AB1863","v":"EXTRA3"},{"$f":"BONAFIDE.!AE1863","v":0},null,{"$f":"BONAFIDE.!X1863","v":0},{"$f":"BONAFIDE.!Y1863","v":0},{"$f":"BONAFIDE.!Z1863","v":0},{"$f":"BONAFIDE.!AD1863","v":0},{"$f":"BONAFIDE.!AA1863","v":"00:00:00"},{"$f":"DATEDIF(H1860,CUTOFFDT,\"Y\")","v":119},{"$f":"fillno(I1860)","v":"119"},{"$f":"MID(A1860,1,LEN(A1860)-2)","v":"EXTR"},{"$f":"B1860&J1860&G1860&K1860","v":"01190EXTR"},{"$f":"B1860&G1860&MID(A1860,1,LEN(A1860)-2)&\" \" & RIGHT(A1860,2)","v":"00EXTR A3"}]
[{"$f":"BONAFIDE.!AB1864","v":"EXTRA3"},{"$f":"BONAFIDE.!AE1864","v":0},null,{"$f":"BONAFIDE.!X1864","v":0},{"$f":"BONAFIDE.!Y1864","v":0},{"$f":"BONAFIDE.!Z1864","v":0},{"$f":"BONAFIDE.!AD1864","v":0},{"$f":"BONAFIDE.!AA1864","v":"00:00:00"},119,"119","EXTR","01190EXTR","00EXTR A3"]
[{"$f":"BONAFIDE.!AB1865","v":"EXTRA3"},{"$f":"BONAFIDE.!AE1865","v":0},null,{"$f":"BONAFIDE.!X1865","v":0},{"$f":"BONAFIDE.!Y1865","v":0},{"$f":"BONAFIDE.!Z1865","v":0},{"$f":"BONAFIDE.!AD1865","v":0},{"$f":"BONAFIDE.!AA1865","v":"00:00:00"},119,"119","EXTR","01190EXTR","00EXTR A3"]
[{"$f":"BONAFIDE.!AB1866","v":"EXTRA3"},{"$f":"BONAFIDE.!AE1866","v":0},null,{"$f":"BONAFIDE.!X1866","v":0},{"$f":"BONAFIDE.!Y1866","v":0},{"$f":"BONAFIDE.!Z1866","v":0},{"$f":"BONAFIDE.!AD1866","v":0},{"$f":"BONAFIDE.!AA1866","v":"00:00:00"},119,"119","EXTR","01190EXTR","00EXTR A3"]
[{"$f":"BONAFIDE.!AB1867","v":"EXTRA3"},{"$f":"BONAFIDE.!AE1867","v":0},null,{"$f":"BONAFIDE.!X1867","v":0},{"$f":"BONAFIDE.!Y1867","v":0},{"$f":"BONAFIDE.!Z1867","v":0},{"$f":"BONAFIDE.!AD1867","v":0},{"$f":"BONAFIDE.!AA1867","v":"00:00:00"},119,"119","EXTR","01190EXTR","00EXTR A3"]
[{"$f":"BONAFIDE.!AB1868","v":"EXTRA3"},{"$f":"BONAFIDE.!AE1868","v":0},null,{"$f":"BONAFIDE.!X1868","v":0},{"$f":"BONAFIDE.!Y1868","v":0},{"$f":"BONAFIDE.!Z1868","v":0},{"$f":"BONAFIDE.!AD1868","v":0},{"$f":"BONAFIDE.!AA1868","v":"00:00:00"},119,"119","EXTR","01190EXTR","00EXTR A3"]
[{"$f":"BONAFIDE.!AB1869","v":"EXTRA3"},{"$f":"BONAFIDE.!AE1869","v":0},null,{"$f":"BONAFIDE.!X1869","v":0},{"$f":"BONAFIDE.!Y1869","v":0},{"$f":"BONAFIDE.!Z1869","v":0},{"$f":"BONAFIDE.!AD1869","v":0},{"$f":"BONAFIDE.!AA1869","v":"00:00:00"},119,"119","EXTR","01190EXTR","00EXTR A3"]
[{"$f":"BONAFIDE.!AB1870","v":"EXTRA3"},{"$f":"BONAFIDE.!AE1870","v":0},null,{"$f":"BONAFIDE.!X1870","v":0},{"$f":"BONAFIDE.!Y1870","v":0},{"$f":"BONAFIDE.!Z1870","v":0},{"$f":"BONAFIDE.!AD1870","v":0},{"$f":"BONAFIDE.!AA1870","v":"00:00:00"},119,"119","EXTR","01190EXTR","00EXTR A3"]
[{"$f":"BONAFIDE.!AB1871","v":"EXTRA3"},{"$f":"BONAFIDE.!AE1871","v":0},null,{"$f":"BONAFIDE.!X1871","v":0},{"$f":"BONAFIDE.!Y1871","v":0},{"$f":"BONAFIDE.!Z1871","v":0},{"$f":"BONAFIDE.!AD1871","v":0},{"$f":"BONAFIDE.!AA1871","v":"00:00:00"},119,"119","EXTR","01190EXTR","00EXTR A3"]
[{"$f":"BONAFIDE.!AB1872","v":"EXTRA3"},{"$f":"BONAFIDE.!AE1872","v":0},null,{"$f":"BONAFIDE.!X1872","v":0},{"$f":"BONAFIDE.!Y1872","v":0},{"$f":"BONAFIDE.!Z1872","v":0},{"$f":"BONAFIDE.!AD1872","v":0},{"$f":"BONAFIDE.!AA1872","v":"00:00:00"},119,"119","EXTR","01190EXTR","00EXTR A3"]
[{"$f":"BONAFIDE.!AB1873","v":"EXTRA3"},{"$f":"BONAFIDE.!AE1873","v":0},null,{"$f":"BONAFIDE.!X1873","v":0},{"$f":"BONAFIDE.!Y1873","v":0},{"$f":"BONAFIDE.!Z1873","v":0},{"$f":"BONAFIDE.!AD1873","v":0},{"$f":"BONAFIDE.!AA1873","v":"00:00:00"},119,"119","EXTR","01190EXTR","00EXTR A3"]
[{"$f":"BONAFIDE.!AB1874","v":"EXTRA3"},{"$f":"BONAFIDE.!AE1874","v":0},null,{"$f":"BONAFIDE.!X1874","v":0},{"$f":"BONAFIDE.!Y1874","v":0},{"$f":"BONAFIDE.!Z1874","v":0},{"$f":"BONAFIDE.!AD1874","v":0},{"$f":"BONAFIDE.!AA1874","v":"00:00:00"},119,"119","EXTR","01190EXTR","00EXTR A3"]
[{"$f":"BONAFIDE.!AB1875","v":"EXTRA3"},{"$f":"BONAFIDE.!AE1875","v":0},null,{"$f":"BONAFIDE.!X1875","v":0},{"$f":"BONAFIDE.!Y1875","v":0},{"$f":"BONAFIDE.!Z1875","v":0},{"$f":"BONAFIDE.!AD1875","v":0},{"$f":"BONAFIDE.!AA1875","v":"00:00:00"},119,"119","EXTR","01190EXTR","00EXTR A3"]
[{"$f":"BONAFIDE.!AB1876","v":"EXTRA3"},{"$f":"BONAFIDE.!AE1876","v":0},null,{"$f":"BONAFIDE.!X1876","v":0},{"$f":"BONAFIDE.!Y1876","v":0},{"$f":"BONAFIDE.!Z1876","v":0},{"$f":"BONAFIDE.!AD1876","v":0},{"$f":"BONAFIDE.!AA1876","v":"00:00:00"},119,"119","EXTR","01190EXTR","00EXTR A3"]
[{"$f":"BONAFIDE.!AB1877","v":"EXTRA3"},{"$f":"BONAFIDE.!AE1877","v":0},null,{"$f":"BONAFIDE.!X1877","v":0},{"$f":"BONAFIDE.!Y1877","v":0},{"$f":"BONAFIDE.!Z1877","v":0},{"$f":"BONAFIDE.!AD1877","v":0},{"$f":"BONAFIDE.!AA1877","v":"00:00:00"},119,"119","EXTR","01190EXTR","00EXTR A3"]
[{"$f":"BONAFIDE.!AB1878","v":"EXTRA3"},{"$f":"BONAFIDE.!AE1878","v":0},null,{"$f":"BONAFIDE.!X1878","v":0},{"$f":"BONAFIDE.!Y1878","v":0},{"$f":"BONAFIDE.!Z1878","v":0},{"$f":"BONAFIDE.!AD1878","v":0},{"$f":"BONAFIDE.!AA1878","v":"00:00:00"},119,"119","EXTR","01190EXTR","00EXTR A3"]
[{"$f":"BONAFIDE.!AB1879","v":"EXTRA3"},{"$f":"BONAFIDE.!AE1879","v":0},null,{"$f":"BONAFIDE.!X1879","v":0},{"$f":"BONAFIDE.!Y1879","v":0},{"$f":"BONAFIDE.!Z1879","v":0},{"$f":"BONAFIDE.!AD1879","v":0},{"$f":"BONAFIDE.!AA1879","v":"00:00:00"},119,"119","EXTR","01190EXTR","00EXTR A3"]
[{"$f":"BONAFIDE.!AB1880","v":"EXTRA3"},{"$f":"BONAFIDE.!AE1880","v":0},null,{"$f":"BONAFIDE.!X1880","v":0},{"$f":"BONAFIDE.!Y1880","v":0},{"$f":"BONAFIDE.!Z1880","v":0},{"$f":"BONAFIDE.!AD1880","v":0},{"$f":"BONAFIDE.!AA1880","v":"00:00:00"},119,"119","EXTR","01190EXTR","00EXTR A3"]
[{"$f":"BONAFIDE.!AB1881","v":"EXTRA3"},{"$f":"BONAFIDE.!AE1881","v":0},null,{"$f":"BONAFIDE.!X1881","v":0},{"$f":"BONAFIDE.!Y1881","v":0},{"$f":"BONAFIDE.!Z1881","v":0},{"$f":"BONAFIDE.!AD1881","v":0},{"$f":"BONAFIDE.!AA1881","v":"00:00:00"},119,"119","EXTR","01190EXTR","00EXTR A3"]
[{"$f":"BONAFIDE.!AB1882","v":"EXTRA3"},{"$f":"BONAFIDE.!AE1882","v":0},null,{"$f":"BONAFIDE.!X1882","v":0},{"$f":"BONAFIDE.!Y1882","v":0},{"$f":"BONAFIDE.!Z1882","v":0},{"$f":"BONAFIDE.!AD1882","v":0},{"$f":"BONAFIDE.!AA1882","v":"00:00:00"},{"$f":"DATEDIF(H1879,CUTOFFDT,\"Y\")","v":119},"119",{"$f":"MID(A1879,1,LEN(A1879)-2)","v":"EXTR"},{"$f":"B1879&J1879&G1879&K1879","v":"01190EXTR"},{"$f":"B1879&G1879&MID(A1879,1,LEN(A1879)-2)&\" \" & RIGHT(A1879,2)","v":"00EXTR A3"}]
[{"$f":"BONAFIDE.!AB1883","v":"EXTRA3"},{"$f":"BONAFIDE.!AE1883","v":0},null,{"$f":"BONAFIDE.!X1883","v":0},{"$f":"BONAFIDE.!Y1883","v":0},{"$f":"BONAFIDE.!Z1883","v":0},{"$f":"BONAFIDE.!AD1883","v":0},{"$f":"BONAFIDE.!AA1883","v":"00:00:00"},119,"119","EXTR","01190EXTR","00EXTR A3"]
[{"$f":"BONAFIDE.!AB1884","v":"EXTRA3"},{"$f":"BONAFIDE.!AE1884","v":0},null,{"$f":"BONAFIDE.!X1884","v":0},{"$f":"BONAFIDE.!Y1884","v":0},{"$f":"BONAFIDE.!Z1884","v":0},{"$f":"BONAFIDE.!AD1884","v":0},{"$f":"BONAFIDE.!AA1884","v":"00:00:00"},119,"119","EXTR","01190EXTR","00EXTR A3"]
[{"$f":"BONAFIDE.!AB1885","v":"EXTRA3"},{"$f":"BONAFIDE.!AE1885","v":0},null,{"$f":"BONAFIDE.!X1885","v":0},{"$f":"BONAFIDE.!Y1885","v":0},{"$f":"BONAFIDE.!Z1885","v":0},{"$f":"BONAFIDE.!AD1885","v":0},{"$f":"BONAFIDE.!AA1885","v":"00:00:00"},119,"119","EXTR","01190EXTR","00EXTR A3"]
[{"$f":"BONAFIDE.!AB1886","v":"EXTRA3"},{"$f":"BONAFIDE.!AE1886","v":0},null,{"$f":"BONAFIDE.!X1886","v":0},{"$f":"BONAFIDE.!Y1886","v":0},{"$f":"BONAFIDE.!Z1886","v":0},{"$f":"BONAFIDE.!AD1886","v":0},{"$f":"BONAFIDE.!AA1886","v":"00:00:00"},119,"119","EXTR","01190EXTR","00EXTR A3"]
[{"$f":"BONAFIDE.!AB1887","v":"EXTRA3"},{"$f":"BONAFIDE.!AE1887","v":0},null,{"$f":"BONAFIDE.!X1887","v":0},{"$f":"BONAFIDE.!Y1887","v":0},{"$f":"BONAFIDE.!Z1887","v":0},{"$f":"BONAFIDE.!AD1887","v":0},{"$f":"BONAFIDE.!AA1887","v":"00:00:00"},119,"119","EXTR","01190EXTR","00EXTR A3"]
[{"$f":"BONAFIDE.!AB1888","v":"EXTRA3"},{"$f":"BONAFIDE.!AE1888","v":0},null,{"$f":"BONAFIDE.!X1888","v":0},{"$f":"BONAFIDE.!Y1888","v":0},{"$f":"BONAFIDE.!Z1888","v":0},{"$f":"BONAFIDE.!AD1888","v":0},{"$f":"BONAFIDE.!AA1888","v":"00:00:00"},119,"119","EXTR","01190EXTR","00EXTR A3"]
[{"$f":"BONAFIDE.!AB1889","v":"EXTRA3"},{"$f":"BONAFIDE.!AE1889","v":0},null,{"$f":"BONAFIDE.!X1889","v":0},{"$f":"BONAFIDE.!Y1889","v":0},{"$f":"BONAFIDE.!Z1889","v":0},{"$f":"BONAFIDE.!AD1889","v":0},{"$f":"BONAFIDE.!AA1889","v":"00:00:00"},119,"119","EXTR","01190EXTR","00EXTR A3"]
[{"$f":"BONAFIDE.!AB1890","v":"EXTRA3"},{"$f":"BONAFIDE.!AE1890","v":0},null,{"$f":"BONAFIDE.!X1890","v":0},{"$f":"BONAFIDE.!Y1890","v":0},{"$f":"BONAFIDE.!Z1890","v":0},{"$f":"BONAFIDE.!AD1890","v":0},{"$f":"BONAFIDE.!AA1890","v":"00:00:00"},119,"119","EXTR","01190EXTR","00EXTR A3"]
[{"$f":"BONAFIDE.!AB1891","v":"EXTRA3"},{"$f":"BONAFIDE.!AE1891","v":0},null,{"$f":"BONAFIDE.!X1891","v":0},{"$f":"BONAFIDE.!Y1891","v":0},{"$f":"BONAFIDE.!Z1891","v":0},{"$f":"BONAFIDE.!AD1891","v":0},{"$f":"BONAFIDE.!AA1891","v":"00:00:00"},119,"119","EXTR","01190EXTR","00EXTR A3"]
[{"$f":"BONAFIDE.!AB1892","v":"EXTRA3"},{"$f":"BONAFIDE.!AE1892","v":0},null,{"$f":"BONAFIDE.!X1892","v":0},{"$f":"BONAFIDE.!Y1892","v":0},{"$f":"BONAFIDE.!Z1892","v":0},{"$f":"BONAFIDE.!AD1892","v":0},{"$f":"BONAFIDE.!AA1892","v":"00:00:00"},119,"119","EXTR","01190EXTR","00EXTR A3"]
[{"$f":"BONAFIDE.!AB1893","v":"EXTRA3"},{"$f":"BONAFIDE.!AE1893","v":0},null,{"$f":"BONAFIDE.!X1893","v":0},{"$f":"BONAFIDE.!Y1893","v":0},{"$f":"BONAFIDE.!Z1893","v":0},{"$f":"BONAFIDE.!AD1893","v":0},{"$f":"BONAFIDE.!AA1893","v":"00:00:00"},119,"119","EXTR","01190EXTR","00EXTR A3"]
[{"$f":"BONAFIDE.!AB1894","v":"EXTRA3"},{"$f":"BONAFIDE.!AE1894","v":0},null,{"$f":"BONAFIDE.!X1894","v":0},{"$f":"BONAFIDE.!Y1894","v":0},{"$f":"BONAFIDE.!Z1894","v":0},{"$f":"BONAFIDE.!AD1894","v":0},{"$f":"BONAFIDE.!AA1894","v":"00:00:00"},119,"119","EXTR","01190EXTR","00EXTR A3"]
[{"$f":"BONAFIDE.!AB1895","v":"EXTRA3"},{"$f":"BONAFIDE.!AE1895","v":0},null,{"$f":"BONAFIDE.!X1895","v":0},{"$f":"BONAFIDE.!Y1895","v":0},{"$f":"BONAFIDE.!Z1895","v":0},{"$f":"BONAFIDE.!AD1895","v":0},{"$f":"BONAFIDE.!AA1895","v":"00:00:00"},119,"119","EXTR","01190EXTR","00EXTR A3"]
[{"$f":"BONAFIDE.!AB1896","v":"EXTRA3"},{"$f":"BONAFIDE.!AE1896","v":0},null,{"$f":"BONAFIDE.!X1896","v":0},{"$f":"BONAFIDE.!Y1896","v":0},{"$f":"BONAFIDE.!Z1896","v":0},{"$f":"BONAFIDE.!AD1896","v":0},{"$f":"BONAFIDE.!AA1896","v":"00:00:00"},119,"119","EXTR","01190EXTR","00EXTR A3"]
[{"$f":"BONAFIDE.!AB1897","v":"EXTRA3"},{"$f":"BONAFIDE.!AE1897","v":0},null,{"$f":"BONAFIDE.!X1897","v":0},{"$f":"BONAFIDE.!Y1897","v":0},{"$f":"BONAFIDE.!Z1897","v":0},{"$f":"BONAFIDE.!AD1897","v":0},{"$f":"BONAFIDE.!AA1897","v":"00:00:00"},119,"119","EXTR","01190EXTR","00EXTR A3"]
[{"$f":"BONAFIDE.!AB1898","v":"EXTRA3"},{"$f":"BONAFIDE.!AE1898","v":0},null,{"$f":"BONAFIDE.!X1898","v":0},{"$f":"BONAFIDE.!Y1898","v":0},{"$f":"BONAFIDE.!Z1898","v":0},{"$f":"BONAFIDE.!AD1898","v":0},{"$f":"BONAFIDE.!AA1898","v":"00:00:00"},119,"119","EXTR","01190EXTR","00EXTR A3"]
[{"$f":"BONAFIDE.!AB1899","v":"EXTRA3"},{"$f":"BONAFIDE.!AE1899","v":0},null,{"$f":"BONAFIDE.!X1899","v":0},{"$f":"BONAFIDE.!Y1899","v":0},{"$f":"BONAFIDE.!Z1899","v":0},{"$f":"BONAFIDE.!AD1899","v":0},{"$f":"BONAFIDE.!AA1899","v":"00:00:00"},119,"119","EXTR","01190EXTR","00EXTR A3"]
[{"$f":"BONAFIDE.!AB1900","v":"EXTRA3"},{"$f":"BONAFIDE.!AE1900","v":0},null,{"$f":"BONAFIDE.!X1900","v":0},{"$f":"BONAFIDE.!Y1900","v":0},{"$f":"BONAFIDE.!Z1900","v":0},{"$f":"BONAFIDE.!AD1900","v":0},{"$f":"BONAFIDE.!AA1900","v":"00:00:00"},119,"119","EXTR","01190EXTR","00EXTR A3"]
[{"$f":"BONAFIDE.!AB1901","v":"EXTRA3"},{"$f":"BONAFIDE.!AE1901","v":0},null,{"$f":"BONAFIDE.!X1901","v":0},{"$f":"BONAFIDE.!Y1901","v":0},{"$f":"BONAFIDE.!Z1901","v":0},{"$f":"BONAFIDE.!AD1901","v":0},{"$f":"BONAFIDE.!AA1901","v":"00:00:00"},119,"119","EXTR","01190EXTR","00EXTR A3"]
[{"$f":"BONAFIDE.!AB1902","v":"EXTRA3"},{"$f":"BONAFIDE.!AE1902","v":0},null,{"$f":"BONAFIDE.!X1902","v":0},{"$f":"BONAFIDE.!Y1902","v":0},{"$f":"BONAFIDE.!Z1902","v":0},{"$f":"BONAFIDE.!AD1902","v":0},{"$f":"BONAFIDE.!AA1902","v":"00:00:00"},119,"119","EXTR","01190EXTR","00EXTR A3"]
[{"$f":"BONAFIDE.!AB1903","v":"EXTRA3"},{"$f":"BONAFIDE.!AE1903","v":0},null,{"$f":"BONAFIDE.!X1903","v":0},{"$f":"BONAFIDE.!Y1903","v":0},{"$f":"BONAFIDE.!Z1903","v":0},{"$f":"BONAFIDE.!AD1903","v":0},{"$f":"BONAFIDE.!AA1903","v":"00:00:00"},119,"119","EXTR","01190EXTR","00EXTR A3"]
[{"$f":"BONAFIDE.!AB1904","v":"EXTRA3"},{"$f":"BONAFIDE.!AE1904","v":0},null,{"$f":"BONAFIDE.!X1904","v":0},{"$f":"BONAFIDE.!Y1904","v":0},{"$f":"BONAFIDE.!Z1904","v":0},{"$f":"BONAFIDE.!AD1904","v":0},{"$f":"BONAFIDE.!AA1904","v":"00:00:00"},119,"119","EXTR","01190EXTR","00EXTR A3"]
[{"$f":"BONAFIDE.!AB1905","v":"EXTRA3"},{"$f":"BONAFIDE.!AE1905","v":0},null,{"$f":"BONAFIDE.!X1905","v":0},{"$f":"BONAFIDE.!Y1905","v":0},{"$f":"BONAFIDE.!Z1905","v":0},{"$f":"BONAFIDE.!AD1905","v":0},{"$f":"BONAFIDE.!AA1905","v":"00:00:00"},119,"119","EXTR","01190EXTR","00EXTR A3"]
[{"$f":"BONAFIDE.!AB1906","v":"EXTRA3"},{"$f":"BONAFIDE.!AE1906","v":0},null,{"$f":"BONAFIDE.!X1906","v":0},{"$f":"BONAFIDE.!Y1906","v":0},{"$f":"BONAFIDE.!Z1906","v":0},{"$f":"BONAFIDE.!AD1906","v":0},{"$f":"BONAFIDE.!AA1906","v":"00:00:00"},119,"119","EXTR","01190EXTR","00EXTR A3"]
[{"$f":"BONAFIDE.!AB1907","v":"EXTRA3"},{"$f":"BONAFIDE.!AE1907","v":0},null,{"$f":"BONAFIDE.!X1907","v":0},{"$f":"BONAFIDE.!Y1907","v":0},{"$f":"BONAFIDE.!Z1907","v":0},{"$f":"BONAFIDE.!AD1907","v":0},{"$f":"BONAFIDE.!AA1907","v":"00:00:00"},119,"119","EXTR","01190EXTR","00EXTR A3"]
[{"$f":"BONAFIDE.!AB1908","v":"EXTRA3"},{"$f":"BONAFIDE.!AE1908","v":0},null,{"$f":"BONAFIDE.!X1908","v":0},{"$f":"BONAFIDE.!Y1908","v":0},{"$f":"BONAFIDE.!Z1908","v":0},{"$f":"BONAFIDE.!AD1908","v":0},{"$f":"BONAFIDE.!AA1908","v":"00:00:00"},119,"119","EXTR","01190EXTR","00EXTR A3"]
[{"$f":"BONAFIDE.!AB1909","v":"EXTRA3"},{"$f":"BONAFIDE.!AE1909","v":0},null,{"$f":"BONAFIDE.!X1909","v":0},{"$f":"BONAFIDE.!Y1909","v":0},{"$f":"BONAFIDE.!Z1909","v":0},{"$f":"BONAFIDE.!AD1909","v":0},{"$f":"BONAFIDE.!AA1909","v":"00:00:00"},119,"119","EXTR","01190EXTR","00EXTR A3"]
[{"$f":"BONAFIDE.!AB1910","v":"EXTRA3"},{"$f":"BONAFIDE.!AE1910","v":0},null,{"$f":"BONAFIDE.!X1910","v":0},{"$f":"BONAFIDE.!Y1910","v":0},{"$f":"BONAFIDE.!Z1910","v":0},{"$f":"BONAFIDE.!AD1910","v":0},{"$f":"BONAFIDE.!AA1910","v":"00:00:00"},119,"119","EXTR","01190EXTR","00EXTR A3"]
[{"$f":"BONAFIDE.!AB1911","v":"EXTRA3"},{"$f":"BONAFIDE.!AE1911","v":0},null,{"$f":"BONAFIDE.!X1911","v":0},{"$f":"BONAFIDE.!Y1911","v":0},{"$f":"BONAFIDE.!Z1911","v":0},{"$f":"BONAFIDE.!AD1911","v":0},{"$f":"BONAFIDE.!AA1911","v":"00:00:00"},119,"119","EXTR","01190EXTR","00EXTR A3"]
[{"$f":"BONAFIDE.!AB1912","v":"EXTRA3"},{"$f":"BONAFIDE.!AE1912","v":0},null,{"$f":"BONAFIDE.!X1912","v":0},{"$f":"BONAFIDE.!Y1912","v":0},{"$f":"BONAFIDE.!Z1912","v":0},{"$f":"BONAFIDE.!AD1912","v":0},{"$f":"BONAFIDE.!AA1912","v":"00:00:00"},119,"119","EXTR","01190EXTR","00EXTR A3"]
[{"$f":"BONAFIDE.!AB1913","v":"EXTRA3"},{"$f":"BONAFIDE.!AE1913","v":0},null,{"$f":"BONAFIDE.!X1913","v":0},{"$f":"BONAFIDE.!Y1913","v":0},{"$f":"BONAFIDE.!Z1913","v":0},{"$f":"BONAFIDE.!AD1913","v":0},{"$f":"BONAFIDE.!AA1913","v":"00:00:00"},119,"119","EXTR","01190EXTR","00EXTR A3"]
[{"$f":"BONAFIDE.!AB1914","v":"EXTRA3"},{"$f":"BONAFIDE.!AE1914","v":0},null,{"$f":"BONAFIDE.!X1914","v":0},{"$f":"BONAFIDE.!Y1914","v":0},{"$f":"BONAFIDE.!Z1914","v":0},{"$f":"BONAFIDE.!AD1914","v":0},{"$f":"BONAFIDE.!AA1914","v":"00:00:00"},119,"119","EXTR","01190EXTR","00EXTR A3"]
[{"$f":"BONAFIDE.!AB1915","v":"EXTRA3"},{"$f":"BONAFIDE.!AE1915","v":0},null,{"$f":"BONAFIDE.!X1915","v":0},{"$f":"BONAFIDE.!Y1915","v":0},{"$f":"BONAFIDE.!Z1915","v":0},{"$f":"BONAFIDE.!AD1915","v":0},{"$f":"BONAFIDE.!AA1915","v":"00:00:00"},119,"119","EXTR","01190EXTR","00EXTR A3"]
[{"$f":"BONAFIDE.!AB1916","v":"EXTRA3"},{"$f":"BONAFIDE.!AE1916","v":0},null,{"$f":"BONAFIDE.!X1916","v":0},{"$f":"BONAFIDE.!Y1916","v":0},{"$f":"BONAFIDE.!Z1916","v":0},{"$f":"BONAFIDE.!AD1916","v":0},{"$f":"BONAFIDE.!AA1916","v":"00:00:00"},119,"119","EXTR","01190EXTR","00EXTR A3"]
[{"$f":"BONAFIDE.!AB1917","v":"EXTRA3"},{"$f":"BONAFIDE.!AE1917","v":0},null,{"$f":"BONAFIDE.!X1917","v":0},{"$f":"BONAFIDE.!Y1917","v":0},{"$f":"BONAFIDE.!Z1917","v":0},{"$f":"BONAFIDE.!AD1917","v":0},{"$f":"BONAFIDE.!AA1917","v":"00:00:00"},119,"119","EXTR","01190EXTR","00EXTR A3"]
[{"$f":"BONAFIDE.!AB1918","v":"EXTRA3"},{"$f":"BONAFIDE.!AE1918","v":0},null,{"$f":"BONAFIDE.!X1918","v":0},{"$f":"BONAFIDE.!Y1918","v":0},{"$f":"BONAFIDE.!Z1918","v":0},{"$f":"BONAFIDE.!AD1918","v":0},{"$f":"BONAFIDE.!AA1918","v":"00:00:00"},119,"119","EXTR","01190EXTR","00EXTR A3"]
[{"$f":"BONAFIDE.!AB1919","v":"EXTRA3"},{"$f":"BONAFIDE.!AE1919","v":0},null,{"$f":"BONAFIDE.!X1919","v":0},{"$f":"BONAFIDE.!Y1919","v":0},{"$f":"BONAFIDE.!Z1919","v":0},{"$f":"BONAFIDE.!AD1919","v":0},{"$f":"BONAFIDE.!AA1919","v":"00:00:00"},119,"119","EXTR","01190EXTR","00EXTR A3"]
[{"$f":"BONAFIDE.!AB1920","v":"EXTRA3"},{"$f":"BONAFIDE.!AE1920","v":0},null,{"$f":"BONAFIDE.!X1920","v":0},{"$f":"BONAFIDE.!Y1920","v":0},{"$f":"BONAFIDE.!Z1920","v":0},{"$f":"BONAFIDE.!AD1920","v":0},{"$f":"BONAFIDE.!AA1920","v":"00:00:00"},119,"119","EXTR","01190EXTR","00EXTR A3"]
[{"$f":"BONAFIDE.!AB1921","v":"EXTRA3"},{"$f":"BONAFIDE.!AE1921","v":0},null,{"$f":"BONAFIDE.!X1921","v":0},{"$f":"BONAFIDE.!Y1921","v":0},{"$f":"BONAFIDE.!Z1921","v":0},{"$f":"BONAFIDE.!AD1921","v":0},{"$f":"BONAFIDE.!AA1921","v":"00:00:00"},119,"119","EXTR","01190EXTR","00EXTR A3"]
[{"$f":"BONAFIDE.!AB1922","v":"EXTRA3"},{"$f":"BONAFIDE.!AE1922","v":0},null,{"$f":"BONAFIDE.!X1922","v":0},{"$f":"BONAFIDE.!Y1922","v":0},{"$f":"BONAFIDE.!Z1922","v":0},{"$f":"BONAFIDE.!AD1922","v":0},{"$f":"BONAFIDE.!AA1922","v":"00:00:00"},119,"119","EXTR","01190EXTR","00EXTR A3"]
[{"$f":"BONAFIDE.!AB1923","v":"EXTRA3"},{"$f":"BONAFIDE.!AE1923","v":0},null,{"$f":"BONAFIDE.!X1923","v":0},{"$f":"BONAFIDE.!Y1923","v":0},{"$f":"BONAFIDE.!Z1923","v":0},{"$f":"BONAFIDE.!AD1923","v":0},{"$f":"BONAFIDE.!AA1923","v":"00:00:00"},119,"119","EXTR","01190EXTR","00EXTR A3"]
[{"$f":"BONAFIDE.!AB1924","v":"EXTRA3"},{"$f":"BONAFIDE.!AE1924","v":0},null,{"$f":"BONAFIDE.!X1924","v":0},{"$f":"BONAFIDE.!Y1924","v":0},{"$f":"BONAFIDE.!Z1924","v":0},{"$f":"BONAFIDE.!AD1924","v":0},{"$f":"BONAFIDE.!AA1924","v":"00:00:00"},119,"119","EXTR","01190EXTR","00EXTR A3"]
[{"$f":"BONAFIDE.!AB1925","v":"EXTRA3"},{"$f":"BONAFIDE.!AE1925","v":0},null,{"$f":"BONAFIDE.!X1925","v":0},{"$f":"BONAFIDE.!Y1925","v":0},{"$f":"BONAFIDE.!Z1925","v":0},{"$f":"BONAFIDE.!AD1925","v":0},{"$f":"BONAFIDE.!AA1925","v":"00:00:00"},119,"119","EXTR","01190EXTR","00EXTR A3"]
[{"$f":"BONAFIDE.!AB1926","v":"EXTRA3"},{"$f":"BONAFIDE.!AE1926","v":0},null,{"$f":"BONAFIDE.!X1926","v":0},{"$f":"BONAFIDE.!Y1926","v":0},{"$f":"BONAFIDE.!Z1926","v":0},{"$f":"BONAFIDE.!AD1926","v":0},{"$f":"BONAFIDE.!AA1926","v":"00:00:00"},119,"119","EXTR","01190EXTR","00EXTR A3"]
[{"$f":"BONAFIDE.!AB1927","v":"EXTRA3"},{"$f":"BONAFIDE.!AE1927","v":0},null,{"$f":"BONAFIDE.!X1927","v":0},{"$f":"BONAFIDE.!Y1927","v":0},{"$f":"BONAFIDE.!Z1927","v":0},{"$f":"BONAFIDE.!AD1927","v":0},{"$f":"BONAFIDE.!AA1927","v":"00:00:00"},119,{"$f":"fillno(I1924)","v":"119"},"EXTR","01190EXTR","00EXTR A3"]
[{"$f":"BONAFIDE.!AB1928","v":"EXTRA3"},{"$f":"BONAFIDE.!AE1928","v":0},null,{"$f":"BONAFIDE.!X1928","v":0},{"$f":"BONAFIDE.!Y1928","v":0},{"$f":"BONAFIDE.!Z1928","v":0},{"$f":"BONAFIDE.!AD1928","v":0},{"$f":"BONAFIDE.!AA1928","v":"00:00:00"},119,"119","EXTR","01190EXTR","00EXTR A3"]
[{"$f":"BONAFIDE.!AB1929","v":"EXTRA3"},{"$f":"BONAFIDE.!AE1929","v":0},null,{"$f":"BONAFIDE.!X1929","v":0},{"$f":"BONAFIDE.!Y1929","v":0},{"$f":"BONAFIDE.!Z1929","v":0},{"$f":"BONAFIDE.!AD1929","v":0},{"$f":"BONAFIDE.!AA1929","v":"00:00:00"},119,"119","EXTR","01190EXTR","00EXTR A3"]
[{"$f":"BONAFIDE.!AB1930","v":"EXTRA3"},{"$f":"BONAFIDE.!AE1930","v":0},null,{"$f":"BONAFIDE.!X1930","v":0},{"$f":"BONAFIDE.!Y1930","v":0},{"$f":"BONAFIDE.!Z1930","v":0},{"$f":"BONAFIDE.!AD1930","v":0},{"$f":"BONAFIDE.!AA1930","v":"00:00:00"},119,"119","EXTR","01190EXTR","00EXTR A3"]
[{"$f":"BONAFIDE.!AB1931","v":"EXTRA3"},{"$f":"BONAFIDE.!AE1931","v":0},null,{"$f":"BONAFIDE.!X1931","v":0},{"$f":"BONAFIDE.!Y1931","v":0},{"$f":"BONAFIDE.!Z1931","v":0},{"$f":"BONAFIDE.!AD1931","v":0},{"$f":"BONAFIDE.!AA1931","v":"00:00:00"},119,"119","EXTR","01190EXTR","00EXTR A3"]
[{"$f":"BONAFIDE.!AB1932","v":"EXTRA3"},{"$f":"BONAFIDE.!AE1932","v":0},null,{"$f":"BONAFIDE.!X1932","v":0},{"$f":"BONAFIDE.!Y1932","v":0},{"$f":"BONAFIDE.!Z1932","v":0},{"$f":"BONAFIDE.!AD1932","v":0},{"$f":"BONAFIDE.!AA1932","v":"00:00:00"},119,"119","EXTR","01190EXTR","00EXTR A3"]
[{"$f":"BONAFIDE.!AB1933","v":"EXTRA3"},{"$f":"BONAFIDE.!AE1933","v":0},null,{"$f":"BONAFIDE.!X1933","v":0},{"$f":"BONAFIDE.!Y1933","v":0},{"$f":"BONAFIDE.!Z1933","v":0},{"$f":"BONAFIDE.!AD1933","v":0},{"$f":"BONAFIDE.!AA1933","v":"00:00:00"},119,"119","EXTR","01190EXTR","00EXTR A3"]
[{"$f":"BONAFIDE.!AB1934","v":"EXTRA3"},{"$f":"BONAFIDE.!AE1934","v":0},null,{"$f":"BONAFIDE.!X1934","v":0},{"$f":"BONAFIDE.!Y1934","v":0},{"$f":"BONAFIDE.!Z1934","v":0},{"$f":"BONAFIDE.!AD1934","v":0},{"$f":"BONAFIDE.!AA1934","v":"00:00:00"},119,"119","EXTR","01190EXTR","00EXTR A3"]
[{"$f":"BONAFIDE.!AB1935","v":"EXTRA3"},{"$f":"BONAFIDE.!AE1935","v":0},null,{"$f":"BONAFIDE.!X1935","v":0},{"$f":"BONAFIDE.!Y1935","v":0},{"$f":"BONAFIDE.!Z1935","v":0},{"$f":"BONAFIDE.!AD1935","v":0},{"$f":"BONAFIDE.!AA1935","v":"00:00:00"},119,"119","EXTR","01190EXTR","00EXTR A3"]
[{"$f":"BONAFIDE.!AB1936","v":"EXTRA3"},{"$f":"BONAFIDE.!AE1936","v":0},null,{"$f":"BONAFIDE.!X1936","v":0},{"$f":"BONAFIDE.!Y1936","v":0},{"$f":"BONAFIDE.!Z1936","v":0},{"$f":"BONAFIDE.!AD1936","v":0},{"$f":"BONAFIDE.!AA1936","v":"00:00:00"},119,"119","EXTR","01190EXTR","00EXTR A3"]
[{"$f":"BONAFIDE.!AB1937","v":"EXTRA3"},{"$f":"BONAFIDE.!AE1937","v":0},null,{"$f":"BONAFIDE.!X1937","v":0},{"$f":"BONAFIDE.!Y1937","v":0},{"$f":"BONAFIDE.!Z1937","v":0},{"$f":"BONAFIDE.!AD1937","v":0},{"$f":"BONAFIDE.!AA1937","v":"00:00:00"},119,"119","EXTR","01190EXTR","00EXTR A3"]
[{"$f":"BONAFIDE.!AB1938","v":"EXTRA3"},{"$f":"BONAFIDE.!AE1938","v":0},null,{"$f":"BONAFIDE.!X1938","v":0},{"$f":"BONAFIDE.!Y1938","v":0},{"$f":"BONAFIDE.!Z1938","v":0},{"$f":"BONAFIDE.!AD1938","v":0},{"$f":"BONAFIDE.!AA1938","v":"00:00:00"},119,"119","EXTR","01190EXTR","00EXTR A3"]
[{"$f":"BONAFIDE.!AB1939","v":"EXTRA3"},{"$f":"BONAFIDE.!AE1939","v":0},null,{"$f":"BONAFIDE.!X1939","v":0},{"$f":"BONAFIDE.!Y1939","v":0},{"$f":"BONAFIDE.!Z1939","v":0},{"$f":"BONAFIDE.!AD1939","v":0},{"$f":"BONAFIDE.!AA1939","v":"00:00:00"},119,"119","EXTR","01190EXTR","00EXTR A3"]
[{"$f":"BONAFIDE.!AB1940","v":"EXTRA3"},{"$f":"BONAFIDE.!AE1940","v":0},null,{"$f":"BONAFIDE.!X1940","v":0},{"$f":"BONAFIDE.!Y1940","v":0},{"$f":"BONAFIDE.!Z1940","v":0},{"$f":"BONAFIDE.!AD1940","v":0},{"$f":"BONAFIDE.!AA1940","v":"00:00:00"},119,"119","EXTR","01190EXTR","00EXTR A3"]
[{"$f":"BONAFIDE.!AB1941","v":"EXTRA3"},{"$f":"BONAFIDE.!AE1941","v":0},null,{"$f":"BONAFIDE.!X1941","v":0},{"$f":"BONAFIDE.!Y1941","v":0},{"$f":"BONAFIDE.!Z1941","v":0},{"$f":"BONAFIDE.!AD1941","v":0},{"$f":"BONAFIDE.!AA1941","v":"00:00:00"},119,"119","EXTR","01190EXTR","00EXTR A3"]
[{"$f":"BONAFIDE.!AB1942","v":"EXTRA3"},{"$f":"BONAFIDE.!AE1942","v":0},null,{"$f":"BONAFIDE.!X1942","v":0},{"$f":"BONAFIDE.!Y1942","v":0},{"$f":"BONAFIDE.!Z1942","v":0},{"$f":"BONAFIDE.!AD1942","v":0},{"$f":"BONAFIDE.!AA1942","v":"00:00:00"},119,"119","EXTR","01190EXTR","00EXTR A3"]
[{"$f":"BONAFIDE.!AB1943","v":"EXTRA3"},{"$f":"BONAFIDE.!AE1943","v":0},null,{"$f":"BONAFIDE.!X1943","v":0},{"$f":"BONAFIDE.!Y1943","v":0},{"$f":"BONAFIDE.!Z1943","v":0},{"$f":"BONAFIDE.!AD1943","v":0},{"$f":"BONAFIDE.!AA1943","v":"00:00:00"},119,"119","EXTR","01190EXTR","00EXTR A3"]
[{"$f":"BONAFIDE.!AB1944","v":"EXTRA3"},{"$f":"BONAFIDE.!AE1944","v":0},null,{"$f":"BONAFIDE.!X1944","v":0},{"$f":"BONAFIDE.!Y1944","v":0},{"$f":"BONAFIDE.!Z1944","v":0},{"$f":"BONAFIDE.!AD1944","v":0},{"$f":"BONAFIDE.!AA1944","v":"00:00:00"},119,"119","EXTR","01190EXTR","00EXTR A3"]
[{"$f":"BONAFIDE.!AB1945","v":"EXTRA3"},{"$f":"BONAFIDE.!AE1945","v":0},null,{"$f":"BONAFIDE.!X1945","v":0},{"$f":"BONAFIDE.!Y1945","v":0},{"$f":"BONAFIDE.!Z1945","v":0},{"$f":"BONAFIDE.!AD1945","v":0},{"$f":"BONAFIDE.!AA1945","v":"00:00:00"},119,"119","EXTR","01190EXTR","00EXTR A3"]
[{"$f":"BONAFIDE.!AB1946","v":"EXTRA3"},{"$f":"BONAFIDE.!AE1946","v":0},null,{"$f":"BONAFIDE.!X1946","v":0},{"$f":"BONAFIDE.!Y1946","v":0},{"$f":"BONAFIDE.!Z1946","v":0},{"$f":"BONAFIDE.!AD1946","v":0},{"$f":"BONAFIDE.!AA1946","v":"00:00:00"},{"$f":"DATEDIF(H1943,CUTOFFDT,\"Y\")","v":119},"119",{"$f":"MID(A1943,1,LEN(A1943)-2)","v":"EXTR"},{"$f":"B1943&J1943&G1943&K1943","v":"01190EXTR"},{"$f":"B1943&G1943&MID(A1943,1,LEN(A1943)-2)&\" \" & RIGHT(A1943,2)","v":"00EXTR A3"}]
[{"$f":"BONAFIDE.!AB1947","v":"EXTRA3"},{"$f":"BONAFIDE.!AE1947","v":0},null,{"$f":"BONAFIDE.!X1947","v":0},{"$f":"BONAFIDE.!Y1947","v":0},{"$f":"BONAFIDE.!Z1947","v":0},{"$f":"BONAFIDE.!AD1947","v":0},{"$f":"BONAFIDE.!AA1947","v":"00:00:00"},119,"119","EXTR","01190EXTR","00EXTR A3"]
[{"$f":"BONAFIDE.!AB1948","v":"EXTRA3"},{"$f":"BONAFIDE.!AE1948","v":0},null,{"$f":"BONAFIDE.!X1948","v":0},{"$f":"BONAFIDE.!Y1948","v":0},{"$f":"BONAFIDE.!Z1948","v":0},{"$f":"BONAFIDE.!AD1948","v":0},{"$f":"BONAFIDE.!AA1948","v":"00:00:00"},119,"119","EXTR","01190EXTR","00EXTR A3"]
[{"$f":"BONAFIDE.!AB1949","v":"EXTRA3"},{"$f":"BONAFIDE.!AE1949","v":0},null,{"$f":"BONAFIDE.!X1949","v":0},{"$f":"BONAFIDE.!Y1949","v":0},{"$f":"BONAFIDE.!Z1949","v":0},{"$f":"BONAFIDE.!AD1949","v":0},{"$f":"BONAFIDE.!AA1949","v":"00:00:00"},119,"119","EXTR","01190EXTR","00EXTR A3"]
[{"$f":"BONAFIDE.!AB1950","v":"EXTRA3"},{"$f":"BONAFIDE.!AE1950","v":0},null,{"$f":"BONAFIDE.!X1950","v":0},{"$f":"BONAFIDE.!Y1950","v":0},{"$f":"BONAFIDE.!Z1950","v":0},{"$f":"BONAFIDE.!AD1950","v":0},{"$f":"BONAFIDE.!AA1950","v":"00:00:00"},119,"119","EXTR","01190EXTR","00EXTR A3"]
[{"$f":"BONAFIDE.!AB1951","v":"EXTRA3"},{"$f":"BONAFIDE.!AE1951","v":0},null,{"$f":"BONAFIDE.!X1951","v":0},{"$f":"BONAFIDE.!Y1951","v":0},{"$f":"BONAFIDE.!Z1951","v":0},{"$f":"BONAFIDE.!AD1951","v":0},{"$f":"BONAFIDE.!AA1951","v":"00:00:00"},119,"119","EXTR","01190EXTR","00EXTR A3"]
[{"$f":"BONAFIDE.!AB1952","v":"EXTRA3"},{"$f":"BONAFIDE.!AE1952","v":0},null,{"$f":"BONAFIDE.!X1952","v":0},{"$f":"BONAFIDE.!Y1952","v":0},{"$f":"BONAFIDE.!Z1952","v":0},{"$f":"BONAFIDE.!AD1952","v":0},{"$f":"BONAFIDE.!AA1952","v":"00:00:00"},119,"119","EXTR","01190EXTR","00EXTR A3"]
[{"$f":"BONAFIDE.!AB1953","v":"EXTRA3"},{"$f":"BONAFIDE.!AE1953","v":0},null,{"$f":"BONAFIDE.!X1953","v":0},{"$f":"BONAFIDE.!Y1953","v":0},{"$f":"BONAFIDE.!Z1953","v":0},{"$f":"BONAFIDE.!AD1953","v":0},{"$f":"BONAFIDE.!AA1953","v":"00:00:00"},119,"119","EXTR","01190EXTR","00EXTR A3"]
[{"$f":"BONAFIDE.!AB1954","v":"EXTRA3"},{"$f":"BONAFIDE.!AE1954","v":0},null,{"$f":"BONAFIDE.!X1954","v":0},{"$f":"BONAFIDE.!Y1954","v":0},{"$f":"BONAFIDE.!Z1954","v":0},{"$f":"BONAFIDE.!AD1954","v":0},{"$f":"BONAFIDE.!AA1954","v":"00:00:00"},119,"119","EXTR","01190EXTR","00EXTR A3"]
[{"$f":"BONAFIDE.!AB1955","v":"EXTRA3"},{"$f":"BONAFIDE.!AE1955","v":0},null,{"$f":"BONAFIDE.!X1955","v":0},{"$f":"BONAFIDE.!Y1955","v":0},{"$f":"BONAFIDE.!Z1955","v":0},{"$f":"BONAFIDE.!AD1955","v":0},{"$f":"BONAFIDE.!AA1955","v":"00:00:00"},119,"119","EXTR","01190EXTR","00EXTR A3"]
[{"$f":"BONAFIDE.!AB1956","v":"EXTRA3"},{"$f":"BONAFIDE.!AE1956","v":0},null,{"$f":"BONAFIDE.!X1956","v":0},{"$f":"BONAFIDE.!Y1956","v":0},{"$f":"BONAFIDE.!Z1956","v":0},{"$f":"BONAFIDE.!AD1956","v":0},{"$f":"BONAFIDE.!AA1956","v":"00:00:00"},119,"119","EXTR","01190EXTR","00EXTR A3"]
[{"$f":"BONAFIDE.!AB1957","v":"EXTRA3"},{"$f":"BONAFIDE.!AE1957","v":0},null,{"$f":"BONAFIDE.!X1957","v":0},{"$f":"BONAFIDE.!Y1957","v":0},{"$f":"BONAFIDE.!Z1957","v":0},{"$f":"BONAFIDE.!AD1957","v":0},{"$f":"BONAFIDE.!AA1957","v":"00:00:00"},119,"119","EXTR","01190EXTR","00EXTR A3"]
[{"$f":"BONAFIDE.!AB1958","v":"EXTRA3"},{"$f":"BONAFIDE.!AE1958","v":0},null,{"$f":"BONAFIDE.!X1958","v":0},{"$f":"BONAFIDE.!Y1958","v":0},{"$f":"BONAFIDE.!Z1958","v":0},{"$f":"BONAFIDE.!AD1958","v":0},{"$f":"BONAFIDE.!AA1958","v":"00:00:00"},119,"119","EXTR","01190EXTR","00EXTR A3"]
[{"$f":"BONAFIDE.!AB1959","v":"EXTRA3"},{"$f":"BONAFIDE.!AE1959","v":0},null,{"$f":"BONAFIDE.!X1959","v":0},{"$f":"BONAFIDE.!Y1959","v":0},{"$f":"BONAFIDE.!Z1959","v":0},{"$f":"BONAFIDE.!AD1959","v":0},{"$f":"BONAFIDE.!AA1959","v":"00:00:00"},119,"119","EXTR","01190EXTR","00EXTR A3"]
[{"$f":"BONAFIDE.!AB1960","v":"EXTRA3"},{"$f":"BONAFIDE.!AE1960","v":0},null,{"$f":"BONAFIDE.!X1960","v":0},{"$f":"BONAFIDE.!Y1960","v":0},{"$f":"BONAFIDE.!Z1960","v":0},{"$f":"BONAFIDE.!AD1960","v":0},{"$f":"BONAFIDE.!AA1960","v":"00:00:00"},119,"119","EXTR","01190EXTR","00EXTR A3"]
[{"$f":"BONAFIDE.!AB1961","v":"EXTRA3"},{"$f":"BONAFIDE.!AE1961","v":0},null,{"$f":"BONAFIDE.!X1961","v":0},{"$f":"BONAFIDE.!Y1961","v":0},{"$f":"BONAFIDE.!Z1961","v":0},{"$f":"BONAFIDE.!AD1961","v":0},{"$f":"BONAFIDE.!AA1961","v":"00:00:00"},119,"119","EXTR","01190EXTR","00EXTR A3"]
[{"$f":"BONAFIDE.!AB1962","v":"EXTRA3"},{"$f":"BONAFIDE.!AE1962","v":0},null,{"$f":"BONAFIDE.!X1962","v":0},{"$f":"BONAFIDE.!Y1962","v":0},{"$f":"BONAFIDE.!Z1962","v":0},{"$f":"BONAFIDE.!AD1962","v":0},{"$f":"BONAFIDE.!AA1962","v":"00:00:00"},119,"119","EXTR","01190EXTR","00EXTR A3"]
[{"$f":"BONAFIDE.!AB1963","v":"EXTRA3"},{"$f":"BONAFIDE.!AE1963","v":0},null,{"$f":"BONAFIDE.!X1963","v":0},{"$f":"BONAFIDE.!Y1963","v":0},{"$f":"BONAFIDE.!Z1963","v":0},{"$f":"BONAFIDE.!AD1963","v":0},{"$f":"BONAFIDE.!AA1963","v":"00:00:00"},119,"119","EXTR","01190EXTR","00EXTR A3"]
[{"$f":"BONAFIDE.!AB1964","v":"EXTRA3"},{"$f":"BONAFIDE.!AE1964","v":0},null,{"$f":"BONAFIDE.!X1964","v":0},{"$f":"BONAFIDE.!Y1964","v":0},{"$f":"BONAFIDE.!Z1964","v":0},{"$f":"BONAFIDE.!AD1964","v":0},{"$f":"BONAFIDE.!AA1964","v":"00:00:00"},119,"119","EXTR","01190EXTR","00EXTR A3"]
[{"$f":"BONAFIDE.!AB1965","v":"EXTRA3"},{"$f":"BONAFIDE.!AE1965","v":0},null,{"$f":"BONAFIDE.!X1965","v":0},{"$f":"BONAFIDE.!Y1965","v":0},{"$f":"BONAFIDE.!Z1965","v":0},{"$f":"BONAFIDE.!AD1965","v":0},{"$f":"BONAFIDE.!AA1965","v":"00:00:00"},119,"119","EXTR","01190EXTR","00EXTR A3"]
[{"$f":"BONAFIDE.!AB1966","v":"EXTRA3"},{"$f":"BONAFIDE.!AE1966","v":0},null,{"$f":"BONAFIDE.!X1966","v":0},{"$f":"BONAFIDE.!Y1966","v":0},{"$f":"BONAFIDE.!Z1966","v":0},{"$f":"BONAFIDE.!AD1966","v":0},{"$f":"BONAFIDE.!AA1966","v":"00:00:00"},119,"119","EXTR","01190EXTR","00EXTR A3"]
[{"$f":"BONAFIDE.!AB1967","v":"EXTRA3"},{"$f":"BONAFIDE.!AE1967","v":0},null,{"$f":"BONAFIDE.!X1967","v":0},{"$f":"BONAFIDE.!Y1967","v":0},{"$f":"BONAFIDE.!Z1967","v":0},{"$f":"BONAFIDE.!AD1967","v":0},{"$f":"BONAFIDE.!AA1967","v":"00:00:00"},119,"119","EXTR","01190EXTR","00EXTR A3"]
[{"$f":"BONAFIDE.!AB1968","v":"00:00:00"},{"$f":"BONAFIDE.!AE1968","v":0},null,{"$f":"BONAFIDE.!X1968","v":0},{"$f":"BONAFIDE.!Y1968","v":0},{"$f":"BONAFIDE.!Z1968","v":0},{"$f":"BONAFIDE.!AD1968","v":0},{"$f":"BONAFIDE.!AA1968","v":"00:00:00"},119,"119",{"$error":"#VALUE!"},{"$error":"#VALUE!"},{"$error":"#VALUE!"}]
[{"$f":"BONAFIDE.!AB1969","v":"EXTRA4"},{"$f":"BONAFIDE.!AE1969","v":0},null,{"$f":"BONAFIDE.!X1969","v":0},{"$f":"BONAFIDE.!Y1969","v":0},{"$f":"BONAFIDE.!Z1969","v":0},{"$f":"BONAFIDE.!AD1969","v":0},{"$f":"BONAFIDE.!AA1969","v":"00:00:00"},119,"119","EXTR","01190EXTR","00EXTR A4"]
[{"$f":"BONAFIDE.!AB1970","v":"EXTRA4"},{"$f":"BONAFIDE.!AE1970","v":0},null,{"$f":"BONAFIDE.!X1970","v":0},{"$f":"BONAFIDE.!Y1970","v":0},{"$f":"BONAFIDE.!Z1970","v":0},{"$f":"BONAFIDE.!AD1970","v":0},{"$f":"BONAFIDE.!AA1970","v":"00:00:00"},119,"119","EXTR","01190EXTR","00EXTR A4"]
[{"$f":"BONAFIDE.!AB1971","v":"EXTRA4"},{"$f":"BONAFIDE.!AE1971","v":0},null,{"$f":"BONAFIDE.!X1971","v":0},{"$f":"BONAFIDE.!Y1971","v":0},{"$f":"BONAFIDE.!Z1971","v":0},{"$f":"BONAFIDE.!AD1971","v":0},{"$f":"BONAFIDE.!AA1971","v":"00:00:00"},119,"119","EXTR","01190EXTR","00EXTR A4"]
[{"$f":"BONAFIDE.!AB1972","v":"EXTRA4"},{"$f":"BONAFIDE.!AE1972","v":0},null,{"$f":"BONAFIDE.!X1972","v":0},{"$f":"BONAFIDE.!Y1972","v":0},{"$f":"BONAFIDE.!Z1972","v":0},{"$f":"BONAFIDE.!AD1972","v":0},{"$f":"BONAFIDE.!AA1972","v":"00:00:00"},119,"119","EXTR","01190EXTR","00EXTR A4"]
[{"$f":"BONAFIDE.!AB1973","v":"EXTRA4"},{"$f":"BONAFIDE.!AE1973","v":0},null,{"$f":"BONAFIDE.!X1973","v":0},{"$f":"BONAFIDE.!Y1973","v":0},{"$f":"BONAFIDE.!Z1973","v":0},{"$f":"BONAFIDE.!AD1973","v":0},{"$f":"BONAFIDE.!AA1973","v":"00:00:00"},119,"119","EXTR","01190EXTR","00EXTR A4"]
[{"$f":"BONAFIDE.!AB1974","v":"EXTRA4"},{"$f":"BONAFIDE.!AE1974","v":0},null,{"$f":"BONAFIDE.!X1974","v":0},{"$f":"BONAFIDE.!Y1974","v":0},{"$f":"BONAFIDE.!Z1974","v":0},{"$f":"BONAFIDE.!AD1974","v":0},{"$f":"BONAFIDE.!AA1974","v":"00:00:00"},119,"119","EXTR","01190EXTR","00EXTR A4"]
[{"$f":"BONAFIDE.!AB1975","v":"EXTRA4"},{"$f":"BONAFIDE.!AE1975","v":0},null,{"$f":"BONAFIDE.!X1975","v":0},{"$f":"BONAFIDE.!Y1975","v":0},{"$f":"BONAFIDE.!Z1975","v":0},{"$f":"BONAFIDE.!AD1975","v":0},{"$f":"BONAFIDE.!AA1975","v":"00:00:00"},119,"119","EXTR","01190EXTR","00EXTR A4"]
[{"$f":"BONAFIDE.!AB1976","v":"EXTRA4"},{"$f":"BONAFIDE.!AE1976","v":0},null,{"$f":"BONAFIDE.!X1976","v":0},{"$f":"BONAFIDE.!Y1976","v":0},{"$f":"BONAFIDE.!Z1976","v":0},{"$f":"BONAFIDE.!AD1976","v":0},{"$f":"BONAFIDE.!AA1976","v":"00:00:00"},119,"119","EXTR","01190EXTR","00EXTR A4"]
[{"$f":"BONAFIDE.!AB1977","v":"EXTRA4"},{"$f":"BONAFIDE.!AE1977","v":0},null,{"$f":"BONAFIDE.!X1977","v":0},{"$f":"BONAFIDE.!Y1977","v":0},{"$f":"BONAFIDE.!Z1977","v":0},{"$f":"BONAFIDE.!AD1977","v":0},{"$f":"BONAFIDE.!AA1977","v":"00:00:00"},119,"119","EXTR","01190EXTR","00EXTR A4"]
[{"$f":"BONAFIDE.!AB1978","v":"EXTRA4"},{"$f":"BONAFIDE.!AE1978","v":0},null,{"$f":"BONAFIDE.!X1978","v":0},{"$f":"BONAFIDE.!Y1978","v":0},{"$f":"BONAFIDE.!Z1978","v":0},{"$f":"BONAFIDE.!AD1978","v":0},{"$f":"BONAFIDE.!AA1978","v":"00:00:00"},119,"119","EXTR","01190EXTR","00EXTR A4"]
[{"$f":"BONAFIDE.!AB1979","v":"EXTRA4"},{"$f":"BONAFIDE.!AE1979","v":0},null,{"$f":"BONAFIDE.!X1979","v":0},{"$f":"BONAFIDE.!Y1979","v":0},{"$f":"BONAFIDE.!Z1979","v":0},{"$f":"BONAFIDE.!AD1979","v":0},{"$f":"BONAFIDE.!AA1979","v":"00:00:00"},119,"119","EXTR","01190EXTR","00EXTR A4"]
[{"$f":"BONAFIDE.!AB1980","v":"EXTRA4"},{"$f":"BONAFIDE.!AE1980","v":0},null,{"$f":"BONAFIDE.!X1980","v":0},{"$f":"BONAFIDE.!Y1980","v":0},{"$f":"BONAFIDE.!Z1980","v":0},{"$f":"BONAFIDE.!AD1980","v":0},{"$f":"BONAFIDE.!AA1980","v":"00:00:00"},119,"119","EXTR","01190EXTR","00EXTR A4"]
[{"$f":"BONAFIDE.!AB1981","v":"EXTRA4"},{"$f":"BONAFIDE.!AE1981","v":0},null,{"$f":"BONAFIDE.!X1981","v":0},{"$f":"BONAFIDE.!Y1981","v":0},{"$f":"BONAFIDE.!Z1981","v":0},{"$f":"BONAFIDE.!AD1981","v":0},{"$f":"BONAFIDE.!AA1981","v":"00:00:00"},119,"119","EXTR","01190EXTR","00EXTR A4"]
[{"$f":"BONAFIDE.!AB1982","v":"EXTRA4"},{"$f":"BONAFIDE.!AE1982","v":0},null,{"$f":"BONAFIDE.!X1982","v":0},{"$f":"BONAFIDE.!Y1982","v":0},{"$f":"BONAFIDE.!Z1982","v":0},{"$f":"BONAFIDE.!AD1982","v":0},{"$f":"BONAFIDE.!AA1982","v":"00:00:00"},119,"119","EXTR","01190EXTR","00EXTR A4"]
[{"$f":"BONAFIDE.!AB1983","v":"EXTRA4"},{"$f":"BONAFIDE.!AE1983","v":0},null,{"$f":"BONAFIDE.!X1983","v":0},{"$f":"BONAFIDE.!Y1983","v":0},{"$f":"BONAFIDE.!Z1983","v":0},{"$f":"BONAFIDE.!AD1983","v":0},{"$f":"BONAFIDE.!AA1983","v":"00:00:00"},119,"119","EXTR","01190EXTR","00EXTR A4"]
[{"$f":"BONAFIDE.!AB1984","v":"EXTRA4"},{"$f":"BONAFIDE.!AE1984","v":0},null,{"$f":"BONAFIDE.!X1984","v":0},{"$f":"BONAFIDE.!Y1984","v":0},{"$f":"BONAFIDE.!Z1984","v":0},{"$f":"BONAFIDE.!AD1984","v":0},{"$f":"BONAFIDE.!AA1984","v":"00:00:00"},119,"119","EXTR","01190EXTR","00EXTR A4"]
[{"$f":"BONAFIDE.!AB1985","v":"EXTRA4"},{"$f":"BONAFIDE.!AE1985","v":0},null,{"$f":"BONAFIDE.!X1985","v":0},{"$f":"BONAFIDE.!Y1985","v":0},{"$f":"BONAFIDE.!Z1985","v":0},{"$f":"BONAFIDE.!AD1985","v":0},{"$f":"BONAFIDE.!AA1985","v":"00:00:00"},119,"119","EXTR","01190EXTR","00EXTR A4"]
[{"$f":"BONAFIDE.!AB1986","v":"EXTRA4"},{"$f":"BONAFIDE.!AE1986","v":0},null,{"$f":"BONAFIDE.!X1986","v":0},{"$f":"BONAFIDE.!Y1986","v":0},{"$f":"BONAFIDE.!Z1986","v":0},{"$f":"BONAFIDE.!AD1986","v":0},{"$f":"BONAFIDE.!AA1986","v":"00:00:00"},119,"119","EXTR","01190EXTR","00EXTR A4"]
[{"$f":"BONAFIDE.!AB1987","v":"EXTRA4"},{"$f":"BONAFIDE.!AE1987","v":0},null,{"$f":"BONAFIDE.!X1987","v":0},{"$f":"BONAFIDE.!Y1987","v":0},{"$f":"BONAFIDE.!Z1987","v":0},{"$f":"BONAFIDE.!AD1987","v":0},{"$f":"BONAFIDE.!AA1987","v":"00:00:00"},119,"119","EXTR","01190EXTR","00EXTR A4"]
[{"$f":"BONAFIDE.!AB1988","v":"EXTRA4"},{"$f":"BONAFIDE.!AE1988","v":0},null,{"$f":"BONAFIDE.!X1988","v":0},{"$f":"BONAFIDE.!Y1988","v":0},{"$f":"BONAFIDE.!Z1988","v":0},{"$f":"BONAFIDE.!AD1988","v":0},{"$f":"BONAFIDE.!AA1988","v":"00:00:00"},119,"119","EXTR","01190EXTR","00EXTR A4"]
[{"$f":"BONAFIDE.!AB1989","v":"EXTRA4"},{"$f":"BONAFIDE.!AE1989","v":0},null,{"$f":"BONAFIDE.!X1989","v":0},{"$f":"BONAFIDE.!Y1989","v":0},{"$f":"BONAFIDE.!Z1989","v":0},{"$f":"BONAFIDE.!AD1989","v":0},{"$f":"BONAFIDE.!AA1989","v":"00:00:00"},119,"119","EXTR","01190EXTR","00EXTR A4"]
[{"$f":"BONAFIDE.!AB1990","v":"EXTRA4"},{"$f":"BONAFIDE.!AE1990","v":0},null,{"$f":"BONAFIDE.!X1990","v":0},{"$f":"BONAFIDE.!Y1990","v":0},{"$f":"BONAFIDE.!Z1990","v":0},{"$f":"BONAFIDE.!AD1990","v":0},{"$f":"BONAFIDE.!AA1990","v":"00:00:00"},119,"119","EXTR","01190EXTR","00EXTR A4"]
[{"$f":"BONAFIDE.!AB1991","v":"EXTRA4"},{"$f":"BONAFIDE.!AE1991","v":0},null,{"$f":"BONAFIDE.!X1991","v":0},{"$f":"BONAFIDE.!Y1991","v":0},{"$f":"BONAFIDE.!Z1991","v":0},{"$f":"BONAFIDE.!AD1991","v":0},{"$f":"BONAFIDE.!AA1991","v":"00:00:00"},119,{"$f":"fillno(I1988)","v":"119"},"EXTR","01190EXTR","00EXTR A4"]
[{"$f":"BONAFIDE.!AB1992","v":"EXTRA4"},{"$f":"BONAFIDE.!AE1992","v":0},null,{"$f":"BONAFIDE.!X1992","v":0},{"$f":"BONAFIDE.!Y1992","v":0},{"$f":"BONAFIDE.!Z1992","v":0},{"$f":"BONAFIDE.!AD1992","v":0},{"$f":"BONAFIDE.!AA1992","v":"00:00:00"},119,"119","EXTR","01190EXTR","00EXTR A4"]
[{"$f":"BONAFIDE.!AB1993","v":"EXTRA4"},{"$f":"BONAFIDE.!AE1993","v":0},null,{"$f":"BONAFIDE.!X1993","v":0},{"$f":"BONAFIDE.!Y1993","v":0},{"$f":"BONAFIDE.!Z1993","v":0},{"$f":"BONAFIDE.!AD1993","v":0},{"$f":"BONAFIDE.!AA1993","v":"00:00:00"},119,"119","EXTR","01190EXTR","00EXTR A4"]
[{"$f":"BONAFIDE.!AB1994","v":"EXTRA4"},{"$f":"BONAFIDE.!AE1994","v":0},null,{"$f":"BONAFIDE.!X1994","v":0},{"$f":"BONAFIDE.!Y1994","v":0},{"$f":"BONAFIDE.!Z1994","v":0},{"$f":"BONAFIDE.!AD1994","v":0},{"$f":"BONAFIDE.!AA1994","v":"00:00:00"},119,"119","EXTR","01190EXTR","00EXTR A4"]
[{"$f":"BONAFIDE.!AB1995","v":"EXTRA4"},{"$f":"BONAFIDE.!AE1995","v":0},null,{"$f":"BONAFIDE.!X1995","v":0},{"$f":"BONAFIDE.!Y1995","v":0},{"$f":"BONAFIDE.!Z1995","v":0},{"$f":"BONAFIDE.!AD1995","v":0},{"$f":"BONAFIDE.!AA1995","v":"00:00:00"},119,"119","EXTR","01190EXTR","00EXTR A4"]
[{"$f":"BONAFIDE.!AB1996","v":"EXTRA4"},{"$f":"BONAFIDE.!AE1996","v":0},null,{"$f":"BONAFIDE.!X1996","v":0},{"$f":"BONAFIDE.!Y1996","v":0},{"$f":"BONAFIDE.!Z1996","v":0},{"$f":"BONAFIDE.!AD1996","v":0},{"$f":"BONAFIDE.!AA1996","v":"00:00:00"},119,"119","EXTR","01190EXTR","00EXTR A4"]
[{"$f":"BONAFIDE.!AB1997","v":"EXTRA4"},{"$f":"BONAFIDE.!AE1997","v":0},null,{"$f":"BONAFIDE.!X1997","v":0},{"$f":"BONAFIDE.!Y1997","v":0},{"$f":"BONAFIDE.!Z1997","v":0},{"$f":"BONAFIDE.!AD1997","v":0},{"$f":"BONAFIDE.!AA1997","v":"00:00:00"},119,"119","EXTR","01190EXTR","00EXTR A4"]
[{"$f":"BONAFIDE.!AB1998","v":"EXTRA4"},{"$f":"BONAFIDE.!AE1998","v":0},null,{"$f":"BONAFIDE.!X1998","v":0},{"$f":"BONAFIDE.!Y1998","v":0},{"$f":"BONAFIDE.!Z1998","v":0},{"$f":"BONAFIDE.!AD1998","v":0},{"$f":"BONAFIDE.!AA1998","v":"00:00:00"},119,"119","EXTR","01190EXTR","00EXTR A4"]
[{"$f":"BONAFIDE.!AB1999","v":"EXTRA4"},{"$f":"BONAFIDE.!AE1999","v":0},null,{"$f":"BONAFIDE.!X1999","v":0},{"$f":"BONAFIDE.!Y1999","v":0},{"$f":"BONAFIDE.!Z1999","v":0},{"$f":"BONAFIDE.!AD1999","v":0},{"$f":"BONAFIDE.!AA1999","v":"00:00:00"},119,"119","EXTR","01190EXTR","00EXTR A4"]
[{"$f":"BONAFIDE.!AB2000","v":"EXTRA4"},{"$f":"BONAFIDE.!AE2000","v":0},null,{"$f":"BONAFIDE.!X2000","v":0},{"$f":"BONAFIDE.!Y2000","v":0},{"$f":"BONAFIDE.!Z2000","v":0},{"$f":"BONAFIDE.!AD2000","v":0},{"$f":"BONAFIDE.!AA2000","v":"00:00:00"},119,"119","EXTR","01190EXTR","00EXTR A4"]
[{"$f":"BONAFIDE.!AB2001","v":"EXTRA4"},{"$f":"BONAFIDE.!AE2001","v":0},null,{"$f":"BONAFIDE.!X2001","v":0},{"$f":"BONAFIDE.!Y2001","v":0},{"$f":"BONAFIDE.!Z2001","v":0},{"$f":"BONAFIDE.!AD2001","v":0},{"$f":"BONAFIDE.!AA2001","v":"00:00:00"},119,"119","EXTR","01190EXTR","00EXTR A4"]
[{"$f":"BONAFIDE.!AB2002","v":"EXTRA4"},{"$f":"BONAFIDE.!AE2002","v":0},null,{"$f":"BONAFIDE.!X2002","v":0},{"$f":"BONAFIDE.!Y2002","v":0},{"$f":"BONAFIDE.!Z2002","v":0},{"$f":"BONAFIDE.!AD2002","v":0},{"$f":"BONAFIDE.!AA2002","v":"00:00:00"},119,"119","EXTR","01190EXTR","00EXTR A4"]
[{"$f":"BONAFIDE.!AB2003","v":"EXTRA4"},{"$f":"BONAFIDE.!AE2003","v":0},null,{"$f":"BONAFIDE.!X2003","v":0},{"$f":"BONAFIDE.!Y2003","v":0},{"$f":"BONAFIDE.!Z2003","v":0},{"$f":"BONAFIDE.!AD2003","v":0},{"$f":"BONAFIDE.!AA2003","v":"00:00:00"},119,"119","EXTR","01190EXTR","00EXTR A4"]
[{"$f":"BONAFIDE.!AB2004","v":"EXTRA4"},{"$f":"BONAFIDE.!AE2004","v":0},null,{"$f":"BONAFIDE.!X2004","v":0},{"$f":"BONAFIDE.!Y2004","v":0},{"$f":"BONAFIDE.!Z2004","v":0},{"$f":"BONAFIDE.!AD2004","v":0},{"$f":"BONAFIDE.!AA2004","v":"00:00:00"},119,"119","EXTR","01190EXTR","00EXTR A4"]
[{"$f":"BONAFIDE.!AB2005","v":"EXTRA4"},{"$f":"BONAFIDE.!AE2005","v":0},null,{"$f":"BONAFIDE.!X2005","v":0},{"$f":"BONAFIDE.!Y2005","v":0},{"$f":"BONAFIDE.!Z2005","v":0},{"$f":"BONAFIDE.!AD2005","v":0},{"$f":"BONAFIDE.!AA2005","v":"00:00:00"},119,"119","EXTR","01190EXTR","00EXTR A4"]
[{"$f":"BONAFIDE.!AB2006","v":"EXTRA4"},{"$f":"BONAFIDE.!AE2006","v":0},null,{"$f":"BONAFIDE.!X2006","v":0},{"$f":"BONAFIDE.!Y2006","v":0},{"$f":"BONAFIDE.!Z2006","v":0},{"$f":"BONAFIDE.!AD2006","v":0},{"$f":"BONAFIDE.!AA2006","v":"00:00:00"},119,"119","EXTR","01190EXTR","00EXTR A4"]
[{"$f":"BONAFIDE.!AB2007","v":"EXTRA4"},{"$f":"BONAFIDE.!AE2007","v":0},null,{"$f":"BONAFIDE.!X2007","v":0},{"$f":"BONAFIDE.!Y2007","v":0},{"$f":"BONAFIDE.!Z2007","v":0},{"$f":"BONAFIDE.!AD2007","v":0},{"$f":"BONAFIDE.!AA2007","v":"00:00:00"},119,"119","EXTR","01190EXTR","00EXTR A4"]
[{"$f":"BONAFIDE.!AB2008","v":"EXTRA4"},{"$f":"BONAFIDE.!AE2008","v":0},null,{"$f":"BONAFIDE.!X2008","v":0},{"$f":"BONAFIDE.!Y2008","v":0},{"$f":"BONAFIDE.!Z2008","v":0},{"$f":"BONAFIDE.!AD2008","v":0},{"$f":"BONAFIDE.!AA2008","v":"00:00:00"},119,"119","EXTR","01190EXTR","00EXTR A4"]
[{"$f":"BONAFIDE.!AB2009","v":"EXTRA4"},{"$f":"BONAFIDE.!AE2009","v":0},null,{"$f":"BONAFIDE.!X2009","v":0},{"$f":"BONAFIDE.!Y2009","v":0},{"$f":"BONAFIDE.!Z2009","v":0},{"$f":"BONAFIDE.!AD2009","v":0},{"$f":"BONAFIDE.!AA2009","v":"00:00:00"},119,"119","EXTR","01190EXTR","00EXTR A4"]
[{"$f":"BONAFIDE.!AB2010","v":"EXTRA4"},{"$f":"BONAFIDE.!AE2010","v":0},null,{"$f":"BONAFIDE.!X2010","v":0},{"$f":"BONAFIDE.!Y2010","v":0},{"$f":"BONAFIDE.!Z2010","v":0},{"$f":"BONAFIDE.!AD2010","v":0},{"$f":"BONAFIDE.!AA2010","v":"00:00:00"},{"$f":"DATEDIF(H2007,CUTOFFDT,\"Y\")","v":119},"119",{"$f":"MID(A2007,1,LEN(A2007)-2)","v":"EXTR"},{"$f":"B2007&J2007&G2007&K2007","v":"01190EXTR"},{"$f":"B2007&G2007&MID(A2007,1,LEN(A2007)-2)&\" \" & RIGHT(A2007,2)","v":"00EXTR A4"}]
[{"$f":"BONAFIDE.!AB2011","v":"EXTRA4"},{"$f":"BONAFIDE.!AE2011","v":0},null,{"$f":"BONAFIDE.!X2011","v":0},{"$f":"BONAFIDE.!Y2011","v":0},{"$f":"BONAFIDE.!Z2011","v":0},{"$f":"BONAFIDE.!AD2011","v":0},{"$f":"BONAFIDE.!AA2011","v":"00:00:00"},119,"119","EXTR","01190EXTR","00EXTR A4"]
[{"$f":"BONAFIDE.!AB2012","v":"EXTRA4"},{"$f":"BONAFIDE.!AE2012","v":0},null,{"$f":"BONAFIDE.!X2012","v":0},{"$f":"BONAFIDE.!Y2012","v":0},{"$f":"BONAFIDE.!Z2012","v":0},{"$f":"BONAFIDE.!AD2012","v":0},{"$f":"BONAFIDE.!AA2012","v":"00:00:00"},119,"119","EXTR","01190EXTR","00EXTR A4"]
[{"$f":"BONAFIDE.!AB2013","v":"EXTRA4"},{"$f":"BONAFIDE.!AE2013","v":0},null,{"$f":"BONAFIDE.!X2013","v":0},{"$f":"BONAFIDE.!Y2013","v":0},{"$f":"BONAFIDE.!Z2013","v":0},{"$f":"BONAFIDE.!AD2013","v":0},{"$f":"BONAFIDE.!AA2013","v":"00:00:00"},119,"119","EXTR","01190EXTR","00EXTR A4"]
[{"$f":"BONAFIDE.!AB2014","v":"EXTRA4"},{"$f":"BONAFIDE.!AE2014","v":0},null,{"$f":"BONAFIDE.!X2014","v":0},{"$f":"BONAFIDE.!Y2014","v":0},{"$f":"BONAFIDE.!Z2014","v":0},{"$f":"BONAFIDE.!AD2014","v":0},{"$f":"BONAFIDE.!AA2014","v":"00:00:00"},119,"119","EXTR","01190EXTR","00EXTR A4"]
[{"$f":"BONAFIDE.!AB2015","v":"EXTRA4"},{"$f":"BONAFIDE.!AE2015","v":0},null,{"$f":"BONAFIDE.!X2015","v":0},{"$f":"BONAFIDE.!Y2015","v":0},{"$f":"BONAFIDE.!Z2015","v":0},{"$f":"BONAFIDE.!AD2015","v":0},{"$f":"BONAFIDE.!AA2015","v":"00:00:00"},119,"119","EXTR","01190EXTR","00EXTR A4"]
[{"$f":"BONAFIDE.!AB2016","v":"EXTRA4"},{"$f":"BONAFIDE.!AE2016","v":0},null,{"$f":"BONAFIDE.!X2016","v":0},{"$f":"BONAFIDE.!Y2016","v":0},{"$f":"BONAFIDE.!Z2016","v":0},{"$f":"BONAFIDE.!AD2016","v":0},{"$f":"BONAFIDE.!AA2016","v":"00:00:00"},119,"119","EXTR","01190EXTR","00EXTR A4"]
[{"$f":"BONAFIDE.!AB2017","v":"EXTRA4"},{"$f":"BONAFIDE.!AE2017","v":0},null,{"$f":"BONAFIDE.!X2017","v":0},{"$f":"BONAFIDE.!Y2017","v":0},{"$f":"BONAFIDE.!Z2017","v":0},{"$f":"BONAFIDE.!AD2017","v":0},{"$f":"BONAFIDE.!AA2017","v":"00:00:00"},119,"119","EXTR","01190EXTR","00EXTR A4"]
[{"$f":"BONAFIDE.!AB2018","v":"EXTRA4"},{"$f":"BONAFIDE.!AE2018","v":0},null,{"$f":"BONAFIDE.!X2018","v":0},{"$f":"BONAFIDE.!Y2018","v":0},{"$f":"BONAFIDE.!Z2018","v":0},{"$f":"BONAFIDE.!AD2018","v":0},{"$f":"BONAFIDE.!AA2018","v":"00:00:00"},119,"119","EXTR","01190EXTR","00EXTR A4"]
[{"$f":"BONAFIDE.!AB2019","v":"EXTRA4"},{"$f":"BONAFIDE.!AE2019","v":0},null,{"$f":"BONAFIDE.!X2019","v":0},{"$f":"BONAFIDE.!Y2019","v":0},{"$f":"BONAFIDE.!Z2019","v":0},{"$f":"BONAFIDE.!AD2019","v":0},{"$f":"BONAFIDE.!AA2019","v":"00:00:00"},119,"119","EXTR","01190EXTR","00EXTR A4"]
[{"$f":"BONAFIDE.!AB2020","v":"EXTRA4"},{"$f":"BONAFIDE.!AE2020","v":0},null,{"$f":"BONAFIDE.!X2020","v":0},{"$f":"BONAFIDE.!Y2020","v":0},{"$f":"BONAFIDE.!Z2020","v":0},{"$f":"BONAFIDE.!AD2020","v":0},{"$f":"BONAFIDE.!AA2020","v":"00:00:00"},119,"119","EXTR","01190EXTR","00EXTR A4"]
[{"$f":"BONAFIDE.!AB2021","v":"EXTRA4"},{"$f":"BONAFIDE.!AE2021","v":0},null,{"$f":"BONAFIDE.!X2021","v":0},{"$f":"BONAFIDE.!Y2021","v":0},{"$f":"BONAFIDE.!Z2021","v":0},{"$f":"BONAFIDE.!AD2021","v":0},{"$f":"BONAFIDE.!AA2021","v":"00:00:00"},119,"119","EXTR","01190EXTR","00EXTR A4"]
[{"$f":"BONAFIDE.!AB2022","v":"EXTRA4"},{"$f":"BONAFIDE.!AE2022","v":0},null,{"$f":"BONAFIDE.!X2022","v":0},{"$f":"BONAFIDE.!Y2022","v":0},{"$f":"BONAFIDE.!Z2022","v":0},{"$f":"BONAFIDE.!AD2022","v":0},{"$f":"BONAFIDE.!AA2022","v":"00:00:00"},119,"119","EXTR","01190EXTR","00EXTR A4"]
[{"$f":"BONAFIDE.!AB2023","v":"EXTRA4"},{"$f":"BONAFIDE.!AE2023","v":0},null,{"$f":"BONAFIDE.!X2023","v":0},{"$f":"BONAFIDE.!Y2023","v":0},{"$f":"BONAFIDE.!Z2023","v":0},{"$f":"BONAFIDE.!AD2023","v":0},{"$f":"BONAFIDE.!AA2023","v":"00:00:00"},119,"119","EXTR","01190EXTR","00EXTR A4"]
[{"$f":"BONAFIDE.!AB2024","v":"EXTRA4"},{"$f":"BONAFIDE.!AE2024","v":0},null,{"$f":"BONAFIDE.!X2024","v":0},{"$f":"BONAFIDE.!Y2024","v":0},{"$f":"BONAFIDE.!Z2024","v":0},{"$f":"BONAFIDE.!AD2024","v":0},{"$f":"BONAFIDE.!AA2024","v":"00:00:00"},119,"119","EXTR","01190EXTR","00EXTR A4"]
[{"$f":"BONAFIDE.!AB2025","v":"EXTRA4"},{"$f":"BONAFIDE.!AE2025","v":0},null,{"$f":"BONAFIDE.!X2025","v":0},{"$f":"BONAFIDE.!Y2025","v":0},{"$f":"BONAFIDE.!Z2025","v":0},{"$f":"BONAFIDE.!AD2025","v":0},{"$f":"BONAFIDE.!AA2025","v":"00:00:00"},119,"119","EXTR","01190EXTR","00EXTR A4"]
[{"$f":"BONAFIDE.!AB2026","v":"EXTRA4"},{"$f":"BONAFIDE.!AE2026","v":0},null,{"$f":"BONAFIDE.!X2026","v":0},{"$f":"BONAFIDE.!Y2026","v":0},{"$f":"BONAFIDE.!Z2026","v":0},{"$f":"BONAFIDE.!AD2026","v":0},{"$f":"BONAFIDE.!AA2026","v":"00:00:00"},119,"119","EXTR","01190EXTR","00EXTR A4"]
[{"$f":"BONAFIDE.!AB2027","v":"EXTRA4"},{"$f":"BONAFIDE.!AE2027","v":0},null,{"$f":"BONAFIDE.!X2027","v":0},{"$f":"BONAFIDE.!Y2027","v":0},{"$f":"BONAFIDE.!Z2027","v":0},{"$f":"BONAFIDE.!AD2027","v":0},{"$f":"BONAFIDE.!AA2027","v":"00:00:00"},119,"119","EXTR","01190EXTR","00EXTR A4"]
[{"$f":"BONAFIDE.!AB2028","v":"EXTRA4"},{"$f":"BONAFIDE.!AE2028","v":0},null,{"$f":"BONAFIDE.!X2028","v":0},{"$f":"BONAFIDE.!Y2028","v":0},{"$f":"BONAFIDE.!Z2028","v":0},{"$f":"BONAFIDE.!AD2028","v":0},{"$f":"BONAFIDE.!AA2028","v":"00:00:00"},119,"119","EXTR","01190EXTR","00EXTR A4"]
[{"$f":"BONAFIDE.!AB2029","v":"EXTRA4"},{"$f":"BONAFIDE.!AE2029","v":0},null,{"$f":"BONAFIDE.!X2029","v":0},{"$f":"BONAFIDE.!Y2029","v":0},{"$f":"BONAFIDE.!Z2029","v":0},{"$f":"BONAFIDE.!AD2029","v":0},{"$f":"BONAFIDE.!AA2029","v":"00:00:00"},119,"119","EXTR","01190EXTR","00EXTR A4"]
[{"$f":"BONAFIDE.!AB2030","v":"EXTRA4"},{"$f":"BONAFIDE.!AE2030","v":0},null,{"$f":"BONAFIDE.!X2030","v":0},{"$f":"BONAFIDE.!Y2030","v":0},{"$f":"BONAFIDE.!Z2030","v":0},{"$f":"BONAFIDE.!AD2030","v":0},{"$f":"BONAFIDE.!AA2030","v":"00:00:00"},119,"119","EXTR","01190EXTR","00EXTR A4"]
[{"$f":"BONAFIDE.!AB2031","v":"EXTRA4"},{"$f":"BONAFIDE.!AE2031","v":0},null,{"$f":"BONAFIDE.!X2031","v":0},{"$f":"BONAFIDE.!Y2031","v":0},{"$f":"BONAFIDE.!Z2031","v":0},{"$f":"BONAFIDE.!AD2031","v":0},{"$f":"BONAFIDE.!AA2031","v":"00:00:00"},119,"119","EXTR","01190EXTR","00EXTR A4"]
[{"$f":"BONAFIDE.!AB2032","v":"EXTRA4"},{"$f":"BONAFIDE.!AE2032","v":0},null,{"$f":"BONAFIDE.!X2032","v":0},{"$f":"BONAFIDE.!Y2032","v":0},{"$f":"BONAFIDE.!Z2032","v":0},{"$f":"BONAFIDE.!AD2032","v":0},{"$f":"BONAFIDE.!AA2032","v":"00:00:00"},119,"119","EXTR","01190EXTR","00EXTR A4"]
[{"$f":"BONAFIDE.!AB2033","v":"EXTRA4"},{"$f":"BONAFIDE.!AE2033","v":0},null,{"$f":"BONAFIDE.!X2033","v":0},{"$f":"BONAFIDE.!Y2033","v":0},{"$f":"BONAFIDE.!Z2033","v":0},{"$f":"BONAFIDE.!AD2033","v":0},{"$f":"BONAFIDE.!AA2033","v":"00:00:00"},119,"119","EXTR","01190EXTR","00EXTR A4"]
[{"$f":"BONAFIDE.!AB2034","v":"EXTRA4"},{"$f":"BONAFIDE.!AE2034","v":0},null,{"$f":"BONAFIDE.!X2034","v":0},{"$f":"BONAFIDE.!Y2034","v":0},{"$f":"BONAFIDE.!Z2034","v":0},{"$f":"BONAFIDE.!AD2034","v":0},{"$f":"BONAFIDE.!AA2034","v":"00:00:00"},119,"119","EXTR","01190EXTR","00EXTR A4"]
[{"$f":"BONAFIDE.!AB2035","v":"EXTRA4"},{"$f":"BONAFIDE.!AE2035","v":0},null,{"$f":"BONAFIDE.!X2035","v":0},{"$f":"BONAFIDE.!Y2035","v":0},{"$f":"BONAFIDE.!Z2035","v":0},{"$f":"BONAFIDE.!AD2035","v":0},{"$f":"BONAFIDE.!AA2035","v":"00:00:00"},119,"119","EXTR","01190EXTR","00EXTR A4"]
[{"$f":"BONAFIDE.!AB2036","v":"EXTRA4"},{"$f":"BONAFIDE.!AE2036","v":0},null,{"$f":"BONAFIDE.!X2036","v":0},{"$f":"BONAFIDE.!Y2036","v":0},{"$f":"BONAFIDE.!Z2036","v":0},{"$f":"BONAFIDE.!AD2036","v":0},{"$f":"BONAFIDE.!AA2036","v":"00:00:00"},119,"119","EXTR","01190EXTR","00EXTR A4"]
[{"$f":"BONAFIDE.!AB2037","v":"EXTRA4"},{"$f":"BONAFIDE.!AE2037","v":0},null,{"$f":"BONAFIDE.!X2037","v":0},{"$f":"BONAFIDE.!Y2037","v":0},{"$f":"BONAFIDE.!Z2037","v":0},{"$f":"BONAFIDE.!AD2037","v":0},{"$f":"BONAFIDE.!AA2037","v":"00:00:00"},119,"119","EXTR","01190EXTR","00EXTR A4"]
[{"$f":"BONAFIDE.!AB2038","v":"EXTRA4"},{"$f":"BONAFIDE.!AE2038","v":0},null,{"$f":"BONAFIDE.!X2038","v":0},{"$f":"BONAFIDE.!Y2038","v":0},{"$f":"BONAFIDE.!Z2038","v":0},{"$f":"BONAFIDE.!AD2038","v":0},{"$f":"BONAFIDE.!AA2038","v":"00:00:00"},119,"119","EXTR","01190EXTR","00EXTR A4"]
[{"$f":"BONAFIDE.!AB2039","v":"EXTRA4"},{"$f":"BONAFIDE.!AE2039","v":0},null,{"$f":"BONAFIDE.!X2039","v":0},{"$f":"BONAFIDE.!Y2039","v":0},{"$f":"BONAFIDE.!Z2039","v":0},{"$f":"BONAFIDE.!AD2039","v":0},{"$f":"BONAFIDE.!AA2039","v":"00:00:00"},119,"119","EXTR","01190EXTR","00EXTR A4"]
[{"$f":"BONAFIDE.!AB2040","v":"EXTRA4"},{"$f":"BONAFIDE.!AE2040","v":0},null,{"$f":"BONAFIDE.!X2040","v":0},{"$f":"BONAFIDE.!Y2040","v":0},{"$f":"BONAFIDE.!Z2040","v":0},{"$f":"BONAFIDE.!AD2040","v":0},{"$f":"BONAFIDE.!AA2040","v":"00:00:00"},119,"119","EXTR","01190EXTR","00EXTR A4"]
[{"$f":"BONAFIDE.!AB2041","v":"EXTRA4"},{"$f":"BONAFIDE.!AE2041","v":0},null,{"$f":"BONAFIDE.!X2041","v":0},{"$f":"BONAFIDE.!Y2041","v":0},{"$f":"BONAFIDE.!Z2041","v":0},{"$f":"BONAFIDE.!AD2041","v":0},{"$f":"BONAFIDE.!AA2041","v":"00:00:00"},119,"119","EXTR","01190EXTR","00EXTR A4"]
[{"$f":"BONAFIDE.!AB2042","v":"EXTRA4"},{"$f":"BONAFIDE.!AE2042","v":0},null,{"$f":"BONAFIDE.!X2042","v":0},{"$f":"BONAFIDE.!Y2042","v":0},{"$f":"BONAFIDE.!Z2042","v":0},{"$f":"BONAFIDE.!AD2042","v":0},{"$f":"BONAFIDE.!AA2042","v":"00:00:00"},119,"119","EXTR","01190EXTR","00EXTR A4"]
[{"$f":"BONAFIDE.!AB2043","v":"EXTRA4"},{"$f":"BONAFIDE.!AE2043","v":0},null,{"$f":"BONAFIDE.!X2043","v":0},{"$f":"BONAFIDE.!Y2043","v":0},{"$f":"BONAFIDE.!Z2043","v":0},{"$f":"BONAFIDE.!AD2043","v":0},{"$f":"BONAFIDE.!AA2043","v":"00:00:00"},119,"119","EXTR","01190EXTR","00EXTR A4"]
[{"$f":"BONAFIDE.!AB2044","v":"EXTRA4"},{"$f":"BONAFIDE.!AE2044","v":0},null,{"$f":"BONAFIDE.!X2044","v":0},{"$f":"BONAFIDE.!Y2044","v":0},{"$f":"BONAFIDE.!Z2044","v":0},{"$f":"BONAFIDE.!AD2044","v":0},{"$f":"BONAFIDE.!AA2044","v":"00:00:00"},119,"119","EXTR","01190EXTR","00EXTR A4"]
[{"$f":"BONAFIDE.!AB2045","v":"EXTRA4"},{"$f":"BONAFIDE.!AE2045","v":0},null,{"$f":"BONAFIDE.!X2045","v":0},{"$f":"BONAFIDE.!Y2045","v":0},{"$f":"BONAFIDE.!Z2045","v":0},{"$f":"BONAFIDE.!AD2045","v":0},{"$f":"BONAFIDE.!AA2045","v":"00:00:00"},119,"119","EXTR","01190EXTR","00EXTR A4"]
[{"$f":"BONAFIDE.!AB2046","v":"EXTRA4"},{"$f":"BONAFIDE.!AE2046","v":0},null,{"$f":"BONAFIDE.!X2046","v":0},{"$f":"BONAFIDE.!Y2046","v":0},{"$f":"BONAFIDE.!Z2046","v":0},{"$f":"BONAFIDE.!AD2046","v":0},{"$f":"BONAFIDE.!AA2046","v":"00:00:00"},119,"119","EXTR","01190EXTR","00EXTR A4"]
[{"$f":"BONAFIDE.!AB2047","v":"EXTRA4"},{"$f":"BONAFIDE.!AE2047","v":0},null,{"$f":"BONAFIDE.!X2047","v":0},{"$f":"BONAFIDE.!Y2047","v":0},{"$f":"BONAFIDE.!Z2047","v":0},{"$f":"BONAFIDE.!AD2047","v":0},{"$f":"BONAFIDE.!AA2047","v":"00:00:00"},119,"119","EXTR","01190EXTR","00EXTR A4"]
[{"$f":"BONAFIDE.!AB2048","v":"EXTRA4"},{"$f":"BONAFIDE.!AE2048","v":0},null,{"$f":"BONAFIDE.!X2048","v":0},{"$f":"BONAFIDE.!Y2048","v":0},{"$f":"BONAFIDE.!Z2048","v":0},{"$f":"BONAFIDE.!AD2048","v":0},{"$f":"BONAFIDE.!AA2048","v":"00:00:00"},119,"119","EXTR","01190EXTR","00EXTR A4"]
[{"$f":"BONAFIDE.!AB2049","v":"EXTRA4"},{"$f":"BONAFIDE.!AE2049","v":0},null,{"$f":"BONAFIDE.!X2049","v":0},{"$f":"BONAFIDE.!Y2049","v":0},{"$f":"BONAFIDE.!Z2049","v":0},{"$f":"BONAFIDE.!AD2049","v":0},{"$f":"BONAFIDE.!AA2049","v":"00:00:00"},119,"119","EXTR","01190EXTR","00EXTR A4"]
[{"$f":"BONAFIDE.!AB2050","v":"EXTRA4"},{"$f":"BONAFIDE.!AE2050","v":0},null,{"$f":"BONAFIDE.!X2050","v":0},{"$f":"BONAFIDE.!Y2050","v":0},{"$f":"BONAFIDE.!Z2050","v":0},{"$f":"BONAFIDE.!AD2050","v":0},{"$f":"BONAFIDE.!AA2050","v":"00:00:00"},119,"119","EXTR","01190EXTR","00EXTR A4"]
[{"$f":"BONAFIDE.!AB2051","v":"EXTRA4"},{"$f":"BONAFIDE.!AE2051","v":0},null,{"$f":"BONAFIDE.!X2051","v":0},{"$f":"BONAFIDE.!Y2051","v":0},{"$f":"BONAFIDE.!Z2051","v":0},{"$f":"BONAFIDE.!AD2051","v":0},{"$f":"BONAFIDE.!AA2051","v":"00:00:00"},119,"119","EXTR","01190EXTR","00EXTR A4"]
[{"$f":"BONAFIDE.!AB2052","v":"EXTRA4"},{"$f":"BONAFIDE.!AE2052","v":0},null,{"$f":"BONAFIDE.!X2052","v":0},{"$f":"BONAFIDE.!Y2052","v":0},{"$f":"BONAFIDE.!Z2052","v":0},{"$f":"BONAFIDE.!AD2052","v":0},{"$f":"BONAFIDE.!AA2052","v":"00:00:00"},119,"119","EXTR","01190EXTR","00EXTR A4"]
[{"$f":"BONAFIDE.!AB2053","v":"EXTRA4"},{"$f":"BONAFIDE.!AE2053","v":0},null,{"$f":"BONAFIDE.!X2053","v":0},{"$f":"BONAFIDE.!Y2053","v":0},{"$f":"BONAFIDE.!Z2053","v":0},{"$f":"BONAFIDE.!AD2053","v":0},{"$f":"BONAFIDE.!AA2053","v":"00:00:00"},119,"119","EXTR","01190EXTR","00EXTR A4"]
[{"$f":"BONAFIDE.!AB2054","v":"EXTRA4"},{"$f":"BONAFIDE.!AE2054","v":0},null,{"$f":"BONAFIDE.!X2054","v":0},{"$f":"BONAFIDE.!Y2054","v":0},{"$f":"BONAFIDE.!Z2054","v":0},{"$f":"BONAFIDE.!AD2054","v":0},{"$f":"BONAFIDE.!AA2054","v":"00:00:00"},119,"119","EXTR","01190EXTR","00EXTR A4"]
[{"$f":"BONAFIDE.!AB2055","v":"EXTRA4"},{"$f":"BONAFIDE.!AE2055","v":0},null,{"$f":"BONAFIDE.!X2055","v":0},{"$f":"BONAFIDE.!Y2055","v":0},{"$f":"BONAFIDE.!Z2055","v":0},{"$f":"BONAFIDE.!AD2055","v":0},{"$f":"BONAFIDE.!AA2055","v":"00:00:00"},119,{"$f":"fillno(I2052)","v":"119"},"EXTR","01190EXTR","00EXTR A4"]
[{"$f":"BONAFIDE.!AB2056","v":"EXTRA4"},{"$f":"BONAFIDE.!AE2056","v":0},null,{"$f":"BONAFIDE.!X2056","v":0},{"$f":"BONAFIDE.!Y2056","v":0},{"$f":"BONAFIDE.!Z2056","v":0},{"$f":"BONAFIDE.!AD2056","v":0},{"$f":"BONAFIDE.!AA2056","v":"00:00:00"},119,"119","EXTR","01190EXTR","00EXTR A4"]
[{"$f":"BONAFIDE.!AB2057","v":"EXTRA4"},{"$f":"BONAFIDE.!AE2057","v":0},null,{"$f":"BONAFIDE.!X2057","v":0},{"$f":"BONAFIDE.!Y2057","v":0},{"$f":"BONAFIDE.!Z2057","v":0},{"$f":"BONAFIDE.!AD2057","v":0},{"$f":"BONAFIDE.!AA2057","v":"00:00:00"},119,"119","EXTR","01190EXTR","00EXTR A4"]
[{"$f":"BONAFIDE.!AB2058","v":"EXTRA4"},{"$f":"BONAFIDE.!AE2058","v":0},null,{"$f":"BONAFIDE.!X2058","v":0},{"$f":"BONAFIDE.!Y2058","v":0},{"$f":"BONAFIDE.!Z2058","v":0},{"$f":"BONAFIDE.!AD2058","v":0},{"$f":"BONAFIDE.!AA2058","v":"00:00:00"},119,"119","EXTR","01190EXTR","00EXTR A4"]
[{"$f":"BONAFIDE.!AB2059","v":"EXTRA4"},{"$f":"BONAFIDE.!AE2059","v":0},null,{"$f":"BONAFIDE.!X2059","v":0},{"$f":"BONAFIDE.!Y2059","v":0},{"$f":"BONAFIDE.!Z2059","v":0},{"$f":"BONAFIDE.!AD2059","v":0},{"$f":"BONAFIDE.!AA2059","v":"00:00:00"},119,"119","EXTR","01190EXTR","00EXTR A4"]
[{"$f":"BONAFIDE.!AB2060","v":"EXTRA4"},{"$f":"BONAFIDE.!AE2060","v":0},null,{"$f":"BONAFIDE.!X2060","v":0},{"$f":"BONAFIDE.!Y2060","v":0},{"$f":"BONAFIDE.!Z2060","v":0},{"$f":"BONAFIDE.!AD2060","v":0},{"$f":"BONAFIDE.!AA2060","v":"00:00:00"},119,"119","EXTR","01190EXTR","00EXTR A4"]
[{"$f":"BONAFIDE.!AB2061","v":"EXTRA4"},{"$f":"BONAFIDE.!AE2061","v":0},null,{"$f":"BONAFIDE.!X2061","v":0},{"$f":"BONAFIDE.!Y2061","v":0},{"$f":"BONAFIDE.!Z2061","v":0},{"$f":"BONAFIDE.!AD2061","v":0},{"$f":"BONAFIDE.!AA2061","v":"00:00:00"},119,"119","EXTR","01190EXTR","00EXTR A4"]
[{"$f":"BONAFIDE.!AB2062","v":"EXTRA4"},{"$f":"BONAFIDE.!AE2062","v":0},null,{"$f":"BONAFIDE.!X2062","v":0},{"$f":"BONAFIDE.!Y2062","v":0},{"$f":"BONAFIDE.!Z2062","v":0},{"$f":"BONAFIDE.!AD2062","v":0},{"$f":"BONAFIDE.!AA2062","v":"00:00:00"},119,"119","EXTR","01190EXTR","00EXTR A4"]
[{"$f":"BONAFIDE.!AB2063","v":"EXTRA4"},{"$f":"BONAFIDE.!AE2063","v":0},null,{"$f":"BONAFIDE.!X2063","v":0},{"$f":"BONAFIDE.!Y2063","v":0},{"$f":"BONAFIDE.!Z2063","v":0},{"$f":"BONAFIDE.!AD2063","v":0},{"$f":"BONAFIDE.!AA2063","v":"00:00:00"},119,"119","EXTR","01190EXTR","00EXTR A4"]
[{"$f":"BONAFIDE.!AB2064","v":"EXTRA4"},{"$f":"BONAFIDE.!AE2064","v":0},null,{"$f":"BONAFIDE.!X2064","v":0},{"$f":"BONAFIDE.!Y2064","v":0},{"$f":"BONAFIDE.!Z2064","v":0},{"$f":"BONAFIDE.!AD2064","v":0},{"$f":"BONAFIDE.!AA2064","v":"00:00:00"},119,"119","EXTR","01190EXTR","00EXTR A4"]
[{"$f":"BONAFIDE.!AB2065","v":"EXTRA4"},{"$f":"BONAFIDE.!AE2065","v":0},null,{"$f":"BONAFIDE.!X2065","v":0},{"$f":"BONAFIDE.!Y2065","v":0},{"$f":"BONAFIDE.!Z2065","v":0},{"$f":"BONAFIDE.!AD2065","v":0},{"$f":"BONAFIDE.!AA2065","v":"00:00:00"},119,"119","EXTR","01190EXTR","00EXTR A4"]
[{"$f":"BONAFIDE.!AB2066","v":"EXTRA4"},{"$f":"BONAFIDE.!AE2066","v":0},null,{"$f":"BONAFIDE.!X2066","v":0},{"$f":"BONAFIDE.!Y2066","v":0},{"$f":"BONAFIDE.!Z2066","v":0},{"$f":"BONAFIDE.!AD2066","v":0},{"$f":"BONAFIDE.!AA2066","v":"00:00:00"},119,"119","EXTR","01190EXTR","00EXTR A4"]
[{"$f":"BONAFIDE.!AB2067","v":"EXTRA4"},{"$f":"BONAFIDE.!AE2067","v":0},null,{"$f":"BONAFIDE.!X2067","v":0},{"$f":"BONAFIDE.!Y2067","v":0},{"$f":"BONAFIDE.!Z2067","v":0},{"$f":"BONAFIDE.!AD2067","v":0},{"$f":"BONAFIDE.!AA2067","v":"00:00:00"},119,"119","EXTR","01190EXTR","00EXTR A4"]
[{"$f":"BONAFIDE.!AB2068","v":"EXTRA4"},{"$f":"BONAFIDE.!AE2068","v":0},null,{"$f":"BONAFIDE.!X2068","v":0},{"$f":"BONAFIDE.!Y2068","v":0},{"$f":"BONAFIDE.!Z2068","v":0},{"$f":"BONAFIDE.!AD2068","v":0},{"$f":"BONAFIDE.!AA2068","v":"00:00:00"},119,"119","EXTR","01190EXTR","00EXTR A4"]
[{"$f":"BONAFIDE.!AB2069","v":"EXTRA4"},{"$f":"BONAFIDE.!AE2069","v":0},null,{"$f":"BONAFIDE.!X2069","v":0},{"$f":"BONAFIDE.!Y2069","v":0},{"$f":"BONAFIDE.!Z2069","v":0},{"$f":"BONAFIDE.!AD2069","v":0},{"$f":"BONAFIDE.!AA2069","v":"00:00:00"},119,"119","EXTR","01190EXTR","00EXTR A4"]
[{"$f":"BONAFIDE.!AB2070","v":"EXTRA4"},{"$f":"BONAFIDE.!AE2070","v":0},null,{"$f":"BONAFIDE.!X2070","v":0},{"$f":"BONAFIDE.!Y2070","v":0},{"$f":"BONAFIDE.!Z2070","v":0},{"$f":"BONAFIDE.!AD2070","v":0},{"$f":"BONAFIDE.!AA2070","v":"00:00:00"},119,"119","EXTR","01190EXTR","00EXTR A4"]
[{"$f":"BONAFIDE.!AB2071","v":"EXTRA4"},{"$f":"BONAFIDE.!AE2071","v":0},null,{"$f":"BONAFIDE.!X2071","v":0},{"$f":"BONAFIDE.!Y2071","v":0},{"$f":"BONAFIDE.!Z2071","v":0},{"$f":"BONAFIDE.!AD2071","v":0},{"$f":"BONAFIDE.!AA2071","v":"00:00:00"},119,"119","EXTR","01190EXTR","00EXTR A4"]
[{"$f":"BONAFIDE.!AB2072","v":"EXTRA4"},{"$f":"BONAFIDE.!AE2072","v":0},null,{"$f":"BONAFIDE.!X2072","v":0},{"$f":"BONAFIDE.!Y2072","v":0},{"$f":"BONAFIDE.!Z2072","v":0},{"$f":"BONAFIDE.!AD2072","v":0},{"$f":"BONAFIDE.!AA2072","v":"00:00:00"},119,"119","EXTR","01190EXTR","00EXTR A4"]
[{"$f":"BONAFIDE.!AB2073","v":"EXTRA4"},{"$f":"BONAFIDE.!AE2073","v":0},null,{"$f":"BONAFIDE.!X2073","v":0},{"$f":"BONAFIDE.!Y2073","v":0},{"$f":"BONAFIDE.!Z2073","v":0},{"$f":"BONAFIDE.!AD2073","v":0},{"$f":"BONAFIDE.!AA2073","v":"00:00:00"},119,"119","EXTR","01190EXTR","00EXTR A4"]
[{"$f":"BONAFIDE.!AB2074","v":"EXTRA4"},{"$f":"BONAFIDE.!AE2074","v":0},null,{"$f":"BONAFIDE.!X2074","v":0},{"$f":"BONAFIDE.!Y2074","v":0},{"$f":"BONAFIDE.!Z2074","v":0},{"$f":"BONAFIDE.!AD2074","v":0},{"$f":"BONAFIDE.!AA2074","v":"00:00:00"},{"$f":"DATEDIF(H2071,CUTOFFDT,\"Y\")","v":119},"119",{"$f":"MID(A2071,1,LEN(A2071)-2)","v":"EXTR"},{"$f":"B2071&J2071&G2071&K2071","v":"01190EXTR"},{"$f":"B2071&G2071&MID(A2071,1,LEN(A2071)-2)&\" \" & RIGHT(A2071,2)","v":"00EXTR A4"}]
[{"$f":"BONAFIDE.!AB2075","v":"EXTRA4"},{"$f":"BONAFIDE.!AE2075","v":0},null,{"$f":"BONAFIDE.!X2075","v":0},{"$f":"BONAFIDE.!Y2075","v":0},{"$f":"BONAFIDE.!Z2075","v":0},{"$f":"BONAFIDE.!AD2075","v":0},{"$f":"BONAFIDE.!AA2075","v":"00:00:00"},119,"119","EXTR","01190EXTR","00EXTR A4"]
[{"$f":"BONAFIDE.!AB2076","v":"EXTRA4"},{"$f":"BONAFIDE.!AE2076","v":0},null,{"$f":"BONAFIDE.!X2076","v":0},{"$f":"BONAFIDE.!Y2076","v":0},{"$f":"BONAFIDE.!Z2076","v":0},{"$f":"BONAFIDE.!AD2076","v":0},{"$f":"BONAFIDE.!AA2076","v":"00:00:00"},119,"119","EXTR","01190EXTR","00EXTR A4"]
[{"$f":"BONAFIDE.!AB2077","v":"EXTRA4"},{"$f":"BONAFIDE.!AE2077","v":0},null,{"$f":"BONAFIDE.!X2077","v":0},{"$f":"BONAFIDE.!Y2077","v":0},{"$f":"BONAFIDE.!Z2077","v":0},{"$f":"BONAFIDE.!AD2077","v":0},{"$f":"BONAFIDE.!AA2077","v":"00:00:00"},119,"119","EXTR","01190EXTR","00EXTR A4"]
[{"$f":"BONAFIDE.!AB2078","v":"EXTRA4"},{"$f":"BONAFIDE.!AE2078","v":0},null,{"$f":"BONAFIDE.!X2078","v":0},{"$f":"BONAFIDE.!Y2078","v":0},{"$f":"BONAFIDE.!Z2078","v":0},{"$f":"BONAFIDE.!AD2078","v":0},{"$f":"BONAFIDE.!AA2078","v":"00:00:00"},119,"119","EXTR","01190EXTR","00EXTR A4"]
[{"$f":"BONAFIDE.!AB2079","v":"EXTRA4"},{"$f":"BONAFIDE.!AE2079","v":0},null,{"$f":"BONAFIDE.!X2079","v":0},{"$f":"BONAFIDE.!Y2079","v":0},{"$f":"BONAFIDE.!Z2079","v":0},{"$f":"BONAFIDE.!AD2079","v":0},{"$f":"BONAFIDE.!AA2079","v":"00:00:00"},119,"119","EXTR","01190EXTR","00EXTR A4"]
[{"$f":"BONAFIDE.!AB2080","v":"EXTRA4"},{"$f":"BONAFIDE.!AE2080","v":0},null,{"$f":"BONAFIDE.!X2080","v":0},{"$f":"BONAFIDE.!Y2080","v":0},{"$f":"BONAFIDE.!Z2080","v":0},{"$f":"BONAFIDE.!AD2080","v":0},{"$f":"BONAFIDE.!AA2080","v":"00:00:00"},119,"119","EXTR","01190EXTR","00EXTR A4"]
[{"$f":"BONAFIDE.!AB2081","v":"EXTRA4"},{"$f":"BONAFIDE.!AE2081","v":0},null,{"$f":"BONAFIDE.!X2081","v":0},{"$f":"BONAFIDE.!Y2081","v":0},{"$f":"BONAFIDE.!Z2081","v":0},{"$f":"BONAFIDE.!AD2081","v":0},{"$f":"BONAFIDE.!AA2081","v":"00:00:00"},119,"119","EXTR","01190EXTR","00EXTR A4"]
[{"$f":"BONAFIDE.!AB2082","v":"EXTRA4"},{"$f":"BONAFIDE.!AE2082","v":0},null,{"$f":"BONAFIDE.!X2082","v":0},{"$f":"BONAFIDE.!Y2082","v":0},{"$f":"BONAFIDE.!Z2082","v":0},{"$f":"BONAFIDE.!AD2082","v":0},{"$f":"BONAFIDE.!AA2082","v":"00:00:00"},119,"119","EXTR","01190EXTR","00EXTR A4"]
[{"$f":"BONAFIDE.!AB2083","v":"EXTRA4"},{"$f":"BONAFIDE.!AE2083","v":0},null,{"$f":"BONAFIDE.!X2083","v":0},{"$f":"BONAFIDE.!Y2083","v":0},{"$f":"BONAFIDE.!Z2083","v":0},{"$f":"BONAFIDE.!AD2083","v":0},{"$f":"BONAFIDE.!AA2083","v":"00:00:00"},119,"119","EXTR","01190EXTR","00EXTR A4"]
[{"$f":"BONAFIDE.!AB2084","v":"EXTRA4"},{"$f":"BONAFIDE.!AE2084","v":0},null,{"$f":"BONAFIDE.!X2084","v":0},{"$f":"BONAFIDE.!Y2084","v":0},{"$f":"BONAFIDE.!Z2084","v":0},{"$f":"BONAFIDE.!AD2084","v":0},{"$f":"BONAFIDE.!AA2084","v":"00:00:00"},119,"119","EXTR","01190EXTR","00EXTR A4"]
[{"$f":"BONAFIDE.!AB2085","v":"EXTRA4"},{"$f":"BONAFIDE.!AE2085","v":0},null,{"$f":"BONAFIDE.!X2085","v":0},{"$f":"BONAFIDE.!Y2085","v":0},{"$f":"BONAFIDE.!Z2085","v":0},{"$f":"BONAFIDE.!AD2085","v":0},{"$f":"BONAFIDE.!AA2085","v":"00:00:00"},119,"119","EXTR","01190EXTR","00EXTR A4"]
[{"$f":"BONAFIDE.!AB2086","v":"EXTRA4"},{"$f":"BONAFIDE.!AE2086","v":0},null,{"$f":"BONAFIDE.!X2086","v":0},{"$f":"BONAFIDE.!Y2086","v":0},{"$f":"BONAFIDE.!Z2086","v":0},{"$f":"BONAFIDE.!AD2086","v":0},{"$f":"BONAFIDE.!AA2086","v":"00:00:00"},119,"119","EXTR","01190EXTR","00EXTR A4"]
[{"$f":"BONAFIDE.!AB2087","v":"EXTRA4"},{"$f":"BONAFIDE.!AE2087","v":0},null,{"$f":"BONAFIDE.!X2087","v":0},{"$f":"BONAFIDE.!Y2087","v":0},{"$f":"BONAFIDE.!Z2087","v":0},{"$f":"BONAFIDE.!AD2087","v":0},{"$f":"BONAFIDE.!AA2087","v":"00:00:00"},119,"119","EXTR","01190EXTR","00EXTR A4"]
[{"$f":"BONAFIDE.!AB2088","v":"EXTRA4"},{"$f":"BONAFIDE.!AE2088","v":0},null,{"$f":"BONAFIDE.!X2088","v":0},{"$f":"BONAFIDE.!Y2088","v":0},{"$f":"BONAFIDE.!Z2088","v":0},{"$f":"BONAFIDE.!AD2088","v":0},{"$f":"BONAFIDE.!AA2088","v":"00:00:00"},119,"119","EXTR","01190EXTR","00EXTR A4"]
[{"$f":"BONAFIDE.!AB2089","v":"EXTRA4"},{"$f":"BONAFIDE.!AE2089","v":0},null,{"$f":"BONAFIDE.!X2089","v":0},{"$f":"BONAFIDE.!Y2089","v":0},{"$f":"BONAFIDE.!Z2089","v":0},{"$f":"BONAFIDE.!AD2089","v":0},{"$f":"BONAFIDE.!AA2089","v":"00:00:00"},119,"119","EXTR","01190EXTR","00EXTR A4"]
[{"$f":"BONAFIDE.!AB2090","v":"EXTRA4"},{"$f":"BONAFIDE.!AE2090","v":0},null,{"$f":"BONAFIDE.!X2090","v":0},{"$f":"BONAFIDE.!Y2090","v":0},{"$f":"BONAFIDE.!Z2090","v":0},{"$f":"BONAFIDE.!AD2090","v":0},{"$f":"BONAFIDE.!AA2090","v":"00:00:00"},119,"119","EXTR","01190EXTR","00EXTR A4"]
[{"$f":"BONAFIDE.!AB2091","v":"EXTRA4"},{"$f":"BONAFIDE.!AE2091","v":0},null,{"$f":"BONAFIDE.!X2091","v":0},{"$f":"BONAFIDE.!Y2091","v":0},{"$f":"BONAFIDE.!Z2091","v":0},{"$f":"BONAFIDE.!AD2091","v":0},{"$f":"BONAFIDE.!AA2091","v":"00:00:00"},119,"119","EXTR","01190EXTR","00EXTR A4"]
[{"$f":"BONAFIDE.!AB2092","v":"EXTRA4"},{"$f":"BONAFIDE.!AE2092","v":0},null,{"$f":"BONAFIDE.!X2092","v":0},{"$f":"BONAFIDE.!Y2092","v":0},{"$f":"BONAFIDE.!Z2092","v":0},{"$f":"BONAFIDE.!AD2092","v":0},{"$f":"BONAFIDE.!AA2092","v":"00:00:00"},119,"119","EXTR","01190EXTR","00EXTR A4"]
[{"$f":"BONAFIDE.!AB2093","v":"EXTRA4"},{"$f":"BONAFIDE.!AE2093","v":0},null,{"$f":"BONAFIDE.!X2093","v":0},{"$f":"BONAFIDE.!Y2093","v":0},{"$f":"BONAFIDE.!Z2093","v":0},{"$f":"BONAFIDE.!AD2093","v":0},{"$f":"BONAFIDE.!AA2093","v":"00:00:00"},119,"119","EXTR","01190EXTR","00EXTR A4"]
[{"$f":"BONAFIDE.!AB2094","v":"EXTRA4"},{"$f":"BONAFIDE.!AE2094","v":0},null,{"$f":"BONAFIDE.!X2094","v":0},{"$f":"BONAFIDE.!Y2094","v":0},{"$f":"BONAFIDE.!Z2094","v":0},{"$f":"BONAFIDE.!AD2094","v":0},{"$f":"BONAFIDE.!AA2094","v":"00:00:00"},119,"119","EXTR","01190EXTR","00EXTR A4"]
[{"$f":"BONAFIDE.!AB2095","v":"EXTRA4"},{"$f":"BONAFIDE.!AE2095","v":0},null,{"$f":"BONAFIDE.!X2095","v":0},{"$f":"BONAFIDE.!Y2095","v":0},{"$f":"BONAFIDE.!Z2095","v":0},{"$f":"BONAFIDE.!AD2095","v":0},{"$f":"BONAFIDE.!AA2095","v":"00:00:00"},119,"119","EXTR","01190EXTR","00EXTR A4"]
[{"$f":"BONAFIDE.!AB2096","v":"EXTRA4"},{"$f":"BONAFIDE.!AE2096","v":0},null,{"$f":"BONAFIDE.!X2096","v":0},{"$f":"BONAFIDE.!Y2096","v":0},{"$f":"BONAFIDE.!Z2096","v":0},{"$f":"BONAFIDE.!AD2096","v":0},{"$f":"BONAFIDE.!AA2096","v":"00:00:00"},119,"119","EXTR","01190EXTR","00EXTR A4"]
[{"$f":"BONAFIDE.!AB2097","v":"EXTRA4"},{"$f":"BONAFIDE.!AE2097","v":0},null,{"$f":"BONAFIDE.!X2097","v":0},{"$f":"BONAFIDE.!Y2097","v":0},{"$f":"BONAFIDE.!Z2097","v":0},{"$f":"BONAFIDE.!AD2097","v":0},{"$f":"BONAFIDE.!AA2097","v":"00:00:00"},119,"119","EXTR","01190EXTR","00EXTR A4"]
[{"$f":"BONAFIDE.!AB2098","v":"EXTRA4"},{"$f":"BONAFIDE.!AE2098","v":0},null,{"$f":"BONAFIDE.!X2098","v":0},{"$f":"BONAFIDE.!Y2098","v":0},{"$f":"BONAFIDE.!Z2098","v":0},{"$f":"BONAFIDE.!AD2098","v":0},{"$f":"BONAFIDE.!AA2098","v":"00:00:00"},119,"119","EXTR","01190EXTR","00EXTR A4"]
[{"$f":"BONAFIDE.!AB2099","v":"EXTRA4"},{"$f":"BONAFIDE.!AE2099","v":0},null,{"$f":"BONAFIDE.!X2099","v":0},{"$f":"BONAFIDE.!Y2099","v":0},{"$f":"BONAFIDE.!Z2099","v":0},{"$f":"BONAFIDE.!AD2099","v":0},{"$f":"BONAFIDE.!AA2099","v":"00:00:00"},119,"119","EXTR","01190EXTR","00EXTR A4"]
[{"$f":"BONAFIDE.!AB2100","v":"EXTRA4"},{"$f":"BONAFIDE.!AE2100","v":0},null,{"$f":"BONAFIDE.!X2100","v":0},{"$f":"BONAFIDE.!Y2100","v":0},{"$f":"BONAFIDE.!Z2100","v":0},{"$f":"BONAFIDE.!AD2100","v":0},{"$f":"BONAFIDE.!AA2100","v":"00:00:00"},119,"119","EXTR","01190EXTR","00EXTR A4"]
[{"$f":"BONAFIDE.!AB2101","v":"EXTRA4"},{"$f":"BONAFIDE.!AE2101","v":0},null,{"$f":"BONAFIDE.!X2101","v":0},{"$f":"BONAFIDE.!Y2101","v":0},{"$f":"BONAFIDE.!Z2101","v":0},{"$f":"BONAFIDE.!AD2101","v":0},{"$f":"BONAFIDE.!AA2101","v":"00:00:00"},119,"119","EXTR","01190EXTR","00EXTR A4"]
[{"$f":"BONAFIDE.!AB2102","v":"EXTRA4"},{"$f":"BONAFIDE.!AE2102","v":0},null,{"$f":"BONAFIDE.!X2102","v":0},{"$f":"BONAFIDE.!Y2102","v":0},{"$f":"BONAFIDE.!Z2102","v":0},{"$f":"BONAFIDE.!AD2102","v":0},{"$f":"BONAFIDE.!AA2102","v":"00:00:00"},119,"119","EXTR","01190EXTR","00EXTR A4"]
[{"$f":"BONAFIDE.!AB2103","v":"EXTRA4"},{"$f":"BONAFIDE.!AE2103","v":0},null,{"$f":"BONAFIDE.!X2103","v":0},{"$f":"BONAFIDE.!Y2103","v":0},{"$f":"BONAFIDE.!Z2103","v":0},{"$f":"BONAFIDE.!AD2103","v":0},{"$f":"BONAFIDE.!AA2103","v":"00:00:00"},119,"119","EXTR","01190EXTR","00EXTR A4"]
[{"$f":"BONAFIDE.!AB2104","v":"EXTRA4"},{"$f":"BONAFIDE.!AE2104","v":0},null,{"$f":"BONAFIDE.!X2104","v":0},{"$f":"BONAFIDE.!Y2104","v":0},{"$f":"BONAFIDE.!Z2104","v":0},{"$f":"BONAFIDE.!AD2104","v":0},{"$f":"BONAFIDE.!AA2104","v":"00:00:00"},119,"119","EXTR","01190EXTR","00EXTR A4"]
[{"$f":"BONAFIDE.!AB2105","v":"EXTRA4"},{"$f":"BONAFIDE.!AE2105","v":0},null,{"$f":"BONAFIDE.!X2105","v":0},{"$f":"BONAFIDE.!Y2105","v":0},{"$f":"BONAFIDE.!Z2105","v":0},{"$f":"BONAFIDE.!AD2105","v":0},{"$f":"BONAFIDE.!AA2105","v":"00:00:00"},119,"119","EXTR","01190EXTR","00EXTR A4"]
[{"$f":"BONAFIDE.!AB2106","v":"EXTRA4"},{"$f":"BONAFIDE.!AE2106","v":0},null,{"$f":"BONAFIDE.!X2106","v":0},{"$f":"BONAFIDE.!Y2106","v":0},{"$f":"BONAFIDE.!Z2106","v":0},{"$f":"BONAFIDE.!AD2106","v":0},{"$f":"BONAFIDE.!AA2106","v":"00:00:00"},119,"119","EXTR","01190EXTR","00EXTR A4"]
[{"$f":"BONAFIDE.!AB2107","v":"EXTRA4"},{"$f":"BONAFIDE.!AE2107","v":0},null,{"$f":"BONAFIDE.!X2107","v":0},{"$f":"BONAFIDE.!Y2107","v":0},{"$f":"BONAFIDE.!Z2107","v":0},{"$f":"BONAFIDE.!AD2107","v":0},{"$f":"BONAFIDE.!AA2107","v":"00:00:00"},119,"119","EXTR","01190EXTR","00EXTR A4"]
[{"$f":"BONAFIDE.!AB2108","v":"EXTRA4"},{"$f":"BONAFIDE.!AE2108","v":0},null,{"$f":"BONAFIDE.!X2108","v":0},{"$f":"BONAFIDE.!Y2108","v":0},{"$f":"BONAFIDE.!Z2108","v":0},{"$f":"BONAFIDE.!AD2108","v":0},{"$f":"BONAFIDE.!AA2108","v":"00:00:00"},119,"119","EXTR","01190EXTR","00EXTR A4"]
[{"$f":"BONAFIDE.!AB2109","v":"EXTRA4"},{"$f":"BONAFIDE.!AE2109","v":0},null,{"$f":"BONAFIDE.!X2109","v":0},{"$f":"BONAFIDE.!Y2109","v":0},{"$f":"BONAFIDE.!Z2109","v":0},{"$f":"BONAFIDE.!AD2109","v":0},{"$f":"BONAFIDE.!AA2109","v":"00:00:00"},119,"119","EXTR","01190EXTR","00EXTR A4"]
[{"$f":"BONAFIDE.!AB2110","v":"EXTRA4"},{"$f":"BONAFIDE.!AE2110","v":0},null,{"$f":"BONAFIDE.!X2110","v":0},{"$f":"BONAFIDE.!Y2110","v":0},{"$f":"BONAFIDE.!Z2110","v":0},{"$f":"BONAFIDE.!AD2110","v":0},{"$f":"BONAFIDE.!AA2110","v":"00:00:00"},119,"119","EXTR","01190EXTR","00EXTR A4"]
[{"$f":"BONAFIDE.!AB2111","v":"EXTRA4"},{"$f":"BONAFIDE.!AE2111","v":0},null,{"$f":"BONAFIDE.!X2111","v":0},{"$f":"BONAFIDE.!Y2111","v":0},{"$f":"BONAFIDE.!Z2111","v":0},{"$f":"BONAFIDE.!AD2111","v":0},{"$f":"BONAFIDE.!AA2111","v":"00:00:00"},119,"119","EXTR","01190EXTR","00EXTR A4"]
[{"$f":"BONAFIDE.!AB2112","v":"EXTRA4"},{"$f":"BONAFIDE.!AE2112","v":0},null,{"$f":"BONAFIDE.!X2112","v":0},{"$f":"BONAFIDE.!Y2112","v":0},{"$f":"BONAFIDE.!Z2112","v":0},{"$f":"BONAFIDE.!AD2112","v":0},{"$f":"BONAFIDE.!AA2112","v":"00:00:00"},119,"119","EXTR","01190EXTR","00EXTR A4"]
[{"$f":"BONAFIDE.!AB2113","v":"EXTRA4"},{"$f":"BONAFIDE.!AE2113","v":0},null,{"$f":"BONAFIDE.!X2113","v":0},{"$f":"BONAFIDE.!Y2113","v":0},{"$f":"BONAFIDE.!Z2113","v":0},{"$f":"BONAFIDE.!AD2113","v":0},{"$f":"BONAFIDE.!AA2113","v":"00:00:00"},119,"119","EXTR","01190EXTR","00EXTR A4"]
[{"$f":"BONAFIDE.!AB2114","v":"EXTRA4"},{"$f":"BONAFIDE.!AE2114","v":0},null,{"$f":"BONAFIDE.!X2114","v":0},{"$f":"BONAFIDE.!Y2114","v":0},{"$f":"BONAFIDE.!Z2114","v":0},{"$f":"BONAFIDE.!AD2114","v":0},{"$f":"BONAFIDE.!AA2114","v":"00:00:00"},119,"119","EXTR","01190EXTR","00EXTR A4"]
[{"$f":"BONAFIDE.!AB2115","v":"EXTRA4"},{"$f":"BONAFIDE.!AE2115","v":0},null,{"$f":"BONAFIDE.!X2115","v":0},{"$f":"BONAFIDE.!Y2115","v":0},{"$f":"BONAFIDE.!Z2115","v":0},{"$f":"BONAFIDE.!AD2115","v":0},{"$f":"BONAFIDE.!AA2115","v":"00:00:00"},119,"119","EXTR","01190EXTR","00EXTR A4"]
[{"$f":"BONAFIDE.!AB2116","v":"EXTRA4"},{"$f":"BONAFIDE.!AE2116","v":0},null,{"$f":"BONAFIDE.!X2116","v":0},{"$f":"BONAFIDE.!Y2116","v":0},{"$f":"BONAFIDE.!Z2116","v":0},{"$f":"BONAFIDE.!AD2116","v":0},{"$f":"BONAFIDE.!AA2116","v":"00:00:00"},119,"119","EXTR","01190EXTR","00EXTR A4"]
[{"$f":"BONAFIDE.!AB2117","v":"EXTRA4"},{"$f":"BONAFIDE.!AE2117","v":0},null,{"$f":"BONAFIDE.!X2117","v":0},{"$f":"BONAFIDE.!Y2117","v":0},{"$f":"BONAFIDE.!Z2117","v":0},{"$f":"BONAFIDE.!AD2117","v":0},{"$f":"BONAFIDE.!AA2117","v":"00:00:00"},119,"119","EXTR","01190EXTR","00EXTR A4"]
[{"$f":"BONAFIDE.!AB2118","v":"EXTRA4"},{"$f":"BONAFIDE.!AE2118","v":0},null,{"$f":"BONAFIDE.!X2118","v":0},{"$f":"BONAFIDE.!Y2118","v":0},{"$f":"BONAFIDE.!Z2118","v":0},{"$f":"BONAFIDE.!AD2118","v":0},{"$f":"BONAFIDE.!AA2118","v":"00:00:00"},119,"119","EXTR","01190EXTR","00EXTR A4"]

{"sheet":"CLASSES=>","index":3,"n_rows":17,"n_cols":12,"rows_kept":17,"cut":false,"hidden":false,"merged":[[2,5,8,9],[15,1,15,3],[16,1,21,3]]}
[]
[]
[null,null,null,null,null,"Enter Students Particulars in Each Class,\nDon't Enter RNO, just enter all other Fields\nexample given"]
[]
[]
[]
[]
[]
[]
[]
[]
[null,null,null,"RNO","ADMN NO","NAME OF THE STUDENT","FATHER'S NAME","CASTE","DOB","DOA","SEX","MUSLIM"]
[null,null,null,1,1234,"ABCD","EFGH","OC","2008-12-08","2013-06-15","B","Y"]
[]
[]
[null,"IMPORTANT !"]
[null,"You can delete, copy paste details of Students but \nDON'T CUT & PASTE\n"]

{"sheet":"VITM","index":4,"n_rows":160,"n_cols":11,"rows_kept":160,"cut":false,"hidden":false,"merged":[[0,0,0,6],[1,0,1,1],[156,5,156,6]]}
[{"$f":"A2 &\"-\"& ACADEMICYEAR","v":"VITM-2019-20"}]
[{"$f":"RIGHT(CELL(\"filename\",C3),LEN(CELL(\"filename\",C3))-FIND(\"]\",CELL(\"filename\",C3)))","v":"VITM"}]
["RNO","ADMN NO","NAME OF THE STUDENT","FATHER'S NAME","CASTE","DOB","DOA","SEX","MUSLIM"]
[{"$f":"ROW()-3","v":1},null,null,null,null,null,null,null,null,{"$f":"H4&E4","v":""},{"$f":"H4&I4","v":""}]
[{"$f":"ROW()-3","v":2},null,null,null,null,null,null,null,null,"",{"$f":"H5&I5","v":""}]
[3,null,null,null,null,null,null,null,null,"",""]
[4,null,null,null,null,null,null,null,null,"",""]
[5,null,null,null,null,null,null,null,null,"",""]
[6,null,null,null,null,null,null,null,null,"",""]
[7,null,null,null,null,null,null,null,null,"",""]
[8,null,null,null,null,null,null,null,null,"",""]
[9,null,null,null,null,null,null,null,null,"",""]
[10,null,null,null,null,null,null,null,null,"",""]
[11,null,null,null,null,null,null,null,null,"",""]
[12,null,null,null,null,null,null,null,null,"",""]
[13,null,null,null,null,null,null,null,null,"",""]
[14,null,null,null,null,null,null,null,null,"",""]
[15,null,null,null,null,null,null,null,null,"",""]
[16,null,null,null,null,null,null,null,null,"",""]
[17,null,null,null,null,null,null,null,null,"",""]
[18,null,null,null,null,null,null,null,null,"",""]
[19,null,null,null,null,null,null,null,null,"",""]
[20,null,null,null,null,null,null,null,null,"",""]
[21,null,null,null,null,null,null,null,null,"",""]
[22,null,null,null,null,null,null,null,null,"",""]
[23,null,null,null,null,null,null,null,null,"",""]
[24,null,null,null,null,null,null,null,null,"",""]
[25,null,null,null,null,null,null,null,null,"",""]
[26,null,null,null,null,null,null,null,null,"",""]
[27,null,null,null,null,null,null,null,null,"",""]
[28,null,null,null,null,null,null,null,null,"",""]
[29,null,null,null,null,null,null,null,null,"",""]
[30,null,null,null,null,null,null,null,null,"",""]
[31,null,null,null,null,null,null,null,null,"",""]
[32,null,null,null,null,null,null,null,null,"",""]
[33,null,null,null,null,null,null,null,null,{"$f":"H36&E36","v":""},""]
[34,null,null,null,null,null,null,null,null,"",""]
[35,null,null,null,null,null,null,null,null,"",""]
[36,null,null,null,null,null,null,null,null,"",""]
[37,null,null,null,null,null,null,null,null,"",""]
[38,null,null,null,null,null,null,null,null,"",""]
[39,null,null,null,null,null,null,null,null,"",""]
[40,null,null,null,null,null,null,null,null,"",""]
[41,null,null,null,null,null,null,null,null,"",""]
[42,null,null,null,null,null,null,null,null,"",""]
[43,null,null,null,null,null,null,null,null,"",""]
[44,null,null,null,null,null,null,null,null,"",""]
[45,null,null,null,null,null,null,null,null,"",""]
[46,null,null,null,null,null,null,null,null,"",""]
[47,null,null,null,null,null,null,null,null,"",""]
[48,null,null,null,null,null,null,null,null,"",""]
[49,null,null,null,null,null,null,null,null,"",""]
[50,null,null,null,null,null,null,null,null,"",""]
[51,null,null,null,null,null,null,null,null,"",{"$f":"H54&I54","v":""}]
[52,null,null,null,null,null,null,null,null,"",""]
[53,null,null,null,null,null,null,null,null,"",""]
[54,null,null,null,null,null,null,null,null,"",""]
[55,null,null,null,null,null,null,null,null,"",""]
[56,null,null,null,null,null,null,null,null,"",""]
[57,null,null,null,null,null,null,null,null,"",""]
[58,null,null,null,null,null,null,null,null,"",""]
[59,null,null,null,null,null,null,null,null,"",""]
[60,null,null,null,null,null,null,null,null,"",""]
[61,null,null,null,null,null,null,null,null,"",""]
[62,null,null,null,null,null,null,null,null,"",""]
[63,null,null,null,null,null,null,null,null,"",""]
[64,null,null,null,null,null,null,null,null,"",""]
[65,null,null,null,null,null,null,null,null,{"$f":"H68&E68","v":""},""]
[{"$f":"ROW()-3","v":66},null,null,null,null,null,null,null,null,"",""]
[67,null,null,null,null,null,null,null,null,"",""]
[68,null,null,null,null,null,null,null,null,"",""]
[69,null,null,null,null,null,null,null,null,"",""]
[70,null,null,null,null,null,null,null,null,"",""]
[71,null,null,null,null,null,null,null,null,"",""]
[72,null,null,null,null,null,null,null,null,"",""]
[73,null,null,null,null,null,null,null,null,"",""]
[74,null,null,null,null,null,null,null,null,"",""]
[75,null,null,null,null,null,null,null,null,"",""]
[76,null,null,null,null,null,null,null,null,"",""]
[77,null,null,null,null,null,null,null,null,"",""]
[78,null,null,null,null,null,null,null,null,"",""]
[79,null,null,null,null,null,null,null,null,"",""]
[80,null,null,null,null,null,null,null,null,"",""]
[81,null,null,null,null,null,null,null,null,"",""]
[82,null,null,null,null,null,null,null,null,"",""]
[83,null,null,null,null,null,null,null,null,"",""]
[84,null,null,null,null,null,null,null,null,"",""]
[85,null,null,null,null,null,null,null,null,"",""]
[86,null,null,null,null,null,null,null,null,"",""]
[87,null,null,null,null,null,null,null,null,"",""]
[88,null,null,null,null,null,null,null,null,"",""]
[89,null,null,null,null,null,null,null,null,"",""]
[90,null,null,null,null,null,null,null,null,"",""]
[91,null,null,null,null,null,null,null,null,"",""]
[92,null,null,null,null,null,null,null,null,"",""]
[93,null,null,null,null,null,null,null,null,"",""]
[94,null,null,null,null,null,null,null,null,"",""]
[95,null,null,null,null,null,null,null,null,"",""]
[96,null,null,null,null,null,null,null,null,"",""]
[97,null,null,null,null,null,null,null,null,{"$f":"H100&E100","v":""},""]
[98,null,null,null,null,null,null,null,null,"",""]
[99,null,null,null,null,null,null,null,null,"",""]
[100,null,null,null,null,null,null,null,null,"",""]
[101,null,null,null,null,null,null,null,null,"",""]
[102,null,null,null,null,null,null,null,null,"",""]
[103,null,null,null,null,null,null,null,null,"",""]
[104,null,null,null,null,null,null,null,null,"",""]
[105,null,null,null,null,null,null,null,null,"",""]
[106,null,null,null,null,null,null,null,null,"",""]
[107,null,null,null,null,null,null,null,null,"",""]
[108,null,null,null,null,null,null,null,null,"",""]
[109,null,null,null,null,null,null,null,null,"",""]
[110,null,null,null,null,null,null,null,null,"",""]
[111,null,null,null,null,null,null,null,null,"",""]
[112,null,null,null,null,null,null,null,null,"",""]
[113,null,null,null,null,null,null,null,null,"",""]
[114,null,null,null,null,null,null,null,null,"",""]
[115,null,null,null,null,null,null,null,null,"",""]
[116,null,null,null,null,null,null,null,null,"",{"$f":"H119&I119","v":""}]
[117,null,null,null,null,null,null,null,null,"",""]
[118,null,null,null,null,null,null,null,null,"",""]
[119,null,null,null,null,null,null,null,null,"",""]
[120,null,null,null,null,null,null,null,null,"",""]
[121,null,null,null,null,null,null,null,null,"",""]
[122,null,null,null,null,null,null,null,null,"",""]
[123,null,null,null,null,null,null,null,null,"",""]
[124,null,null,null,null,null,null,null,null,"",""]
[125,null,null,null,null,null,null,null,null,"",""]
[126,null,null,null,null,null,null,null,null,"",""]
[127,null,null,null,null,null,null,null,null,"",""]
[128,null,null,null,null,null,null,null,null,"",""]
[129,null,null,null,null,null,null,null,null,{"$f":"H132&E132","v":""},""]
[{"$f":"ROW()-3","v":130},null,null,null,null,null,null,null,null,"",""]
[131,null,null,null,null,null,null,null,null,"",""]
[132,null,null,null,null,null,null,null,null,"",""]
[133,null,null,null,null,null,null,null,null,"",""]
[134,null,null,null,null,null,null,null,null,"",""]
[135,null,null,null,null,null,null,null,null,"",""]
[136,null,null,null,null,null,null,null,null,"",""]
[137,null,null,null,null,null,null,null,null,"",""]
[138,null,null,null,null,null,null,null,null,"",""]
[139,null,null,null,null,null,null,null,null,"",""]
[140,null,null,null,null,null,null,null,null,"",""]
[141,null,null,null,null,null,null,null,null,"",""]
[142,null,null,null,null,null,null,null,null,"",""]
[143,null,null,null,null,null,null,null,null,"",""]
[144,null,null,null,null,null,null,null,null,"",""]
[145,null,null,null,null,null,null,null,null,"",""]
[146,null,null,null,null,null,null,null,null,"",""]
[147,null,null,null,null,null,null,null,null,"",""]
[148,null,null,null,null,null,null,null,null,"",""]
[149,null,null,null,null,null,null,null,null,"",""]
[150,null,null,null,null,null,null,null,null,"",""]
[]
[null,"BOYS","GIRLS","TOTAL"]
["SC",{"$f":"COUNTIF($J$4:$J$153,\"BSC\")","v":0},{"$f":"COUNTIF($J$4:$J$153,\"GSC\")","v":0},{"$f":"SUM(B156:C156)","v":0}]
["ST",{"$f":"COUNTIF($J$4:$J$153,\"BST\")","v":0},{"$f":"COUNTIF($J$4:$J$153,\"GST\")","v":0},{"$f":"SUM(B157:C157)","v":0},null,"MINORITY"]
["BC",{"$f":"COUNTIF($J$4:$J$153,\"BBC\")","v":0},{"$f":"COUNTIF($J$4:$J$153,\"GBC\")","v":0},{"$f":"SUM(B158:C158)","v":0},null,"BOYS","GIRLS"]
["OC",{"$f":"COUNTIF($J$4:$J$153,\"BOC\")","v":0},{"$f":"COUNTIF($J$4:$J$153,\"GOC\")","v":0},{"$f":"SUM(B159:C159)","v":0},null,{"$f":"COUNTIF(K4:K47,\"BY\")","v":0},{"$f":"COUNTIF(K4:K47,\"GY\")","v":0}]
["TOTAL",{"$f":"SUM(B156:B159)","v":0},{"$f":"SUM(C156:C159)","v":0},{"$f":"SUM(B160:C160)","v":0}]

{"sheet":"VIITM","index":5,"n_rows":161,"n_cols":11,"rows_kept":161,"cut":false,"hidden":false,"merged":[[0,0,0,6],[1,0,1,1]]}
[{"$f":"A2 &\"-\"& ACADEMICYEAR","v":"VIITM-2019-20"}]
[{"$f":"RIGHT(CELL(\"filename\",C3),LEN(CELL(\"filename\",C3))-FIND(\"]\",CELL(\"filename\",C3)))","v":"VIITM"}]
["RNO","ADMN NO","NAME OF THE STUDENT","FATHER'S NAME","CASTE","DOB","DOA","SEX","MUSLIM"]
[{"$f":"ROW()-3","v":1},null,null,null,null,null,null,null,null,{"$f":"H4&E4","v":""},{"$f":"H4&I4","v":""}]
[{"$f":"ROW()-3","v":2},null,null,null,null,null,null,null,null,{"$f":"H5&E5","v":""},{"$f":"H5&I5","v":""}]
[3,null,null,null,null,null,null,null,null,"",""]
[4,null,null,null,null,null,null,null,null,"",""]
[5,null,null,null,null,null,null,null,null,"",""]
[6,null,null,null,null,null,null,null,null,"",""]
[7,null,null,null,null,null,null,null,null,"",""]
[8,null,null,null,null,null,null,null,null,"",""]
[9,null,null,null,null,null,null,null,null,"",""]
[10,null,null,null,null,null,null,null,null,"",""]
[11,null,null,null,null,null,null,null,null,"",""]
[12,null,null,null,null,null,null,null,null,"",""]
[13,null,null,null,null,null,null,null,null,"",""]
[14,null,null,null,null,null,null,null,null,"",""]
[15,null,null,null,null,null,null,null,null,"",""]
[16,null,null,null,null,null,null,null,null,"",""]
[17,null,null,null,null,null,null,null,null,"",""]
[18,null,null,null,null,null,null,null,null,"",""]
[19,null,null,null,null,null,null,null,null,"",""]
[20,null,null,null,null,null,null,null,null,"",""]
[21,null,null,null,null,null,null,null,null,"",""]
[22,null,null,null,null,null,null,null,null,"",""]
[23,null,null,null,null,null,null,null,null,"",""]
[24,null,null,null,null,null,null,null,null,"",""]
[25,null,null,null,null,null,null,null,null,"",""]
[26,null,null,null,null,null,null,null,null,"",""]
[27,null,null,null,null,null,null,null,null,"",""]
[28,null,null,null,null,null,null,null,null,"",""]
[29,null,null,null,null,null,null,null,null,"",""]
[30,null,null,null,null,null,null,null,null,"",""]
[31,null,null,null,null,null,null,null,null,"",""]
[32,null,null,null,null,null,null,null,null,"",""]
[33,null,null,null,null,null,null,null,null,"",""]
[34,null,null,null,null,null,null,null,null,"",""]
[35,null,null,null,null,null,null,null,null,"",""]
[36,null,null,null,null,null,null,null,null,"",""]
[37,null,null,null,null,null,null,null,null,"",""]
[38,null,null,null,null,null,null,null,null,"",""]
[39,null,null,null,null,null,null,null,null,"",""]
[40,null,null,null,null,null,null,null,null,"",""]
[41,null,null,null,null,null,null,null,null,"",""]
[42,null,null,null,null,null,null,null,null,"",""]
[43,null,null,null,null,null,null,null,null,"",""]
[44,null,null,null,null,null,null,null,null,"",""]
[45,null,null,null,null,null,null,null,null,"",""]
[46,null,null,null,null,null,null,null,null,"",""]
[47,null,null,null,null,null,null,null,null,"",""]
[48,null,null,null,null,null,null,null,null,"",""]
[49,null,null,null,null,null,null,null,null,"",""]
[50,null,null,null,null,null,null,null,null,"",""]
[51,null,null,null,null,null,null,null,null,"",""]
[52,null,null,null,null,null,null,null,null,"",""]
[53,null,null,null,null,null,null,null,null,"",""]
[54,null,null,null,null,null,null,null,null,"",""]
[55,null,null,null,null,null,null,null,null,"",""]
[56,null,null,null,null,null,null,null,null,"",""]
[57,null,null,null,null,null,null,null,null,"",""]
[58,null,null,null,null,null,null,null,null,"",""]
[59,null,null,null,null,null,null,null,null,"",""]
[60,null,null,null,null,null,null,null,null,"",""]
[61,null,null,null,null,null,null,null,null,"",""]
[62,null,null,null,null,null,null,null,null,"",""]
[63,null,null,null,null,null,null,null,null,"",""]
[64,null,null,null,null,null,null,null,null,"",""]
[65,null,null,null,null,null,null,null,null,"",""]
[{"$f":"ROW()-3","v":66},null,null,null,null,null,null,null,null,"",{"$f":"H69&I69","v":""}]
[67,null,null,null,null,null,null,null,null,"",""]
[68,null,null,null,null,null,null,null,null,"",""]
[69,null,null,null,null,null,null,null,null,"",""]
[70,null,null,null,null,null,null,null,null,"",""]
[71,null,null,null,null,null,null,null,null,"",""]
[72,null,null,null,null,null,null,null,null,"",""]
[73,null,null,null,null,null,null,null,null,"",""]
[74,null,null,null,null,null,null,null,null,"",""]
[75,null,null,null,null,null,null,null,null,"",""]
[76,null,null,null,null,null,null,null,null,"",""]
[77,null,null,null,null,null,null,null,null,"",""]
[78,null,null,null,null,null,null,null,null,"",""]
[79,null,null,null,null,null,null,null,null,"",""]
[80,null,null,null,null,null,null,null,null,"",""]
[81,null,null,null,null,null,null,null,null,"",""]
[82,null,null,null,null,null,null,null,null,"",""]
[83,null,null,null,null,null,null,null,null,"",""]
[84,null,null,null,null,null,null,null,null,"",""]
[85,null,null,null,null,null,null,null,null,"",""]
[86,null,null,null,null,null,null,null,null,"",""]
[87,null,null,null,null,null,null,null,null,"",""]
[88,null,null,null,null,null,null,null,null,"",""]
[89,null,null,null,null,null,null,null,null,"",""]
[90,null,null,null,null,null,null,null,null,"",""]
[91,null,null,null,null,null,null,null,null,"",""]
[92,null,null,null,null,null,null,null,null,"",""]
[93,null,null,null,null,null,null,null,null,"",""]
[94,null,null,null,null,null,null,null,null,"",""]
[95,null,null,null,null,null,null,null,null,"",""]
[96,null,null,null,null,null,null,null,null,"",""]
[97,null,null,null,null,null,null,null,null,"",""]
[98,null,null,null,null,null,null,null,null,"",""]
[99,null,null,null,null,null,null,null,null,"",""]
[100,null,null,null,null,null,null,null,null,"",""]
[101,null,null,null,null,null,null,null,null,{"$f":"H104&E104","v":""},{"$f":"H104&I104","v":""}]
[102,null,null,null,null,null,null,null,null,"",""]
[103,null,null,null,null,null,null,null,null,"",""]
[104,null,null,null,null,null,null,null,null,"",""]
[105,null,null,null,null,null,null,null,null,"",""]
[106,null,null,null,null,null,null,null,null,"",""]
[107,null,null,null,null,null,null,null,null,"",""]
[108,null,null,null,null,null,null,null,null,"",""]
[109,null,null,null,null,null,null,null,null,"",""]
[110,null,null,null,null,null,null,null,null,"",""]
[111,null,null,null,null,null,null,null,null,"",""]
[112,null,null,null,null,null,null,null,null,"",""]
[113,null,null,null,null,null,null,null,null,"",""]
[114,null,null,null,null,null,null,null,null,"",""]
[115,null,null,null,null,null,null,null,null,"",""]
[116,null,null,null,null,null,null,null,null,"",""]
[117,null,null,null,null,null,null,null,null,"",""]
[118,null,null,null,null,null,null,null,null,"",""]
[119,null,null,null,null,null,null,null,null,"",""]
[120,null,null,null,null,null,null,null,null,"",""]
[121,null,null,null,null,null,null,null,null,{"$f":"H124&E124","v":""},{"$f":"H124&I124","v":""}]
[122,null,null,null,null,null,null,null,null,"",""]
[123,null,null,null,null,null,null,null,null,"",""]
[124,null,null,null,null,null,null,null,null,"",""]
[125,null,null,null,null,null,null,null,null,"",""]
[126,null,null,null,null,null,null,null,null,"",""]
[127,null,null,null,null,null,null,null,null,"",""]
[128,null,null,null,null,null,null,null,null,"",""]
[129,null,null,null,null,null,null,null,null,"",""]
[{"$f":"ROW()-3","v":130},null,null,null,null,null,null,null,null,"",""]
[131,null,null,null,null,null,null,null,null,"",""]
[132,null,null,null,null,null,null,null,null,"",""]
[133,null,null,null,null,null,null,null,null,"",""]
[134,null,null,null,null,null,null,null,null,"",""]
[135,null,null,null,null,null,null,null,null,"",""]
[136,null,null,null,null,null,null,null,null,"",""]
[137,null,null,null,null,null,null,null,null,"",""]
[138,null,null,null,null,null,null,null,null,"",""]
[139,null,null,null,null,null,null,null,null,"",""]
[140,null,null,null,null,null,null,null,null,"",""]
[141,null,null,null,null,null,null,null,null,"",""]
[142,null,null,null,null,null,null,null,null,"",""]
[143,null,null,null,null,null,null,null,null,"",""]
[144,null,null,null,null,null,null,null,null,"",""]
[145,null,null,null,null,null,null,null,null,"",""]
[146,null,null,null,null,null,null,null,null,"",""]
[147,null,null,null,null,null,null,null,null,"",""]
[148,null,null,null,null,null,null,null,null,"",""]
[149,null,null,null,null,null,null,null,null,"",""]
[150,null,null,null,null,null,null,null,null,"",""]
[]
[null,"BOYS","GIRLS","TOTAL"]
["SC",{"$f":"COUNTIF($J$4:$J$153,\"BSC\")","v":0},{"$f":"COUNTIF($J$4:$J$153,\"GSC\")","v":0},{"$f":"SUM(B156:C156)","v":0}]
["ST",{"$f":"COUNTIF($J$4:$J$153,\"BST\")","v":0},{"$f":"COUNTIF($J$4:$J$153,\"GST\")","v":0},{"$f":"SUM(B157:C157)","v":0}]
["BC",{"$f":"COUNTIF($J$4:$J$153,\"BBC\")","v":0},{"$f":"COUNTIF($J$4:$J$153,\"GBC\")","v":0},{"$f":"SUM(B158:C158)","v":0},null,"MIN BOY","MIN GIRL"]
["OC",{"$f":"COUNTIF($J$4:$J$153,\"BOC\")","v":0},{"$f":"COUNTIF($J$4:$J$153,\"GOC\")","v":0},{"$f":"SUM(B159:C159)","v":0},null,{"$f":"COUNTIF(K4:K153,\"BY\")","v":0},{"$f":"COUNTIF(K4:K153,\"GY\")","v":0}]
[]
["TOTAL",{"$f":"SUM(B156:B160)","v":0},{"$f":"SUM(C156:C160)","v":0},{"$f":"SUM(B161:C161)","v":0}]

{"sheet":"VIIITM","index":6,"n_rows":161,"n_cols":11,"rows_kept":161,"cut":false,"hidden":false,"merged":[[0,0,0,6],[1,0,1,1]]}
[{"$f":"A2 &\"-\"& ACADEMICYEAR","v":"VIIITM-2019-20"}]
[{"$f":"RIGHT(CELL(\"filename\",C3),LEN(CELL(\"filename\",C3))-FIND(\"]\",CELL(\"filename\",C3)))","v":"VIIITM"}]
["RNO","ADMN NO","NAME OF THE STUDENT","FATHER'S NAME","CASTE","DOB","DOA","SEX","MUSLIM"]
[{"$f":"ROW()-3","v":1},null,null,null,null,null,null,null,null,{"$f":"TRIM(H4&E4)","v":""},{"$f":"H4&I4","v":""}]
[{"$f":"ROW()-3","v":2},null,null,null,null,null,null,null,null,"",""]
[3,null,null,null,null,null,null,null,null,"",""]
[4,null,null,null,null,null,null,null,null,"",""]
[5,null,null,null,null,null,null,null,null,"",""]
[6,null,null,null,null,null,null,null,null,"",""]
[7,null,null,null,null,null,null,null,null,"",""]
[8,null,null,null,null,null,null,null,null,"",""]
[9,null,null,null,null,null,null,null,null,"",""]
[10,null,null,null,null,null,null,null,null,"",""]
[11,null,null,null,null,null,null,null,null,"",""]
[12,null,null,null,null,null,null,null,null,"",""]
[13,null,null,null,null,null,null,null,null,"",""]
[14,null,null,null,null,null,null,null,null,"",""]
[15,null,null,null,null,null,null,null,null,"",""]
[16,null,null,null,null,null,null,null,null,"",""]
[17,null,null,null,null,null,null,null,null,"",""]
[18,null,null,null,null,null,null,null,null,"",""]
[19,null,null,null,null,null,null,null,null,"",""]
[20,null,null,null,null,null,null,null,null,"",""]
[21,null,null,null,null,null,null,null,null,"",""]
[22,null,null,null,null,null,null,null,null,"",""]
[23,null,null,null,null,null,null,null,null,"",""]
[24,null,null,null,null,null,null,null,null,"",""]
[25,null,null,null,null,null,null,null,null,"",""]
[26,null,null,null,null,null,null,null,null,"",""]
[27,null,null,null,null,null,null,null,null,"",""]
[28,null,null,null,null,null,null,null,null,"",""]
[29,null,null,null,null,null,null,null,null,"",""]
[30,null,null,null,null,null,null,null,null,"",""]
[31,null,null,null,null,null,null,null,null,"",""]
[32,null,null,null,null,null,null,null,null,"",""]
[33,null,null,null,null,null,null,null,null,{"$f":"TRIM(H36&E36)","v":""},{"$f":"H36&I36","v":""}]
[34,null,null,null,null,null,null,null,null,"",""]
[35,null,null,null,null,null,null,null,null,"",""]
[36,null,null,null,null,null,null,null,null,"",""]
[37,null,null,null,null,null,null,null,null,"",""]
[38,null,null,null,null,null,null,null,null,"",""]
[39,null,null,null,null,null,null,null,null,"",""]
[40,null,null,null,null,null,null,null,null,"",""]
[41,null,null,null,null,null,null,null,null,"",""]
[42,null,null,null,null,null,null,null,null,"",""]
[43,null,null,null,null,null,null,null,null,"",""]
[44,null,null,null,null,null,null,null,null,"",""]
[45,null,null,null,null,null,null,null,null,"",""]
[46,null,null,null,null,null,null,null,null,"",""]
[47,null,null,null,null,null,null,null,null,"",""]
[48,null,null,null,null,null,null,null,null,"",""]
[49,null,null,null,null,null,null,null,null,"",""]
[50,null,null,null,null,null,null,null,null,"",""]
[51,null,null,null,null,null,null,null,null,"",""]
[52,null,null,null,null,null,null,null,null,"",""]
[53,null,null,null,null,null,null,null,null,"",""]
[54,null,null,null,null,null,null,null,null,"",""]
[55,null,null,null,null,null,null,null,null,"",""]
[56,null,null,null,null,null,null,null,null,"",""]
[57,null,null,null,null,null,null,null,null,"",""]
[58,null,null,null,null,null,null,null,null,"",""]
[59,null,null,null,null,null,null,null,null,"",""]
[60,null,null,null,null,null,null,null,null,"",""]
[61,null,null,null,null,null,null,null,null,"",""]
[62,null,null,null,null,null,null,null,null,"",""]
[63,null,null,null,null,null,null,null,null,"",""]
[64,null,null,null,null,null,null,null,null,"",""]
[65,null,null,null,null,null,null,null,null,{"$f":"TRIM(H68&E68)","v":""},{"$f":"H68&I68","v":""}]
[{"$f":"ROW()-3","v":66},null,null,null,null,null,null,null,null,"",""]
[67,null,null,null,null,null,null,null,null,"",""]
[68,null,null,null,null,null,null,null,null,"",""]
[69,null,null,null,null,null,null,null,null,"",""]
[70,null,null,null,null,null,null,null,null,"",""]
[71,null,null,null,null,null,null,null,null,"",""]
[72,null,null,null,null,null,null,null,null,"",""]
[73,null,null,null,null,null,null,null,null,"",""]
[74,null,null,null,null,null,null,null,null,"",""]
[75,null,null,null,null,null,null,null,null,"",""]
[76,null,null,null,null,null,null,null,null,"",""]
[77,null,null,null,null,null,null,null,null,{"$f":"TRIM(H80&E80)","v":""},{"$f":"H80&I80","v":""}]
[78,null,null,null,null,null,null,null,null,"",""]
[79,null,null,null,null,null,null,null,null,"",""]
[80,null,null,null,null,null,null,null,null,"",""]
[81,null,null,null,null,null,null,null,null,"",""]
[82,null,null,null,null,null,null,null,null,"",""]
[83,null,null,null,null,null,null,null,null,"",""]
[84,null,null,null,null,null,null,null,null,"",""]
[85,null,null,null,null,null,null,null,null,"",""]
[86,null,null,null,null,null,null,null,null,"",""]
[87,null,null,null,null,null,null,null,null,"",""]
[88,null,null,null,null,null,null,null,null,"",""]
[89,null,null,null,null,null,null,null,null,"",""]
[90,null,null,null,null,null,null,null,null,"",""]
[91,null,null,null,null,null,null,null,null,"",""]
[92,null,null,null,null,null,null,null,null,"",""]
[93,null,null,null,null,null,null,null,null,"",""]
[94,null,null,null,null,null,null,null,null,"",""]
[95,null,null,null,null,null,null,null,null,"",""]
[96,null,null,null,null,null,null,null,null,"",""]
[97,null,null,null,null,null,null,null,null,{"$f":"TRIM(H100&E100)","v":""},{"$f":"H100&I100","v":""}]
[98,null,null,null,null,null,null,null,null,"",""]
[99,null,null,null,null,null,null,null,null,"",""]
[100,null,null,null,null,null,null,null,null,"",""]
[101,null,null,null,null,null,null,null,null,"",""]
[102,null,null,null,null,null,null,null,null,"",""]
[103,null,null,null,null,null,null,null,null,"",""]
[104,null,null,null,null,null,null,null,null,"",""]
[105,null,null,null,null,null,null,null,null,"",""]
[106,null,null,null,null,null,null,null,null,"",""]
[107,null,null,null,null,null,null,null,null,{"$f":"TRIM(H110&E110)","v":""},{"$f":"H110&I110","v":""}]
[108,null,null,null,null,null,null,null,null,"",""]
[109,null,null,null,null,null,null,null,null,"",""]
[110,null,null,null,null,null,null,null,null,"",""]
[111,null,null,null,null,null,null,null,null,"",""]
[112,null,null,null,null,null,null,null,null,"",""]
[113,null,null,null,null,null,null,null,null,"",""]
[114,null,null,null,null,null,null,null,null,"",""]
[115,null,null,null,null,null,null,null,null,"",""]
[116,null,null,null,null,null,null,null,null,"",""]
[117,null,null,null,null,null,null,null,null,"",""]
[118,null,null,null,null,null,null,null,null,"",""]
[119,null,null,null,null,null,null,null,null,"",""]
[120,null,null,null,null,null,null,null,null,"",""]
[121,null,null,null,null,null,null,null,null,"",""]
[122,null,null,null,null,null,null,null,null,"",""]
[123,null,null,null,null,null,null,null,null,"",""]
[124,null,null,null,null,null,null,null,null,"",""]
[125,null,null,null,null,null,null,null,null,"",""]
[126,null,null,null,null,null,null,null,null,"",""]
[127,null,null,null,null,null,null,null,null,"",""]
[128,null,null,null,null,null,null,null,null,"",""]
[129,null,null,null,null,null,null,null,null,"",""]
[{"$f":"ROW()-3","v":130},null,null,null,null,null,null,null,null,"",""]
[131,null,null,null,null,null,null,null,null,"",""]
[132,null,null,null,null,null,null,null,null,"",""]
[133,null,null,null,null,null,null,null,null,"",""]
[134,null,null,null,null,null,null,null,null,"",""]
[135,null,null,null,null,null,null,null,null,"",""]
[136,null,null,null,null,null,null,null,null,"",""]
[137,null,null,null,null,null,null,null,null,"",""]
[138,null,null,null,null,null,null,null,null,"",""]
[139,null,null,null,null,null,null,null,null,"",""]
[140,null,null,null,null,null,null,null,null,"",""]
[141,null,null,null,null,null,null,null,null,"",""]
[142,null,null,null,null,null,null,null,null,"",""]
[143,null,null,null,null,null,null,null,null,"",""]
[144,null,null,null,null,null,null,null,null,"",""]
[145,null,null,null,null,null,null,null,null,"",""]
[146,null,null,null,null,null,null,null,null,"",""]
[147,null,null,null,null,null,null,null,null,"",""]
[148,null,null,null,null,null,null,null,null,"",""]
[149,null,null,null,null,null,null,null,null,"",""]
[150,null,null,null,null,null,null,null,null,"",""]
[]
[null,"BOYS","GIRLS","TOTAL"]
["SC",{"$f":"COUNTIF($J$4:$J$153,\"BSC\")","v":0},{"$f":"COUNTIF($J$4:$J$153,\"GSC\")","v":0},{"$f":"SUM(B156:C156)","v":0}]
["ST",{"$f":"COUNTIF($J$4:$J$153,\"BST\")","v":0},{"$f":"COUNTIF($J$4:$J$153,\"GST\")","v":0},{"$f":"SUM(B157:C157)","v":0}]
["BC",{"$f":"COUNTIF($J$4:$J$153,\"BBC\")","v":0},{"$f":"COUNTIF($J$4:$J$153,\"GBC\")","v":0},{"$f":"SUM(B158:C158)","v":0},null,"MIN BOY","MIN GIRL"]
["OC",{"$f":"COUNTIF($J$4:$J$153,\"BOC\")","v":0},{"$f":"COUNTIF($J$4:$J$153,\"GOC\")","v":0},{"$f":"SUM(B159:C159)","v":0},null,{"$f":"COUNTIF(K4:K153,\"BY\")","v":0},{"$f":"COUNTIF(K4:K153,\"GY\")","v":0}]
[]
["TOTAL",{"$f":"SUM(B156:B160)","v":0},{"$f":"SUM(C156:C160)","v":0},{"$f":"SUM(B161:C161)","v":0}]

{"sheet":"IXTM","index":7,"n_rows":160,"n_cols":11,"rows_kept":160,"cut":false,"hidden":false,"merged":[[0,0,0,6],[1,0,1,1]]}
[{"$f":"A2 &\"-\"& ACADEMICYEAR","v":"IXTM-2019-20"}]
[{"$f":"RIGHT(CELL(\"filename\",C2),LEN(CELL(\"filename\",C2))-FIND(\"]\",CELL(\"filename\",C2)))","v":"IXTM"}]
["RNO","ADMN NO","NAME OF THE STUDENT","FATHER'S NAME","CASTE","DOB","DOA","SEX","MUSLIM"]
[{"$f":"ROW()-3","v":1},null,null,null,null,null,null,null,null,{"$f":"H4&E4","v":""},{"$f":"H4&I4","v":""}]
[{"$f":"ROW()-3","v":2},null,null,null,null,null,null,null,null,"",""]
[3,null,null,null,null,null,null,null,null,"",""]
[4,null,null,null,null,null,null,null,null,"",""]
[5,null,null,null,null,null,null,null,null,"",""]
[6,null,null,null,null,null,null,null,null,"",""]
[7,null,null,null,null,null,null,null,null,"",""]
[8,null,null,null,null,null,null,null,null,"",""]
[9,null,null,null,null,null,null,null,null,"",""]
[10,null,null,null,null,null,null,null,null,"",""]
[11,null,null,null,null,null,null,null,null,"",""]
[12,null,null,null,null,null,null,null,null,"",""]
[13,null,null,null,null,null,null,null,null,"",""]
[14,null,null,null,null,null,null,null,null,"",""]
[15,null,null,null,null,null,null,null,null,"",""]
[16,null,null,null,null,null,null,null,null,"",""]
[17,null,null,null,null,null,null,null,null,"",""]
[18,null,null,null,null,null,null,null,null,"",""]
[19,null,null,null,null,null,null,null,null,"",""]
[20,null,null,null,null,null,null,null,null,"",""]
[21,null,null,null,null,null,null,null,null,"",""]
[22,null,null,null,null,null,null,null,null,"",""]
[23,null,null,null,null,null,null,null,null,"",""]
[24,null,null,null,null,null,null,null,null,"",""]
[25,null,null,null,null,null,null,null,null,"",""]
[26,null,null,null,null,null,null,null,null,"",""]
[27,null,null,null,null,null,null,null,null,"",""]
[28,null,null,null,null,null,null,null,null,"",""]
[29,null,null,null,null,null,null,null,null,"",""]
[30,null,null,null,null,null,null,null,null,"",""]
[31,null,null,null,null,null,null,null,null,"",""]
[32,null,null,null,null,null,null,null,null,"",""]
[33,null,null,null,null,null,null,null,null,{"$f":"H36&E36","v":""},{"$f":"H36&I36","v":""}]
[34,null,null,null,null,null,null,null,null,"",""]
[35,null,null,null,null,null,null,null,null,"",""]
[36,null,null,null,null,null,null,null,null,"",""]
[37,null,null,null,null,null,null,null,null,"",""]
[38,null,null,null,null,null,null,null,null,"",""]
[39,null,null,null,null,null,null,null,null,"",""]
[40,null,null,null,null,null,null,null,null,"",""]
[41,null,null,null,null,null,null,null,null,"",""]
[42,null,null,null,null,null,null,null,null,"",""]
[43,null,null,null,null,null,null,null,null,"",""]
[44,null,null,null,null,null,null,null,null,"",""]
[45,null,null,null,null,null,null,null,null,"",""]
[46,null,null,null,null,null,null,null,null,"",""]
[47,null,null,null,null,null,null,null,null,"",""]
[48,null,null,null,null,null,null,null,null,"",""]
[49,null,null,null,null,null,null,null,null,"",""]
[50,null,null,null,null,null,null,null,null,"",""]
[51,null,null,null,null,null,null,null,null,"",""]
[52,null,null,null,null,null,null,null,null,"",""]
[53,null,null,null,null,null,null,null,null,"",""]
[54,null,null,null,null,null,null,null,null,"",""]
[55,null,null,null,null,null,null,null,null,"",""]
[56,null,null,null,null,null,null,null,null,"",""]
[57,null,null,null,null,null,null,null,null,"",""]
[58,null,null,null,null,null,null,null,null,"",""]
[59,null,null,null,null,null,null,null,null,"",""]
[60,null,null,null,null,null,null,null,null,"",""]
[61,null,null,null,null,null,null,null,null,"",""]
[62,null,null,null,null,null,null,null,null,"",""]
[63,null,null,null,null,null,null,null,null,"",""]
[64,null,null,null,null,null,null,null,null,"",""]
[65,null,null,null,null,null,null,null,null,{"$f":"H68&E68","v":""},{"$f":"H68&I68","v":""}]
[{"$f":"ROW()-3","v":66},null,null,null,null,null,null,null,null,"",""]
[67,null,null,null,null,null,null,null,null,"",""]
[68,null,null,null,null,null,null,null,null,"",""]
[69,null,null,null,null,null,null,null,null,"",""]
[70,null,null,null,null,null,null,null,null,"",""]
[71,null,null,null,null,null,null,null,null,"",""]
[72,null,null,null,null,null,null,null,null,"",""]
[73,null,null,null,null,null,null,null,null,"",""]
[74,null,null,null,null,null,null,null,null,"",""]
[75,null,null,null,null,null,null,null,null,"",""]
[76,null,null,null,null,null,null,null,null,"",""]
[77,null,null,null,null,null,null,null,null,"",""]
[78,null,null,null,null,null,null,null,null,"",""]
[79,null,null,null,null,null,null,null,null,"",""]
[80,null,null,null,null,null,null,null,null,"",""]
[81,null,null,null,null,null,null,null,null,"",""]
[82,null,null,null,null,null,null,null,null,"",""]
[83,null,null,null,null,null,null,null,null,"",""]
[84,null,null,null,null,null,null,null,null,"",""]
[85,null,null,null,null,null,null,null,null,"",""]
[86,null,null,null,null,null,null,null,null,"",""]
[87,null,null,null,null,null,null,null,null,"",""]
[88,null,null,null,null,null,null,null,null,"",""]
[89,null,null,null,null,null,null,null,null,"",""]
[90,null,null,null,null,null,null,null,null,"",""]
[91,null,null,null,null,null,null,null,null,"",""]
[92,null,null,null,null,null,null,null,null,"",""]
[93,null,null,null,null,null,null,null,null,"",""]
[94,null,null,null,null,null,null,null,null,"",""]
[95,null,null,null,null,null,null,null,null,"",""]
[96,null,null,null,null,null,null,null,null,"",""]
[97,null,null,null,null,null,null,null,null,{"$f":"H100&E100","v":""},{"$f":"H100&I100","v":""}]
[98,null,null,null,null,null,null,null,null,"",""]
[99,null,null,null,null,null,null,null,null,"",""]
[100,null,null,null,null,null,null,null,null,"",""]
[101,null,null,null,null,null,null,null,null,"",""]
[102,null,null,null,null,null,null,null,null,"",""]
[103,null,null,null,null,null,null,null,null,"",""]
[104,null,null,null,null,null,null,null,null,"",""]
[105,null,null,null,null,null,null,null,null,"",""]
[106,null,null,null,null,null,null,null,null,"",""]
[107,null,null,null,null,null,null,null,null,"",""]
[108,null,null,null,null,null,null,null,null,"",""]
[109,null,null,null,null,null,null,null,null,"",""]
[110,null,null,null,null,null,null,null,null,"",""]
[111,null,null,null,null,null,null,null,null,"",""]
[112,null,null,null,null,null,null,null,null,"",""]
[113,null,null,null,null,null,null,null,null,"",""]
[114,null,null,null,null,null,null,null,null,"",""]
[115,null,null,null,null,null,null,null,null,"",""]
[116,null,null,null,null,null,null,null,null,"",""]
[117,null,null,null,null,null,null,null,null,"",""]
[118,null,null,null,null,null,null,null,null,"",""]
[119,null,null,null,null,null,null,null,null,"",""]
[120,null,null,null,null,null,null,null,null,"",""]
[121,null,null,null,null,null,null,null,null,"",""]
[122,null,null,null,null,null,null,null,null,"",""]
[123,null,null,null,null,null,null,null,null,"",""]
[124,null,null,null,null,null,null,null,null,"",""]
[125,null,null,null,null,null,null,null,null,"",""]
[126,null,null,null,null,null,null,null,null,"",""]
[127,null,null,null,null,null,null,null,null,"",""]
[128,null,null,null,null,null,null,null,null,"",""]
[129,null,null,null,null,null,null,null,null,{"$f":"H132&E132","v":""},{"$f":"H132&I132","v":""}]
[{"$f":"ROW()-3","v":130},null,null,null,null,null,null,null,null,"",""]
[131,null,null,null,null,null,null,null,null,"",""]
[132,null,null,null,null,null,null,null,null,"",""]
[133,null,null,null,null,null,null,null,null,"",""]
[134,null,null,null,null,null,null,null,null,"",""]
[135,null,null,null,null,null,null,null,null,"",""]
[136,null,null,null,null,null,null,null,null,"",""]
[137,null,null,null,null,null,null,null,null,"",""]
[138,null,null,null,null,null,null,null,null,"",""]
[139,null,null,null,null,null,null,null,null,"",""]
[140,null,null,null,null,null,null,null,null,"",""]
[141,null,null,null,null,null,null,null,null,"",""]
[142,null,null,null,null,null,null,null,null,"",""]
[143,null,null,null,null,null,null,null,null,"",""]
[144,null,null,null,null,null,null,null,null,"",""]
[145,null,null,null,null,null,null,null,null,"",""]
[146,null,null,null,null,null,null,null,null,"",""]
[147,null,null,null,null,null,null,null,null,"",""]
[148,null,null,null,null,null,null,null,null,"",""]
[149,null,null,null,null,null,null,null,null,"",""]
[150,null,null,null,null,null,null,null,null,"",""]
[]
[null,"BOYS","GIRLS","TOTAL",null,null,null,null,null,null,{"$f":"H155&I155","v":""}]
["SC",{"$f":"COUNTIF($J$4:$J$153,\"BSC\")","v":0},{"$f":"COUNTIF($J$4:$J$153,\"GSC\")","v":0},{"$f":"SUM(B156:C156)","v":0}]
["ST",{"$f":"COUNTIF($J$4:$J$153,\"BST\")","v":0},{"$f":"COUNTIF($J$4:$J$153,\"GST\")","v":0},{"$f":"SUM(B157:C157)","v":0},null,null,null,null,null,null,{"$f":"H157&I157","v":""}]
["BC",{"$f":"COUNTIF($J$4:$K$153,\"BBC\")","v":0},{"$f":"COUNTIF($J$4:$J$153,\"GBC\")","v":0},{"$f":"SUM(B158:C158)","v":0},null,"MIN BOY","MIN GIRL",null,null,null,{"$f":"H158&I158","v":""}]
["OC",{"$f":"COUNTIF($J$4:$J$153,\"BOC\")","v":0},{"$f":"COUNTIF($J$4:$J$153,\"GOC\")","v":0},{"$f":"SUM(B159:C159)","v":0},null,{"$f":"COUNTIF(K4:K153,\"BY\")","v":0},{"$f":"COUNTIF(K4:K153,\"GY\")","v":0},null,null,null,{"$f":"H159&I159","v":""}]
["TOTAL",{"$f":"SUM(B156:B159)","v":0},{"$f":"SUM(C156:C159)","v":0},{"$f":"SUM(D156:D159)","v":0},null,null,null,null,null,null,{"$f":"H160&I160","v":""}]

{"sheet":"XTM","index":8,"n_rows":161,"n_cols":11,"rows_kept":161,"cut":false,"hidden":false,"merged":[[0,0,0,6],[1,0,1,1]]}
[{"$f":"A2 &\"-\"& ACADEMICYEAR","v":"XTM-2019-20"}]
[{"$f":"RIGHT(CELL(\"filename\",C1),LEN(CELL(\"filename\",C1))-FIND(\"]\",CELL(\"filename\",C1)))","v":"XTM"}]
["RNO","ADMN NO","NAME OF THE STUDENT","FATHER'S NAME","CASTE","DOB","DOA","SEX","MUSLIM"]
[{"$f":"ROW()-3","v":1},null,null,null,null,null,null,null,null,{"$f":"H4&E4","v":""},{"$f":"H4&I4","v":""}]
[{"$f":"ROW()-3","v":2},null,null,null,null,null,null,null,null,"",""]
[3,null,null,null,null,null,null,null,null,"",""]
[4,null,null,null,null,null,null,null,null,"",""]
[5,null,null,null,null,null,null,null,null,"",""]
[6,null,null,null,null,null,null,null,null,"",""]
[7,null,null,null,null,null,null,null,null,"",""]
[8,null,null,null,null,null,null,null,null,"",""]
[9,null,null,null,null,null,null,null,null,"",""]
[10,null,null,null,null,null,null,null,null,"",""]
[11,null,null,null,null,null,null,null,null,"",""]
[12,null,null,null,null,null,null,null,null,"",""]
[13,null,null,null,null,null,null,null,null,"",""]
[14,null,null,null,null,null,null,null,null,"",""]
[15,null,null,null,null,null,null,null,null,"",""]
[16,null,null,null,null,null,null,null,null,"",""]
[17,null,null,null,null,null,null,null,null,"",""]
[18,null,null,null,null,null,null,null,null,"",""]
[19,null,null,null,null,null,null,null,null,"",""]
[20,null,null,null,null,null,null,null,null,"",""]
[21,null,null,null,null,null,null,null,null,"",""]
[22,null,null,null,null,null,null,null,null,"",""]
[23,null,null,null,null,null,null,null,null,"",""]
[24,null,null,null,null,null,null,null,null,"",""]
[25,null,null,null,null,null,null,null,null,"",""]
[26,null,null,null,null,null,null,null,null,"",""]
[27,null,null,null,null,null,null,null,null,"",""]
[28,null,null,null,null,null,null,null,null,"",""]
[29,null,null,null,null,null,null,null,null,"",""]
[30,null,null,null,null,null,null,null,null,"",""]
[31,null,null,null,null,null,null,null,null,"",""]
[32,null,null,null,null,null,null,null,null,"",""]
[33,null,null,null,null,null,null,null,null,{"$f":"H36&E36","v":""},{"$f":"H36&I36","v":""}]
[34,null,null,null,null,null,null,null,null,"",""]
[35,null,null,null,null,null,null,null,null,"",""]
[36,null,null,null,null,null,null,null,null,"",""]
[37,null,null,null,null,null,null,null,null,"",""]
[38,null,null,null,null,null,null,null,null,"",""]
[39,null,null,null,null,null,null,null,null,"",""]
[40,null,null,null,null,null,null,null,null,"",""]
[41,null,null,null,null,null,null,null,null,"",""]
[42,null,null,null,null,null,null,null,null,"",""]
[43,null,null,null,null,null,null,null,null,"",""]
[44,null,null,null,null,null,null,null,null,"",""]
[45,null,null,null,null,null,null,null,null,"",""]
[46,null,null,null,null,null,null,null,null,"",""]
[47,null,null,null,null,null,null,null,null,"",""]
[48,null,null,null,null,null,null,null,null,"",""]
[49,null,null,null,null,null,null,null,null,"",""]
[50,null,null,null,null,null,null,null,null,{"$f":"H53&E53","v":""},{"$f":"H53&I53","v":""}]
[51,null,null,null,null,null,null,null,null,"",""]
[52,null,null,null,null,null,null,null,null,"",""]
[53,null,null,null,null,null,null,null,null,"",""]
[54,null,null,null,null,null,null,null,null,"",""]
[55,null,null,null,null,null,null,null,null,"",""]
[56,null,null,null,null,null,null,null,null,"",""]
[57,null,null,null,null,null,null,null,null,"",""]
[58,null,null,null,null,null,null,null,null,"",""]
[59,null,null,null,null,null,null,null,null,"",""]
[60,null,null,null,null,null,null,null,null,"",""]
[61,null,null,null,null,null,null,null,null,"",""]
[62,null,null,null,null,null,null,null,null,"",""]
[63,null,null,null,null,null,null,null,null,"",""]
[64,null,null,null,null,null,null,null,null,"",""]
[65,null,null,null,null,null,null,null,null,"",""]
[{"$f":"ROW()-3","v":66},null,null,null,null,null,null,null,null,"",""]
[67,null,null,null,null,null,null,null,null,"",""]
[68,null,null,null,null,null,null,null,null,"",""]
[69,null,null,null,null,null,null,null,null,"",""]
[70,null,null,null,null,null,null,null,null,"",""]
[71,null,null,null,null,null,null,null,null,"",""]
[72,null,null,null,null,null,null,null,null,"",""]
[73,null,null,null,null,null,null,null,null,"",""]
[74,null,null,null,null,null,null,null,null,"",""]
[75,null,null,null,null,null,null,null,null,"",""]
[76,null,null,null,null,null,null,null,null,"",""]
[77,null,null,null,null,null,null,null,null,"",""]
[78,null,null,null,null,null,null,null,null,"",""]
[79,null,null,null,null,null,null,null,null,"",""]
[80,null,null,null,null,null,null,null,null,"",""]
[81,null,null,null,null,null,null,null,null,"",""]
[82,null,null,null,null,null,null,null,null,"",""]
[83,null,null,null,null,null,null,null,null,"",""]
[84,null,null,null,null,null,null,null,null,"",""]
[85,null,null,null,null,null,null,null,null,"",""]
[86,null,null,null,null,null,null,null,null,"",""]
[87,null,null,null,null,null,null,null,null,"",""]
[88,null,null,null,null,null,null,null,null,"",""]
[89,null,null,null,null,null,null,null,null,"",""]
[90,null,null,null,null,null,null,null,null,"",""]
[91,null,null,null,null,null,null,null,null,"",""]
[92,null,null,null,null,null,null,null,null,"",""]
[93,null,null,null,null,null,null,null,null,"",""]
[94,null,null,null,null,null,null,null,null,"",""]
[95,null,null,null,null,null,null,null,null,"",""]
[96,null,null,null,null,null,null,null,null,"",""]
[97,null,null,null,null,null,null,null,null,"",""]
[98,null,null,null,null,null,null,null,null,"",""]
[99,null,null,null,null,null,null,null,null,"",""]
[100,null,null,null,null,null,null,null,null,"",""]
[101,null,null,null,null,null,null,null,null,"",""]
[102,null,null,null,null,null,null,null,null,"",""]
[103,null,null,null,null,null,null,null,null,"",""]
[104,null,null,null,null,null,null,null,null,"",""]
[105,null,null,null,null,null,null,null,null,"",""]
[106,null,null,null,null,null,null,null,null,"",""]
[107,null,null,null,null,null,null,null,null,"",""]
[108,null,null,null,null,null,null,null,null,"",""]
[109,null,null,null,null,null,null,null,null,"",""]
[110,null,null,null,null,null,null,null,null,"",""]
[111,null,null,null,null,null,null,null,null,"",""]
[112,null,null,null,null,null,null,null,null,"",""]
[113,null,null,null,null,null,null,null,null,"",""]
[114,null,null,null,null,null,null,null,null,{"$f":"H117&E117","v":""},{"$f":"H117&I117","v":""}]
[115,null,null,null,null,null,null,null,null,"",""]
[116,null,null,null,null,null,null,null,null,"",""]
[117,null,null,null,null,null,null,null,null,"",""]
[118,null,null,null,null,null,null,null,null,"",""]
[119,null,null,null,null,null,null,null,null,"",""]
[120,null,null,null,null,null,null,null,null,"",""]
[121,null,null,null,null,null,null,null,null,"",""]
[122,null,null,null,null,null,null,null,null,"",""]
[123,null,null,null,null,null,null,null,null,"",""]
[124,null,null,null,null,null,null,null,null,"",""]
[125,null,null,null,null,null,null,null,null,"",""]
[126,null,null,null,null,null,null,null,null,"",""]
[127,null,null,null,null,null,null,null,null,"",""]
[128,null,null,null,null,null,null,null,null,"",""]
[129,null,null,null,null,null,null,null,null,"",""]
[{"$f":"ROW()-3","v":130},null,null,null,null,null,null,null,null,"",""]
[131,null,null,null,null,null,null,null,null,"",""]
[132,null,null,null,null,null,null,null,null,"",""]
[133,null,null,null,null,null,null,null,null,"",""]
[134,null,null,null,null,null,null,null,null,"",""]
[135,null,null,null,null,null,null,null,null,"",""]
[136,null,null,null,null,null,null,null,null,"",""]
[137,null,null,null,null,null,null,null,null,"",""]
[138,null,null,null,null,null,null,null,null,"",""]
[139,null,null,null,null,null,null,null,null,"",""]
[140,null,null,null,null,null,null,null,null,"",""]
[141,null,null,null,null,null,null,null,null,"",""]
[142,null,null,null,null,null,null,null,null,"",""]
[143,null,null,null,null,null,null,null,null,"",""]
[144,null,null,null,null,null,null,null,null,"",""]
[145,null,null,null,null,null,null,null,null,"",""]
[146,null,null,null,null,null,null,null,null,"",""]
[147,null,null,null,null,null,null,null,null,"",""]
[148,null,null,null,null,null,null,null,null,"",""]
[149,null,null,null,null,null,null,null,null,"",""]
[150,null,null,null,null,null,null,null,null,"",""]
[null,null,null,null,null,null,null,null,null,"",""]
[]
["SC",null,null,null,null,null,null,null,null,null,{"$f":"H156&I156","v":""}]
["ST",null,null,null,null,null,null,null,null,null,""]
["BC",null,null,null,null,null,null,null,null,null,""]
["OC",null,null,null,null,null,null,null,null,null,""]
["TOTAL",null,null,null,null,null,null,null,null,null,""]
[null,null,null,null,null,null,null,null,null,null,""]

{"sheet":"VIEM","index":9,"n_rows":162,"n_cols":15,"rows_kept":162,"cut":false,"hidden":false,"merged":[[0,0,0,6],[1,0,1,1]]}
[{"$f":"A2 &\"-\"& ACADEMICYEAR","v":"VIEM-2019-20"}]
[{"$f":"RIGHT(CELL(\"filename\",C2),LEN(CELL(\"filename\",C2))-FIND(\"]\",CELL(\"filename\",C2)))","v":"VIEM"}]
["RNO","ADMN NO","NAME OF THE STUDENT","FATHER'S NAME","CASTE","DOB","DOA","SEX","MUSLIM"]
[{"$f":"ROW()-3","v":1},null,null,null,null,null,null,null,null,{"$f":"H4&E4","v":""},{"$f":"H4&I4","v":""}]
[{"$f":"ROW()-3","v":2},null,null,null,null,null,null,null,null,"",""]
[3,null,null,null,null,null,null,null,null,"",""]
[4,null,null,null,null,null,null,null,null,"","",null,null,null,{"$f":"RIGHT(CELL(\"filename\",D2),LEN(CELL(\"filename\",D2))-FIND(\"]\",CELL(\"filename\",D2)))","v":"VIEM"}]
[5,null,null,null,null,null,null,null,null,"",""]
[6,null,null,null,null,null,null,null,null,"",""]
[7,null,null,null,null,null,null,null,null,"",""]
[8,null,null,null,null,null,null,null,null,"",""]
[9,null,null,null,null,null,null,null,null,"",""]
[10,null,null,null,null,null,null,null,null,"",""]
[11,null,null,null,null,null,null,null,null,"",""]
[12,null,null,null,null,null,null,null,null,"",""]
[13,null,null,null,null,null,null,null,null,"",""]
[14,null,null,null,null,null,null,null,null,"",""]
[15,null,null,null,null,null,null,null,null,"",""]
[16,null,null,null,null,null,null,null,null,"",""]
[17,null,null,null,null,null,null,null,null,"",""]
[18,null,null,null,null,null,null,null,null,"",""]
[19,null,null,null,null,null,null,null,null,"",""]
[20,null,null,null,null,null,null,null,null,"",""]
[21,null,null,null,null,null,null,null,null,"",""]
[22,null,null,null,null,null,null,null,null,"",""]
[23,null,null,null,null,null,null,null,null,"",""]
[24,null,null,null,null,null,null,null,null,"",""]
[25,null,null,null,null,null,null,null,null,"",""]
[26,null,null,null,null,null,null,null,null,"",""]
[27,null,null,null,null,null,null,null,null,"",""]
[28,null,null,null,null,null,null,null,null,"",""]
[29,null,null,null,null,null,null,null,null,"",""]
[30,null,null,null,null,null,null,null,null,"",""]
[31,null,null,null,null,null,null,null,null,"",""]
[32,null,null,null,null,null,null,null,null,"",""]
[33,null,null,null,null,null,null,null,null,{"$f":"H36&E36","v":""},{"$f":"H36&I36","v":""}]
[34,null,null,null,null,null,null,null,null,"",""]
[35,null,null,null,null,null,null,null,null,"",""]
[36,null,null,null,null,null,null,null,null,"",""]
[37,null,null,null,null,null,null,null,null,"",""]
[38,null,null,null,null,null,null,null,null,"",""]
[39,null,null,null,null,null,null,null,null,"",""]
[40,null,null,null,null,null,null,null,null,"",""]
[41,null,null,null,null,null,null,null,null,"",""]
[42,null,null,null,null,null,null,null,null,"",""]
[43,null,null,null,null,null,null,null,null,"",""]
[44,null,null,null,null,null,null,null,null,"",""]
[45,null,null,null,null,null,null,null,null,"",""]
[46,null,null,null,null,null,null,null,null,"",""]
[47,null,null,null,null,null,null,null,null,"",""]
[48,null,null,null,null,null,null,null,null,"",""]
[49,null,null,null,null,null,null,null,null,"",""]
[50,null,null,null,null,null,null,null,null,"",""]
[51,null,null,null,null,null,null,null,null,"",""]
[52,null,null,null,null,null,null,null,null,"",""]
[53,null,null,null,null,null,null,null,null,"",""]
[54,null,null,null,null,null,null,null,null,"",""]
[55,null,null,null,null,null,null,null,null,"",""]
[56,null,null,null,null,null,null,null,null,"",""]
[57,null,null,null,null,null,null,null,null,"",""]
[58,null,null,null,null,null,null,null,null,"",""]
[59,null,null,null,null,null,null,null,null,"",""]
[60,null,null,null,null,null,null,null,null,"",""]
[61,null,null,null,null,null,null,null,null,"",""]
[62,null,null,null,null,null,null,null,null,"",""]
[63,null,null,null,null,null,null,null,null,"",""]
[64,null,null,null,null,null,null,null,null,"",""]
[65,null,null,null,null,null,null,null,null,{"$f":"H68&E68","v":""},{"$f":"H68&I68","v":""}]
[{"$f":"ROW()-3","v":66},null,null,null,null,null,null,null,null,"",""]
[67,null,null,null,null,null,null,null,null,"",""]
[68,null,null,null,null,null,null,null,null,"",""]
[69,null,null,null,null,null,null,null,null,"",""]
[70,null,null,null,null,null,null,null,null,"",""]
[71,null,null,null,null,null,null,null,null,"",""]
[72,null,null,null,null,null,null,null,null,"",""]
[73,null,null,null,null,null,null,null,null,"",""]
[74,null,null,null,null,null,null,null,null,"",""]
[75,null,null,null,null,null,null,null,null,"",""]
[76,null,null,null,null,null,null,null,null,"",""]
[77,null,null,null,null,null,null,null,null,"",""]
[78,null,null,null,null,null,null,null,null,"",""]
[79,null,null,null,null,null,null,null,null,"",""]
[80,null,null,null,null,null,null,null,null,"",""]
[81,null,null,null,null,null,null,null,null,"",""]
[82,null,null,null,null,null,null,null,null,"",""]
[83,null,null,null,null,null,null,null,null,"",""]
[84,null,null,null,null,null,null,null,null,"",""]
[85,null,null,null,null,null,null,null,null,"",""]
[86,null,null,null,null,null,null,null,null,"",""]
[87,null,null,null,null,null,null,null,null,"",""]
[88,null,null,null,null,null,null,null,null,"",""]
[89,null,null,null,null,null,null,null,null,"",""]
[90,null,null,null,null,null,null,null,null,"",""]
[91,null,null,null,null,null,null,null,null,"",""]
[92,null,null,null,null,null,null,null,null,"",""]
[93,null,null,null,null,null,null,null,null,"",""]
[94,null,null,null,null,null,null,null,null,"",""]
[95,null,null,null,null,null,null,null,null,{"$f":"H98&E98","v":""},{"$f":"H98&I98","v":""}]
[96,null,null,null,null,null,null,null,null,"",""]
[97,null,null,null,null,null,null,null,null,"",""]
[98,null,null,null,null,null,null,null,null,"",""]
[99,null,null,null,null,null,null,null,null,"",""]
[100,null,null,null,null,null,null,null,null,"",""]
[101,null,null,null,null,null,null,null,null,"",""]
[102,null,null,null,null,null,null,null,null,"",""]
[103,null,null,null,null,null,null,null,null,"",""]
[104,null,null,null,null,null,null,null,null,"",""]
[105,null,null,null,null,null,null,null,null,"",""]
[106,null,null,null,null,null,null,null,null,"",""]
[107,null,null,null,null,null,null,null,null,"",""]
[108,null,null,null,null,null,null,null,null,"",""]
[109,null,null,null,null,null,null,null,null,"",""]
[110,null,null,null,null,null,null,null,null,"",""]
[111,null,null,null,null,null,null,null,null,"",""]
[112,null,null,null,null,null,null,null,null,"",""]
[113,null,null,null,null,null,null,null,null,"",""]
[114,null,null,null,null,null,null,null,null,"",""]
[115,null,null,null,null,null,null,null,null,"",""]
[116,null,null,null,null,null,null,null,null,"",""]
[117,null,null,null,null,null,null,null,null,"",""]
[118,null,null,null,null,null,null,null,null,"",""]
[119,null,null,null,null,null,null,null,null,"",""]
[120,null,null,null,null,null,null,null,null,"",""]
[121,null,null,null,null,null,null,null,null,"",""]
[122,null,null,null,null,null,null,null,null,"",""]
[123,null,null,null,null,null,null,null,null,"",""]
[124,null,null,null,null,null,null,null,null,"",""]
[125,null,null,null,null,null,null,null,null,"",""]
[126,null,null,null,null,null,null,null,null,"",""]
[127,null,null,null,null,null,null,null,null,"",""]
[128,null,null,null,null,null,null,null,null,"",""]
[129,null,null,null,null,null,null,null,null,"",""]
[{"$f":"ROW()-3","v":130},null,null,null,null,null,null,null,null,"",""]
[131,null,null,null,null,null,null,null,null,"",""]
[132,null,null,null,null,null,null,null,null,"",""]
[133,null,null,null,null,null,null,null,null,"",""]
[134,null,null,null,null,null,null,null,null,"",""]
[135,null,null,null,null,null,null,null,null,"",""]
[136,null,null,null,null,null,null,null,null,"",""]
[137,null,null,null,null,null,null,null,null,"",""]
[138,null,null,null,null,null,null,null,null,"",""]
[139,null,null,null,null,null,null,null,null,"",""]
[140,null,null,null,null,null,null,null,null,"",""]
[141,null,null,null,null,null,null,null,null,"",""]
[142,null,null,null,null,null,null,null,null,"",""]
[143,null,null,null,null,null,null,null,null,"",""]
[144,null,null,null,null,null,null,null,null,"",""]
[145,null,null,null,null,null,null,null,null,"",""]
[146,null,null,null,null,null,null,null,null,"",""]
[147,null,null,null,null,null,null,null,null,"",""]
[148,null,null,null,null,null,null,null,null,"",""]
[149,null,null,null,null,null,null,null,null,"",""]
[150,null,null,null,null,null,null,null,null,"",""]
[]
[null,"BOYS","GIRLS","TOTAL",null,null,null,null,null,null,{"$f":"H155&I155","v":""}]
["SC",{"$f":"COUNTIF($J$4:$J$153,\"BSC\")","v":0},{"$f":"COUNTIF($J$4:$J$153,\"GSC\")","v":0},{"$f":"SUM(B156:C156)","v":0},null,null,null,null,null,null,""]
["BC",{"$f":"COUNTIF($J$4:$J$153,\"BBC\")","v":0},{"$f":"COUNTIF($J$4:$J$153,\"GBC\")","v":0},{"$f":"SUM(B157:C157)","v":0},null,null,null,null,null,null,""]
["OC",{"$f":"COUNTIF($J$4:$J$153,\"BOC\")","v":0},{"$f":"COUNTIF($J$4:$J$153,\"GOC\")","v":0},{"$f":"SUM(B158:C158)","v":0},null,"MIN BOY","MIN GIRL",null,null,null,""]
["ST",{"$f":"COUNTIF($J$4:$J$153,\"BST\")","v":0},{"$f":"COUNTIF($J$4:$J$153,\"GST\")","v":0},{"$f":"SUM(B159:C159)","v":0},null,{"$f":"COUNTIF(K4:K155,\"BY\")","v":0},{"$f":"COUNTIF(K4:K155,\"GY\")","v":0},null,null,null,""]
["TOTAL",{"$f":"SUM(B156:B159)","v":0},{"$f":"SUM(C156:C159)","v":0},{"$f":"SUM(B160:C160)","v":0},null,null,null,null,null,null,""]
[null,null,null,null,null,null,null,null,null,null,""]
[null,null,null,null,null,null,null,null,null,null,""]

{"sheet":"VIIEM","index":10,"n_rows":167,"n_cols":14,"rows_kept":167,"cut":false,"hidden":false,"merged":[[0,0,0,6],[1,0,1,1]]}
[{"$f":"A2 &\"-\"& ACADEMICYEAR","v":"VIIEM-2019-20"}]
[{"$f":"RIGHT(CELL(\"filename\",C2),LEN(CELL(\"filename\",C2))-FIND(\"]\",CELL(\"filename\",C2)))","v":"VIIEM"}]
["RNO","ADMN NO","NAME OF THE STUDENT","FATHER'S NAME","CASTE","DOB","DOA","SEX","MUSLIM",null,null,null,null,"AGE"]
[{"$f":"ROW()-3","v":1},null,null,null,null,null,null,null,null,{"$f":"H4&E4","v":""},{"$f":"H4&I4","v":""},null,null,{"$f":"DATEDIF(F4,cutf,\"Y\")","v":{"$error":"#REF!"}}]
[{"$f":"ROW()-3","v":2},null,null,null,null,null,null,null,null,"","",null,null,{"$error":"#REF!"}]
[3,null,null,null,null,null,null,null,null,"","",null,null,{"$error":"#REF!"}]
[4,null,null,null,null,null,null,null,null,"","",null,null,{"$error":"#REF!"}]
[5,null,null,null,null,null,null,null,null,"","",null,null,{"$error":"#REF!"}]
[6,null,null,null,null,null,null,null,null,"","",null,null,{"$error":"#REF!"}]
[7,null,null,null,null,null,null,null,null,"","",null,null,{"$error":"#REF!"}]
[8,null,null,null,null,null,null,null,null,"","",null,null,{"$error":"#REF!"}]
[9,null,null,null,null,null,null,null,null,"","",null,null,{"$error":"#REF!"}]
[10,null,null,null,null,null,null,null,null,"","",null,null,{"$error":"#REF!"}]
[11,null,null,null,null,null,null,null,null,"","",null,null,{"$error":"#REF!"}]
[12,null,null,null,null,null,null,null,null,"","",null,null,{"$error":"#REF!"}]
[13,null,null,null,null,null,null,null,null,"","",null,null,{"$error":"#REF!"}]
[14,null,null,null,null,null,null,null,null,"","",null,null,{"$error":"#REF!"}]
[15,null,null,null,null,null,null,null,null,"","",null,null,{"$error":"#REF!"}]
[16,null,null,null,null,null,null,null,null,"","",null,null,{"$error":"#REF!"}]
[17,null,null,null,null,null,null,null,null,"","",null,null,{"$error":"#REF!"}]
[18,null,null,null,null,null,null,null,null,"","",null,null,{"$error":"#REF!"}]
[19,null,null,null,null,null,null,null,null,"","",null,null,{"$error":"#REF!"}]
[20,null,null,null,null,null,null,null,null,"","",null,null,{"$error":"#REF!"}]
[21,null,null,null,null,null,null,null,null,"","",null,null,{"$error":"#REF!"}]
[22,null,null,null,null,null,null,null,null,"","",null,null,{"$error":"#REF!"}]
[23,null,null,null,null,null,null,null,null,"","",null,null,{"$error":"#REF!"}]
[24,null,null,null,null,null,null,null,null,"","",null,null,{"$error":"#REF!"}]
[25,null,null,null,null,null,null,null,null,"","",null,null,{"$error":"#REF!"}]
[26,null,null,null,null,null,null,null,null,"","",null,null,{"$error":"#REF!"}]
[27,null,null,null,null,null,null,null,null,"","",null,null,{"$error":"#REF!"}]
[28,null,null,null,null,null,null,null,null,"","",null,null,{"$error":"#REF!"}]
[29,null,null,null,null,null,null,null,null,"","",null,null,{"$error":"#REF!"}]
[30,null,null,null,null,null,null,null,null,"","",null,null,{"$error":"#REF!"}]
[31,null,null,null,null,null,null,null,null,"","",null,null,{"$error":"#REF!"}]
[32,null,null,null,null,null,null,null,null,"","",null,null,{"$error":"#REF!"}]
[33,null,null,null,null,null,null,null,null,{"$f":"H36&E36","v":""},{"$f":"H36&I36","v":""},null,null,{"$f":"DATEDIF(F36,cutf,\"Y\")","v":{"$error":"#REF!"}}]
[34,null,null,null,null,null,null,null,null,"","",null,null,{"$error":"#REF!"}]
[35,null,null,null,null,null,null,null,null,"","",null,null,{"$error":"#REF!"}]
[36,null,null,null,null,null,null,null,null,"","",null,null,{"$error":"#REF!"}]
[37,null,null,null,null,null,null,null,null,"","",null,null,{"$error":"#REF!"}]
[38,null,null,null,null,null,null,null,null,"","",null,null,{"$error":"#REF!"}]
[39,null,null,null,null,null,null,null,null,"","",null,null,{"$error":"#REF!"}]
[40,null,null,null,null,null,null,null,null,"","",null,null,{"$error":"#REF!"}]
[41,null,null,null,null,null,null,null,null,"","",null,null,{"$error":"#REF!"}]
[42,null,null,null,null,null,null,null,null,"","",null,null,{"$error":"#REF!"}]
[43,null,null,null,null,null,null,null,null,"","",null,null,{"$error":"#REF!"}]
[44,null,null,null,null,null,null,null,null,"","",null,null,{"$error":"#REF!"}]
[45,null,null,null,null,null,null,null,null,"","",null,null,{"$error":"#REF!"}]
[46,null,null,null,null,null,null,null,null,"","",null,null,{"$error":"#REF!"}]
[47,null,null,null,null,null,null,null,null,"","",null,null,{"$error":"#REF!"}]
[48,null,null,null,null,null,null,null,null,"","",null,null,{"$error":"#REF!"}]
[49,null,null,null,null,null,null,null,null,"","",null,null,{"$error":"#REF!"}]
[50,null,null,null,null,null,null,null,null,"","",null,null,{"$error":"#REF!"}]
[51,null,null,null,null,null,null,null,null,"","",null,null,{"$error":"#REF!"}]
[52,null,null,null,null,null,null,null,null,"","",null,null,{"$error":"#REF!"}]
[53,null,null,null,null,null,null,null,null,"","",null,null,{"$error":"#REF!"}]
[54,null,null,null,null,null,null,null,null,"","",null,null,{"$error":"#REF!"}]
[55,null,null,null,null,null,null,null,null,"","",null,null,{"$error":"#REF!"}]
[56,null,null,null,null,null,null,null,null,"","",null,null,{"$error":"#REF!"}]
[57,null,null,null,null,null,null,null,null,"","",null,null,{"$error":"#REF!"}]
[58,null,null,null,null,null,null,null,null,"","",null,null,{"$error":"#REF!"}]
[59,null,null,null,null,null,null,null,null,"","",null,null,{"$error":"#REF!"}]
[60,null,null,null,null,null,null,null,null,"","",null,null,{"$error":"#REF!"}]
[61,null,null,null,null,null,null,null,null,"","",null,null,{"$error":"#REF!"}]
[62,null,null,null,null,null,null,null,null,"","",null,null,{"$error":"#REF!"}]
[63,null,null,null,null,null,null,null,null,"","",null,null,{"$error":"#REF!"}]
[64,null,null,null,null,null,null,null,null,"","",null,null,{"$error":"#REF!"}]
[65,null,null,null,null,null,null,null,null,{"$f":"H68&E68","v":""},{"$f":"H68&I68","v":""},null,null,{"$f":"DATEDIF(F68,cutf,\"Y\")","v":{"$error":"#REF!"}}]
[{"$f":"ROW()-3","v":66},null,null,null,null,null,null,null,null,"","",null,null,{"$error":"#REF!"}]
[67,null,null,null,null,null,null,null,null,"","",null,null,{"$error":"#REF!"}]
[68,null,null,null,null,null,null,null,null,"","",null,null,{"$error":"#REF!"}]
[69,null,null,null,null,null,null,null,null,"","",null,null,{"$error":"#REF!"}]
[70,null,null,null,null,null,null,null,null,"","",null,null,{"$error":"#REF!"}]
[71,null,null,null,null,null,null,null,null,"","",null,null,{"$error":"#REF!"}]
[72,null,null,null,null,null,null,null,null,"","",null,null,{"$error":"#REF!"}]
[73,null,null,null,null,null,null,null,null,"","",null,null,{"$error":"#REF!"}]
[74,null,null,null,null,null,null,null,null,"","",null,null,{"$error":"#REF!"}]
[75,null,null,null,null,null,null,null,null,"","",null,null,{"$error":"#REF!"}]
[76,null,null,null,null,null,null,null,null,"","",null,null,{"$error":"#REF!"}]
[77,null,null,null,null,null,null,null,null,"","",null,null,{"$error":"#REF!"}]
[78,null,null,null,null,null,null,null,null,{"$f":"H81&E81","v":""},{"$f":"H81&I81","v":""}]
[79,null,null,null,null,null,null,null,null,"",""]
[80,null,null,null,null,null,null,null,null,"",""]
[81,null,null,null,null,null,null,null,null,"",""]
[82,null,null,null,null,null,null,null,null,"",""]
[83,null,null,null,null,null,null,null,null,"",""]
[84,null,null,null,null,null,null,null,null,"",""]
[85,null,null,null,null,null,null,null,null,"",""]
[86,null,null,null,null,null,null,null,null,"",""]
[87,null,null,null,null,null,null,null,null,"",""]
[88,null,null,null,null,null,null,null,null,"",""]
[89,null,null,null,null,null,null,null,null,"",""]
[90,null,null,null,null,null,null,null,null,"",""]
[91,null,null,null,null,null,null,null,null,"",""]
[92,null,null,null,null,null,null,null,null,"",""]
[93,null,null,null,null,null,null,null,null,"",""]
[94,null,null,null,null,null,null,null,null,"",""]
[95,null,null,null,null,null,null,null,null,"",""]
[96,null,null,null,null,null,null,null,null,"",""]
[97,null,null,null,null,null,null,null,null,"",""]
[98,null,null,null,null,null,null,null,null,"",""]
[99,null,null,null,null,null,null,null,null,"",""]
[100,null,null,null,null,null,null,null,null,"",""]
[101,null,null,null,null,null,null,null,null,"",""]
[102,null,null,null,null,null,null,null,null,"",""]
[103,null,null,null,null,null,null,null,null,"",""]
[104,null,null,null,null,null,null,null,null,"",""]
[105,null,null,null,null,null,null,null,null,"",""]
[106,null,null,null,null,null,null,null,null,"",""]
[107,null,null,null,null,null,null,null,null,"",""]
[108,null,null,null,null,null,null,null,null,"",""]
[109,null,null,null,null,null,null,null,null,"",""]
[110,null,null,null,null,null,null,null,null,"",""]
[111,null,null,null,null,null,null,null,null,"",""]
[112,null,null,null,null,null,null,null,null,"",""]
[113,null,null,null,null,null,null,null,null,"",""]
[114,null,null,null,null,null,null,null,null,"",""]
[115,null,null,null,null,null,null,null,null,"",""]
[116,null,null,null,null,null,null,null,null,"",""]
[117,null,null,null,null,null,null,null,null,"",""]
[118,null,null,null,null,null,null,null,null,"",""]
[119,null,null,null,null,null,null,null,null,"",""]
[120,null,null,null,null,null,null,null,null,"",""]
[121,null,null,null,null,null,null,null,null,"",""]
[122,null,null,null,null,null,null,null,null,"",""]
[123,null,null,null,null,null,null,null,null,"",""]
[124,null,null,null,null,null,null,null,null,"",""]
[125,null,null,null,null,null,null,null,null,"",""]
[126,null,null,null,null,null,null,null,null,"",""]
[127,null,null,null,null,null,null,null,null,"",""]
[128,null,null,null,null,null,null,null,null,"",""]
[129,null,null,null,null,null,null,null,null,"",""]
[{"$f":"ROW()-3","v":130},null,null,null,null,null,null,null,null,"",""]
[131,null,null,null,null,null,null,null,null,"",""]
[132,null,null,null,null,null,null,null,null,"",""]
[133,null,null,null,null,null,null,null,null,"",""]
[134,null,null,null,null,null,null,null,null,"",""]
[135,null,null,null,null,null,null,null,null,"",""]
[136,null,null,null,null,null,null,null,null,"",""]
[137,null,null,null,null,null,null,null,null,"",""]
[138,null,null,null,null,null,null,null,null,"",""]
[139,null,null,null,null,null,null,null,null,"",""]
[140,null,null,null,null,null,null,null,null,"",""]
[141,null,null,null,null,null,null,null,null,"",""]
[142,null,null,null,null,null,null,null,null,{"$f":"H145&E145","v":""},{"$f":"H145&I145","v":""}]
[143,null,null,null,null,null,null,null,null,"",""]
[144,null,null,null,null,null,null,null,null,"",""]
[145,null,null,null,null,null,null,null,null,"",""]
[146,null,null,null,null,null,null,null,null,"",""]
[147,null,null,null,null,null,null,null,null,"",""]
[148,null,null,null,null,null,null,null,null,"",""]
[149,null,null,null,null,null,null,null,null,"",""]
[150,null,null,null,null,null,null,null,null,"",""]
[null,null,null,null,null,null,null,null,null,null,{"$f":"H154&I154","v":""}]
[null,"BOYS","GIRLS","TOTAL",null,null,null,null,null,null,""]
["SC",{"$f":"COUNTIF($J$4:$J$153,\"BSC\")","v":0},{"$f":"COUNTIF($J$4:$J$153,\"GSC\")","v":0},{"$f":"SUM(B156:C156)","v":0},null,null,null,null,null,null,""]
["ST",{"$f":"COUNTIF($J$4:$J$153,\"BST\")","v":0},{"$f":"COUNTIF($J$4:$J$153,\"GST\")","v":0},{"$f":"SUM(B157:C157)","v":0},null,null,null,null,null,null,""]
["BC",{"$f":"COUNTIF($J$4:$J$153,\"BBC\")","v":0},{"$f":"COUNTIF($J$4:$J$153,\"GBC\")","v":0},{"$f":"SUM(B158:C158)","v":0},null,"MIN BOY","MIN GIRL",null,null,null,""]
["OC",{"$f":"COUNTIF($J$4:$J$153,\"BOC\")","v":0},{"$f":"COUNTIF($J$4:$J$153,\"GOC\")","v":0},{"$f":"SUM(B159:C159)","v":0},null,{"$f":"COUNTIF(K4:K154,\"BY\")","v":0},{"$f":"COUNTIF(K4:K154,\"GY\")","v":0},null,null,null,""]
["TOTAL",{"$f":"SUM(B156:B159)","v":0},{"$f":"SUM(C156:C159)","v":0},{"$f":"SUM(B160:C160)","v":0},null,null,null,null,null,null,""]
[null,null,null,null,null,null,null,null,null,null,""]
[null,null,null,null,null,null,null,null,null,null,""]
[null,null,null,null,null,null,null,null,null,null,""]
[null,null,null,null,null,null,null,null,null,null,""]
[null,null,null,null,null,null,null,null,null,null,""]
[null,null,null,null,null,null,null,null,null,null,""]
[null,null,null,null,null,null,null,null,null,null,""]

{"sheet":"VIIIEM","index":11,"n_rows":161,"n_cols":11,"rows_kept":161,"cut":false,"hidden":false,"merged":[[0,0,0,6],[1,0,1,1]]}
[{"$f":"A2 &\"-\"& ACADEMICYEAR","v":"VIIIEM-2019-20"}]
[{"$f":"RIGHT(CELL(\"filename\",C3),LEN(CELL(\"filename\",C3))-FIND(\"]\",CELL(\"filename\",C3)))","v":"VIIIEM"}]
["RNO","ADMN NO","NAME OF THE STUDENT","FATHER'S NAME","CASTE","DOB","DOA","SEX","MUSLIM"]
[{"$f":"ROW()-3","v":1},null,null,null,null,null,null,null,null,{"$f":"TRIM(H4&E4)","v":""},{"$f":"H4&I4","v":""}]
[{"$f":"ROW()-3","v":2},null,null,null,null,null,null,null,null,"",""]
[3,null,null,null,null,null,null,null,null,"",""]
[4,null,null,null,null,null,null,null,null,"",""]
[5,null,null,null,null,null,null,null,null,"",""]
[6,null,null,null,null,null,null,null,null,"",""]
[7,null,null,null,null,null,null,null,null,"",""]
[8,null,null,null,null,null,null,null,null,"",""]
[9,null,null,null,null,null,null,null,null,"",""]
[10,null,null,null,null,null,null,null,null,"",""]
[11,null,null,null,null,null,null,null,null,"",""]
[12,null,null,null,null,null,null,null,null,"",""]
[13,null,null,null,null,null,null,null,null,"",""]
[14,null,null,null,null,null,null,null,null,"",""]
[15,null,null,null,null,null,null,null,null,"",""]
[16,null,null,null,null,null,null,null,null,"",""]
[17,null,null,null,null,null,null,null,null,"",""]
[18,null,null,null,null,null,null,null,null,"",""]
[19,null,null,null,null,null,null,null,null,"",""]
[20,null,null,null,null,null,null,null,null,"",""]
[21,null,null,null,null,null,null,null,null,"",""]
[22,null,null,null,null,null,null,null,null,"",""]
[23,null,null,null,null,null,null,null,null,"",""]
[24,null,null,null,null,null,null,null,null,"",""]
[25,null,null,null,null,null,null,null,null,"",""]
[26,null,null,null,null,null,null,null,null,"",""]
[27,null,null,null,null,null,null,null,null,"",""]
[28,null,null,null,null,null,null,null,null,"",""]
[29,null,null,null,null,null,null,null,null,"",""]
[30,null,null,null,null,null,null,null,null,"",""]
[31,null,null,null,null,null,null,null,null,"",""]
[32,null,null,null,null,null,null,null,null,"",""]
[33,null,null,null,null,null,null,null,null,"",""]
[34,null,null,null,null,null,null,null,null,"",""]
[35,null,null,null,null,null,null,null,null,"",""]
[36,null,null,null,null,null,null,null,null,"",""]
[37,null,null,null,null,null,null,null,null,"",""]
[38,null,null,null,null,null,null,null,null,"",""]
[39,null,null,null,null,null,null,null,null,"",""]
[40,null,null,null,null,null,null,null,null,"",""]
[41,null,null,null,null,null,null,null,null,"",""]
[42,null,null,null,null,null,null,null,null,"",""]
[43,null,null,null,null,null,null,null,null,"",""]
[44,null,null,null,null,null,null,null,null,"",""]
[45,null,null,null,null,null,null,null,null,"",""]
[46,null,null,null,null,null,null,null,null,"",""]
[47,null,null,null,null,null,null,null,null,"",""]
[48,null,null,null,null,null,null,null,null,"",""]
[49,null,null,null,null,null,null,null,null,"",""]
[50,null,null,null,null,null,null,null,null,"",""]
[51,null,null,null,null,null,null,null,null,"",""]
[52,null,null,null,null,null,null,null,null,"",""]
[53,null,null,null,null,null,null,null,null,"",""]
[54,null,null,null,null,null,null,null,null,"",""]
[55,null,null,null,null,null,null,null,null,"",""]
[56,null,null,null,null,null,null,null,null,"",""]
[57,null,null,null,null,null,null,null,null,"",""]
[58,null,null,null,null,null,null,null,null,"",""]
[59,null,null,null,null,null,null,null,null,"",""]
[60,null,null,null,null,null,null,null,null,"",""]
[61,null,null,null,null,null,null,null,null,"",""]
[62,null,null,null,null,null,null,null,null,"",""]
[63,null,null,null,null,null,null,null,null,"",""]
[64,null,null,null,null,null,null,null,null,"",""]
[65,null,null,null,null,null,null,null,null,{"$f":"TRIM(H68&E68)","v":""},{"$f":"H68&I68","v":""}]
[{"$f":"ROW()-3","v":66},null,null,null,null,null,null,null,null,"",""]
[67,null,null,null,null,null,null,null,null,"",""]
[68,null,null,null,null,null,null,null,null,"",""]
[69,null,null,null,null,null,null,null,null,"",""]
[70,null,null,null,null,null,null,null,null,"",""]
[71,null,null,null,null,null,null,null,null,"",""]
[72,null,null,null,null,null,null,null,null,"",""]
[73,null,null,null,null,null,null,null,null,"",""]
[74,null,null,null,null,null,null,null,null,"",""]
[75,null,null,null,null,null,null,null,null,"",""]
[76,null,null,null,null,null,null,null,null,"",""]
[77,null,null,null,null,null,null,null,null,"",""]
[78,null,null,null,null,null,null,null,null,"",""]
[79,null,null,null,null,null,null,null,null,"",""]
[80,null,null,null,null,null,null,null,null,"",""]
[81,null,null,null,null,null,null,null,null,"",""]
[82,null,null,null,null,null,null,null,null,"",""]
[83,null,null,null,null,null,null,null,null,"",""]
[84,null,null,null,null,null,null,null,null,"",""]
[85,null,null,null,null,null,null,null,null,"",""]
[86,null,null,null,null,null,null,null,null,"",""]
[87,null,null,null,null,null,null,null,null,"",""]
[88,null,null,null,null,null,null,null,null,"",""]
[89,null,null,null,null,null,null,null,null,"",""]
[90,null,null,null,null,null,null,null,null,"",""]
[91,null,null,null,null,null,null,null,null,"",""]
[92,null,null,null,null,null,null,null,null,"",""]
[93,null,null,null,null,null,null,null,null,"",""]
[94,null,null,null,null,null,null,null,null,"",""]
[95,null,null,null,null,null,null,null,null,"",""]
[96,null,null,null,null,null,null,null,null,"",""]
[97,null,null,null,null,null,null,null,null,"",""]
[98,null,null,null,null,null,null,null,null,"",""]
[99,null,null,null,null,null,null,null,null,"",""]
[100,null,null,null,null,null,null,null,null,"",""]
[101,null,null,null,null,null,null,null,null,"",""]
[102,null,null,null,null,null,null,null,null,"",""]
[103,null,null,null,null,null,null,null,null,"",""]
[104,null,null,null,null,null,null,null,null,"",""]
[105,null,null,null,null,null,null,null,null,"",""]
[106,null,null,null,null,null,null,null,null,"",""]
[107,null,null,null,null,null,null,null,null,"",""]
[108,null,null,null,null,null,null,null,null,"",""]
[109,null,null,null,null,null,null,null,null,"",""]
[110,null,null,null,null,null,null,null,null,"",""]
[111,null,null,null,null,null,null,null,null,"",""]
[112,null,null,null,null,null,null,null,null,"",""]
[113,null,null,null,null,null,null,null,null,"",""]
[114,null,null,null,null,null,null,null,null,"",""]
[115,null,null,null,null,null,null,null,null,"",""]
[116,null,null,null,null,null,null,null,null,"",""]
[117,null,null,null,null,null,null,null,null,"",""]
[118,null,null,null,null,null,null,null,null,"",""]
[119,null,null,null,null,null,null,null,null,"",""]
[120,null,null,null,null,null,null,null,null,"",""]
[121,null,null,null,null,null,null,null,null,"",""]
[122,null,null,null,null,null,null,null,null,"",""]
[123,null,null,null,null,null,null,null,null,"",""]
[124,null,null,null,null,null,null,null,null,"",""]
[125,null,null,null,null,null,null,null,null,"",""]
[126,null,null,null,null,null,null,null,null,"",""]
[127,null,null,null,null,null,null,null,null,"",""]
[128,null,null,null,null,null,null,null,null,"",""]
[129,null,null,null,null,null,null,null,null,{"$f":"TRIM(H132&E132)","v":""},{"$f":"H132&I132","v":""}]
[{"$f":"ROW()-3","v":130},null,null,null,null,null,null,null,null,"",""]
[131,null,null,null,null,null,null,null,null,"",""]
[132,null,null,null,null,null,null,null,null,"",""]
[133,null,null,null,null,null,null,null,null,"",""]
[134,null,null,null,null,null,null,null,null,"",""]
[135,null,null,null,null,null,null,null,null,"",""]
[136,null,null,null,null,null,null,null,null,"",""]
[137,null,null,null,null,null,null,null,null,"",""]
[138,null,null,null,null,null,null,null,null,"",""]
[139,null,null,null,null,null,null,null,null,"",""]
[140,null,null,null,null,null,null,null,null,"",""]
[141,null,null,null,null,null,null,null,null,"",""]
[142,null,null,null,null,null,null,null,null,"",""]
[143,null,null,null,null,null,null,null,null,"",""]
[144,null,null,null,null,null,null,null,null,"",""]
[145,null,null,null,null,null,null,null,null,"",""]
[146,null,null,null,null,null,null,null,null,"",""]
[147,null,null,null,null,null,null,null,null,"",""]
[148,null,null,null,null,null,null,null,null,"",""]
[149,null,null,null,null,null,null,null,null,"",""]
[150,null,null,null,null,null,null,null,null,"",""]
[]
[null,"BOYS","GIRLS","TOTAL"]
["SC",{"$f":"COUNTIF($J$4:$J$153,\"BSC\")","v":0},{"$f":"COUNTIF($J$4:$J$153,\"GSC\")","v":0},{"$f":"SUM(B156:C156)","v":0}]
["ST",{"$f":"COUNTIF($J$4:$J$153,\"BST\")","v":0},{"$f":"COUNTIF($J$4:$J$153,\"GST\")","v":0},{"$f":"SUM(B157:C157)","v":0}]
["BC",{"$f":"COUNTIF($J$4:$J$153,\"BBC\")","v":0},{"$f":"COUNTIF($J$4:$J$153,\"GBC\")","v":0},{"$f":"SUM(B158:C158)","v":0},null,"MIN BOY","MIN GIRL"]
["OC",{"$f":"COUNTIF($J$4:$J$153,\"BOC\")","v":0},{"$f":"COUNTIF($J$4:$J$153,\"GOC\")","v":0},{"$f":"SUM(B159:C159)","v":0},null,{"$f":"COUNTIF(K4:K153,\"BY\")","v":0},{"$f":"COUNTIF(K4:K153,\"GY\")","v":0}]
[]
["TOTAL",{"$f":"SUM(B156:B160)","v":0},{"$f":"SUM(C156:C160)","v":0},{"$f":"SUM(B161:C161)","v":0}]

{"sheet":"IXEM","index":12,"n_rows":160,"n_cols":11,"rows_kept":160,"cut":false,"hidden":false,"merged":[[0,0,0,6],[1,0,1,1]]}
[{"$f":"A2 &\"-\"& ACADEMICYEAR","v":"IXEM-2019-20"}]
[{"$f":"RIGHT(CELL(\"filename\",C2),LEN(CELL(\"filename\",C2))-FIND(\"]\",CELL(\"filename\",C2)))","v":"IXEM"}]
["RNO","ADMN NO","NAME OF THE STUDENT","FATHER'S NAME","CASTE","DOB","DOA","SEX","MUSLIM"]
[{"$f":"ROW()-3","v":1},null,null,null,null,null,null,null,null,{"$f":"H4&E4","v":""},{"$f":"H4&I4","v":""}]
[{"$f":"ROW()-3","v":2},null,null,null,null,null,null,null,null,"",""]
[3,null,null,null,null,null,null,null,null,"",""]
[4,null,null,null,null,null,null,null,null,"",""]
[5,null,null,null,null,null,null,null,null,"",""]
[6,null,null,null,null,null,null,null,null,"",""]
[7,null,null,null,null,null,null,null,null,"",""]
[8,null,null,null,null,null,null,null,null,"",""]
[9,null,null,null,null,null,null,null,null,"",""]
[10,null,null,null,null,null,null,null,null,"",""]
[11,null,null,null,null,null,null,null,null,"",""]
[12,null,null,null,null,null,null,null,null,"",""]
[13,null,null,null,null,null,null,null,null,"",""]
[14,null,null,null,null,null,null,null,null,"",""]
[15,null,null,null,null,null,null,null,null,"",""]
[16,null,null,null,null,null,null,null,null,"",""]
[17,null,null,null,null,null,null,null,null,"",""]
[18,null,null,null,null,null,null,null,null,"",""]
[19,null,null,null,null,null,null,null,null,"",""]
[20,null,null,null,null,null,null,null,null,"",""]
[21,null,null,null,null,null,null,null,null,"",""]
[22,null,null,null,null,null,null,null,null,"",""]
[23,null,null,null,null,null,null,null,null,"",""]
[24,null,null,null,null,null,null,null,null,"",""]
[25,null,null,null,null,null,null,null,null,"",""]
[26,null,null,null,null,null,null,null,null,"",""]
[27,null,null,null,null,null,null,null,null,"",""]
[28,null,null,null,null,null,null,null,null,"",""]
[29,null,null,null,null,null,null,null,null,"",""]
[30,null,null,null,null,null,null,null,null,"",""]
[31,null,null,null,null,null,null,null,null,"",""]
[32,null,null,null,null,null,null,null,null,"",""]
[33,null,null,null,null,null,null,null,null,"",""]
[34,null,null,null,null,null,null,null,null,"",""]
[35,null,null,null,null,null,null,null,null,"",""]
[36,null,null,null,null,null,null,null,null,"",""]
[37,null,null,null,null,null,null,null,null,"",""]
[38,null,null,null,null,null,null,null,null,"",""]
[39,null,null,null,null,null,null,null,null,"",""]
[40,null,null,null,null,null,null,null,null,"",""]
[41,null,null,null,null,null,null,null,null,"",""]
[42,null,null,null,null,null,null,null,null,"",""]
[43,null,null,null,null,null,null,null,null,"",""]
[44,null,null,null,null,null,null,null,null,"",""]
[45,null,null,null,null,null,null,null,null,"",""]
[46,null,null,null,null,null,null,null,null,"",""]
[47,null,null,null,null,null,null,null,null,"",""]
[48,null,null,null,null,null,null,null,null,"",""]
[49,null,null,null,null,null,null,null,null,"",""]
[50,null,null,null,null,null,null,null,null,"",""]
[51,null,null,null,null,null,null,null,null,"",""]
[52,null,null,null,null,null,null,null,null,"",""]
[53,null,null,null,null,null,null,null,null,"",""]
[54,null,null,null,null,null,null,null,null,"",""]
[55,null,null,null,null,null,null,null,null,"",""]
[56,null,null,null,null,null,null,null,null,"",""]
[57,null,null,null,null,null,null,null,null,"",""]
[58,null,null,null,null,null,null,null,null,"",""]
[59,null,null,null,null,null,null,null,null,"",""]
[60,null,null,null,null,null,null,null,null,"",""]
[61,null,null,null,null,null,null,null,null,"",""]
[62,null,null,null,null,null,null,null,null,"",""]
[63,null,null,null,null,null,null,null,null,"",""]
[64,null,null,null,null,null,null,null,null,"",""]
[65,null,null,null,null,null,null,null,null,{"$f":"H68&E68","v":""},{"$f":"H68&I68","v":""}]
[{"$f":"ROW()-3","v":66},null,null,null,null,null,null,null,null,"",""]
[67,null,null,null,null,null,null,null,null,"",""]
[68,null,null,null,null,null,null,null,null,"",""]
[69,null,null,null,null,null,null,null,null,"",""]
[70,null,null,null,null,null,null,null,null,"",""]
[71,null,null,null,null,null,null,null,null,"",""]
[72,null,null,null,null,null,null,null,null,"",""]
[73,null,null,null,null,null,null,null,null,"",""]
[74,null,null,null,null,null,null,null,null,"",""]
[75,null,null,null,null,null,null,null,null,"",""]
[76,null,null,null,null,null,null,null,null,"",""]
[77,null,null,null,null,null,null,null,null,"",""]
[78,null,null,null,null,null,null,null,null,"",""]
[79,null,null,null,null,null,null,null,null,"",""]
[80,null,null,null,null,null,null,null,null,"",""]
[81,null,null,null,null,null,null,null,null,"",""]
[82,null,null,null,null,null,null,null,null,"",""]
[83,null,null,null,null,null,null,null,null,"",""]
[84,null,null,null,null,null,null,null,null,"",""]
[85,null,null,null,null,null,null,null,null,"",""]
[86,null,null,null,null,null,null,null,null,"",""]
[87,null,null,null,null,null,null,null,null,"",""]
[88,null,null,null,null,null,null,null,null,"",""]
[89,null,null,null,null,null,null,null,null,"",""]
[90,null,null,null,null,null,null,null,null,"",""]
[91,null,null,null,null,null,null,null,null,"",""]
[92,null,null,null,null,null,null,null,null,"",""]
[93,null,null,null,null,null,null,null,null,"",""]
[94,null,null,null,null,null,null,null,null,"",""]
[95,null,null,null,null,null,null,null,null,"",""]
[96,null,null,null,null,null,null,null,null,"",""]
[97,null,null,null,null,null,null,null,null,"",""]
[98,null,null,null,null,null,null,null,null,"",""]
[99,null,null,null,null,null,null,null,null,"",""]
[100,null,null,null,null,null,null,null,null,"",""]
[101,null,null,null,null,null,null,null,null,"",""]
[102,null,null,null,null,null,null,null,null,"",""]
[103,null,null,null,null,null,null,null,null,"",""]
[104,null,null,null,null,null,null,null,null,"",""]
[105,null,null,null,null,null,null,null,null,"",""]
[106,null,null,null,null,null,null,null,null,"",""]
[107,null,null,null,null,null,null,null,null,"",""]
[108,null,null,null,null,null,null,null,null,"",""]
[109,null,null,null,null,null,null,null,null,"",""]
[110,null,null,null,null,null,null,null,null,"",""]
[111,null,null,null,null,null,null,null,null,"",""]
[112,null,null,null,null,null,null,null,null,"",""]
[113,null,null,null,null,null,null,null,null,"",""]
[114,null,null,null,null,null,null,null,null,"",""]
[115,null,null,null,null,null,null,null,null,"",""]
[116,null,null,null,null,null,null,null,null,"",""]
[117,null,null,null,null,null,null,null,null,"",""]
[118,null,null,null,null,null,null,null,null,"",""]
[119,null,null,null,null,null,null,null,null,"",""]
[120,null,null,null,null,null,null,null,null,"",""]
[121,null,null,null,null,null,null,null,null,"",""]
[122,null,null,null,null,null,null,null,null,"",""]
[123,null,null,null,null,null,null,null,null,"",""]
[124,null,null,null,null,null,null,null,null,"",""]
[125,null,null,null,null,null,null,null,null,"",""]
[126,null,null,null,null,null,null,null,null,"",""]
[127,null,null,null,null,null,null,null,null,"",""]
[128,null,null,null,null,null,null,null,null,"",""]
[129,null,null,null,null,null,null,null,null,{"$f":"H132&E132","v":""},{"$f":"H132&I132","v":""}]
[{"$f":"ROW()-3","v":130},null,null,null,null,null,null,null,null,"",""]
[131,null,null,null,null,null,null,null,null,"",""]
[132,null,null,null,null,null,null,null,null,"",""]
[133,null,null,null,null,null,null,null,null,"",""]
[134,null,null,null,null,null,null,null,null,"",""]
[135,null,null,null,null,null,null,null,null,"",""]
[136,null,null,null,null,null,null,null,null,"",""]
[137,null,null,null,null,null,null,null,null,"",""]
[138,null,null,null,null,null,null,null,null,"",""]
[139,null,null,null,null,null,null,null,null,"",""]
[140,null,null,null,null,null,null,null,null,"",""]
[141,null,null,null,null,null,null,null,null,"",""]
[142,null,null,null,null,null,null,null,null,"",""]
[143,null,null,null,null,null,null,null,null,"",""]
[144,null,null,null,null,null,null,null,null,"",""]
[145,null,null,null,null,null,null,null,null,"",""]
[146,null,null,null,null,null,null,null,null,"",""]
[147,null,null,null,null,null,null,null,null,"",""]
[148,null,null,null,null,null,null,null,null,"",""]
[149,null,null,null,null,null,null,null,null,"",""]
[150,null,null,null,null,null,null,null,null,"",""]
[]
[null,"BOYS","GIRLS","TOTAL",null,null,null,null,null,null,{"$f":"H155&I155","v":""}]
["SC",{"$f":"COUNTIF($J$4:$J$153,\"BSC\")","v":0},{"$f":"COUNTIF($J$4:$J$153,\"GSC\")","v":0},{"$f":"SUM(B156:C156)","v":0}]
["ST",{"$f":"COUNTIF($J$4:$J$153,\"BST\")","v":0},{"$f":"COUNTIF($J$4:$J$153,\"GST\")","v":0},{"$f":"SUM(B157:C157)","v":0},null,null,null,null,null,null,{"$f":"H157&I157","v":""}]
["BC",{"$f":"COUNTIF($J$4:$K$153,\"BBC\")","v":0},{"$f":"COUNTIF($J$4:$J$153,\"GBC\")","v":0},{"$f":"SUM(B158:C158)","v":0},null,"MIN BOY","MIN GIRL",null,null,null,{"$f":"H158&I158","v":""}]
["OC",{"$f":"COUNTIF($J$4:$J$153,\"BOC\")","v":0},{"$f":"COUNTIF($J$4:$J$153,\"GOC\")","v":0},{"$f":"SUM(B159:C159)","v":0},null,{"$f":"COUNTIF(K4:K153,\"BY\")","v":0},{"$f":"COUNTIF(K4:K153,\"GY\")","v":0},null,null,null,{"$f":"H159&I159","v":""}]
["TOTAL",{"$f":"SUM(B156:B159)","v":0},{"$f":"SUM(C156:C159)","v":0},{"$f":"SUM(D156:D159)","v":0},null,null,null,null,null,null,{"$f":"H160&I160","v":""}]

{"sheet":"XEM","index":13,"n_rows":161,"n_cols":11,"rows_kept":161,"cut":false,"hidden":false,"merged":[[0,0,0,6],[1,0,1,1]]}
[{"$f":"A2 &\"-\"& ACADEMICYEAR","v":"XEM-2019-20"}]
[{"$f":"RIGHT(CELL(\"filename\",C1),LEN(CELL(\"filename\",C1))-FIND(\"]\",CELL(\"filename\",C1)))","v":"XEM"}]
["RNO","ADMN NO","NAME OF THE STUDENT","FATHER'S NAME","CASTE","DOB","DOA","SEX","MUSLIM"]
[{"$f":"ROW()-3","v":1},null,null,null,null,null,null,null,null,{"$f":"H4&E4","v":""},{"$f":"H4&I4","v":""}]
[{"$f":"ROW()-3","v":2},null,null,null,null,null,null,null,null,"",""]
[3,null,null,null,null,null,null,null,null,"",""]
[4,null,null,null,null,null,null,null,null,"",""]
[5,null,null,null,null,null,null,null,null,"",""]
[6,null,null,null,null,null,null,null,null,"",""]
[7,null,null,null,null,null,null,null,null,"",""]
[8,null,null,null,null,null,null,null,null,"",""]
[9,null,null,null,null,null,null,null,null,"",""]
[10,null,null,null,null,null,null,null,null,"",""]
[11,null,null,null,null,null,null,null,null,"",""]
[12,null,null,null,null,null,null,null,null,"",""]
[13,null,null,null,null,null,null,null,null,"",""]
[14,null,null,null,null,null,null,null,null,"",""]
[15,null,null,null,null,null,null,null,null,"",""]
[16,null,null,null,null,null,null,null,null,"",""]
[17,null,null,null,null,null,null,null,null,"",""]
[18,null,null,null,null,null,null,null,null,"",""]
[19,null,null,null,null,null,null,null,null,"",""]
[20,null,null,null,null,null,null,null,null,"",""]
[21,null,null,null,null,null,null,null,null,"",""]
[22,null,null,null,null,null,null,null,null,"",""]
[23,null,null,null,null,null,null,null,null,"",""]
[24,null,null,null,null,null,null,null,null,"",""]
[25,null,null,null,null,null,null,null,null,"",""]
[26,null,null,null,null,null,null,null,null,"",""]
[27,null,null,null,null,null,null,null,null,"",""]
[28,null,null,null,null,null,null,null,null,"",""]
[29,null,null,null,null,null,null,null,null,"",""]
[30,null,null,null,null,null,null,null,null,"",""]
[31,null,null,null,null,null,null,null,null,"",""]
[32,null,null,null,null,null,null,null,null,"",""]
[33,null,null,null,null,null,null,null,null,"",""]
[34,null,null,null,null,null,null,null,null,"",""]
[35,null,null,null,null,null,null,null,null,"",""]
[36,null,null,null,null,null,null,null,null,"",""]
[37,null,null,null,null,null,null,null,null,"",""]
[38,null,null,null,null,null,null,null,null,"",""]
[39,null,null,null,null,null,null,null,null,"",""]
[40,null,null,null,null,null,null,null,null,"",""]
[41,null,null,null,null,null,null,null,null,"",""]
[42,null,null,null,null,null,null,null,null,"",""]
[43,null,null,null,null,null,null,null,null,"",""]
[44,null,null,null,null,null,null,null,null,"",""]
[45,null,null,null,null,null,null,null,null,"",""]
[46,null,null,null,null,null,null,null,null,"",""]
[47,null,null,null,null,null,null,null,null,"",""]
[48,null,null,null,null,null,null,null,null,"",""]
[49,null,null,null,null,null,null,null,null,"",""]
[50,null,null,null,null,null,null,null,null,"",""]
[51,null,null,null,null,null,null,null,null,"",""]
[52,null,null,null,null,null,null,null,null,"",""]
[53,null,null,null,null,null,null,null,null,"",""]
[54,null,null,null,null,null,null,null,null,"",""]
[55,null,null,null,null,null,null,null,null,"",""]
[56,null,null,null,null,null,null,null,null,"",""]
[57,null,null,null,null,null,null,null,null,"",""]
[58,null,null,null,null,null,null,null,null,"",""]
[59,null,null,null,null,null,null,null,null,"",""]
[60,null,null,null,null,null,null,null,null,"",""]
[61,null,null,null,null,null,null,null,null,"",""]
[62,null,null,null,null,null,null,null,null,"",""]
[63,null,null,null,null,null,null,null,null,"",""]
[64,null,null,null,null,null,null,null,null,"",""]
[65,null,null,null,null,null,null,null,null,{"$f":"H68&E68","v":""},{"$f":"H68&I68","v":""}]
[{"$f":"ROW()-3","v":66},null,null,null,null,null,null,null,null,"",""]
[67,null,null,null,null,null,null,null,null,"",""]
[68,null,null,null,null,null,null,null,null,"",""]
[69,null,null,null,null,null,null,null,null,"",""]
[70,null,null,null,null,null,null,null,null,"",""]
[71,null,null,null,null,null,null,null,null,"",""]
[72,null,null,null,null,null,null,null,null,"",""]
[73,null,null,null,null,null,null,null,null,"",""]
[74,null,null,null,null,null,null,null,null,"",""]
[75,null,null,null,null,null,null,null,null,"",""]
[76,null,null,null,null,null,null,null,null,"",""]
[77,null,null,null,null,null,null,null,null,"",""]
[78,null,null,null,null,null,null,null,null,"",""]
[79,null,null,null,null,null,null,null,null,"",""]
[80,null,null,null,null,null,null,null,null,"",""]
[81,null,null,null,null,null,null,null,null,"",""]
[82,null,null,null,null,null,null,null,null,"",""]
[83,null,null,null,null,null,null,null,null,"",""]
[84,null,null,null,null,null,null,null,null,"",""]
[85,null,null,null,null,null,null,null,null,"",""]
[86,null,null,null,null,null,null,null,null,"",""]
[87,null,null,null,null,null,null,null,null,"",""]
[88,null,null,null,null,null,null,null,null,"",""]
[89,null,null,null,null,null,null,null,null,"",""]
[90,null,null,null,null,null,null,null,null,"",""]
[91,null,null,null,null,null,null,null,null,"",""]
[92,null,null,null,null,null,null,null,null,"",""]
[93,null,null,null,null,null,null,null,null,"",""]
[94,null,null,null,null,null,null,null,null,"",""]
[95,null,null,null,null,null,null,null,null,"",""]
[96,null,null,null,null,null,null,null,null,"",""]
[97,null,null,null,null,null,null,null,null,"",""]
[98,null,null,null,null,null,null,null,null,"",""]
[99,null,null,null,null,null,null,null,null,"",""]
[100,null,null,null,null,null,null,null,null,"",""]
[101,null,null,null,null,null,null,null,null,"",""]
[102,null,null,null,null,null,null,null,null,"",""]
[103,null,null,null,null,null,null,null,null,"",""]
[104,null,null,null,null,null,null,null,null,"",""]
[105,null,null,null,null,null,null,null,null,"",""]
[106,null,null,null,null,null,null,null,null,"",""]
[107,null,null,null,null,null,null,null,null,"",""]
[108,null,null,null,null,null,null,null,null,"",""]
[109,null,null,null,null,null,null,null,null,"",""]
[110,null,null,null,null,null,null,null,null,"",""]
[111,null,null,null,null,null,null,null,null,"",""]
[112,null,null,null,null,null,null,null,null,"",""]
[113,null,null,null,null,null,null,null,null,"",""]
[114,null,null,null,null,null,null,null,null,"",""]
[115,null,null,null,null,null,null,null,null,"",""]
[116,null,null,null,null,null,null,null,null,"",""]
[117,null,null,null,null,null,null,null,null,"",""]
[118,null,null,null,null,null,null,null,null,"",""]
[119,null,null,null,null,null,null,null,null,"",""]
[120,null,null,null,null,null,null,null,null,"",""]
[121,null,null,null,null,null,null,null,null,"",""]
[122,null,null,null,null,null,null,null,null,"",""]
[123,null,null,null,null,null,null,null,null,"",""]
[124,null,null,null,null,null,null,null,null,"",""]
[125,null,null,null,null,null,null,null,null,"",""]
[126,null,null,null,null,null,null,null,null,"",""]
[127,null,null,null,null,null,null,null,null,"",""]
[128,null,null,null,null,null,null,null,null,"",""]
[129,null,null,null,null,null,null,null,null,{"$f":"H132&E132","v":""},{"$f":"H132&I132","v":""}]
[{"$f":"ROW()-3","v":130},null,null,null,null,null,null,null,null,"",""]
[131,null,null,null,null,null,null,null,null,"",""]
[132,null,null,null,null,null,null,null,null,"",""]
[133,null,null,null,null,null,null,null,null,"",""]
[134,null,null,null,null,null,null,null,null,"",""]
[135,null,null,null,null,null,null,null,null,"",""]
[136,null,null,null,null,null,null,null,null,"",""]
[137,null,null,null,null,null,null,null,null,"",""]
[138,null,null,null,null,null,null,null,null,"",""]
[139,null,null,null,null,null,null,null,null,"",""]
[140,null,null,null,null,null,null,null,null,"",""]
[141,null,null,null,null,null,null,null,null,"",""]
[142,null,null,null,null,null,null,null,null,"",""]
[143,null,null,null,null,null,null,null,null,"",""]
[144,null,null,null,null,null,null,null,null,"",""]
[145,null,null,null,null,null,null,null,null,"",""]
[146,null,null,null,null,null,null,null,null,"",""]
[147,null,null,null,null,null,null,null,null,"",""]
[148,null,null,null,null,null,null,null,null,"",""]
[149,null,null,null,null,null,null,null,null,"",""]
[150,null,null,null,null,null,null,null,null,"",""]
[null,null,null,null,null,null,null,null,null,"",""]
[null,"BOYS","GIRLS","TOTAL"]
["SC",{"$f":"COUNTIF($J$4:$J$153,\"BSC\")","v":0},{"$f":"COUNTIF($J$4:$J$153,\"GSC\")","v":0},{"$f":"SUM(B156:C156)","v":0},null,null,null,null,null,null,{"$f":"H156&I156","v":""}]
["ST",{"$f":"COUNTIF($J$4:$J$153,\"BST\")","v":0},{"$f":"COUNTIF($J$4:$J$153,\"GST\")","v":0},{"$f":"SUM(B157:C157)","v":0},null,null,null,null,null,null,""]
["BC",{"$f":"COUNTIF($J$4:$J$153,\"BBC\")","v":0},{"$f":"COUNTIF($J$4:$J$153,\"GBC\")","v":0},{"$f":"SUM(B158:C158)","v":0},null,"MIN BOY","MIN GIRL",null,null,null,""]
["OC",{"$f":"COUNTIF($J$4:$J$153,\"BOC\")","v":0},{"$f":"COUNTIF($J$4:$J$153,\"GOC\")","v":0},{"$f":"SUM(B159:C159)","v":0},null,{"$f":"COUNTIF(K4:K154,\"BY\")","v":0},{"$f":"COUNTIF(K4:K154,\"GY\")","v":0},null,null,null,""]
["TOTAL",{"$f":"SUM(B156:B159)","v":0},{"$f":"SUM(C156:C159)","v":0},{"$f":"SUM(D156:D159)","v":0},null,null,null,null,null,null,""]
[null,null,null,null,null,null,null,null,null,null,""]

{"sheet":"STRENGTH-FORBOARD","index":14,"n_rows":20,"n_cols":21,"rows_kept":20,"cut":false,"hidden":false,"merged":[[11,0,11,1],[18,0,18,1],[19,0,19,1],[0,0,0,20],[1,0,1,20],[3,0,5,0],[3,1,5,1],[3,2,4,4],[3,5,4,7],[3,8,4,10],[3,11,4,13],[3,14,4,16],[3,18,4,20]]}
[{"$f":"SCHOOLNAME","v":"ZILLA PARISHAD HIGH SCHOOL XYZ"}]
[{"$f":"\" Class wise and Caste wise Strength particulars as on \"  & TEXT(NOW(),\"DD-MM-YYYY\")","v":" Class wise and Caste wise Strength particulars as on 11-02-2023"}]
[]
["Sl.No","Class","SC",null,null,"ST",null,null,"BC",null,null,"OC",null,null,"TOTAL",null,null,null,"Minorities"]
[]
[null,null,"B","G","TOT","B","G","TOT","B","G","TOT","B","G","TOT","B","G","Total",null,"B","G","TOT"]
[1,{"$f":"VITM!$A$2","v":"VITM"},{"$f":"MONTHLYRETURN!Q8","v":0},{"$f":"MONTHLYRETURN!R8","v":0},{"$f":"SUM(C7:D7)","v":0},{"$f":"MONTHLYRETURN!T8","v":0},{"$f":"MONTHLYRETURN!U8","v":0},{"$f":"SUM(F7:G7)","v":0},{"$f":"MONTHLYRETURN!W8","v":0},{"$f":"MONTHLYRETURN!X8","v":0},{"$f":"SUM(I7:J7)","v":0},{"$f":"MONTHLYRETURN!Z8","v":0},{"$f":"MONTHLYRETURN!AA8","v":0},{"$f":"SUM(L7:M7)","v":0},{"$f":"C7+F7+I7+L7","v":0},{"$f":"D7+G7+J7+M7","v":0},{"$f":"SUM(O7:P7)","v":0},null,{"$f":"MONTHLYRETURN!AG8","v":0},{"$f":"MONTHLYRETURN!AH8","v":0},{"$f":"SUM(S7:T7)","v":0}]
[2,{"$f":"VIITM!$A$2","v":"VIITM"},{"$f":"MONTHLYRETURN!Q9","v":0},{"$f":"MONTHLYRETURN!R9","v":0},{"$f":"SUM(C8:D8)","v":0},{"$f":"MONTHLYRETURN!T9","v":0},{"$f":"MONTHLYRETURN!U9","v":0},{"$f":"SUM(F8:G8)","v":0},{"$f":"MONTHLYRETURN!W9","v":0},{"$f":"MONTHLYRETURN!X9","v":0},{"$f":"SUM(I8:J8)","v":0},{"$f":"MONTHLYRETURN!Z9","v":0},{"$f":"MONTHLYRETURN!AA9","v":0},{"$f":"SUM(L8:M8)","v":0},{"$f":"C8+F8+I8+L8","v":0},0,{"$f":"SUM(O8:P8)","v":0},null,{"$f":"MONTHLYRETURN!AG9","v":0},{"$f":"MONTHLYRETURN!AH9","v":0},{"$f":"SUM(S8:T8)","v":0}]
[3,{"$f":"VIIITM!$A$2","v":"VIIITM"},{"$f":"MONTHLYRETURN!Q10","v":0},{"$f":"MONTHLYRETURN!R10","v":0},{"$f":"SUM(C9:D9)","v":0},{"$f":"MONTHLYRETURN!T10","v":0},{"$f":"MONTHLYRETURN!U10","v":0},{"$f":"SUM(F9:G9)","v":0},{"$f":"MONTHLYRETURN!W10","v":0},{"$f":"MONTHLYRETURN!X10","v":0},{"$f":"SUM(I9:J9)","v":0},{"$f":"MONTHLYRETURN!Z10","v":0},{"$f":"MONTHLYRETURN!AA10","v":0},{"$f":"SUM(L9:M9)","v":0},0,0,{"$f":"SUM(O9:P9)","v":0},null,{"$f":"MONTHLYRETURN!AG10","v":0},{"$f":"MONTHLYRETURN!AH10","v":0},{"$f":"SUM(S9:T9)","v":0}]
[4,{"$f":"IXTM!$A$2","v":"IXTM"},{"$f":"MONTHLYRETURN!Q11","v":0},{"$f":"MONTHLYRETURN!R11","v":0},{"$f":"SUM(C10:D10)","v":0},{"$f":"MONTHLYRETURN!T11","v":0},{"$f":"MONTHLYRETURN!U11","v":0},{"$f":"SUM(F10:G10)","v":0},{"$f":"MONTHLYRETURN!W11","v":0},{"$f":"MONTHLYRETURN!X11","v":0},{"$f":"SUM(I10:J10)","v":0},{"$f":"MONTHLYRETURN!Z11","v":0},{"$f":"MONTHLYRETURN!AA11","v":0},{"$f":"SUM(L10:M10)","v":0},0,0,{"$f":"SUM(O10:P10)","v":0},null,{"$f":"MONTHLYRETURN!AG11","v":0},{"$f":"MONTHLYRETURN!AH11","v":0},{"$f":"SUM(S10:T10)","v":0}]
[5,{"$f":"XTM!$A$2","v":"XTM"},{"$f":"MONTHLYRETURN!Q12","v":0},{"$f":"MONTHLYRETURN!R12","v":0},{"$f":"SUM(C11:D11)","v":0},{"$f":"MONTHLYRETURN!T12","v":0},{"$f":"MONTHLYRETURN!U12","v":0},{"$f":"SUM(F11:G11)","v":0},{"$f":"MONTHLYRETURN!W12","v":0},{"$f":"MONTHLYRETURN!X12","v":0},{"$f":"SUM(I11:J11)","v":0},{"$f":"MONTHLYRETURN!Z12","v":0},{"$f":"MONTHLYRETURN!AA12","v":0},{"$f":"SUM(L11:M11)","v":0},0,0,{"$f":"SUM(O11:P11)","v":0},null,{"$f":"MONTHLYRETURN!AG12","v":0},{"$f":"MONTHLYRETURN!AH12","v":0},{"$f":"SUM(S11:T11)","v":0}]
["TM TOTAL",null,{"$f":"SUM(C7:C11)","v":0},0,0,0,0,0,0,0,0,0,0,0,0,0,{"$f":"SUM(Q7:Q11)","v":0},null,{"$f":"SUM(S7:S11)","v":0},{"$f":"SUM(T7:T11)","v":0},{"$f":"SUM(U7:U11)","v":0}]
[]
[1,{"$f":"VIEM!$A$2","v":"VIEM"},{"$f":"MONTHLYRETURN!Q15","v":0},{"$f":"MONTHLYRETURN!R15","v":0},{"$f":"SUM(C14:D14)","v":0},{"$f":"MONTHLYRETURN!T15","v":0},{"$f":"MONTHLYRETURN!U15","v":0},{"$f":"SUM(F14:G14)","v":0},{"$f":"MONTHLYRETURN!W15","v":0},{"$f":"MONTHLYRETURN!X15","v":0},{"$f":"SUM(I14:J14)","v":0},{"$f":"MONTHLYRETURN!Z15","v":0},{"$f":"MONTHLYRETURN!AA15","v":0},{"$f":"SUM(L14:M14)","v":0},{"$f":"C14+F14+I14+L14","v":0},{"$f":"D14+G14+J14+M14","v":0},{"$f":"SUM(O14:P14)","v":0},null,{"$f":"MONTHLYRETURN!AG15","v":0},{"$f":"MONTHLYRETURN!AH15","v":0},{"$f":"SUM(S14:T14)","v":0}]
[2,{"$f":"VIIEM!$A$2","v":"VIIEM"},{"$f":"MONTHLYRETURN!Q16","v":0},{"$f":"MONTHLYRETURN!R16","v":0},{"$f":"SUM(C15:D15)","v":0},{"$f":"MONTHLYRETURN!T16","v":0},{"$f":"MONTHLYRETURN!U16","v":0},{"$f":"SUM(F15:G15)","v":0},{"$f":"MONTHLYRETURN!W16","v":0},{"$f":"MONTHLYRETURN!X16","v":0},0,{"$f":"MONTHLYRETURN!Z16","v":0},{"$f":"MONTHLYRETURN!AA16","v":0},0,{"$f":"C15+F15+I15+L15","v":0},{"$f":"D15+G15+J15+M15","v":0},0,null,{"$f":"MONTHLYRETURN!AG16","v":0},{"$f":"MONTHLYRETURN!AH16","v":0},0]
[3,{"$f":"VIIIEM!$A$2","v":"VIIIEM"},{"$f":"MONTHLYRETURN!Q17","v":0},{"$f":"MONTHLYRETURN!R17","v":0},{"$f":"SUM(C16:D16)","v":0},{"$f":"MONTHLYRETURN!T17","v":0},{"$f":"MONTHLYRETURN!U17","v":0},{"$f":"SUM(F16:G16)","v":0},{"$f":"MONTHLYRETURN!W17","v":0},{"$f":"MONTHLYRETURN!X17","v":0},0,{"$f":"MONTHLYRETURN!Z17","v":0},{"$f":"MONTHLYRETURN!AA17","v":0},0,{"$f":"C16+F16+I16+L16","v":0},0,0,null,{"$f":"MONTHLYRETURN!AG17","v":0},{"$f":"MONTHLYRETURN!AH17","v":0},0]
[4,{"$f":"IXEM!$A$2","v":"IXEM"},{"$f":"MONTHLYRETURN!Q18","v":0},{"$f":"MONTHLYRETURN!R18","v":0},{"$f":"SUM(C17:D17)","v":0},{"$f":"MONTHLYRETURN!T18","v":0},{"$f":"MONTHLYRETURN!U18","v":0},{"$f":"SUM(F17:G17)","v":0},{"$f":"MONTHLYRETURN!W18","v":0},{"$f":"MONTHLYRETURN!X18","v":0},0,{"$f":"MONTHLYRETURN!Z18","v":0},{"$f":"MONTHLYRETURN!AA18","v":0},0,0,0]
[5,{"$f":"XEM!$A$2","v":"XEM"},{"$f":"MONTHLYRETURN!Q19","v":0},{"$f":"MONTHLYRETURN!R19","v":0},0,{"$f":"MONTHLYRETURN!T19","v":0},{"$f":"MONTHLYRETURN!U19","v":0},0,{"$f":"MONTHLYRETURN!W19","v":0},{"$f":"MONTHLYRETURN!X19","v":0},0,{"$f":"MONTHLYRETURN!Z19","v":0},{"$f":"MONTHLYRETURN!AA19","v":0},0,0,0,0,null,{"$f":"MONTHLYRETURN!AG19","v":0},{"$f":"MONTHLYRETURN!AH19","v":0},0]
["EM TOTAL",null,{"$f":"SUM(C14:C18)","v":0},0,0,0,0,0,0,0,0,0,0,0,0,0,0,null,{"$f":"SUM(S14:S18)","v":0},{"$f":"SUM(T14:T18)","v":0},0]
["GRAND TOTAL",null,{"$f":"C12+C19","v":0},0,0,0,0,0,0,0,0,0,0,0,0,0,0,null,{"$f":"S12+S19","v":0},{"$f":"T12+T19","v":0},{"$f":"U12+U19","v":0}]

{"sheet":"MONTHLYRETURN","index":15,"n_rows":23,"n_cols":35,"rows_kept":23,"cut":false,"hidden":false,"merged":[[0,0,0,34],[1,0,1,34],[2,22,2,30],[4,0,6,0],[4,1,6,1],[4,2,5,4],[4,5,5,7],[4,8,5,10],[4,11,5,13],[4,14,5,14],[4,32,5,34],[6,14,21,14],[12,0,12,1],[19,0,19,1],[21,0,21,1],[4,28,5,30],[30,23,30,27],[4,15,5,15],[4,16,5,18],[4,19,5,21],[4,22,5,24],[4,25,5,27]]}
[{"$f":"SCHOOLNAME","v":"ZILLA PARISHAD HIGH SCHOOL XYZ"}]
[{"$f":"\" Class wise and Caste wise Strength particulars as on \"  & TEXT(NOW(),\"DD-MM-YYYY\")","v":" Class wise and Caste wise Strength particulars as on 11-02-2023"}]
[null,null,null,null,null,null,null,null,null,null,null,null,null," "]
[]
["Sl.No","Class","On roll on 1st of the month",null,null,"Joined during  the month",null,null,"Transferred during  the month",null,null,"On roll at the end of the month",null,null,"TOTAL WORKING DAYS","Average\nattend  ance","SC                  Scheduled Castes",null,null,"ST              Scheduled Tribes",null,null,"BC                Backward class",null,null,"OC",null,null,"TOTAL",null,null,null,"Minorities"]
[]
[null,null,"B","G","TOT","B","G","TOT","B","G","TOT","B","G","TOT","   22 days",null,"B","G","TOT","B","G","TOT","B","G","TOT","B","G","TOT","B","G","Total",null,"B","G","TOT"]
[1,{"$f":"VITM!$A$2","v":"VITM"},25,5,{"$f":"SUM(C8:D8)","v":30},0,0,{"$f":"SUM(F8:G8)","v":0},0,0,{"$f":"SUM(I8:J8)","v":0},{"$f":"C8+F8-I8","v":25},{"$f":"D8+G8-J8","v":5},{"$f":"SUM(L8:M8)","v":30},null,null,{"$f":"INDIRECT($B8 & \"!$B$156\")","v":0},{"$f":"INDIRECT($B8&\"!$C$156\")","v":0},{"$f":"SUM(Q8:R8)","v":0},{"$f":"INDIRECT($B8 & \"!$B$157\")","v":0},{"$f":"INDIRECT($B8&\"!$C$157\")","v":0},{"$f":"SUM(T8:U8)","v":0},{"$f":"INDIRECT($B8 & \"!$B$158\")","v":0},{"$f":"INDIRECT($B8&\"!$C$158\")","v":0},{"$f":"SUM(W8:X8)","v":0},{"$f":"INDIRECT($B8 & \"!$B$159\")","v":0},{"$f":"INDIRECT($B8&\"!$C$159\")","v":0},{"$f":"SUM(Z8:AA8)","v":0},{"$f":"Q8+T8+W8+Z8","v":0},{"$f":"R8+U8+X8+AA8","v":0},{"$f":"SUM(AC8:AD8)","v":0},null,{"$f":"INDIRECT($B8 & \"!$F$159\")","v":0},{"$f":"INDIRECT($B8&\"!$G$159\")","v":0},{"$f":"SUM(AG8:AH8)","v":0}]
[2,{"$f":"VIITM!$A$2","v":"VIITM"},15,12,{"$f":"SUM(C9:D9)","v":27},0,0,0,0,0,{"$f":"SUM(I9:J9)","v":0},{"$f":"C9+F9-I9","v":15},12,{"$f":"SUM(L9:M9)","v":27},null,null,{"$f":"INDIRECT($B9 & \"!$B$156\")","v":0},{"$f":"INDIRECT($B9&\"!$C$156\")","v":0},{"$f":"SUM(Q9:R9)","v":0},{"$f":"INDIRECT($B9 & \"!$B$157\")","v":0},{"$f":"INDIRECT($B9&\"!$C$157\")","v":0},{"$f":"SUM(T9:U9)","v":0},{"$f":"INDIRECT($B9 & \"!$B$158\")","v":0},{"$f":"INDIRECT($B9&\"!$C$158\")","v":0},{"$f":"SUM(W9:X9)","v":0},{"$f":"INDIRECT($B9 & \"!$B$159\")","v":0},{"$f":"INDIRECT($B9&\"!$C$159\")","v":0},{"$f":"SUM(Z9:AA9)","v":0},{"$f":"Q9+T9+W9+Z9","v":0},{"$f":"R9+U9+X9+AA9","v":0},{"$f":"SUM(AC9:AD9)","v":0},null,{"$f":"INDIRECT($B9 & \"!$F$159\")","v":0},{"$f":"INDIRECT($B9&\"!$G$159\")","v":0},{"$f":"SUM(AG9:AH9)","v":0}]
[3,{"$f":"VIIITM!$A$2","v":"VIIITM"},18,14,{"$f":"SUM(C10:D10)","v":32},0,0,{"$f":"SUM(F10:G10)","v":0},0,0,{"$f":"SUM(I10:J10)","v":0},18,14,32,null,null,0,0,0,0,0,0,0,0,0,0,0,0,0,0,0,null,0,0,0]
[4,{"$f":"IXTM!$A$2","v":"IXTM"},23,1,{"$f":"SUM(C11:D11)","v":24},0,0,{"$f":"SUM(F11:G11)","v":0},0,0,{"$f":"SUM(I11:J11)","v":0},23,1,24,null,null,0,0,0,0,0,0,0,0,0,0,0,0,0,0,0,null,0,0,0]
[5,{"$f":"XTM!$A$2","v":"XTM"},13,13,{"$f":"SUM(C12:D12)","v":26},0,0,{"$f":"SUM(F12:G12)","v":0},0,0,{"$f":"SUM(I12:J12)","v":0},13,13,26,null,null,0,0,0,0,0,0,0,0,0,0,0,0,0,0,0,null,0,0,0]
["TM TOTAL",null,{"$f":"SUM(C8:C12)","v":94},{"$f":"SUM(D8:D12)","v":45},139,0,0,0,0,0,0,94,45,139,null,null,{"$f":"SUM(Q8:Q12)","v":0},0,0,0,0,0,0,0,0,0,0,0,0,0,{"$f":"SUM(AC13:AD13)","v":0},null,{"$f":"SUM(AG8:AG12)","v":0},{"$f":"SUM(AH8:AH12)","v":0},{"$f":"SUM(AG13:AH13)","v":0}]
[]
[1,{"$f":"VIEM!$A$2","v":"VIEM"},19,25,{"$f":"SUM(C15:D15)","v":44},0,0,{"$f":"SUM(F15:G15)","v":0},0,0,{"$f":"SUM(I15:J15)","v":0},{"$f":"C15+F15-I15","v":19},{"$f":"D15+G15-J15","v":25},{"$f":"SUM(L15:M15)","v":44},null,null,{"$f":"INDIRECT($B15 & \"!$B$156\")","v":0},{"$f":"INDIRECT($B15&\"!$C$156\")","v":0},{"$f":"SUM(Q15:R15)","v":0},{"$f":"INDIRECT($B15 & \"!$B$157\")","v":0},{"$f":"INDIRECT($B15&\"!$C$157\")","v":0},{"$f":"SUM(T15:U15)","v":0},{"$f":"INDIRECT($B15 & \"!$B$158\")","v":0},{"$f":"INDIRECT($B15&\"!$C$158\")","v":0},{"$f":"SUM(W15:X15)","v":0},{"$f":"INDIRECT($B15 & \"!$B$159\")","v":0},{"$f":"INDIRECT($B15&\"!$C$159\")","v":0},{"$f":"SUM(Z15:AA15)","v":0},{"$f":"Q15+T15+W15+Z15","v":0},{"$f":"R15+U15+X15+AA15","v":0},{"$f":"SUM(AC15:AD15)","v":0},null,{"$f":"INDIRECT($B15 & \"!$F$159\")","v":0},{"$f":"INDIRECT($B15&\"!$G$159\")","v":0},{"$f":"SUM(AG15:AH15)","v":0}]
[2,{"$f":"VIIEM!$A$2","v":"VIIEM"},25,35,60,0,0,{"$f":"SUM(F16:G16)","v":0},0,0,{"$f":"SUM(I16:J16)","v":0},{"$f":"C16+F16-I16","v":25},35,{"$f":"SUM(L16:M16)","v":60},null,null,{"$f":"INDIRECT($B16 & \"!$B$156\")","v":0},{"$f":"INDIRECT($B16&\"!$C$156\")","v":0},{"$f":"SUM(Q16:R16)","v":0},{"$f":"INDIRECT($B16 & \"!$B$157\")","v":0},{"$f":"INDIRECT($B16&\"!$C$157\")","v":0},{"$f":"SUM(T16:U16)","v":0},{"$f":"INDIRECT($B16 & \"!$B$158\")","v":0},{"$f":"INDIRECT($B16&\"!$C$158\")","v":0},{"$f":"SUM(W16:X16)","v":0},{"$f":"INDIRECT($B16 & \"!$B$159\")","v":0},{"$f":"INDIRECT($B16&\"!$C$159\")","v":0},{"$f":"SUM(Z16:AA16)","v":0},{"$f":"Q16+T16+W16+Z16","v":0},{"$f":"R16+U16+X16+AA16","v":0},{"$f":"SUM(AC16:AD16)","v":0},null,{"$f":"INDIRECT($B16 & \"!$F$159\")","v":0},{"$f":"INDIRECT($B16&\"!$G$159\")","v":0},{"$f":"SUM(AG16:AH16)","v":0}]
[3,{"$f":"VIIIEM!$A$2","v":"VIIIEM"},5,45,50,0,0,0,0,0,0,5,45,50,null,null,0,0,0,0,0,0,0,0,0,0,0,0,0,0,0,null,0,0,0]
[null,{"$f":"IXEM!$A$2","v":"IXEM"},17,28,45,0,0,0,0,0,0,17,28,45,null,null,0,0,0,0,0,0,0,0,0,0,0,0,0,0,0,null,0,0,0]
[5,{"$f":"XEM!$A$2","v":"XEM"},16,34,50,0,0,0,0,0,0,16,34,50,null,null,0,0,0,0,0,0,0,0,0,0,0,0,0,0,0,null,0,0,0]
["EM TOTAL",null,{"$f":"SUM(C15:C19)","v":82},167,249,0,0,0,0,0,0,82,167,249,null,null,{"$f":"SUM(Q15:Q19)","v":0},0,0,0,0,0,0,0,0,0,0,0,0,0,0,null,{"$f":"SUM(AG15:AG19)","v":0},{"$f":"SUM(AH15:AH19)","v":0},{"$f":"SUM(AI15:AI19)","v":0}]
[null,null,null,null,null,null,null,null,null,null,null,null,null,null,null,null,null,null,null,null,null,null,null,null,null,null,null,null,null,null,null,{"$f":"#REF!","v":{"$error":"#REF!"}}]
["GRAND TOTAL",null,{"$f":"C13+C20","v":176},212,388,0,0,0,0,0,0,176,212,388,null,null,{"$f":"Q13+Q20","v":0},0,0,0,0,0,0,0,0,0,0,0,0,0,0,0,0,0,0]
[null,null,null,null,null,null,null,null,null,null,null,null,null,null,null,null,null,null,null,null,null,null,null,null,null,null,null,null,null,null,null,{"$f":"SUM(AF15:AF19)","v":0}]

{"sheet":"ABSTRACT","index":16,"n_rows":16,"n_cols":25,"rows_kept":16,"cut":false,"hidden":false,"merged":[[15,1,15,2],[15,7,15,8],[0,1,0,11],[1,1,1,11],[3,1,8,1],[3,7,8,7],[9,1,9,2],[9,7,14,7],[10,1,13,1],[14,1,14,2],[2,6,15,6]]}
[null,{"$f":"SCHOOLNAME","v":"ZILLA PARISHAD HIGH SCHOOL XYZ"}]
[null,{"$f":"\"Class wise and medium wise Strength particulars as on \" & TEXT(NOW(),\"DD-MM-YYYY\")","v":"Class wise and medium wise Strength particulars as on 11-02-2023"}]
[null,null,"Class","BOYS","GIRLS","TOTAL",null,null,"Class","BOYS","GIRLS","TOTAL"]
[null,"UPS",{"$f":"VITM!$A$2","v":"VITM"},{"$f":"J4","v":0},{"$f":"K4","v":0},{"$f":"SUM(D4:E4)","v":0},null,"TM",{"$f":"VITM!$A$2","v":"VITM"},{"$f":"MONTHLYRETURN!AC8","v":0},{"$f":"MONTHLYRETURN!AD8","v":0},{"$f":"SUM(J4:K4)","v":0}]
[null,null,{"$f":"VIEM!$A$2","v":"VIEM"},{"$f":"J10","v":0},{"$f":"K10","v":0},0,null,null,{"$f":"VIITM!$A$2","v":"VIITM"},{"$f":"MONTHLYRETURN!AC9","v":0},{"$f":"MONTHLYRETURN!AD9","v":0},{"$f":"SUM(J5:K5)","v":0}]
[null,null,{"$f":"VIITM!$A$2","v":"VIITM"},{"$f":"J5","v":0},{"$f":"K5","v":0},0,null,null,{"$f":"VIIITM!$A$2","v":"VIIITM"},{"$f":"MONTHLYRETURN!AC10","v":0},{"$f":"MONTHLYRETURN!AD10","v":0},{"$f":"SUM(J6:K6)","v":0},null,null,49,null,49,41,44,31,null,45,39,69,40]
[null,null,{"$f":"VIIEM!$A$2","v":"VIIEM"},{"$f":"J11","v":0},{"$f":"K11","v":0},0,null,null,{"$f":"IXTM!$A$2","v":"IXTM"},{"$f":"MONTHLYRETURN!AC11","v":0},{"$f":"MONTHLYRETURN!AD11","v":0},{"$f":"SUM(J7:K7)","v":0},null,null,41]
[null,null,{"$f":"VIIITM!$A$2","v":"VIIITM"},{"$f":"J6","v":0},{"$f":"K6","v":0},0,null,null,{"$f":"XTM!$A$2","v":"XTM"},{"$f":"MONTHLYRETURN!AC12","v":0},{"$f":"MONTHLYRETURN!AD12","v":0},{"$f":"SUM(J8:K8)","v":0},null,null,44]
[null,null,{"$f":"VIIIEM!$A$2","v":"VIIIEM"},{"$f":"J12","v":0},{"$f":"K12","v":0},0,null,null,"TM TOT",{"$f":"SUM(J4:J8)","v":0},{"$f":"SUM(K4:K8)","v":0},{"$f":"SUM(L4:L8)","v":0},null,null,31]
[null,"UPS TOTAL",null,{"$f":"SUM(D4:D9)","v":0},{"$f":"SUM(E4:E9)","v":0},{"$f":"SUM(F4:F9)","v":0},null,"EM",{"$f":"VIEM!$A$2","v":"VIEM"},{"$f":"MONTHLYRETURN!AC15","v":0},{"$f":"MONTHLYRETURN!AD15","v":0},{"$f":"SUM(J10:K10)","v":0}]
[null,"HS",{"$f":"IXTM!$A$2","v":"IXTM"},{"$f":"J7","v":0},{"$f":"K7","v":0},{"$f":"SUM(D11:E11)","v":0},null,null,{"$f":"VIIEM!$A$2","v":"VIIEM"},{"$f":"MONTHLYRETURN!AC16","v":0},{"$f":"MONTHLYRETURN!AD16","v":0},{"$f":"SUM(J11:K11)","v":0},null,null,45]
[null,null,{"$f":"IXEM!$A$2","v":"IXEM"},{"$f":"J13","v":0},0,{"$f":"SUM(D12:E12)","v":0},null,null,{"$f":"VIIIEM!$A$2","v":"VIIIEM"},{"$f":"MONTHLYRETURN!AC17","v":0},{"$f":"MONTHLYRETURN!AD17","v":0},{"$f":"SUM(J12:K12)","v":0},null,null,39]
[null,null,{"$f":"XTM!$A$2","v":"XTM"},{"$f":"J8","v":0},0,0,null,null,{"$f":"IXEM!$A$2","v":"IXEM"},{"$f":"MONTHLYRETURN!AC18","v":0},{"$f":"MONTHLYRETURN!AD18","v":0},{"$f":"SUM(J13:K13)","v":0}]
[null,null,{"$f":"XEM!$A$2","v":"XEM"},{"$f":"J14","v":0},0,0,null,null,{"$f":"XEM!$A$2","v":"XEM"},{"$f":"MONTHLYRETURN!AC19","v":0},{"$f":"MONTHLYRETURN!AD19","v":0},0,null,null,69]
[null,"HS TOTAL",null,{"$f":"SUM(D11:D14)","v":0},{"$f":"SUM(E11:E14)","v":0},{"$f":"SUM(D15:E15)","v":0},null,null,"EM TOT",{"$f":"SUM(J10:J14)","v":0},{"$f":"SUM(K10:K14)","v":0},{"$f":"SUM(L10:L14)","v":0}]
[null,"GRAND TOTAL",null,{"$f":"D10+D15","v":0},{"$f":"E10+E15","v":0},{"$f":"F10+F15","v":0},null,"GRAND TOTAL",null,{"$f":"SUM(J9+J15)","v":0},{"$f":"SUM(K9+K15)","v":0},{"$f":"SUM(L9+L15)","v":0}]

{"sheet":"Sheet1","index":17,"n_rows":4,"n_cols":4,"rows_kept":4,"cut":false,"hidden":true,"merged":[]}
[]
[]
[]
[null,null,"MONTH","OCTOBER,2018"]

{"sheet":"EXTRA CLASSES=>","index":18,"n_rows":0,"n_cols":0,"rows_kept":0,"cut":false,"hidden":false,"merged":[]}

{"sheet":"EXTRA1","index":19,"n_rows":161,"n_cols":11,"rows_kept":161,"cut":false,"hidden":false,"merged":[[0,0,0,6],[1,0,1,1]]}
[{"$f":"A2 &\"-\"& ACADEMICYEAR","v":"EXTRA1-2019-20"}]
[{"$f":"RIGHT(CELL(\"filename\",C1),LEN(CELL(\"filename\",C1))-FIND(\"]\",CELL(\"filename\",C1)))","v":"EXTRA1"}]
["RNO","ADMN NO","NAME OF THE STUDENT","FATHER'S NAME","CASTE","DOB","DOA","SEX","MUSLIM"]
[null,null,null,null,null,null,null,null,null,{"$f":"H4&E4","v":""},{"$f":"H4&I4","v":""}]
[null,null,null,null,null,null,null,null,null,"",""]
[null,null,null,null,null,null,null,null,null,"",""]
[null,null,null,null,null,null,null,null,null,"",""]
[null,null,null,null,null,null,null,null,null,"",""]
[null,null,null,null,null,null,null,null,null,"",""]
[null,null,null,null,null,null,null,null,null,"",""]
[null,null,null,null,null,null,null,null,null,"",""]
[null,null,null,null,null,null,null,null,null,"",""]
[null,null,null,null,null,null,null,null,null,"",""]
[null,null,null,null,null,null,null,null,null,"",""]
[null,null,null,null,null,null,null,null,null,"",""]
[null,null,null,null,null,null,null,null,null,"",""]
[null,null,null,null,null,null,null,null,null,"",""]
[null,null,null,null,null,null,null,null,null,"",""]
[null,null,null,null,null,null,null,null,null,"",""]
[null,null,null,null,null,null,null,null,null,"",""]
[null,null,null,null,null,null,null,null,null,"",""]
[null,null,null,null,null,null,null,null,null,"",""]
[null,null,null,null,null,null,null,null,null,"",""]
[null,null,null,null,null,null,null,null,null,"",""]
[null,null,null,null,null,null,null,null,null,"",""]
[null,null,null,null,null,null,null,null,null,"",""]
[null,null,null,null,null,null,null,null,null,"",""]
[null,null,null,null,null,null,null,null,null,"",""]
[null,null,null,null,null,null,null,null,null,"",""]
[null,null,null,null,null,null,null,null,null,"",""]
[null,null,null,null,null,null,null,null,null,"",""]
[null,null,null,null,null,null,null,null,null,"",""]
[null,null,null,null,null,null,null,null,null,"",""]
[null,null,null,null,null,null,null,null,null,"",""]
[null,null,null,null,null,null,null,null,null,"",""]
[null,null,null,null,null,null,null,null,null,"",""]
[null,null,null,null,null,null,null,null,null,"",""]
[null,null,null,null,null,null,null,null,null,"",""]
[null,null,null,null,null,null,null,null,null,"",""]
[null,null,null,null,null,null,null,null,null,"",""]
[null,null,null,null,null,null,null,null,null,"",""]
[null,null,null,null,null,null,null,null,null,"",""]
[null,null,null,null,null,null,null,null,null,"",""]
[null,null,null,null,null,null,null,null,null,"",""]
[null,null,null,null,null,null,null,null,null,"",""]
[null,null,null,null,null,null,null,null,null,"",""]
[null,null,null,null,null,null,null,null,null,"",""]
[null,null,null,null,null,null,null,null,null,"",""]
[null,null,null,null,null,null,null,null,null,"",""]
[null,null,null,null,null,null,null,null,null,"",""]
[null,null,null,null,null,null,null,null,null,"",""]
[null,null,null,null,null,null,null,null,null,"",""]
[null,null,null,null,null,null,null,null,null,"",""]
[null,null,null,null,null,null,null,null,null,"",""]
[null,null,null,null,null,null,null,null,null,"",""]
[null,null,null,null,null,null,null,null,null,"",""]
[null,null,null,null,null,null,null,null,null,"",""]
[null,null,null,null,null,null,null,null,null,"",""]
[null,null,null,null,null,null,null,null,null,"",""]
[null,null,null,null,null,null,null,null,null,"",""]
[null,null,null,null,null,null,null,null,null,"",""]
[null,null,null,null,null,null,null,null,null,"",""]
[null,null,null,null,null,null,null,null,null,"",""]
[null,null,null,null,null,null,null,null,null,"",""]
[null,null,null,null,null,null,null,null,null,"",""]
[null,null,null,null,null,null,null,null,null,"",""]
[null,null,null,null,null,null,null,null,null,"",""]
[null,null,null,null,null,null,null,null,null,{"$f":"H68&E68","v":""},{"$f":"H68&I68","v":""}]
[null,null,null,null,null,null,null,null,null,"",""]
[null,null,null,null,null,null,null,null,null,"",""]
[null,null,null,null,null,null,null,null,null,"",""]
[null,null,null,null,null,null,null,null,null,"",""]
[null,null,null,null,null,null,null,null,null,"",""]
[null,null,null,null,null,null,null,null,null,"",""]
[null,null,null,null,null,null,null,null,null,"",""]
[null,null,null,null,null,null,null,null,null,"",""]
[null,null,null,null,null,null,null,null,null,"",""]
[null,null,null,null,null,null,null,null,null,"",""]
[null,null,null,null,null,null,null,null,null,"",""]
[null,null,null,null,null,null,null,null,null,"",""]
[null,null,null,null,null,null,null,null,null,"",""]
[null,null,null,null,null,null,null,null,null,"",""]
[null,null,null,null,null,null,null,null,null,"",""]
[null,null,null,null,null,null,null,null,null,"",""]
[null,null,null,null,null,null,null,null,null,"",""]
[null,null,null,null,null,null,null,null,null,"",""]
[null,null,null,null,null,null,null,null,null,"",""]
[null,null,null,null,null,null,null,null,null,"",""]
[null,null,null,null,null,null,null,null,null,"",""]
[null,null,null,null,null,null,null,null,null,"",""]
[null,null,null,null,null,null,null,null,null,"",""]
[null,null,null,null,null,null,null,null,null,"",""]
[null,null,null,null,null,null,null,null,null,"",""]
[null,null,null,null,null,null,null,null,null,"",""]
[null,null,null,null,null,null,null,null,null,"",""]
[null,null,null,null,null,null,null,null,null,"",""]
[null,null,null,null,null,null,null,null,null,"",""]
[null,null,null,null,null,null,null,null,null,"",""]
[null,null,null,null,null,null,null,null,null,"",""]
[null,null,null,null,null,null,null,null,null,"",""]
[null,null,null,null,null,null,null,null,null,"",""]
[null,null,null,null,null,null,null,null,null,"",""]
[null,null,null,null,null,null,null,null,null,"",""]
[null,null,null,null,null,null,null,null,null,"",""]
[null,null,null,null,null,null,null,null,null,"",""]
[null,null,null,null,null,null,null,null,null,"",""]
[null,null,null,null,null,null,null,null,null,"",""]
[null,null,null,null,null,null,null,null,null,"",""]
[null,null,null,null,null,null,null,null,null,"",""]
[null,null,null,null,null,null,null,null,null,"",""]
[null,null,null,null,null,null,null,null,null,"",""]
[null,null,null,null,null,null,null,null,null,"",""]
[null,null,null,null,null,null,null,null,null,"",""]
[null,null,null,null,null,null,null,null,null,"",""]
[null,null,null,null,null,null,null,null,null,"",""]
[null,null,null,null,null,null,null,null,null,"",""]
[null,null,null,null,null,null,null,null,null,"",""]
[null,null,null,null,null,null,null,null,null,"",""]
[null,null,null,null,null,null,null,null,null,"",""]
[null,null,null,null,null,null,null,null,null,"",""]
[null,null,null,null,null,null,null,null,null,"",""]
[null,null,null,null,null,null,null,null,null,"",""]
[null,null,null,null,null,null,null,null,null,"",""]
[null,null,null,null,null,null,null,null,null,"",""]
[null,null,null,null,null,null,null,null,null,"",""]
[null,null,null,null,null,null,null,null,null,"",""]
[null,null,null,null,null,null,null,null,null,"",""]
[null,null,null,null,null,null,null,null,null,"",""]
[null,null,null,null,null,null,null,null,null,"",""]
[null,null,null,null,null,null,null,null,null,"",""]
[null,null,null,null,null,null,null,null,null,"",""]
[null,null,null,null,null,null,null,null,null,{"$f":"H132&E132","v":""},{"$f":"H132&I132","v":""}]
[null,null,null,null,null,null,null,null,null,"",""]
[null,null,null,null,null,null,null,null,null,"",""]
[null,null,null,null,null,null,null,null,null,"",""]
[null,null,null,null,null,null,null,null,null,"",""]
[null,null,null,null,null,null,null,null,null,"",""]
[null,null,null,null,null,null,null,null,null,"",""]
[null,null,null,null,null,null,null,null,null,"",""]
[null,null,null,null,null,null,null,null,null,"",""]
[null,null,null,null,null,null,null,null,null,"",""]
[null,null,null,null,null,null,null,null,null,"",""]
[null,null,null,null,null,null,null,null,null,"",""]
[null,null,null,null,null,null,null,null,null,"",""]
[null,null,null,null,null,null,null,null,null,"",""]
[null,null,null,null,null,null,null,null,null,"",""]
[null,null,null,null,null,null,null,null,null,"",""]
[null,null,null,null,null,null,null,null,null,"",""]
[null,null,null,null,null,null,null,null,null,"",""]
[null,null,null,null,null,null,null,null,null,"",""]
[null,null,null,null,null,null,null,null,null,"",""]
[null,null,null,null,null,null,null,null,null,"",""]
[null,null,null,null,null,null,null,null,null,"",""]
[null,null,null,null,null,null,null,null,null,"",""]
[null,"BOYS","GIRLS","TOTAL"]
["SC",{"$f":"COUNTIF($J$4:$J$153,\"BSC\")","v":0},{"$f":"COUNTIF($J$4:$J$153,\"GSC\")","v":0},{"$f":"SUM(B156:C156)","v":0},null,null,null,null,null,null,{"$f":"H156&I156","v":""}]
["ST",{"$f":"COUNTIF($J$4:$J$153,\"BST\")","v":0},{"$f":"COUNTIF($J$4:$J$153,\"GST\")","v":0},{"$f":"SUM(B157:C157)","v":0},null,null,null,null,null,null,""]
["BC",{"$f":"COUNTIF($J$4:$J$153,\"BBC\")","v":0},{"$f":"COUNTIF($J$4:$J$153,\"GBC\")","v":0},{"$f":"SUM(B158:C158)","v":0},null,"MIN BOY","MIN GIRL",null,null,null,""]
["OC",{"$f":"COUNTIF($J$4:$J$153,\"BOC\")","v":0},{"$f":"COUNTIF($J$4:$J$153,\"GOC\")","v":0},{"$f":"SUM(B159:C159)","v":0},null,{"$f":"COUNTIF(K4:K154,\"BY\")","v":0},{"$f":"COUNTIF(K4:K154,\"GY\")","v":0},null,null,null,""]
["TOTAL",{"$f":"SUM(B156:B159)","v":0},{"$f":"SUM(C156:C159)","v":0},{"$f":"SUM(D156:D159)","v":0},null,null,null,null,null,null,""]
[null,null,null,null,null,null,null,null,null,null,""]

{"sheet":"EXTRA2","index":20,"n_rows":161,"n_cols":11,"rows_kept":161,"cut":false,"hidden":false,"merged":[[0,0,0,6],[1,0,1,1]]}
[{"$f":"A2 &\"-\"& ACADEMICYEAR","v":"EXTRA2-2019-20"}]
[{"$f":"RIGHT(CELL(\"filename\",C1),LEN(CELL(\"filename\",C1))-FIND(\"]\",CELL(\"filename\",C1)))","v":"EXTRA2"}]
["RNO","ADMN NO","NAME OF THE STUDENT","FATHER'S NAME","CASTE","DOB","DOA","SEX","MUSLIM"]
[null,null,null,null,null,null,null,null,null,{"$f":"H4&E4","v":""},{"$f":"H4&I4","v":""}]
[null,null,null,null,null,null,null,null,null,"",""]
[null,null,null,null,null,null,null,null,null,"",""]
[null,null,null,null,null,null,null,null,null,"",""]
[null,null,null,null,null,null,null,null,null,"",""]
[null,null,null,null,null,null,null,null,null,"",""]
[null,null,null,null,null,null,null,null,null,"",""]
[null,null,null,null,null,null,null,null,null,"",""]
[null,null,null,null,null,null,null,null,null,"",""]
[null,null,null,null,null,null,null,null,null,"",""]
[null,null,null,null,null,null,null,null,null,"",""]
[null,null,null,null,null,null,null,null,null,"",""]
[null,null,null,null,null,null,null,null,null,"",""]
[null,null,null,null,null,null,null,null,null,"",""]
[null,null,null,null,null,null,null,null,null,"",""]
[null,null,null,null,null,null,null,null,null,"",""]
[null,null,null,null,null,null,null,null,null,"",""]
[null,null,null,null,null,null,null,null,null,"",""]
[null,null,null,null,null,null,null,null,null,"",""]
[null,null,null,null,null,null,null,null,null,"",""]
[null,null,null,null,null,null,null,null,null,"",""]
[null,null,null,null,null,null,null,null,null,"",""]
[null,null,null,null,null,null,null,null,null,"",""]
[null,null,null,null,null,null,null,null,null,"",""]
[null,null,null,null,null,null,null,null,null,"",""]
[null,null,null,null,null,null,null,null,null,"",""]
[null,null,null,null,null,null,null,null,null,"",""]
[null,null,null,null,null,null,null,null,null,"",""]
[null,null,null,null,null,null,null,null,null,"",""]
[null,null,null,null,null,null,null,null,null,"",""]
[null,null,null,null,null,null,null,null,null,"",""]
[null,null,null,null,null,null,null,null,null,"",""]
[null,null,null,null,null,null,null,null,null,"",""]
[null,null,null,null,null,null,null,null,null,"",""]
[null,null,null,null,null,null,null,null,null,"",""]
[null,null,null,null,null,null,null,null,null,"",""]
[null,null,null,null,null,null,null,null,null,"",""]
[null,null,null,null,null,null,null,null,null,"",""]
[null,null,null,null,null,null,null,null,null,"",""]
[null,null,null,null,null,null,null,null,null,"",""]
[null,null,null,null,null,null,null,null,null,"",""]
[null,null,null,null,null,null,null,null,null,"",""]
[null,null,null,null,null,null,null,null,null,"",""]
[null,null,null,null,null,null,null,null,null,"",""]
[null,null,null,null,null,null,null,null,null,"",""]
[null,null,null,null,null,null,null,null,null,"",""]
[null,null,null,null,null,null,null,null,null,"",""]
[null,null,null,null,null,null,null,null,null,"",""]
[null,null,null,null,null,null,null,null,null,"",""]
[null,null,null,null,null,null,null,null,null,"",""]
[null,null,null,null,null,null,null,null,null,"",""]
[null,null,null,null,null,null,null,null,null,"",""]
[null,null,null,null,null,null,null,null,null,"",""]
[null,null,null,null,null,null,null,null,null,"",""]
[null,null,null,null,null,null,null,null,null,"",""]
[null,null,null,null,null,null,null,null,null,"",""]
[null,null,null,null,null,null,null,null,null,"",""]
[null,null,null,null,null,null,null,null,null,"",""]
[null,null,null,null,null,null,null,null,null,"",""]
[null,null,null,null,null,null,null,null,null,"",""]
[null,null,null,null,null,null,null,null,null,"",""]
[null,null,null,null,null,null,null,null,null,"",""]
[null,null,null,null,null,null,null,null,null,"",""]
[null,null,null,null,null,null,null,null,null,"",""]
[null,null,null,null,null,null,null,null,null,{"$f":"H68&E68","v":""},{"$f":"H68&I68","v":""}]
[null,null,null,null,null,null,null,null,null,"",""]
[null,null,null,null,null,null,null,null,null,"",""]
[null,null,null,null,null,null,null,null,null,"",""]
[null,null,null,null,null,null,null,null,null,"",""]
[null,null,null,null,null,null,null,null,null,"",""]
[null,null,null,null,null,null,null,null,null,"",""]
[null,null,null,null,null,null,null,null,null,"",""]
[null,null,null,null,null,null,null,null,null,"",""]
[null,null,null,null,null,null,null,null,null,"",""]
[null,null,null,null,null,null,null,null,null,"",""]
[null,null,null,null,null,null,null,null,null,"",""]
[null,null,null,null,null,null,null,null,null,"",""]
[null,null,null,null,null,null,null,null,null,"",""]
[null,null,null,null,null,null,null,null,null,"",""]
[null,null,null,null,null,null,null,null,null,"",""]
[null,null,null,null,null,null,null,null,null,"",""]
[null,null,null,null,null,null,null,null,null,"",""]
[null,null,null,null,null,null,null,null,null,"",""]
[null,null,null,null,null,null,null,null,null,"",""]
[null,null,null,null,null,null,null,null,null,"",""]
[null,null,null,null,null,null,null,null,null,"",""]
[null,null,null,null,null,null,null,null,null,"",""]
[null,null,null,null,null,null,null,null,null,"",""]
[null,null,null,null,null,null,null,null,null,"",""]
[null,null,null,null,null,null,null,null,null,"",""]
[null,null,null,null,null,null,null,null,null,"",""]
[null,null,null,null,null,null,null,null,null,"",""]
[null,null,null,null,null,null,null,null,null,"",""]
[null,null,null,null,null,null,null,null,null,"",""]
[null,null,null,null,null,null,null,null,null,"",""]
[null,null,null,null,null,null,null,null,null,"",""]
[null,null,null,null,null,null,null,null,null,"",""]
[null,null,null,null,null,null,null,null,null,"",""]
[null,null,null,null,null,null,null,null,null,"",""]
[null,null,null,null,null,null,null,null,null,"",""]
[null,null,null,null,null,null,null,null,null,"",""]
[null,null,null,null,null,null,null,null,null,"",""]
[null,null,null,null,null,null,null,null,null,"",""]
[null,null,null,null,null,null,null,null,null,"",""]
[null,null,null,null,null,null,null,null,null,"",""]
[null,null,null,null,null,null,null,null,null,"",""]
[null,null,null,null,null,null,null,null,null,"",""]
[null,null,null,null,null,null,null,null,null,"",""]
[null,null,null,null,null,null,null,null,null,"",""]
[null,null,null,null,null,null,null,null,null,"",""]
[null,null,null,null,null,null,null,null,null,"",""]
[null,null,null,null,null,null,null,null,null,"",""]
[null,null,null,null,null,null,null,null,null,"",""]
[null,null,null,null,null,null,null,null,null,"",""]
[null,null,null,null,null,null,null,null,null,"",""]
[null,null,null,null,null,null,null,null,null,"",""]
[null,null,null,null,null,null,null,null,null,"",""]
[null,null,null,null,null,null,null,null,null,"",""]
[null,null,null,null,null,null,null,null,null,"",""]
[null,null,null,null,null,null,null,null,null,"",""]
[null,null,null,null,null,null,null,null,null,"",""]
[null,null,null,null,null,null,null,null,null,"",""]
[null,null,null,null,null,null,null,null,null,"",""]
[null,null,null,null,null,null,null,null,null,"",""]
[null,null,null,null,null,null,null,null,null,"",""]
[null,null,null,null,null,null,null,null,null,"",""]
[null,null,null,null,null,null,null,null,null,"",""]
[null,null,null,null,null,null,null,null,null,"",""]
[null,null,null,null,null,null,null,null,null,{"$f":"H132&E132","v":""},{"$f":"H132&I132","v":""}]
[null,null,null,null,null,null,null,null,null,"",""]
[null,null,null,null,null,null,null,null,null,"",""]
[null,null,null,null,null,null,null,null,null,"",""]
[null,null,null,null,null,null,null,null,null,"",""]
[null,null,null,null,null,null,null,null,null,"",""]
[null,null,null,null,null,null,null,null,null,"",""]
[null,null,null,null,null,null,null,null,null,"",""]
[null,null,null,null,null,null,null,null,null,"",""]
[null,null,null,null,null,null,null,null,null,"",""]
[null,null,null,null,null,null,null,null,null,"",""]
[null,null,null,null,null,null,null,null,null,"",""]
[null,null,null,null,null,null,null,null,null,"",""]
[null,null,null,null,null,null,null,null,null,"",""]
[null,null,null,null,null,null,null,null,null,"",""]
[null,null,null,null,null,null,null,null,null,"",""]
[null,null,null,null,null,null,null,null,null,"",""]
[null,null,null,null,null,null,null,null,null,"",""]
[null,null,null,null,null,null,null,null,null,"",""]
[null,null,null,null,null,null,null,null,null,"",""]
[null,null,null,null,null,null,null,null,null,"",""]
[null,null,null,null,null,null,null,null,null,"",""]
[null,null,null,null,null,null,null,null,null,"",""]
[null,"BOYS","GIRLS","TOTAL"]
["SC",{"$f":"COUNTIF($J$4:$J$153,\"BSC\")","v":0},{"$f":"COUNTIF($J$4:$J$153,\"GSC\")","v":0},{"$f":"SUM(B156:C156)","v":0},null,null,null,null,null,null,{"$f":"H156&I156","v":""}]
["ST",{"$f":"COUNTIF($J$4:$J$153,\"BST\")","v":0},{"$f":"COUNTIF($J$4:$J$153,\"GST\")","v":0},{"$f":"SUM(B157:C157)","v":0},null,null,null,null,null,null,""]
["BC",{"$f":"COUNTIF($J$4:$J$153,\"BBC\")","v":0},{"$f":"COUNTIF($J$4:$J$153,\"GBC\")","v":0},{"$f":"SUM(B158:C158)","v":0},null,"MIN BOY","MIN GIRL",null,null,null,""]
["OC",{"$f":"COUNTIF($J$4:$J$153,\"BOC\")","v":0},{"$f":"COUNTIF($J$4:$J$153,\"GOC\")","v":0},{"$f":"SUM(B159:C159)","v":0},null,{"$f":"COUNTIF(K4:K154,\"BY\")","v":0},{"$f":"COUNTIF(K4:K154,\"GY\")","v":0},null,null,null,""]
["TOTAL",{"$f":"SUM(B156:B159)","v":0},{"$f":"SUM(C156:C159)","v":0},{"$f":"SUM(D156:D159)","v":0},null,null,null,null,null,null,""]
[null,null,null,null,null,null,null,null,null,null,""]

{"sheet":"EXTRA3","index":21,"n_rows":161,"n_cols":11,"rows_kept":161,"cut":false,"hidden":false,"merged":[[0,0,0,6],[1,0,1,1]]}
[{"$f":"A2 &\"-\"& ACADEMICYEAR","v":"EXTRA3-2019-20"}]
[{"$f":"RIGHT(CELL(\"filename\",C1),LEN(CELL(\"filename\",C1))-FIND(\"]\",CELL(\"filename\",C1)))","v":"EXTRA3"}]
["RNO","ADMN NO","NAME OF THE STUDENT","FATHER'S NAME","CASTE","DOB","DOA","SEX","MUSLIM"]
[null,null,null,null,null,null,null,null,null,{"$f":"H4&E4","v":""},{"$f":"H4&I4","v":""}]
[null,null,null,null,null,null,null,null,null,"",""]
[null,null,null,null,null,null,null,null,null,"",""]
[null,null,null,null,null,null,null,null,null,"",""]
[null,null,null,null,null,null,null,null,null,"",""]
[null,null,null,null,null,null,null,null,null,"",""]
[null,null,null,null,null,null,null,null,null,"",""]
[null,null,null,null,null,null,null,null,null,"",""]
[null,null,null,null,null,null,null,null,null,"",""]
[null,null,null,null,null,null,null,null,null,"",""]
[null,null,null,null,null,null,null,null,null,"",""]
[null,null,null,null,null,null,null,null,null,"",""]
[null,null,null,null,null,null,null,null,null,"",""]
[null,null,null,null,null,null,null,null,null,"",""]
[null,null,null,null,null,null,null,null,null,"",""]
[null,null,null,null,null,null,null,null,null,"",""]
[null,null,null,null,null,null,null,null,null,"",""]
[null,null,null,null,null,null,null,null,null,"",""]
[null,null,null,null,null,null,null,null,null,"",""]
[null,null,null,null,null,null,null,null,null,"",""]
[null,null,null,null,null,null,null,null,null,"",""]
[null,null,null,null,null,null,null,null,null,"",""]
[null,null,null,null,null,null,null,null,null,"",""]
[null,null,null,null,null,null,null,null,null,"",""]
[null,null,null,null,null,null,null,null,null,"",""]
[null,null,null,null,null,null,null,null,null,"",""]
[null,null,null,null,null,null,null,null,null,"",""]
[null,null,null,null,null,null,null,null,null,"",""]
[null,null,null,null,null,null,null,null,null,"",""]
[null,null,null,null,null,null,null,null,null,"",""]
[null,null,null,null,null,null,null,null,null,"",""]
[null,null,null,null,null,null,null,null,null,"",""]
[null,null,null,null,null,null,null,null,null,"",""]
[null,null,null,null,null,null,null,null,null,"",""]
[null,null,null,null,null,null,null,null,null,"",""]
[null,null,null,null,null,null,null,null,null,"",""]
[null,null,null,null,null,null,null,null,null,"",""]
[null,null,null,null,null,null,null,null,null,"",""]
[null,null,null,null,null,null,null,null,null,"",""]
[null,null,null,null,null,null,null,null,null,"",""]
[null,null,null,null,null,null,null,null,null,"",""]
[null,null,null,null,null,null,null,null,null,"",""]
[null,null,null,null,null,null,null,null,null,"",""]
[null,null,null,null,null,null,null,null,null,"",""]
[null,null,null,null,null,null,null,null,null,"",""]
[null,null,null,null,null,null,null,null,null,"",""]
[null,null,null,null,null,null,null,null,null,"",""]
[null,null,null,null,null,null,null,null,null,"",""]
[null,null,null,null,null,null,null,null,null,"",""]
[null,null,null,null,null,null,null,null,null,"",""]
[null,null,null,null,null,null,null,null,null,"",""]
[null,null,null,null,null,null,null,null,null,"",""]
[null,null,null,null,null,null,null,null,null,"",""]
[null,null,null,null,null,null,null,null,null,"",""]
[null,null,null,null,null,null,null,null,null,"",""]
[null,null,null,null,null,null,null,null,null,"",""]
[null,null,null,null,null,null,null,null,null,"",""]
[null,null,null,null,null,null,null,null,null,"",""]
[null,null,null,null,null,null,null,null,null,"",""]
[null,null,null,null,null,null,null,null,null,"",""]
[null,null,null,null,null,null,null,null,null,"",""]
[null,null,null,null,null,null,null,null,null,"",""]
[null,null,null,null,null,null,null,null,null,"",""]
[null,null,null,null,null,null,null,null,null,"",""]
[null,null,null,null,null,null,null,null,null,{"$f":"H68&E68","v":""},{"$f":"H68&I68","v":""}]
[null,null,null,null,null,null,null,null,null,"",""]
[null,null,null,null,null,null,null,null,null,"",""]
[null,null,null,null,null,null,null,null,null,"",""]
[null,null,null,null,null,null,null,null,null,"",""]
[null,null,null,null,null,null,null,null,null,"",""]
[null,null,null,null,null,null,null,null,null,"",""]
[null,null,null,null,null,null,null,null,null,"",""]
[null,null,null,null,null,null,null,null,null,"",""]
[null,null,null,null,null,null,null,null,null,"",""]
[null,null,null,null,null,null,null,null,null,"",""]
[null,null,null,null,null,null,null,null,null,"",""]
[null,null,null,null,null,null,null,null,null,"",""]
[null,null,null,null,null,null,null,null,null,"",""]
[null,null,null,null,null,null,null,null,null,"",""]
[null,null,null,null,null,null,null,null,null,"",""]
[null,null,null,null,null,null,null,null,null,"",""]
[null,null,null,null,null,null,null,null,null,"",""]
[null,null,null,null,null,null,null,null,null,"",""]
[null,null,null,null,null,null,null,null,null,"",""]
[null,null,null,null,null,null,null,null,null,"",""]
[null,null,null,null,null,null,null,null,null,"",""]
[null,null,null,null,null,null,null,null,null,"",""]
[null,null,null,null,null,null,null,null,null,"",""]
[null,null,null,null,null,null,null,null,null,"",""]
[null,null,null,null,null,null,null,null,null,"",""]
[null,null,null,null,null,null,null,null,null,"",""]
[null,null,null,null,null,null,null,null,null,"",""]
[null,null,null,null,null,null,null,null,null,"",""]
[null,null,null,null,null,null,null,null,null,"",""]
[null,null,null,null,null,null,null,null,null,"",""]
[null,null,null,null,null,null,null,null,null,"",""]
[null,null,null,null,null,null,null,null,null,"",""]
[null,null,null,null,null,null,null,null,null,"",""]
[null,null,null,null,null,null,null,null,null,"",""]
[null,null,null,null,null,null,null,null,null,"",""]
[null,null,null,null,null,null,null,null,null,"",""]
[null,null,null,null,null,null,null,null,null,"",""]
[null,null,null,null,null,null,null,null,null,"",""]
[null,null,null,null,null,null,null,null,null,"",""]
[null,null,null,null,null,null,null,null,null,"",""]
[null,null,null,null,null,null,null,null,null,"",""]
[null,null,null,null,null,null,null,null,null,"",""]
[null,null,null,null,null,null,null,null,null,"",""]
[null,null,null,null,null,null,null,null,null,"",""]
[null,null,null,null,null,null,null,null,null,"",""]
[null,null,null,null,null,null,null,null,null,"",""]
[null,null,null,null,null,null,null,null,null,"",""]
[null,null,null,null,null,null,null,null,null,"",""]
[null,null,null,null,null,null,null,null,null,"",""]
[null,null,null,null,null,null,null,null,null,"",""]
[null,null,null,null,null,null,null,null,null,"",""]
[null,null,null,null,null,null,null,null,null,"",""]
[null,null,null,null,null,null,null,null,null,"",""]
[null,null,null,null,null,null,null,null,null,"",""]
[null,null,null,null,null,null,null,null,null,"",""]
[null,null,null,null,null,null,null,null,null,"",""]
[null,null,null,null,null,null,null,null,null,"",""]
[null,null,null,null,null,null,null,null,null,"",""]
[null,null,null,null,null,null,null,null,null,"",""]
[null,null,null,null,null,null,null,null,null,"",""]
[null,null,null,null,null,null,null,null,null,"",""]
[null,null,null,null,null,null,null,null,null,"",""]
[null,null,null,null,null,null,null,null,null,"",""]
[null,null,null,null,null,null,null,null,null,{"$f":"H132&E132","v":""},{"$f":"H132&I132","v":""}]
[null,null,null,null,null,null,null,null,null,"",""]
[null,null,null,null,null,null,null,null,null,"",""]
[null,null,null,null,null,null,null,null,null,"",""]
[null,null,null,null,null,null,null,null,null,"",""]
[null,null,null,null,null,null,null,null,null,"",""]
[null,null,null,null,null,null,null,null,null,"",""]
[null,null,null,null,null,null,null,null,null,"",""]
[null,null,null,null,null,null,null,null,null,"",""]
[null,null,null,null,null,null,null,null,null,"",""]
[null,null,null,null,null,null,null,null,null,"",""]
[null,null,null,null,null,null,null,null,null,"",""]
[null,null,null,null,null,null,null,null,null,"",""]
[null,null,null,null,null,null,null,null,null,"",""]
[null,null,null,null,null,null,null,null,null,"",""]
[null,null,null,null,null,null,null,null,null,"",""]
[null,null,null,null,null,null,null,null,null,"",""]
[null,null,null,null,null,null,null,null,null,"",""]
[null,null,null,null,null,null,null,null,null,"",""]
[null,null,null,null,null,null,null,null,null,"",""]
[null,null,null,null,null,null,null,null,null,"",""]
[null,null,null,null,null,null,null,null,null,"",""]
[null,null,null,null,null,null,null,null,null,"",""]
[null,"BOYS","GIRLS","TOTAL"]
["SC",{"$f":"COUNTIF($J$4:$J$153,\"BSC\")","v":0},{"$f":"COUNTIF($J$4:$J$153,\"GSC\")","v":0},{"$f":"SUM(B156:C156)","v":0},null,null,null,null,null,null,{"$f":"H156&I156","v":""}]
["ST",{"$f":"COUNTIF($J$4:$J$153,\"BST\")","v":0},{"$f":"COUNTIF($J$4:$J$153,\"GST\")","v":0},{"$f":"SUM(B157:C157)","v":0},null,null,null,null,null,null,""]
["BC",{"$f":"COUNTIF($J$4:$J$153,\"BBC\")","v":0},{"$f":"COUNTIF($J$4:$J$153,\"GBC\")","v":0},{"$f":"SUM(B158:C158)","v":0},null,"MIN BOY","MIN GIRL",null,null,null,""]
["OC",{"$f":"COUNTIF($J$4:$J$153,\"BOC\")","v":0},{"$f":"COUNTIF($J$4:$J$153,\"GOC\")","v":0},{"$f":"SUM(B159:C159)","v":0},null,{"$f":"COUNTIF(K4:K154,\"BY\")","v":0},{"$f":"COUNTIF(K4:K154,\"GY\")","v":0},null,null,null,""]
["TOTAL",{"$f":"SUM(B156:B159)","v":0},{"$f":"SUM(C156:C159)","v":0},{"$f":"SUM(D156:D159)","v":0},null,null,null,null,null,null,""]
[null,null,null,null,null,null,null,null,null,null,""]

{"sheet":"EXTRA4","index":22,"n_rows":161,"n_cols":11,"rows_kept":161,"cut":false,"hidden":false,"merged":[[0,0,0,6],[1,0,1,1]]}
[{"$f":"A2 &\"-\"& ACADEMICYEAR","v":"EXTRA4-2019-20"}]
[{"$f":"RIGHT(CELL(\"filename\",C1),LEN(CELL(\"filename\",C1))-FIND(\"]\",CELL(\"filename\",C1)))","v":"EXTRA4"}]
["RNO","ADMN NO","NAME OF THE STUDENT","FATHER'S NAME","CASTE","DOB","DOA","SEX","MUSLIM"]
[null,null,null,null,null,null,null,null,null,{"$f":"H4&E4","v":""},{"$f":"H4&I4","v":""}]
[null,null,null,null,null,null,null,null,null,"",""]
[null,null,null,null,null,null,null,null,null,"",""]
[null,null,null,null,null,null,null,null,null,"",""]
[null,null,null,null,null,null,null,null,null,"",""]
[null,null,null,null,null,null,null,null,null,"",""]
[null,null,null,null,null,null,null,null,null,"",""]
[null,null,null,null,null,null,null,null,null,"",""]
[null,null,null,null,null,null,null,null,null,"",""]
[null,null,null,null,null,null,null,null,null,"",""]
[null,null,null,null,null,null,null,null,null,"",""]
[null,null,null,null,null,null,null,null,null,"",""]
[null,null,null,null,null,null,null,null,null,"",""]
[null,null,null,null,null,null,null,null,null,"",""]
[null,null,null,null,null,null,null,null,null,"",""]
[null,null,null,null,null,null,null,null,null,"",""]
[null,null,null,null,null,null,null,null,null,"",""]
[null,null,null,null,null,null,null,null,null,"",""]
[null,null,null,null,null,null,null,null,null,"",""]
[null,null,null,null,null,null,null,null,null,"",""]
[null,null,null,null,null,null,null,null,null,"",""]
[null,null,null,null,null,null,null,null,null,"",""]
[null,null,null,null,null,null,null,null,null,"",""]
[null,null,null,null,null,null,null,null,null,"",""]
[null,null,null,null,null,null,null,null,null,"",""]
[null,null,null,null,null,null,null,null,null,"",""]
[null,null,null,null,null,null,null,null,null,"",""]
[null,null,null,null,null,null,null,null,null,"",""]
[null,null,null,null,null,null,null,null,null,"",""]
[null,null,null,null,null,null,null,null,null,"",""]
[null,null,null,null,null,null,null,null,null,"",""]
[null,null,null,null,null,null,null,null,null,"",""]
[null,null,null,null,null,null,null,null,null,"",""]
[null,null,null,null,null,null,null,null,null,"",""]
[null,null,null,null,null,null,null,null,null,"",""]
[null,null,null,null,null,null,null,null,null,"",""]
[null,null,null,null,null,null,null,null,null,"",""]
[null,null,null,null,null,null,null,null,null,"",""]
[null,null,null,null,null,null,null,null,null,"",""]
[null,null,null,null,null,null,null,null,null,"",""]
[null,null,null,null,null,null,null,null,null,"",""]
[null,null,null,null,null,null,null,null,null,"",""]
[null,null,null,null,null,null,null,null,null,"",""]
[null,null,null,null,null,null,null,null,null,"",""]
[null,null,null,null,null,null,null,null,null,"",""]
[null,null,null,null,null,null,null,null,null,"",""]
[null,null,null,null,null,null,null,null,null,"",""]
[null,null,null,null,null,null,null,null,null,"",""]
[null,null,null,null,null,null,null,null,null,"",""]
[null,null,null,null,null,null,null,null,null,"",""]
[null,null,null,null,null,null,null,null,null,"",""]
[null,null,null,null,null,null,null,null,null,"",""]
[null,null,null,null,null,null,null,null,null,"",""]
[null,null,null,null,null,null,null,null,null,"",""]
[null,null,null,null,null,null,null,null,null,"",""]
[null,null,null,null,null,null,null,null,null,"",""]
[null,null,null,null,null,null,null,null,null,"",""]
[null,null,null,null,null,null,null,null,null,"",""]
[null,null,null,null,null,null,null,null,null,"",""]
[null,null,null,null,null,null,null,null,null,"",""]
[null,null,null,null,null,null,null,null,null,"",""]
[null,null,null,null,null,null,null,null,null,"",""]
[null,null,null,null,null,null,null,null,null,"",""]
[null,null,null,null,null,null,null,null,null,"",""]
[null,null,null,null,null,null,null,null,null,{"$f":"H68&E68","v":""},{"$f":"H68&I68","v":""}]
[null,null,null,null,null,null,null,null,null,"",""]
[null,null,null,null,null,null,null,null,null,"",""]
[null,null,null,null,null,null,null,null,null,"",""]
[null,null,null,null,null,null,null,null,null,"",""]
[null,null,null,null,null,null,null,null,null,"",""]
[null,null,null,null,null,null,null,null,null,"",""]
[null,null,null,null,null,null,null,null,null,"",""]
[null,null,null,null,null,null,null,null,null,"",""]
[null,null,null,null,null,null,null,null,null,"",""]
[null,null,null,null,null,null,null,null,null,"",""]
[null,null,null,null,null,null,null,null,null,"",""]
[null,null,null,null,null,null,null,null,null,"",""]
[null,null,null,null,null,null,null,null,null,"",""]
[null,null,null,null,null,null,null,null,null,"",""]
[null,null,null,null,null,null,null,null,null,"",""]
[null,null,null,null,null,null,null,null,null,"",""]
[null,null,null,null,null,null,null,null,null,"",""]
[null,null,null,null,null,null,null,null,null,"",""]
[null,null,null,null,null,null,null,null,null,"",""]
[null,null,null,null,null,null,null,null,null,"",""]
[null,null,null,null,null,null,null,null,null,"",""]
[null,null,null,null,null,null,null,null,null,"",""]
[null,null,null,null,null,null,null,null,null,"",""]
[null,null,null,null,null,null,null,null,null,"",""]
[null,null,null,null,null,null,null,null,null,"",""]
[null,null,null,null,null,null,null,null,null,"",""]
[null,null,null,null,null,null,null,null,null,"",""]
[null,null,null,null,null,null,null,null,null,"",""]
[null,null,null,null,null,null,null,null,null,"",""]
[null,null,null,null,null,null,null,null,null,"",""]
[null,null,null,null,null,null,null,null,null,"",""]
[null,null,null,null,null,null,null,null,null,"",""]
[null,null,null,null,null,null,null,null,null,"",""]
[null,null,null,null,null,null,null,null,null,"",""]
[null,null,null,null,null,null,null,null,null,"",""]
[null,null,null,null,null,null,null,null,null,"",""]
[null,null,null,null,null,null,null,null,null,"",""]
[null,null,null,null,null,null,null,null,null,"",""]
[null,null,null,null,null,null,null,null,null,"",""]
[null,null,null,null,null,null,null,null,null,"",""]
[null,null,null,null,null,null,null,null,null,"",""]
[null,null,null,null,null,null,null,null,null,"",""]
[null,null,null,null,null,null,null,null,null,"",""]
[null,null,null,null,null,null,null,null,null,"",""]
[null,null,null,null,null,null,null,null,null,"",""]
[null,null,null,null,null,null,null,null,null,"",""]
[null,null,null,null,null,null,null,null,null,"",""]
[null,null,null,null,null,null,null,null,null,"",""]
[null,null,null,null,null,null,null,null,null,"",""]
[null,null,null,null,null,null,null,null,null,"",""]
[null,null,null,null,null,null,null,null,null,"",""]
[null,null,null,null,null,null,null,null,null,"",""]
[null,null,null,null,null,null,null,null,null,"",""]
[null,null,null,null,null,null,null,null,null,"",""]
[null,null,null,null,null,null,null,null,null,"",""]
[null,null,null,null,null,null,null,null,null,"",""]
[null,null,null,null,null,null,null,null,null,"",""]
[null,null,null,null,null,null,null,null,null,"",""]
[null,null,null,null,null,null,null,null,null,"",""]
[null,null,null,null,null,null,null,null,null,"",""]
[null,null,null,null,null,null,null,null,null,"",""]
[null,null,null,null,null,null,null,null,null,"",""]
[null,null,null,null,null,null,null,null,null,"",""]
[null,null,null,null,null,null,null,null,null,{"$f":"H132&E132","v":""},{"$f":"H132&I132","v":""}]
[null,null,null,null,null,null,null,null,null,"",""]
[null,null,null,null,null,null,null,null,null,"",""]
[null,null,null,null,null,null,null,null,null,"",""]
[null,null,null,null,null,null,null,null,null,"",""]
[null,null,null,null,null,null,null,null,null,"",""]
[null,null,null,null,null,null,null,null,null,"",""]
[null,null,null,null,null,null,null,null,null,"",""]
[null,null,null,null,null,null,null,null,null,"",""]
[null,null,null,null,null,null,null,null,null,"",""]
[null,null,null,null,null,null,null,null,null,"",""]
[null,null,null,null,null,null,null,null,null,"",""]
[null,null,null,null,null,null,null,null,null,"",""]
[null,null,null,null,null,null,null,null,null,"",""]
[null,null,null,null,null,null,null,null,null,"",""]
[null,null,null,null,null,null,null,null,null,"",""]
[null,null,null,null,null,null,null,null,null,"",""]
[null,null,null,null,null,null,null,null,null,"",""]
[null,null,null,null,null,null,null,null,null,"",""]
[null,null,null,null,null,null,null,null,null,"",""]
[null,null,null,null,null,null,null,null,null,"",""]
[null,null,null,null,null,null,null,null,null,"",""]
[null,null,null,null,null,null,null,null,null,"",""]
[null,"BOYS","GIRLS","TOTAL"]
["SC",{"$f":"COUNTIF($J$4:$J$153,\"BSC\")","v":0},{"$f":"COUNTIF($J$4:$J$153,\"GSC\")","v":0},{"$f":"SUM(B156:C156)","v":0},null,null,null,null,null,null,{"$f":"H156&I156","v":""}]
["ST",{"$f":"COUNTIF($J$4:$J$153,\"BST\")","v":0},{"$f":"COUNTIF($J$4:$J$153,\"GST\")","v":0},{"$f":"SUM(B157:C157)","v":0},null,null,null,null,null,null,""]
["BC",{"$f":"COUNTIF($J$4:$J$153,\"BBC\")","v":0},{"$f":"COUNTIF($J$4:$J$153,\"GBC\")","v":0},{"$f":"SUM(B158:C158)","v":0},null,"MIN BOY","MIN GIRL",null,null,null,""]
["OC",{"$f":"COUNTIF($J$4:$J$153,\"BOC\")","v":0},{"$f":"COUNTIF($J$4:$J$153,\"GOC\")","v":0},{"$f":"SUM(B159:C159)","v":0},null,{"$f":"COUNTIF(K4:K154,\"BY\")","v":0},{"$f":"COUNTIF(K4:K154,\"GY\")","v":0},null,null,null,""]
["TOTAL",{"$f":"SUM(B156:B159)","v":0},{"$f":"SUM(C156:C159)","v":0},{"$f":"SUM(D156:D159)","v":0},null,null,null,null,null,null,""]
[null,null,null,null,null,null,null,null,null,null,""]

{"sheet":"EXTRA5","index":23,"n_rows":161,"n_cols":11,"rows_kept":161,"cut":false,"hidden":false,"merged":[[0,0,0,6],[1,0,1,1]]}
[{"$f":"A2 &\"-\"& ACADEMICYEAR","v":"EXTRA5-2019-20"}]
[{"$f":"RIGHT(CELL(\"filename\",C1),LEN(CELL(\"filename\",C1))-FIND(\"]\",CELL(\"filename\",C1)))","v":"EXTRA5"}]
["RNO","ADMN NO","NAME OF THE STUDENT","FATHER'S NAME","CASTE","DOB","DOA","SEX","MUSLIM"]
[null,9999,"gv","ggg","sc","1976-03-07","2020-09-07","B","Y",{"$f":"H4&E4","v":"Bsc"},{"$f":"H4&I4","v":"BY"}]
[null,null,null,null,null,null,null,null,null,"",""]
[null,null,null,null,null,null,null,null,null,"",""]
[null,null,null,null,null,null,null,null,null,"",""]
[null,null,null,null,null,null,null,null,null,"",""]
[null,null,null,null,null,null,null,null,null,"",""]
[null,null,null,null,null,null,null,null,null,"",""]
[null,null,null,null,null,null,null,null,null,"",""]
[null,null,null,null,null,null,null,null,null,"",""]
[null,null,null,null,null,null,null,null,null,"",""]
[null,null,null,null,null,null,null,null,null,"",""]
[null,null,null,null,null,null,null,null,null,"",""]
[null,null,null,null,null,null,null,null,null,"",""]
[null,null,null,null,null,null,null,null,null,"",""]
[null,null,null,null,null,null,null,null,null,"",""]
[null,null,null,null,null,null,null,null,null,"",""]
[null,null,null,null,null,null,null,null,null,"",""]
[null,null,null,null,null,null,null,null,null,"",""]
[null,null,null,null,null,null,null,null,null,"",""]
[null,null,null,null,null,null,null,null,null,"",""]
[null,null,null,null,null,null,null,null,null,"",""]
[null,null,null,null,null,null,null,null,null,"",""]
[null,null,null,null,null,null,null,null,null,"",""]
[null,null,null,null,null,null,null,null,null,"",""]
[null,null,null,null,null,null,null,null,null,"",""]
[null,null,null,null,null,null,null,null,null,"",""]
[null,null,null,null,null,null,null,null,null,"",""]
[null,null,null,null,null,null,null,null,null,"",""]
[null,null,null,null,null,null,null,null,null,"",""]
[null,null,null,null,null,null,null,null,null,"",""]
[null,null,null,null,null,null,null,null,null,"",""]
[null,null,null,null,null,null,null,null,null,"",""]
[null,null,null,null,null,null,null,null,null,"",""]
[null,null,null,null,null,null,null,null,null,"",""]
[null,null,null,null,null,null,null,null,null,"",""]
[null,null,null,null,null,null,null,null,null,"",""]
[null,null,null,null,null,null,null,null,null,"",""]
[null,null,null,null,null,null,null,null,null,"",""]
[null,null,null,null,null,null,null,null,null,"",""]
[null,null,null,null,null,null,null,null,null,"",""]
[null,null,null,null,null,null,null,null,null,"",""]
[null,null,null,null,null,null,null,null,null,"",""]
[null,null,null,null,null,null,null,null,null,"",""]
[null,null,null,null,null,null,null,null,null,"",""]
[null,null,null,null,null,null,null,null,null,"",""]
[null,null,null,null,null,null,null,null,null,"",""]
[null,null,null,null,null,null,null,null,null,"",""]
[null,null,null,null,null,null,null,null,null,"",""]
[null,null,null,null,null,null,null,null,null,"",""]
[null,null,null,null,null,null,null,null,null,"",""]
[null,null,null,null,null,null,null,null,null,"",""]
[null,null,null,null,null,null,null,null,null,"",""]
[null,null,null,null,null,null,null,null,null,"",""]
[null,null,null,null,null,null,null,null,null,"",""]
[null,null,null,null,null,null,null,null,null,"",""]
[null,null,null,null,null,null,null,null,null,"",""]
[null,null,null,null,null,null,null,null,null,"",""]
[null,null,null,null,null,null,null,null,null,"",""]
[null,null,null,null,null,null,null,null,null,"",""]
[null,null,null,null,null,null,null,null,null,"",""]
[null,null,null,null,null,null,null,null,null,"",""]
[null,null,null,null,null,null,null,null,null,"",""]
[null,null,null,null,null,null,null,null,null,"",""]
[null,null,null,null,null,null,null,null,null,"",""]
[null,null,null,null,null,null,null,null,null,{"$f":"H68&E68","v":""},{"$f":"H68&I68","v":""}]
[null,null,null,null,null,null,null,null,null,"",""]
[null,null,null,null,null,null,null,null,null,"",""]
[null,null,null,null,null,null,null,null,null,"",""]
[null,null,null,null,null,null,null,null,null,"",""]
[null,null,null,null,null,null,null,null,null,"",""]
[null,null,null,null,null,null,null,null,null,"",""]
[null,null,null,null,null,null,null,null,null,"",""]
[null,null,null,null,null,null,null,null,null,"",""]
[null,null,null,null,null,null,null,null,null,"",""]
[null,null,null,null,null,null,null,null,null,"",""]
[null,null,null,null,null,null,null,null,null,"",""]
[null,null,null,null,null,null,null,null,null,"",""]
[null,null,null,null,null,null,null,null,null,"",""]
[null,null,null,null,null,null,null,null,null,"",""]
[null,null,null,null,null,null,null,null,null,"",""]
[null,null,null,null,null,null,null,null,null,"",""]
[null,null,null,null,null,null,null,null,null,"",""]
[null,null,null,null,null,null,null,null,null,"",""]
[null,null,null,null,null,null,null,null,null,"",""]
[null,null,null,null,null,null,null,null,null,"",""]
[null,null,null,null,null,null,null,null,null,"",""]
[null,null,null,null,null,null,null,null,null,"",""]
[null,null,null,null,null,null,null,null,null,"",""]
[null,null,null,null,null,null,null,null,null,"",""]
[null,null,null,null,null,null,null,null,null,"",""]
[null,null,null,null,null,null,null,null,null,"",""]
[null,null,null,null,null,null,null,null,null,"",""]
[null,null,null,null,null,null,null,null,null,"",""]
[null,null,null,null,null,null,null,null,null,"",""]
[null,null,null,null,null,null,null,null,null,"",""]
[null,null,null,null,null,null,null,null,null,"",""]
[null,null,null,null,null,null,null,null,null,"",""]
[null,null,null,null,null,null,null,null,null,"",""]
[null,null,null,null,null,null,null,null,null,"",""]
[null,null,null,null,null,null,null,null,null,"",""]
[null,null,null,null,null,null,null,null,null,"",""]
[null,null,null,null,null,null,null,null,null,"",""]
[null,null,null,null,null,null,null,null,null,"",""]
[null,null,null,null,null,null,null,null,null,"",""]
[null,null,null,null,null,null,null,null,null,"",""]
[null,null,null,null,null,null,null,null,null,"",""]
[null,null,null,null,null,null,null,null,null,"",""]
[null,null,null,null,null,null,null,null,null,"",""]
[null,null,null,null,null,null,null,null,null,"",""]
[null,null,null,null,null,null,null,null,null,"",""]
[null,null,null,null,null,null,null,null,null,"",""]
[null,null,null,null,null,null,null,null,null,"",""]
[null,null,null,null,null,null,null,null,null,"",""]
[null,null,null,null,null,null,null,null,null,"",""]
[null,null,null,null,null,null,null,null,null,"",""]
[null,null,null,null,null,null,null,null,null,"",""]
[null,null,null,null,null,null,null,null,null,"",""]
[null,null,null,null,null,null,null,null,null,"",""]
[null,null,null,null,null,null,null,null,null,"",""]
[null,null,null,null,null,null,null,null,null,"",""]
[null,null,null,null,null,null,null,null,null,"",""]
[null,null,null,null,null,null,null,null,null,"",""]
[null,null,null,null,null,null,null,null,null,"",""]
[null,null,null,null,null,null,null,null,null,"",""]
[null,null,null,null,null,null,null,null,null,"",""]
[null,null,null,null,null,null,null,null,null,"",""]
[null,null,null,null,null,null,null,null,null,"",""]
[null,null,null,null,null,null,null,null,null,"",""]
[null,null,null,null,null,null,null,null,null,{"$f":"H132&E132","v":""},{"$f":"H132&I132","v":""}]
[null,null,null,null,null,null,null,null,null,"",""]
[null,null,null,null,null,null,null,null,null,"",""]
[null,null,null,null,null,null,null,null,null,"",""]
[null,null,null,null,null,null,null,null,null,"",""]
[null,null,null,null,null,null,null,null,null,"",""]
[null,null,null,null,null,null,null,null,null,"",""]
[null,null,null,null,null,null,null,null,null,"",""]
[null,null,null,null,null,null,null,null,null,"",""]
[null,null,null,null,null,null,null,null,null,"",""]
[null,null,null,null,null,null,null,null,null,"",""]
[null,null,null,null,null,null,null,null,null,"",""]
[null,null,null,null,null,null,null,null,null,"",""]
[null,null,null,null,null,null,null,null,null,"",""]
[null,null,null,null,null,null,null,null,null,"",""]
[null,null,null,null,null,null,null,null,null,"",""]
[null,null,null,null,null,null,null,null,null,"",""]
[null,null,null,null,null,null,null,null,null,"",""]
[null,null,null,null,null,null,null,null,null,"",""]
[null,null,null,null,null,null,null,null,null,"",""]
[null,null,null,null,null,null,null,null,null,"",""]
[null,null,null,null,null,null,null,null,null,"",""]
[null,null,null,null,null,null,null,null,null,"",""]
[null,"BOYS","GIRLS","TOTAL"]
["SC",{"$f":"COUNTIF($J$4:$J$153,\"BSC\")","v":1},{"$f":"COUNTIF($J$4:$J$153,\"GSC\")","v":0},{"$f":"SUM(B156:C156)","v":1},null,null,null,null,null,null,{"$f":"H156&I156","v":""}]
["ST",{"$f":"COUNTIF($J$4:$J$153,\"BST\")","v":0},{"$f":"COUNTIF($J$4:$J$153,\"GST\")","v":0},{"$f":"SUM(B157:C157)","v":0},null,null,null,null,null,null,""]
["BC",{"$f":"COUNTIF($J$4:$J$153,\"BBC\")","v":0},{"$f":"COUNTIF($J$4:$J$153,\"GBC\")","v":0},{"$f":"SUM(B158:C158)","v":0},null,"MIN BOY","MIN GIRL",null,null,null,""]
["OC",{"$f":"COUNTIF($J$4:$J$153,\"BOC\")","v":0},{"$f":"COUNTIF($J$4:$J$153,\"GOC\")","v":0},{"$f":"SUM(B159:C159)","v":0},null,{"$f":"COUNTIF(K4:K154,\"BY\")","v":1},{"$f":"COUNTIF(K4:K154,\"GY\")","v":0},null,null,null,""]
["TOTAL",{"$f":"SUM(B156:B159)","v":1},{"$f":"SUM(C156:C159)","v":0},{"$f":"SUM(D156:D159)","v":1},null,null,null,null,null,null,""]
[null,null,null,null,null,null,null,null,null,null,""]